{"text_format":"1","workbook":"xlsx","n_sheets":8,"sheets":["Map","Schedule","Transhipment","Lista Transhipment","Download con sequenziale","Vessel list","Lista consol SKR","Pivot SKR Consol"],"not_rendered":{"charts":0,"images":5,"macros":1,"external_links":0,"defined_names":3,"comments":0,"pivot_tables":2},"unopened":[],"bounds":{"document_bytes":16777216,"sheet_cells":100000,"rows_first":2000,"rows_last":500,"rows_between":2000,"halvings":0,"cell_chars":16384,"cell_head_chars":4096},"cells_cut":0,"cells_raw":0,"read":"whole","date_system":"1900"}

{"sheet":"Map","index":0,"n_rows":14,"n_cols":8,"rows_kept":14,"cut":false,"hidden":false,"merged":[]}
[]
[]
[]
[]
[]
[]
[]
[]
[]
[]
[]
[]
[]
[null,null,null,null,null,null,null," "]

{"sheet":"Schedule","index":1,"n_rows":83,"n_cols":17,"rows_kept":83,"cut":false,"hidden":false,"merged":[[13,8,13,10],[2,3,5,5],[9,7,9,8],[6,9,7,14]]}
[null,1,null,"Updated on: 14/10/2020"]
[]
[null,null,null,"DB SCHENKERcombine                                                                       LCL SERVICE from ITALY"]
[]
[]
[]
[null,null,null,null,null,null,null,null,null,{"$f":"+IF(ISERROR(VLOOKUP(B11,'Lista Transhipment'!A:A,1,FALSE)),\"\",\"Transhipment available: click here for info\")","v":"Transhipment available: click here for info"}]
[]
[]
[]
[null,"Sydney",null,"All below information are subject to change wihtout pre-advise."]
[null,null,null,"Below transit times are reported as per Ocean Carriers schedule.",null,null,null,null,null,null,null,null,null,null,null,null,"DG goods subject to Ocean Carrier acceptance"]
[null,null,null,18,19,3,2,null,36,37,38,20,22,46,45,6,8]
[null,{"$f":"+IF(B11=\"\",\"\",IF('Download con sequenziale'!M15=\"\",\"\",1))","v":1},null,"Vessel name","Voyage","Port of            loading","Port of               unloading","AMS/ACI/AFR      doc cut-off","Cut-off at Milano HUB\nWeek day / Date / Time",null,null,"Expected Time of Departure (ETD)","Expected Time of Arrival (ETA)","Ocean transit time","DG accepted?","Customs Office NCTS Code","Tango Schedule ID"]
[{"$f":"+IF(B14=\"\",\"\",1)","v":1},{"$f":"+IF(ISERROR(VLOOKUP($B$11&A15,'Download con sequenziale'!F:F,1,FALSE)),\"\",VLOOKUP($B$11&A15,'Download con sequenziale'!F:F,1,FALSE))","v":"Sydney1"},null,{"$f":"IF(B15=\"\",\"\",VLOOKUP($B15,'Download con sequenziale'!$F:$BC,D$13,FALSE))","v":"APL MEXICO CITY"},{"$f":"IF(B15=\"\",\"\",VLOOKUP($B15,'Download con sequenziale'!$F:$BC,E$13,FALSE))","v":"0NN8FE"},{"$f":"IF(B15=\"\",\"\",VLOOKUP($B15,'Download con sequenziale'!$F:$BC,F$13,FALSE))","v":"La Spezia"},{"$f":"IF(B15=\"\",\"\",VLOOKUP($B15,'Download con sequenziale'!$F:$BC,G$13,FALSE))","v":"Sydney"},{"$f":"+IF(B15=\"\",\"\",IF(VLOOKUP(B15,'Download con sequenziale'!$F:$I,4,FALSE)=\"x\",J15,\"Not required\"))","v":"Not required"},{"$f":"IF(B15=\"\",\"\",VLOOKUP($B15,'Download con sequenziale'!$F:$BC,I$13,FALSE))","v":"Friday"},{"$f":"IF(D15=\"\",\"\",VLOOKUP($B15,'Download con sequenziale'!$F:$BC,J$13,FALSE))","v":"2020-10-09"},{"$f":"IF(B15=\"\",\"\",VLOOKUP($B15,'Download con sequenziale'!$F:$BC,K$13,FALSE))","v":"18:00:00"},{"$f":"IF(B15=\"\",\"\",VLOOKUP($B15,'Download con sequenziale'!$F:$BC,L$13,FALSE))","v":"2020-10-16"},{"$f":"IF(B15=\"\",\"\",IF(ISBLANK(VLOOKUP($B15,'Download con sequenziale'!$F:$AX,25,FALSE)),VLOOKUP($B15,'Download con sequenziale'!$F:$BC,M$13,FALSE),VLOOKUP($B15,'Download con sequenziale'!$F:$BC,25,FALSE)))","v":"2020-11-17"},{"$f":"IF(B15=\"\",\"\",VLOOKUP($B15,'Download con sequenziale'!$F:$BC,N$13,FALSE))","v":32},{"$f":"IF(B15=\"\",\"\",IF(VLOOKUP($B15,'Download con sequenziale'!$F:$BC,O$13,FALSE)=\"false\",\"No\",\"Yes\"))","v":"Yes"},{"$f":"IF(B15=\"\",\"\",VLOOKUP($B15,'Download con sequenziale'!$F:$BC,P$13,FALSE))","v":""},{"$f":"IF(B15=\"\",\"\",VLOOKUP($B15,'Download con sequenziale'!$F:$BC,Q$13,FALSE))","v":"ITMILAUSYD000559460"}]
[{"$f":"+IF(A15=\"\",\"\",A15+1)","v":2},{"$f":"+IF(ISERROR(VLOOKUP($B$11&A16,'Download con sequenziale'!F:F,1,FALSE)),\"\",VLOOKUP($B$11&A16,'Download con sequenziale'!F:F,1,FALSE))","v":"Sydney2"},null,{"$f":"IF(B16=\"\",\"\",VLOOKUP($B16,'Download con sequenziale'!$F:$BC,D$13,FALSE))","v":"APL MEXICO CITY"},{"$f":"IF(B16=\"\",\"\",VLOOKUP($B16,'Download con sequenziale'!$F:$BC,E$13,FALSE))","v":"0NN8FE"},{"$f":"IF(B16=\"\",\"\",VLOOKUP($B16,'Download con sequenziale'!$F:$BC,F$13,FALSE))","v":"La Spezia"},{"$f":"IF(B16=\"\",\"\",VLOOKUP($B16,'Download con sequenziale'!$F:$BC,G$13,FALSE))","v":"Sydney"},{"$f":"+IF(B16=\"\",\"\",IF(VLOOKUP(B16,'Download con sequenziale'!$F:$I,4,FALSE)=\"x\",J16,\"Not required\"))","v":"Not required"},{"$f":"IF(B16=\"\",\"\",VLOOKUP($B16,'Download con sequenziale'!$F:$BC,I$13,FALSE))","v":"Monday"},{"$f":"IF(D16=\"\",\"\",VLOOKUP($B16,'Download con sequenziale'!$F:$BC,J$13,FALSE))","v":"2020-10-12"},{"$f":"IF(B16=\"\",\"\",VLOOKUP($B16,'Download con sequenziale'!$F:$BC,K$13,FALSE))","v":"18:00:00"},{"$f":"IF(B16=\"\",\"\",VLOOKUP($B16,'Download con sequenziale'!$F:$BC,L$13,FALSE))","v":"2020-10-16"},{"$f":"IF(B16=\"\",\"\",IF(ISBLANK(VLOOKUP($B16,'Download con sequenziale'!$F:$AX,25,FALSE)),VLOOKUP($B16,'Download con sequenziale'!$F:$BC,M$13,FALSE),VLOOKUP($B16,'Download con sequenziale'!$F:$BC,25,FALSE)))","v":"2020-10-17"},{"$f":"IF(B16=\"\",\"\",VLOOKUP($B16,'Download con sequenziale'!$F:$BC,N$13,FALSE))","v":32},{"$f":"IF(B16=\"\",\"\",IF(VLOOKUP($B16,'Download con sequenziale'!$F:$BC,O$13,FALSE)=\"false\",\"No\",\"Yes\"))","v":"Yes"},{"$f":"IF(B16=\"\",\"\",VLOOKUP($B16,'Download con sequenziale'!$F:$BC,P$13,FALSE))","v":""},{"$f":"IF(B16=\"\",\"\",VLOOKUP($B16,'Download con sequenziale'!$F:$BC,Q$13,FALSE))","v":"ITMILAUSYD000558725"}]
[3,{"$f":"+IF(ISERROR(VLOOKUP($B$11&A17,'Download con sequenziale'!F:F,1,FALSE)),\"\",VLOOKUP($B$11&A17,'Download con sequenziale'!F:F,1,FALSE))","v":"Sydney3"},null,{"$f":"IF(B17=\"\",\"\",VLOOKUP($B17,'Download con sequenziale'!$F:$BC,D$13,FALSE))","v":"MSC TIANJIN"},{"$f":"IF(B17=\"\",\"\",VLOOKUP($B17,'Download con sequenziale'!$F:$BC,E$13,FALSE))","v":"MA041A"},{"$f":"IF(B17=\"\",\"\",VLOOKUP($B17,'Download con sequenziale'!$F:$BC,F$13,FALSE))","v":"La Spezia"},{"$f":"IF(B17=\"\",\"\",VLOOKUP($B17,'Download con sequenziale'!$F:$BC,G$13,FALSE))","v":"Sydney"},{"$f":"+IF(B17=\"\",\"\",IF(VLOOKUP(B17,'Download con sequenziale'!$F:$I,4,FALSE)=\"x\",J17,\"Not required\"))","v":"Not required"},{"$f":"IF(B17=\"\",\"\",VLOOKUP($B17,'Download con sequenziale'!$F:$BC,I$13,FALSE))","v":"Thursday"},{"$f":"IF(D17=\"\",\"\",VLOOKUP($B17,'Download con sequenziale'!$F:$BC,J$13,FALSE))","v":"2020-10-15"},{"$f":"IF(B17=\"\",\"\",VLOOKUP($B17,'Download con sequenziale'!$F:$BC,K$13,FALSE))","v":"00:00:00"},{"$f":"IF(B17=\"\",\"\",VLOOKUP($B17,'Download con sequenziale'!$F:$BC,L$13,FALSE))","v":"2020-10-23"},{"$f":"IF(B17=\"\",\"\",IF(ISBLANK(VLOOKUP($B17,'Download con sequenziale'!$F:$AX,25,FALSE)),VLOOKUP($B17,'Download con sequenziale'!$F:$BC,M$13,FALSE),VLOOKUP($B17,'Download con sequenziale'!$F:$BC,25,FALSE)))","v":"2020-11-24"},{"$f":"IF(B17=\"\",\"\",VLOOKUP($B17,'Download con sequenziale'!$F:$BC,N$13,FALSE))","v":32},{"$f":"IF(B17=\"\",\"\",IF(VLOOKUP($B17,'Download con sequenziale'!$F:$BC,O$13,FALSE)=\"false\",\"No\",\"Yes\"))","v":"Yes"},{"$f":"IF(B17=\"\",\"\",VLOOKUP($B17,'Download con sequenziale'!$F:$BC,P$13,FALSE))","v":""},{"$f":"IF(B17=\"\",\"\",VLOOKUP($B17,'Download con sequenziale'!$F:$BC,Q$13,FALSE))","v":"ITMILAUSYD000564434"}]
[4,{"$f":"+IF(ISERROR(VLOOKUP($B$11&A18,'Download con sequenziale'!F:F,1,FALSE)),\"\",VLOOKUP($B$11&A18,'Download con sequenziale'!F:F,1,FALSE))","v":"Sydney4"},null,{"$f":"IF(B18=\"\",\"\",VLOOKUP($B18,'Download con sequenziale'!$F:$BC,D$13,FALSE))","v":"MSC TIANJIN"},{"$f":"IF(B18=\"\",\"\",VLOOKUP($B18,'Download con sequenziale'!$F:$BC,E$13,FALSE))","v":"MA041A"},{"$f":"IF(B18=\"\",\"\",VLOOKUP($B18,'Download con sequenziale'!$F:$BC,F$13,FALSE))","v":"La Spezia"},{"$f":"IF(B18=\"\",\"\",VLOOKUP($B18,'Download con sequenziale'!$F:$BC,G$13,FALSE))","v":"Sydney"},{"$f":"+IF(B18=\"\",\"\",IF(VLOOKUP(B18,'Download con sequenziale'!$F:$I,4,FALSE)=\"x\",J18,\"Not required\"))","v":"Not required"},{"$f":"IF(B18=\"\",\"\",VLOOKUP($B18,'Download con sequenziale'!$F:$BC,I$13,FALSE))","v":"Friday"},{"$f":"IF(D18=\"\",\"\",VLOOKUP($B18,'Download con sequenziale'!$F:$BC,J$13,FALSE))","v":"2020-10-16"},{"$f":"IF(B18=\"\",\"\",VLOOKUP($B18,'Download con sequenziale'!$F:$BC,K$13,FALSE))","v":"18:00:00"},{"$f":"IF(B18=\"\",\"\",VLOOKUP($B18,'Download con sequenziale'!$F:$BC,L$13,FALSE))","v":"2020-10-23"},{"$f":"IF(B18=\"\",\"\",IF(ISBLANK(VLOOKUP($B18,'Download con sequenziale'!$F:$AX,25,FALSE)),VLOOKUP($B18,'Download con sequenziale'!$F:$BC,M$13,FALSE),VLOOKUP($B18,'Download con sequenziale'!$F:$BC,25,FALSE)))","v":"2020-11-24"},{"$f":"IF(B18=\"\",\"\",VLOOKUP($B18,'Download con sequenziale'!$F:$BC,N$13,FALSE))","v":32},{"$f":"IF(B18=\"\",\"\",IF(VLOOKUP($B18,'Download con sequenziale'!$F:$BC,O$13,FALSE)=\"false\",\"No\",\"Yes\"))","v":"Yes"},{"$f":"IF(B18=\"\",\"\",VLOOKUP($B18,'Download con sequenziale'!$F:$BC,P$13,FALSE))","v":""},{"$f":"IF(B18=\"\",\"\",VLOOKUP($B18,'Download con sequenziale'!$F:$BC,Q$13,FALSE))","v":"ITMILAUSYD000559461"}]
[5,{"$f":"+IF(ISERROR(VLOOKUP($B$11&A19,'Download con sequenziale'!F:F,1,FALSE)),\"\",VLOOKUP($B$11&A19,'Download con sequenziale'!F:F,1,FALSE))","v":"Sydney5"},null,{"$f":"IF(B19=\"\",\"\",VLOOKUP($B19,'Download con sequenziale'!$F:$BC,D$13,FALSE))","v":"MSC JOANNA"},{"$f":"IF(B19=\"\",\"\",VLOOKUP($B19,'Download con sequenziale'!$F:$BC,E$13,FALSE))","v":"MA042A"},{"$f":"IF(B19=\"\",\"\",VLOOKUP($B19,'Download con sequenziale'!$F:$BC,F$13,FALSE))","v":"La Spezia"},{"$f":"IF(B19=\"\",\"\",VLOOKUP($B19,'Download con sequenziale'!$F:$BC,G$13,FALSE))","v":"Sydney"},{"$f":"+IF(B19=\"\",\"\",IF(VLOOKUP(B19,'Download con sequenziale'!$F:$I,4,FALSE)=\"x\",J19,\"Not required\"))","v":"Not required"},{"$f":"IF(B19=\"\",\"\",VLOOKUP($B19,'Download con sequenziale'!$F:$BC,I$13,FALSE))","v":"Thursday"},{"$f":"IF(D19=\"\",\"\",VLOOKUP($B19,'Download con sequenziale'!$F:$BC,J$13,FALSE))","v":"2020-10-22"},{"$f":"IF(B19=\"\",\"\",VLOOKUP($B19,'Download con sequenziale'!$F:$BC,K$13,FALSE))","v":"00:00:00"},{"$f":"IF(B19=\"\",\"\",VLOOKUP($B19,'Download con sequenziale'!$F:$BC,L$13,FALSE))","v":"2020-10-30"},{"$f":"IF(B19=\"\",\"\",IF(ISBLANK(VLOOKUP($B19,'Download con sequenziale'!$F:$AX,25,FALSE)),VLOOKUP($B19,'Download con sequenziale'!$F:$BC,M$13,FALSE),VLOOKUP($B19,'Download con sequenziale'!$F:$BC,25,FALSE)))","v":"2020-12-01"},{"$f":"IF(B19=\"\",\"\",VLOOKUP($B19,'Download con sequenziale'!$F:$BC,N$13,FALSE))","v":32},{"$f":"IF(B19=\"\",\"\",IF(VLOOKUP($B19,'Download con sequenziale'!$F:$BC,O$13,FALSE)=\"false\",\"No\",\"Yes\"))","v":"Yes"},{"$f":"IF(B19=\"\",\"\",VLOOKUP($B19,'Download con sequenziale'!$F:$BC,P$13,FALSE))","v":""},{"$f":"IF(B19=\"\",\"\",VLOOKUP($B19,'Download con sequenziale'!$F:$BC,Q$13,FALSE))","v":"ITMILAUSYD000564435"}]
[6,{"$f":"+IF(ISERROR(VLOOKUP($B$11&A20,'Download con sequenziale'!F:F,1,FALSE)),\"\",VLOOKUP($B$11&A20,'Download con sequenziale'!F:F,1,FALSE))","v":"Sydney6"},null,{"$f":"IF(B20=\"\",\"\",VLOOKUP($B20,'Download con sequenziale'!$F:$BC,D$13,FALSE))","v":"MSC JOANNA"},{"$f":"IF(B20=\"\",\"\",VLOOKUP($B20,'Download con sequenziale'!$F:$BC,E$13,FALSE))","v":"MA042A"},{"$f":"IF(B20=\"\",\"\",VLOOKUP($B20,'Download con sequenziale'!$F:$BC,F$13,FALSE))","v":"La Spezia"},{"$f":"IF(B20=\"\",\"\",VLOOKUP($B20,'Download con sequenziale'!$F:$BC,G$13,FALSE))","v":"Sydney"},{"$f":"+IF(B20=\"\",\"\",IF(VLOOKUP(B20,'Download con sequenziale'!$F:$I,4,FALSE)=\"x\",J20,\"Not required\"))","v":"Not required"},{"$f":"IF(B20=\"\",\"\",VLOOKUP($B20,'Download con sequenziale'!$F:$BC,I$13,FALSE))","v":"Friday"},{"$f":"IF(D20=\"\",\"\",VLOOKUP($B20,'Download con sequenziale'!$F:$BC,J$13,FALSE))","v":"2020-10-23"},{"$f":"IF(B20=\"\",\"\",VLOOKUP($B20,'Download con sequenziale'!$F:$BC,K$13,FALSE))","v":"18:00:00"},{"$f":"IF(B20=\"\",\"\",VLOOKUP($B20,'Download con sequenziale'!$F:$BC,L$13,FALSE))","v":"2020-10-30"},{"$f":"IF(B20=\"\",\"\",IF(ISBLANK(VLOOKUP($B20,'Download con sequenziale'!$F:$AX,25,FALSE)),VLOOKUP($B20,'Download con sequenziale'!$F:$BC,M$13,FALSE),VLOOKUP($B20,'Download con sequenziale'!$F:$BC,25,FALSE)))","v":"2020-12-01"},{"$f":"IF(B20=\"\",\"\",VLOOKUP($B20,'Download con sequenziale'!$F:$BC,N$13,FALSE))","v":32},{"$f":"IF(B20=\"\",\"\",IF(VLOOKUP($B20,'Download con sequenziale'!$F:$BC,O$13,FALSE)=\"false\",\"No\",\"Yes\"))","v":"Yes"},{"$f":"IF(B20=\"\",\"\",VLOOKUP($B20,'Download con sequenziale'!$F:$BC,P$13,FALSE))","v":""},{"$f":"IF(B20=\"\",\"\",VLOOKUP($B20,'Download con sequenziale'!$F:$BC,Q$13,FALSE))","v":"ITMILAUSYD000559462"}]
[7,{"$f":"+IF(ISERROR(VLOOKUP($B$11&A21,'Download con sequenziale'!F:F,1,FALSE)),\"\",VLOOKUP($B$11&A21,'Download con sequenziale'!F:F,1,FALSE))","v":"Sydney7"},null,{"$f":"IF(B21=\"\",\"\",VLOOKUP($B21,'Download con sequenziale'!$F:$BC,D$13,FALSE))","v":"APL DANUBE"},{"$f":"IF(B21=\"\",\"\",VLOOKUP($B21,'Download con sequenziale'!$F:$BC,E$13,FALSE))","v":"0NN8LE1"},{"$f":"IF(B21=\"\",\"\",VLOOKUP($B21,'Download con sequenziale'!$F:$BC,F$13,FALSE))","v":"La Spezia"},{"$f":"IF(B21=\"\",\"\",VLOOKUP($B21,'Download con sequenziale'!$F:$BC,G$13,FALSE))","v":"Sydney"},{"$f":"+IF(B21=\"\",\"\",IF(VLOOKUP(B21,'Download con sequenziale'!$F:$I,4,FALSE)=\"x\",J21,\"Not required\"))","v":"Not required"},{"$f":"IF(B21=\"\",\"\",VLOOKUP($B21,'Download con sequenziale'!$F:$BC,I$13,FALSE))","v":"Thursday"},{"$f":"IF(D21=\"\",\"\",VLOOKUP($B21,'Download con sequenziale'!$F:$BC,J$13,FALSE))","v":"2020-10-29"},{"$f":"IF(B21=\"\",\"\",VLOOKUP($B21,'Download con sequenziale'!$F:$BC,K$13,FALSE))","v":"00:00:00"},{"$f":"IF(B21=\"\",\"\",VLOOKUP($B21,'Download con sequenziale'!$F:$BC,L$13,FALSE))","v":"2020-11-06"},{"$f":"IF(B21=\"\",\"\",IF(ISBLANK(VLOOKUP($B21,'Download con sequenziale'!$F:$AX,25,FALSE)),VLOOKUP($B21,'Download con sequenziale'!$F:$BC,M$13,FALSE),VLOOKUP($B21,'Download con sequenziale'!$F:$BC,25,FALSE)))","v":"2020-12-08"},{"$f":"IF(B21=\"\",\"\",VLOOKUP($B21,'Download con sequenziale'!$F:$BC,N$13,FALSE))","v":32},{"$f":"IF(B21=\"\",\"\",IF(VLOOKUP($B21,'Download con sequenziale'!$F:$BC,O$13,FALSE)=\"false\",\"No\",\"Yes\"))","v":"Yes"},{"$f":"IF(B21=\"\",\"\",VLOOKUP($B21,'Download con sequenziale'!$F:$BC,P$13,FALSE))","v":""},{"$f":"IF(B21=\"\",\"\",VLOOKUP($B21,'Download con sequenziale'!$F:$BC,Q$13,FALSE))","v":"ITMILAUSYD000564436"}]
[8,{"$f":"+IF(ISERROR(VLOOKUP($B$11&A22,'Download con sequenziale'!F:F,1,FALSE)),\"\",VLOOKUP($B$11&A22,'Download con sequenziale'!F:F,1,FALSE))","v":"Sydney8"},null,{"$f":"IF(B22=\"\",\"\",VLOOKUP($B22,'Download con sequenziale'!$F:$BC,D$13,FALSE))","v":"APL DANUBE"},{"$f":"IF(B22=\"\",\"\",VLOOKUP($B22,'Download con sequenziale'!$F:$BC,E$13,FALSE))","v":"0NN8LE"},{"$f":"IF(B22=\"\",\"\",VLOOKUP($B22,'Download con sequenziale'!$F:$BC,F$13,FALSE))","v":"La Spezia"},{"$f":"IF(B22=\"\",\"\",VLOOKUP($B22,'Download con sequenziale'!$F:$BC,G$13,FALSE))","v":"Sydney"},{"$f":"+IF(B22=\"\",\"\",IF(VLOOKUP(B22,'Download con sequenziale'!$F:$I,4,FALSE)=\"x\",J22,\"Not required\"))","v":"Not required"},{"$f":"IF(B22=\"\",\"\",VLOOKUP($B22,'Download con sequenziale'!$F:$BC,I$13,FALSE))","v":"Friday"},{"$f":"IF(D22=\"\",\"\",VLOOKUP($B22,'Download con sequenziale'!$F:$BC,J$13,FALSE))","v":"2020-10-30"},{"$f":"IF(B22=\"\",\"\",VLOOKUP($B22,'Download con sequenziale'!$F:$BC,K$13,FALSE))","v":"18:00:00"},{"$f":"IF(B22=\"\",\"\",VLOOKUP($B22,'Download con sequenziale'!$F:$BC,L$13,FALSE))","v":"2020-11-06"},{"$f":"IF(B22=\"\",\"\",IF(ISBLANK(VLOOKUP($B22,'Download con sequenziale'!$F:$AX,25,FALSE)),VLOOKUP($B22,'Download con sequenziale'!$F:$BC,M$13,FALSE),VLOOKUP($B22,'Download con sequenziale'!$F:$BC,25,FALSE)))","v":"2020-12-08"},{"$f":"IF(B22=\"\",\"\",VLOOKUP($B22,'Download con sequenziale'!$F:$BC,N$13,FALSE))","v":32},{"$f":"IF(B22=\"\",\"\",IF(VLOOKUP($B22,'Download con sequenziale'!$F:$BC,O$13,FALSE)=\"false\",\"No\",\"Yes\"))","v":"Yes"},{"$f":"IF(B22=\"\",\"\",VLOOKUP($B22,'Download con sequenziale'!$F:$BC,P$13,FALSE))","v":""},{"$f":"IF(B22=\"\",\"\",VLOOKUP($B22,'Download con sequenziale'!$F:$BC,Q$13,FALSE))","v":"ITMILAUSYD000559463"}]
[{"$f":"+IF(A22=\"\",\"\",A22+1)","v":9},{"$f":"+IF(ISERROR(VLOOKUP($B$11&A23,'Download con sequenziale'!F:F,1,FALSE)),\"\",VLOOKUP($B$11&A23,'Download con sequenziale'!F:F,1,FALSE))","v":"Sydney9"},null,{"$f":"IF(B23=\"\",\"\",VLOOKUP($B23,'Download con sequenziale'!$F:$BC,D$13,FALSE))","v":"MSC SUSANNA"},{"$f":"IF(B23=\"\",\"\",VLOOKUP($B23,'Download con sequenziale'!$F:$BC,E$13,FALSE))","v":"MA044A"},{"$f":"IF(B23=\"\",\"\",VLOOKUP($B23,'Download con sequenziale'!$F:$BC,F$13,FALSE))","v":"La Spezia"},{"$f":"IF(B23=\"\",\"\",VLOOKUP($B23,'Download con sequenziale'!$F:$BC,G$13,FALSE))","v":"Sydney"},{"$f":"+IF(B23=\"\",\"\",IF(VLOOKUP(B23,'Download con sequenziale'!$F:$I,4,FALSE)=\"x\",J23,\"Not required\"))","v":"Not required"},{"$f":"IF(B23=\"\",\"\",VLOOKUP($B23,'Download con sequenziale'!$F:$BC,I$13,FALSE))","v":"Thursday"},{"$f":"IF(D23=\"\",\"\",VLOOKUP($B23,'Download con sequenziale'!$F:$BC,J$13,FALSE))","v":"2020-11-05"},{"$f":"IF(B23=\"\",\"\",VLOOKUP($B23,'Download con sequenziale'!$F:$BC,K$13,FALSE))","v":"00:00:00"},{"$f":"IF(B23=\"\",\"\",VLOOKUP($B23,'Download con sequenziale'!$F:$BC,L$13,FALSE))","v":"2020-11-13"},{"$f":"IF(B23=\"\",\"\",IF(ISBLANK(VLOOKUP($B23,'Download con sequenziale'!$F:$AX,25,FALSE)),VLOOKUP($B23,'Download con sequenziale'!$F:$BC,M$13,FALSE),VLOOKUP($B23,'Download con sequenziale'!$F:$BC,25,FALSE)))","v":"2020-12-15"},{"$f":"IF(B23=\"\",\"\",VLOOKUP($B23,'Download con sequenziale'!$F:$BC,N$13,FALSE))","v":32},{"$f":"IF(B23=\"\",\"\",IF(VLOOKUP($B23,'Download con sequenziale'!$F:$BC,O$13,FALSE)=\"false\",\"No\",\"Yes\"))","v":"Yes"},{"$f":"IF(B23=\"\",\"\",VLOOKUP($B23,'Download con sequenziale'!$F:$BC,P$13,FALSE))","v":""},{"$f":"IF(B23=\"\",\"\",VLOOKUP($B23,'Download con sequenziale'!$F:$BC,Q$13,FALSE))","v":"ITMILAUSYD000564437"}]
[10,{"$f":"+IF(ISERROR(VLOOKUP($B$11&A24,'Download con sequenziale'!F:F,1,FALSE)),\"\",VLOOKUP($B$11&A24,'Download con sequenziale'!F:F,1,FALSE))","v":"Sydney10"},null,{"$f":"IF(B24=\"\",\"\",VLOOKUP($B24,'Download con sequenziale'!$F:$BC,D$13,FALSE))","v":"PUSAN C"},{"$f":"IF(B24=\"\",\"\",VLOOKUP($B24,'Download con sequenziale'!$F:$BC,E$13,FALSE))","v":"045A"},{"$f":"IF(B24=\"\",\"\",VLOOKUP($B24,'Download con sequenziale'!$F:$BC,F$13,FALSE))","v":"La Spezia"},{"$f":"IF(B24=\"\",\"\",VLOOKUP($B24,'Download con sequenziale'!$F:$BC,G$13,FALSE))","v":"Sydney"},{"$f":"+IF(B24=\"\",\"\",IF(VLOOKUP(B24,'Download con sequenziale'!$F:$I,4,FALSE)=\"x\",J24,\"Not required\"))","v":"Not required"},{"$f":"IF(B24=\"\",\"\",VLOOKUP($B24,'Download con sequenziale'!$F:$BC,I$13,FALSE))","v":"Thursday"},{"$f":"IF(D24=\"\",\"\",VLOOKUP($B24,'Download con sequenziale'!$F:$BC,J$13,FALSE))","v":"2020-11-12"},{"$f":"IF(B24=\"\",\"\",VLOOKUP($B24,'Download con sequenziale'!$F:$BC,K$13,FALSE))","v":"00:00:00"},{"$f":"IF(B24=\"\",\"\",VLOOKUP($B24,'Download con sequenziale'!$F:$BC,L$13,FALSE))","v":"2020-11-20"},{"$f":"IF(B24=\"\",\"\",IF(ISBLANK(VLOOKUP($B24,'Download con sequenziale'!$F:$AX,25,FALSE)),VLOOKUP($B24,'Download con sequenziale'!$F:$BC,M$13,FALSE),VLOOKUP($B24,'Download con sequenziale'!$F:$BC,25,FALSE)))","v":"2020-12-22"},{"$f":"IF(B24=\"\",\"\",VLOOKUP($B24,'Download con sequenziale'!$F:$BC,N$13,FALSE))","v":32},{"$f":"IF(B24=\"\",\"\",IF(VLOOKUP($B24,'Download con sequenziale'!$F:$BC,O$13,FALSE)=\"false\",\"No\",\"Yes\"))","v":"Yes"},{"$f":"IF(B24=\"\",\"\",VLOOKUP($B24,'Download con sequenziale'!$F:$BC,P$13,FALSE))","v":""},{"$f":"IF(B24=\"\",\"\",VLOOKUP($B24,'Download con sequenziale'!$F:$BC,Q$13,FALSE))","v":"ITMILAUSYD000564438"}]
[11,{"$f":"+IF(ISERROR(VLOOKUP($B$11&A25,'Download con sequenziale'!F:F,1,FALSE)),\"\",VLOOKUP($B$11&A25,'Download con sequenziale'!F:F,1,FALSE))","v":""},null,{"$f":"IF(B25=\"\",\"\",VLOOKUP($B25,'Download con sequenziale'!$F:$BC,D$13,FALSE))","v":""},{"$f":"IF(B25=\"\",\"\",VLOOKUP($B25,'Download con sequenziale'!$F:$BC,E$13,FALSE))","v":""},{"$f":"IF(B25=\"\",\"\",VLOOKUP($B25,'Download con sequenziale'!$F:$BC,F$13,FALSE))","v":""},{"$f":"IF(B25=\"\",\"\",VLOOKUP($B25,'Download con sequenziale'!$F:$BC,G$13,FALSE))","v":""},{"$f":"+IF(B25=\"\",\"\",IF(VLOOKUP(B25,'Download con sequenziale'!$F:$I,4,FALSE)=\"x\",J25,\"Not required\"))","v":""},{"$f":"IF(B25=\"\",\"\",VLOOKUP($B25,'Download con sequenziale'!$F:$BC,I$13,FALSE))","v":""},{"$f":"IF(D25=\"\",\"\",VLOOKUP($B25,'Download con sequenziale'!$F:$BC,J$13,FALSE))","v":""},{"$f":"IF(B25=\"\",\"\",VLOOKUP($B25,'Download con sequenziale'!$F:$BC,K$13,FALSE))","v":""},{"$f":"IF(B25=\"\",\"\",VLOOKUP($B25,'Download con sequenziale'!$F:$BC,L$13,FALSE))","v":""},{"$f":"IF(B25=\"\",\"\",IF(ISBLANK(VLOOKUP($B25,'Download con sequenziale'!$F:$AX,25,FALSE)),VLOOKUP($B25,'Download con sequenziale'!$F:$BC,M$13,FALSE),VLOOKUP($B25,'Download con sequenziale'!$F:$BC,25,FALSE)))","v":""},{"$f":"IF(B25=\"\",\"\",VLOOKUP($B25,'Download con sequenziale'!$F:$BC,N$13,FALSE))","v":""},{"$f":"IF(B25=\"\",\"\",IF(VLOOKUP($B25,'Download con sequenziale'!$F:$BC,O$13,FALSE)=\"false\",\"No\",\"Yes\"))","v":""},{"$f":"IF(B25=\"\",\"\",VLOOKUP($B25,'Download con sequenziale'!$F:$BC,P$13,FALSE))","v":""},{"$f":"IF(B25=\"\",\"\",VLOOKUP($B25,'Download con sequenziale'!$F:$BC,Q$13,FALSE))","v":""}]
[12,{"$f":"+IF(ISERROR(VLOOKUP($B$11&A26,'Download con sequenziale'!F:F,1,FALSE)),\"\",VLOOKUP($B$11&A26,'Download con sequenziale'!F:F,1,FALSE))","v":""},null,{"$f":"IF(B26=\"\",\"\",VLOOKUP($B26,'Download con sequenziale'!$F:$BC,D$13,FALSE))","v":""},{"$f":"IF(B26=\"\",\"\",VLOOKUP($B26,'Download con sequenziale'!$F:$BC,E$13,FALSE))","v":""},{"$f":"IF(B26=\"\",\"\",VLOOKUP($B26,'Download con sequenziale'!$F:$BC,F$13,FALSE))","v":""},{"$f":"IF(B26=\"\",\"\",VLOOKUP($B26,'Download con sequenziale'!$F:$BC,G$13,FALSE))","v":""},{"$f":"+IF(B26=\"\",\"\",IF(VLOOKUP(B26,'Download con sequenziale'!$F:$I,4,FALSE)=\"x\",J26,\"Not required\"))","v":""},{"$f":"IF(B26=\"\",\"\",VLOOKUP($B26,'Download con sequenziale'!$F:$BC,I$13,FALSE))","v":""},{"$f":"IF(D26=\"\",\"\",VLOOKUP($B26,'Download con sequenziale'!$F:$BC,J$13,FALSE))","v":""},{"$f":"IF(B26=\"\",\"\",VLOOKUP($B26,'Download con sequenziale'!$F:$BC,K$13,FALSE))","v":""},{"$f":"IF(B26=\"\",\"\",VLOOKUP($B26,'Download con sequenziale'!$F:$BC,L$13,FALSE))","v":""},{"$f":"IF(B26=\"\",\"\",IF(ISBLANK(VLOOKUP($B26,'Download con sequenziale'!$F:$AX,25,FALSE)),VLOOKUP($B26,'Download con sequenziale'!$F:$BC,M$13,FALSE),VLOOKUP($B26,'Download con sequenziale'!$F:$BC,25,FALSE)))","v":""},{"$f":"IF(B26=\"\",\"\",VLOOKUP($B26,'Download con sequenziale'!$F:$BC,N$13,FALSE))","v":""},{"$f":"IF(B26=\"\",\"\",IF(VLOOKUP($B26,'Download con sequenziale'!$F:$BC,O$13,FALSE)=\"false\",\"No\",\"Yes\"))","v":""},{"$f":"IF(B26=\"\",\"\",VLOOKUP($B26,'Download con sequenziale'!$F:$BC,P$13,FALSE))","v":""},{"$f":"IF(B26=\"\",\"\",VLOOKUP($B26,'Download con sequenziale'!$F:$BC,Q$13,FALSE))","v":""}]
[13,{"$f":"+IF(ISERROR(VLOOKUP($B$11&A27,'Download con sequenziale'!F:F,1,FALSE)),\"\",VLOOKUP($B$11&A27,'Download con sequenziale'!F:F,1,FALSE))","v":""},null,{"$f":"IF(B27=\"\",\"\",VLOOKUP($B27,'Download con sequenziale'!$F:$BC,D$13,FALSE))","v":""},{"$f":"IF(B27=\"\",\"\",VLOOKUP($B27,'Download con sequenziale'!$F:$BC,E$13,FALSE))","v":""},{"$f":"IF(B27=\"\",\"\",VLOOKUP($B27,'Download con sequenziale'!$F:$BC,F$13,FALSE))","v":""},{"$f":"IF(B27=\"\",\"\",VLOOKUP($B27,'Download con sequenziale'!$F:$BC,G$13,FALSE))","v":""},{"$f":"+IF(B27=\"\",\"\",IF(VLOOKUP(B27,'Download con sequenziale'!$F:$I,4,FALSE)=\"x\",J27,\"Not required\"))","v":""},{"$f":"IF(B27=\"\",\"\",VLOOKUP($B27,'Download con sequenziale'!$F:$BC,I$13,FALSE))","v":""},{"$f":"IF(D27=\"\",\"\",VLOOKUP($B27,'Download con sequenziale'!$F:$BC,J$13,FALSE))","v":""},{"$f":"IF(B27=\"\",\"\",VLOOKUP($B27,'Download con sequenziale'!$F:$BC,K$13,FALSE))","v":""},{"$f":"IF(B27=\"\",\"\",VLOOKUP($B27,'Download con sequenziale'!$F:$BC,L$13,FALSE))","v":""},{"$f":"IF(B27=\"\",\"\",IF(ISBLANK(VLOOKUP($B27,'Download con sequenziale'!$F:$AX,25,FALSE)),VLOOKUP($B27,'Download con sequenziale'!$F:$BC,M$13,FALSE),VLOOKUP($B27,'Download con sequenziale'!$F:$BC,25,FALSE)))","v":""},{"$f":"IF(B27=\"\",\"\",VLOOKUP($B27,'Download con sequenziale'!$F:$BC,N$13,FALSE))","v":""},{"$f":"IF(B27=\"\",\"\",IF(VLOOKUP($B27,'Download con sequenziale'!$F:$BC,O$13,FALSE)=\"false\",\"No\",\"Yes\"))","v":""},{"$f":"IF(B27=\"\",\"\",VLOOKUP($B27,'Download con sequenziale'!$F:$BC,P$13,FALSE))","v":""},{"$f":"IF(B27=\"\",\"\",VLOOKUP($B27,'Download con sequenziale'!$F:$BC,Q$13,FALSE))","v":""}]
[14,{"$f":"+IF(ISERROR(VLOOKUP($B$11&A28,'Download con sequenziale'!F:F,1,FALSE)),\"\",VLOOKUP($B$11&A28,'Download con sequenziale'!F:F,1,FALSE))","v":""},null,{"$f":"IF(B28=\"\",\"\",VLOOKUP($B28,'Download con sequenziale'!$F:$BC,D$13,FALSE))","v":""},{"$f":"IF(B28=\"\",\"\",VLOOKUP($B28,'Download con sequenziale'!$F:$BC,E$13,FALSE))","v":""},{"$f":"IF(B28=\"\",\"\",VLOOKUP($B28,'Download con sequenziale'!$F:$BC,F$13,FALSE))","v":""},{"$f":"IF(B28=\"\",\"\",VLOOKUP($B28,'Download con sequenziale'!$F:$BC,G$13,FALSE))","v":""},{"$f":"+IF(B28=\"\",\"\",IF(VLOOKUP(B28,'Download con sequenziale'!$F:$I,4,FALSE)=\"x\",J28,\"Not required\"))","v":""},{"$f":"IF(B28=\"\",\"\",VLOOKUP($B28,'Download con sequenziale'!$F:$BC,I$13,FALSE))","v":""},{"$f":"IF(D28=\"\",\"\",VLOOKUP($B28,'Download con sequenziale'!$F:$BC,J$13,FALSE))","v":""},{"$f":"IF(B28=\"\",\"\",VLOOKUP($B28,'Download con sequenziale'!$F:$BC,K$13,FALSE))","v":""},{"$f":"IF(B28=\"\",\"\",VLOOKUP($B28,'Download con sequenziale'!$F:$BC,L$13,FALSE))","v":""},{"$f":"IF(B28=\"\",\"\",IF(ISBLANK(VLOOKUP($B28,'Download con sequenziale'!$F:$AX,25,FALSE)),VLOOKUP($B28,'Download con sequenziale'!$F:$BC,M$13,FALSE),VLOOKUP($B28,'Download con sequenziale'!$F:$BC,25,FALSE)))","v":""},{"$f":"IF(B28=\"\",\"\",VLOOKUP($B28,'Download con sequenziale'!$F:$BC,N$13,FALSE))","v":""},{"$f":"IF(B28=\"\",\"\",IF(VLOOKUP($B28,'Download con sequenziale'!$F:$BC,O$13,FALSE)=\"false\",\"No\",\"Yes\"))","v":""},{"$f":"IF(B28=\"\",\"\",VLOOKUP($B28,'Download con sequenziale'!$F:$BC,P$13,FALSE))","v":""},{"$f":"IF(B28=\"\",\"\",VLOOKUP($B28,'Download con sequenziale'!$F:$BC,Q$13,FALSE))","v":""}]
[15,{"$f":"+IF(ISERROR(VLOOKUP($B$11&A29,'Download con sequenziale'!F:F,1,FALSE)),\"\",VLOOKUP($B$11&A29,'Download con sequenziale'!F:F,1,FALSE))","v":""},null,{"$f":"IF(B29=\"\",\"\",VLOOKUP($B29,'Download con sequenziale'!$F:$BC,D$13,FALSE))","v":""},{"$f":"IF(B29=\"\",\"\",VLOOKUP($B29,'Download con sequenziale'!$F:$BC,E$13,FALSE))","v":""},{"$f":"IF(B29=\"\",\"\",VLOOKUP($B29,'Download con sequenziale'!$F:$BC,F$13,FALSE))","v":""},{"$f":"IF(B29=\"\",\"\",VLOOKUP($B29,'Download con sequenziale'!$F:$BC,G$13,FALSE))","v":""},{"$f":"+IF(B29=\"\",\"\",IF(VLOOKUP(B29,'Download con sequenziale'!$F:$I,4,FALSE)=\"x\",J29,\"Not required\"))","v":""},{"$f":"IF(B29=\"\",\"\",VLOOKUP($B29,'Download con sequenziale'!$F:$BC,I$13,FALSE))","v":""},{"$f":"IF(D29=\"\",\"\",VLOOKUP($B29,'Download con sequenziale'!$F:$BC,J$13,FALSE))","v":""},{"$f":"IF(B29=\"\",\"\",VLOOKUP($B29,'Download con sequenziale'!$F:$BC,K$13,FALSE))","v":""},{"$f":"IF(B29=\"\",\"\",VLOOKUP($B29,'Download con sequenziale'!$F:$BC,L$13,FALSE))","v":""},{"$f":"IF(B29=\"\",\"\",IF(ISBLANK(VLOOKUP($B29,'Download con sequenziale'!$F:$AX,25,FALSE)),VLOOKUP($B29,'Download con sequenziale'!$F:$BC,M$13,FALSE),VLOOKUP($B29,'Download con sequenziale'!$F:$BC,25,FALSE)))","v":""},{"$f":"IF(B29=\"\",\"\",VLOOKUP($B29,'Download con sequenziale'!$F:$BC,N$13,FALSE))","v":""},{"$f":"IF(B29=\"\",\"\",IF(VLOOKUP($B29,'Download con sequenziale'!$F:$BC,O$13,FALSE)=\"false\",\"No\",\"Yes\"))","v":""},{"$f":"IF(B29=\"\",\"\",VLOOKUP($B29,'Download con sequenziale'!$F:$BC,P$13,FALSE))","v":""},{"$f":"IF(B29=\"\",\"\",VLOOKUP($B29,'Download con sequenziale'!$F:$BC,Q$13,FALSE))","v":""}]
[16,{"$f":"+IF(ISERROR(VLOOKUP($B$11&A30,'Download con sequenziale'!F:F,1,FALSE)),\"\",VLOOKUP($B$11&A30,'Download con sequenziale'!F:F,1,FALSE))","v":""},null,{"$f":"IF(B30=\"\",\"\",VLOOKUP($B30,'Download con sequenziale'!$F:$BC,D$13,FALSE))","v":""},{"$f":"IF(B30=\"\",\"\",VLOOKUP($B30,'Download con sequenziale'!$F:$BC,E$13,FALSE))","v":""},{"$f":"IF(B30=\"\",\"\",VLOOKUP($B30,'Download con sequenziale'!$F:$BC,F$13,FALSE))","v":""},{"$f":"IF(B30=\"\",\"\",VLOOKUP($B30,'Download con sequenziale'!$F:$BC,G$13,FALSE))","v":""},{"$f":"+IF(B30=\"\",\"\",IF(VLOOKUP(B30,'Download con sequenziale'!$F:$I,4,FALSE)=\"x\",J30,\"Not required\"))","v":""},{"$f":"IF(B30=\"\",\"\",VLOOKUP($B30,'Download con sequenziale'!$F:$BC,I$13,FALSE))","v":""},{"$f":"IF(D30=\"\",\"\",VLOOKUP($B30,'Download con sequenziale'!$F:$BC,J$13,FALSE))","v":""},{"$f":"IF(B30=\"\",\"\",VLOOKUP($B30,'Download con sequenziale'!$F:$BC,K$13,FALSE))","v":""},{"$f":"IF(B30=\"\",\"\",VLOOKUP($B30,'Download con sequenziale'!$F:$BC,L$13,FALSE))","v":""},{"$f":"IF(B30=\"\",\"\",IF(ISBLANK(VLOOKUP($B30,'Download con sequenziale'!$F:$AX,25,FALSE)),VLOOKUP($B30,'Download con sequenziale'!$F:$BC,M$13,FALSE),VLOOKUP($B30,'Download con sequenziale'!$F:$BC,25,FALSE)))","v":""},{"$f":"IF(B30=\"\",\"\",VLOOKUP($B30,'Download con sequenziale'!$F:$BC,N$13,FALSE))","v":""},{"$f":"IF(B30=\"\",\"\",IF(VLOOKUP($B30,'Download con sequenziale'!$F:$BC,O$13,FALSE)=\"false\",\"No\",\"Yes\"))","v":""},{"$f":"IF(B30=\"\",\"\",VLOOKUP($B30,'Download con sequenziale'!$F:$BC,P$13,FALSE))","v":""},{"$f":"IF(B30=\"\",\"\",VLOOKUP($B30,'Download con sequenziale'!$F:$BC,Q$13,FALSE))","v":""}]
[17,{"$f":"+IF(ISERROR(VLOOKUP($B$11&A31,'Download con sequenziale'!F:F,1,FALSE)),\"\",VLOOKUP($B$11&A31,'Download con sequenziale'!F:F,1,FALSE))","v":""},null,{"$f":"IF(B31=\"\",\"\",VLOOKUP($B31,'Download con sequenziale'!$F:$BC,D$13,FALSE))","v":""},{"$f":"IF(B31=\"\",\"\",VLOOKUP($B31,'Download con sequenziale'!$F:$BC,E$13,FALSE))","v":""},{"$f":"IF(B31=\"\",\"\",VLOOKUP($B31,'Download con sequenziale'!$F:$BC,F$13,FALSE))","v":""},{"$f":"IF(B31=\"\",\"\",VLOOKUP($B31,'Download con sequenziale'!$F:$BC,G$13,FALSE))","v":""},{"$f":"+IF(B31=\"\",\"\",IF(VLOOKUP(B31,'Download con sequenziale'!$F:$I,4,FALSE)=\"x\",J31,\"Not required\"))","v":""},{"$f":"IF(B31=\"\",\"\",VLOOKUP($B31,'Download con sequenziale'!$F:$BC,I$13,FALSE))","v":""},{"$f":"IF(D31=\"\",\"\",VLOOKUP($B31,'Download con sequenziale'!$F:$BC,J$13,FALSE))","v":""},{"$f":"IF(B31=\"\",\"\",VLOOKUP($B31,'Download con sequenziale'!$F:$BC,K$13,FALSE))","v":""},{"$f":"IF(B31=\"\",\"\",VLOOKUP($B31,'Download con sequenziale'!$F:$BC,L$13,FALSE))","v":""},{"$f":"IF(B31=\"\",\"\",IF(ISBLANK(VLOOKUP($B31,'Download con sequenziale'!$F:$AX,25,FALSE)),VLOOKUP($B31,'Download con sequenziale'!$F:$BC,M$13,FALSE),VLOOKUP($B31,'Download con sequenziale'!$F:$BC,25,FALSE)))","v":""},{"$f":"IF(B31=\"\",\"\",VLOOKUP($B31,'Download con sequenziale'!$F:$BC,N$13,FALSE))","v":""},{"$f":"IF(B31=\"\",\"\",IF(VLOOKUP($B31,'Download con sequenziale'!$F:$BC,O$13,FALSE)=\"false\",\"No\",\"Yes\"))","v":""},{"$f":"IF(B31=\"\",\"\",VLOOKUP($B31,'Download con sequenziale'!$F:$BC,P$13,FALSE))","v":""},{"$f":"IF(B31=\"\",\"\",VLOOKUP($B31,'Download con sequenziale'!$F:$BC,Q$13,FALSE))","v":""}]
[18,{"$f":"+IF(ISERROR(VLOOKUP($B$11&A32,'Download con sequenziale'!F:F,1,FALSE)),\"\",VLOOKUP($B$11&A32,'Download con sequenziale'!F:F,1,FALSE))","v":""},null,{"$f":"IF(B32=\"\",\"\",VLOOKUP($B32,'Download con sequenziale'!$F:$BC,D$13,FALSE))","v":""},{"$f":"IF(B32=\"\",\"\",VLOOKUP($B32,'Download con sequenziale'!$F:$BC,E$13,FALSE))","v":""},{"$f":"IF(B32=\"\",\"\",VLOOKUP($B32,'Download con sequenziale'!$F:$BC,F$13,FALSE))","v":""},{"$f":"IF(B32=\"\",\"\",VLOOKUP($B32,'Download con sequenziale'!$F:$BC,G$13,FALSE))","v":""},{"$f":"+IF(B32=\"\",\"\",IF(VLOOKUP(B32,'Download con sequenziale'!$F:$I,4,FALSE)=\"x\",J32,\"Not required\"))","v":""},{"$f":"IF(B32=\"\",\"\",VLOOKUP($B32,'Download con sequenziale'!$F:$BC,I$13,FALSE))","v":""},{"$f":"IF(D32=\"\",\"\",VLOOKUP($B32,'Download con sequenziale'!$F:$BC,J$13,FALSE))","v":""},{"$f":"IF(B32=\"\",\"\",VLOOKUP($B32,'Download con sequenziale'!$F:$BC,K$13,FALSE))","v":""},{"$f":"IF(B32=\"\",\"\",VLOOKUP($B32,'Download con sequenziale'!$F:$BC,L$13,FALSE))","v":""},{"$f":"IF(B32=\"\",\"\",IF(ISBLANK(VLOOKUP($B32,'Download con sequenziale'!$F:$AX,25,FALSE)),VLOOKUP($B32,'Download con sequenziale'!$F:$BC,M$13,FALSE),VLOOKUP($B32,'Download con sequenziale'!$F:$BC,25,FALSE)))","v":""},{"$f":"IF(B32=\"\",\"\",VLOOKUP($B32,'Download con sequenziale'!$F:$BC,N$13,FALSE))","v":""},{"$f":"IF(B32=\"\",\"\",IF(VLOOKUP($B32,'Download con sequenziale'!$F:$BC,O$13,FALSE)=\"false\",\"No\",\"Yes\"))","v":""},{"$f":"IF(B32=\"\",\"\",VLOOKUP($B32,'Download con sequenziale'!$F:$BC,P$13,FALSE))","v":""},{"$f":"IF(B32=\"\",\"\",VLOOKUP($B32,'Download con sequenziale'!$F:$BC,Q$13,FALSE))","v":""}]
[19,{"$f":"+IF(ISERROR(VLOOKUP($B$11&A33,'Download con sequenziale'!F:F,1,FALSE)),\"\",VLOOKUP($B$11&A33,'Download con sequenziale'!F:F,1,FALSE))","v":""},null,{"$f":"IF(B33=\"\",\"\",VLOOKUP($B33,'Download con sequenziale'!$F:$BC,D$13,FALSE))","v":""},{"$f":"IF(B33=\"\",\"\",VLOOKUP($B33,'Download con sequenziale'!$F:$BC,E$13,FALSE))","v":""},{"$f":"IF(B33=\"\",\"\",VLOOKUP($B33,'Download con sequenziale'!$F:$BC,F$13,FALSE))","v":""},{"$f":"IF(B33=\"\",\"\",VLOOKUP($B33,'Download con sequenziale'!$F:$BC,G$13,FALSE))","v":""},{"$f":"+IF(B33=\"\",\"\",IF(VLOOKUP(B33,'Download con sequenziale'!$F:$I,4,FALSE)=\"x\",J33,\"Not required\"))","v":""},{"$f":"IF(B33=\"\",\"\",VLOOKUP($B33,'Download con sequenziale'!$F:$BC,I$13,FALSE))","v":""},{"$f":"IF(D33=\"\",\"\",VLOOKUP($B33,'Download con sequenziale'!$F:$BC,J$13,FALSE))","v":""},{"$f":"IF(B33=\"\",\"\",VLOOKUP($B33,'Download con sequenziale'!$F:$BC,K$13,FALSE))","v":""},{"$f":"IF(B33=\"\",\"\",VLOOKUP($B33,'Download con sequenziale'!$F:$BC,L$13,FALSE))","v":""},{"$f":"IF(B33=\"\",\"\",IF(ISBLANK(VLOOKUP($B33,'Download con sequenziale'!$F:$AX,25,FALSE)),VLOOKUP($B33,'Download con sequenziale'!$F:$BC,M$13,FALSE),VLOOKUP($B33,'Download con sequenziale'!$F:$BC,25,FALSE)))","v":""},{"$f":"IF(B33=\"\",\"\",VLOOKUP($B33,'Download con sequenziale'!$F:$BC,N$13,FALSE))","v":""},{"$f":"IF(B33=\"\",\"\",IF(VLOOKUP($B33,'Download con sequenziale'!$F:$BC,O$13,FALSE)=\"false\",\"No\",\"Yes\"))","v":""},{"$f":"IF(B33=\"\",\"\",VLOOKUP($B33,'Download con sequenziale'!$F:$BC,P$13,FALSE))","v":""},{"$f":"IF(B33=\"\",\"\",VLOOKUP($B33,'Download con sequenziale'!$F:$BC,Q$13,FALSE))","v":""}]
[20,{"$f":"+IF(ISERROR(VLOOKUP($B$11&A34,'Download con sequenziale'!F:F,1,FALSE)),\"\",VLOOKUP($B$11&A34,'Download con sequenziale'!F:F,1,FALSE))","v":""},null,{"$f":"IF(B34=\"\",\"\",VLOOKUP($B34,'Download con sequenziale'!$F:$BC,D$13,FALSE))","v":""},{"$f":"IF(B34=\"\",\"\",VLOOKUP($B34,'Download con sequenziale'!$F:$BC,E$13,FALSE))","v":""},{"$f":"IF(B34=\"\",\"\",VLOOKUP($B34,'Download con sequenziale'!$F:$BC,F$13,FALSE))","v":""},{"$f":"IF(B34=\"\",\"\",VLOOKUP($B34,'Download con sequenziale'!$F:$BC,G$13,FALSE))","v":""},{"$f":"+IF(B34=\"\",\"\",IF(VLOOKUP(B34,'Download con sequenziale'!$F:$I,4,FALSE)=\"x\",J34,\"Not required\"))","v":""},{"$f":"IF(B34=\"\",\"\",VLOOKUP($B34,'Download con sequenziale'!$F:$BC,I$13,FALSE))","v":""},{"$f":"IF(D34=\"\",\"\",VLOOKUP($B34,'Download con sequenziale'!$F:$BC,J$13,FALSE))","v":""},{"$f":"IF(B34=\"\",\"\",VLOOKUP($B34,'Download con sequenziale'!$F:$BC,K$13,FALSE))","v":""},{"$f":"IF(B34=\"\",\"\",VLOOKUP($B34,'Download con sequenziale'!$F:$BC,L$13,FALSE))","v":""},{"$f":"IF(B34=\"\",\"\",IF(ISBLANK(VLOOKUP($B34,'Download con sequenziale'!$F:$AX,25,FALSE)),VLOOKUP($B34,'Download con sequenziale'!$F:$BC,M$13,FALSE),VLOOKUP($B34,'Download con sequenziale'!$F:$BC,25,FALSE)))","v":""},{"$f":"IF(B34=\"\",\"\",VLOOKUP($B34,'Download con sequenziale'!$F:$BC,N$13,FALSE))","v":""},{"$f":"IF(B34=\"\",\"\",IF(VLOOKUP($B34,'Download con sequenziale'!$F:$BC,O$13,FALSE)=\"false\",\"No\",\"Yes\"))","v":""},{"$f":"IF(B34=\"\",\"\",VLOOKUP($B34,'Download con sequenziale'!$F:$BC,P$13,FALSE))","v":""},{"$f":"IF(B34=\"\",\"\",VLOOKUP($B34,'Download con sequenziale'!$F:$BC,Q$13,FALSE))","v":""}]
[21,{"$f":"+IF(ISERROR(VLOOKUP($B$11&A35,'Download con sequenziale'!F:F,1,FALSE)),\"\",VLOOKUP($B$11&A35,'Download con sequenziale'!F:F,1,FALSE))","v":""},null,{"$f":"IF(B35=\"\",\"\",VLOOKUP($B35,'Download con sequenziale'!$F:$BC,D$13,FALSE))","v":""},{"$f":"IF(B35=\"\",\"\",VLOOKUP($B35,'Download con sequenziale'!$F:$BC,E$13,FALSE))","v":""},{"$f":"IF(B35=\"\",\"\",VLOOKUP($B35,'Download con sequenziale'!$F:$BC,F$13,FALSE))","v":""},{"$f":"IF(B35=\"\",\"\",VLOOKUP($B35,'Download con sequenziale'!$F:$BC,G$13,FALSE))","v":""},{"$f":"+IF(B35=\"\",\"\",IF(VLOOKUP(B35,'Download con sequenziale'!$F:$I,4,FALSE)=\"x\",J35,\"Not required\"))","v":""},{"$f":"IF(B35=\"\",\"\",VLOOKUP($B35,'Download con sequenziale'!$F:$BC,I$13,FALSE))","v":""},{"$f":"IF(D35=\"\",\"\",VLOOKUP($B35,'Download con sequenziale'!$F:$BC,J$13,FALSE))","v":""},{"$f":"IF(B35=\"\",\"\",VLOOKUP($B35,'Download con sequenziale'!$F:$BC,K$13,FALSE))","v":""},{"$f":"IF(B35=\"\",\"\",VLOOKUP($B35,'Download con sequenziale'!$F:$BC,L$13,FALSE))","v":""},{"$f":"IF(B35=\"\",\"\",IF(ISBLANK(VLOOKUP($B35,'Download con sequenziale'!$F:$AX,25,FALSE)),VLOOKUP($B35,'Download con sequenziale'!$F:$BC,M$13,FALSE),VLOOKUP($B35,'Download con sequenziale'!$F:$BC,25,FALSE)))","v":""},{"$f":"IF(B35=\"\",\"\",VLOOKUP($B35,'Download con sequenziale'!$F:$BC,N$13,FALSE))","v":""},{"$f":"IF(B35=\"\",\"\",IF(VLOOKUP($B35,'Download con sequenziale'!$F:$BC,O$13,FALSE)=\"false\",\"No\",\"Yes\"))","v":""},{"$f":"IF(B35=\"\",\"\",VLOOKUP($B35,'Download con sequenziale'!$F:$BC,P$13,FALSE))","v":""},{"$f":"IF(B35=\"\",\"\",VLOOKUP($B35,'Download con sequenziale'!$F:$BC,Q$13,FALSE))","v":""}]
[22,{"$f":"+IF(ISERROR(VLOOKUP($B$11&A36,'Download con sequenziale'!F:F,1,FALSE)),\"\",VLOOKUP($B$11&A36,'Download con sequenziale'!F:F,1,FALSE))","v":""},null,{"$f":"IF(B36=\"\",\"\",VLOOKUP($B36,'Download con sequenziale'!$F:$BC,D$13,FALSE))","v":""},{"$f":"IF(B36=\"\",\"\",VLOOKUP($B36,'Download con sequenziale'!$F:$BC,E$13,FALSE))","v":""},{"$f":"IF(B36=\"\",\"\",VLOOKUP($B36,'Download con sequenziale'!$F:$BC,F$13,FALSE))","v":""},{"$f":"IF(B36=\"\",\"\",VLOOKUP($B36,'Download con sequenziale'!$F:$BC,G$13,FALSE))","v":""},{"$f":"+IF(B36=\"\",\"\",IF(VLOOKUP(B36,'Download con sequenziale'!$F:$I,4,FALSE)=\"x\",J36,\"Not required\"))","v":""},{"$f":"IF(B36=\"\",\"\",VLOOKUP($B36,'Download con sequenziale'!$F:$BC,I$13,FALSE))","v":""},{"$f":"IF(D36=\"\",\"\",VLOOKUP($B36,'Download con sequenziale'!$F:$BC,J$13,FALSE))","v":""},{"$f":"IF(B36=\"\",\"\",VLOOKUP($B36,'Download con sequenziale'!$F:$BC,K$13,FALSE))","v":""},{"$f":"IF(B36=\"\",\"\",VLOOKUP($B36,'Download con sequenziale'!$F:$BC,L$13,FALSE))","v":""},{"$f":"IF(B36=\"\",\"\",IF(ISBLANK(VLOOKUP($B36,'Download con sequenziale'!$F:$AX,25,FALSE)),VLOOKUP($B36,'Download con sequenziale'!$F:$BC,M$13,FALSE),VLOOKUP($B36,'Download con sequenziale'!$F:$BC,25,FALSE)))","v":""},{"$f":"IF(B36=\"\",\"\",VLOOKUP($B36,'Download con sequenziale'!$F:$BC,N$13,FALSE))","v":""},{"$f":"IF(B36=\"\",\"\",IF(VLOOKUP($B36,'Download con sequenziale'!$F:$BC,O$13,FALSE)=\"false\",\"No\",\"Yes\"))","v":""},{"$f":"IF(B36=\"\",\"\",VLOOKUP($B36,'Download con sequenziale'!$F:$BC,P$13,FALSE))","v":""},{"$f":"IF(B36=\"\",\"\",VLOOKUP($B36,'Download con sequenziale'!$F:$BC,Q$13,FALSE))","v":""}]
[23,{"$f":"+IF(ISERROR(VLOOKUP($B$11&A37,'Download con sequenziale'!F:F,1,FALSE)),\"\",VLOOKUP($B$11&A37,'Download con sequenziale'!F:F,1,FALSE))","v":""},null,{"$f":"IF(B37=\"\",\"\",VLOOKUP($B37,'Download con sequenziale'!$F:$BC,D$13,FALSE))","v":""},{"$f":"IF(B37=\"\",\"\",VLOOKUP($B37,'Download con sequenziale'!$F:$BC,E$13,FALSE))","v":""},{"$f":"IF(B37=\"\",\"\",VLOOKUP($B37,'Download con sequenziale'!$F:$BC,F$13,FALSE))","v":""},{"$f":"IF(B37=\"\",\"\",VLOOKUP($B37,'Download con sequenziale'!$F:$BC,G$13,FALSE))","v":""},{"$f":"+IF(B37=\"\",\"\",IF(VLOOKUP(B37,'Download con sequenziale'!$F:$I,4,FALSE)=\"x\",J37,\"Not required\"))","v":""},{"$f":"IF(B37=\"\",\"\",VLOOKUP($B37,'Download con sequenziale'!$F:$BC,I$13,FALSE))","v":""},{"$f":"IF(D37=\"\",\"\",VLOOKUP($B37,'Download con sequenziale'!$F:$BC,J$13,FALSE))","v":""},{"$f":"IF(B37=\"\",\"\",VLOOKUP($B37,'Download con sequenziale'!$F:$BC,K$13,FALSE))","v":""},{"$f":"IF(B37=\"\",\"\",VLOOKUP($B37,'Download con sequenziale'!$F:$BC,L$13,FALSE))","v":""},{"$f":"IF(B37=\"\",\"\",IF(ISBLANK(VLOOKUP($B37,'Download con sequenziale'!$F:$AX,25,FALSE)),VLOOKUP($B37,'Download con sequenziale'!$F:$BC,M$13,FALSE),VLOOKUP($B37,'Download con sequenziale'!$F:$BC,25,FALSE)))","v":""},{"$f":"IF(B37=\"\",\"\",VLOOKUP($B37,'Download con sequenziale'!$F:$BC,N$13,FALSE))","v":""},{"$f":"IF(B37=\"\",\"\",IF(VLOOKUP($B37,'Download con sequenziale'!$F:$BC,O$13,FALSE)=\"false\",\"No\",\"Yes\"))","v":""},{"$f":"IF(B37=\"\",\"\",VLOOKUP($B37,'Download con sequenziale'!$F:$BC,P$13,FALSE))","v":""},{"$f":"IF(B37=\"\",\"\",VLOOKUP($B37,'Download con sequenziale'!$F:$BC,Q$13,FALSE))","v":""}]
[24,{"$f":"+IF(ISERROR(VLOOKUP($B$11&A38,'Download con sequenziale'!F:F,1,FALSE)),\"\",VLOOKUP($B$11&A38,'Download con sequenziale'!F:F,1,FALSE))","v":""},null,{"$f":"IF(B38=\"\",\"\",VLOOKUP($B38,'Download con sequenziale'!$F:$BC,D$13,FALSE))","v":""},{"$f":"IF(B38=\"\",\"\",VLOOKUP($B38,'Download con sequenziale'!$F:$BC,E$13,FALSE))","v":""},{"$f":"IF(B38=\"\",\"\",VLOOKUP($B38,'Download con sequenziale'!$F:$BC,F$13,FALSE))","v":""},{"$f":"IF(B38=\"\",\"\",VLOOKUP($B38,'Download con sequenziale'!$F:$BC,G$13,FALSE))","v":""},{"$f":"+IF(B38=\"\",\"\",IF(VLOOKUP(B38,'Download con sequenziale'!$F:$I,4,FALSE)=\"x\",J38,\"Not required\"))","v":""},{"$f":"IF(B38=\"\",\"\",VLOOKUP($B38,'Download con sequenziale'!$F:$BC,I$13,FALSE))","v":""},{"$f":"IF(D38=\"\",\"\",VLOOKUP($B38,'Download con sequenziale'!$F:$BC,J$13,FALSE))","v":""},{"$f":"IF(B38=\"\",\"\",VLOOKUP($B38,'Download con sequenziale'!$F:$BC,K$13,FALSE))","v":""},{"$f":"IF(B38=\"\",\"\",VLOOKUP($B38,'Download con sequenziale'!$F:$BC,L$13,FALSE))","v":""},{"$f":"IF(B38=\"\",\"\",IF(ISBLANK(VLOOKUP($B38,'Download con sequenziale'!$F:$AX,25,FALSE)),VLOOKUP($B38,'Download con sequenziale'!$F:$BC,M$13,FALSE),VLOOKUP($B38,'Download con sequenziale'!$F:$BC,25,FALSE)))","v":""},{"$f":"IF(B38=\"\",\"\",VLOOKUP($B38,'Download con sequenziale'!$F:$BC,N$13,FALSE))","v":""},{"$f":"IF(B38=\"\",\"\",IF(VLOOKUP($B38,'Download con sequenziale'!$F:$BC,O$13,FALSE)=\"false\",\"No\",\"Yes\"))","v":""},{"$f":"IF(B38=\"\",\"\",VLOOKUP($B38,'Download con sequenziale'!$F:$BC,P$13,FALSE))","v":""},{"$f":"IF(B38=\"\",\"\",VLOOKUP($B38,'Download con sequenziale'!$F:$BC,Q$13,FALSE))","v":""}]
[25,{"$f":"+IF(ISERROR(VLOOKUP($B$11&A39,'Download con sequenziale'!F:F,1,FALSE)),\"\",VLOOKUP($B$11&A39,'Download con sequenziale'!F:F,1,FALSE))","v":""},null,{"$f":"IF(B39=\"\",\"\",VLOOKUP($B39,'Download con sequenziale'!$F:$BC,D$13,FALSE))","v":""},{"$f":"IF(B39=\"\",\"\",VLOOKUP($B39,'Download con sequenziale'!$F:$BC,E$13,FALSE))","v":""},{"$f":"IF(B39=\"\",\"\",VLOOKUP($B39,'Download con sequenziale'!$F:$BC,F$13,FALSE))","v":""},{"$f":"IF(B39=\"\",\"\",VLOOKUP($B39,'Download con sequenziale'!$F:$BC,G$13,FALSE))","v":""},{"$f":"+IF(B39=\"\",\"\",IF(VLOOKUP(B39,'Download con sequenziale'!$F:$I,4,FALSE)=\"x\",J39,\"Not required\"))","v":""},{"$f":"IF(B39=\"\",\"\",VLOOKUP($B39,'Download con sequenziale'!$F:$BC,I$13,FALSE))","v":""},{"$f":"IF(D39=\"\",\"\",VLOOKUP($B39,'Download con sequenziale'!$F:$BC,J$13,FALSE))","v":""},{"$f":"IF(B39=\"\",\"\",VLOOKUP($B39,'Download con sequenziale'!$F:$BC,K$13,FALSE))","v":""},{"$f":"IF(B39=\"\",\"\",VLOOKUP($B39,'Download con sequenziale'!$F:$BC,L$13,FALSE))","v":""},{"$f":"IF(B39=\"\",\"\",IF(ISBLANK(VLOOKUP($B39,'Download con sequenziale'!$F:$AX,25,FALSE)),VLOOKUP($B39,'Download con sequenziale'!$F:$BC,M$13,FALSE),VLOOKUP($B39,'Download con sequenziale'!$F:$BC,25,FALSE)))","v":""},{"$f":"IF(B39=\"\",\"\",VLOOKUP($B39,'Download con sequenziale'!$F:$BC,N$13,FALSE))","v":""},{"$f":"IF(B39=\"\",\"\",IF(VLOOKUP($B39,'Download con sequenziale'!$F:$BC,O$13,FALSE)=\"false\",\"No\",\"Yes\"))","v":""},{"$f":"IF(B39=\"\",\"\",VLOOKUP($B39,'Download con sequenziale'!$F:$BC,P$13,FALSE))","v":""},{"$f":"IF(B39=\"\",\"\",VLOOKUP($B39,'Download con sequenziale'!$F:$BC,Q$13,FALSE))","v":""}]
[26,{"$f":"+IF(ISERROR(VLOOKUP($B$11&A40,'Download con sequenziale'!F:F,1,FALSE)),\"\",VLOOKUP($B$11&A40,'Download con sequenziale'!F:F,1,FALSE))","v":""},null,{"$f":"IF(B40=\"\",\"\",VLOOKUP($B40,'Download con sequenziale'!$F:$BC,D$13,FALSE))","v":""},{"$f":"IF(B40=\"\",\"\",VLOOKUP($B40,'Download con sequenziale'!$F:$BC,E$13,FALSE))","v":""},{"$f":"IF(B40=\"\",\"\",VLOOKUP($B40,'Download con sequenziale'!$F:$BC,F$13,FALSE))","v":""},{"$f":"IF(B40=\"\",\"\",VLOOKUP($B40,'Download con sequenziale'!$F:$BC,G$13,FALSE))","v":""},{"$f":"+IF(B40=\"\",\"\",IF(VLOOKUP(B40,'Download con sequenziale'!$F:$I,4,FALSE)=\"x\",J40,\"Not required\"))","v":""},{"$f":"IF(B40=\"\",\"\",VLOOKUP($B40,'Download con sequenziale'!$F:$BC,I$13,FALSE))","v":""},{"$f":"IF(D40=\"\",\"\",VLOOKUP($B40,'Download con sequenziale'!$F:$BC,J$13,FALSE))","v":""},{"$f":"IF(B40=\"\",\"\",VLOOKUP($B40,'Download con sequenziale'!$F:$BC,K$13,FALSE))","v":""},{"$f":"IF(B40=\"\",\"\",VLOOKUP($B40,'Download con sequenziale'!$F:$BC,L$13,FALSE))","v":""},{"$f":"IF(B40=\"\",\"\",IF(ISBLANK(VLOOKUP($B40,'Download con sequenziale'!$F:$AX,25,FALSE)),VLOOKUP($B40,'Download con sequenziale'!$F:$BC,M$13,FALSE),VLOOKUP($B40,'Download con sequenziale'!$F:$BC,25,FALSE)))","v":""},{"$f":"IF(B40=\"\",\"\",VLOOKUP($B40,'Download con sequenziale'!$F:$BC,N$13,FALSE))","v":""},{"$f":"IF(B40=\"\",\"\",IF(VLOOKUP($B40,'Download con sequenziale'!$F:$BC,O$13,FALSE)=\"false\",\"No\",\"Yes\"))","v":""},{"$f":"IF(B40=\"\",\"\",VLOOKUP($B40,'Download con sequenziale'!$F:$BC,P$13,FALSE))","v":""},{"$f":"IF(B40=\"\",\"\",VLOOKUP($B40,'Download con sequenziale'!$F:$BC,Q$13,FALSE))","v":""}]
[27,{"$f":"+IF(ISERROR(VLOOKUP($B$11&A41,'Download con sequenziale'!F:F,1,FALSE)),\"\",VLOOKUP($B$11&A41,'Download con sequenziale'!F:F,1,FALSE))","v":""},null,{"$f":"IF(B41=\"\",\"\",VLOOKUP($B41,'Download con sequenziale'!$F:$BC,D$13,FALSE))","v":""},{"$f":"IF(B41=\"\",\"\",VLOOKUP($B41,'Download con sequenziale'!$F:$BC,E$13,FALSE))","v":""},{"$f":"IF(B41=\"\",\"\",VLOOKUP($B41,'Download con sequenziale'!$F:$BC,F$13,FALSE))","v":""},{"$f":"IF(B41=\"\",\"\",VLOOKUP($B41,'Download con sequenziale'!$F:$BC,G$13,FALSE))","v":""},{"$f":"+IF(B41=\"\",\"\",IF(VLOOKUP(B41,'Download con sequenziale'!$F:$I,4,FALSE)=\"x\",J41,\"Not required\"))","v":""},{"$f":"IF(B41=\"\",\"\",VLOOKUP($B41,'Download con sequenziale'!$F:$BC,I$13,FALSE))","v":""},{"$f":"IF(D41=\"\",\"\",VLOOKUP($B41,'Download con sequenziale'!$F:$BC,J$13,FALSE))","v":""},{"$f":"IF(B41=\"\",\"\",VLOOKUP($B41,'Download con sequenziale'!$F:$BC,K$13,FALSE))","v":""},{"$f":"IF(B41=\"\",\"\",VLOOKUP($B41,'Download con sequenziale'!$F:$BC,L$13,FALSE))","v":""},{"$f":"IF(B41=\"\",\"\",IF(ISBLANK(VLOOKUP($B41,'Download con sequenziale'!$F:$AX,25,FALSE)),VLOOKUP($B41,'Download con sequenziale'!$F:$BC,M$13,FALSE),VLOOKUP($B41,'Download con sequenziale'!$F:$BC,25,FALSE)))","v":""},{"$f":"IF(B41=\"\",\"\",VLOOKUP($B41,'Download con sequenziale'!$F:$BC,N$13,FALSE))","v":""},{"$f":"IF(B41=\"\",\"\",IF(VLOOKUP($B41,'Download con sequenziale'!$F:$BC,O$13,FALSE)=\"false\",\"No\",\"Yes\"))","v":""},{"$f":"IF(B41=\"\",\"\",VLOOKUP($B41,'Download con sequenziale'!$F:$BC,P$13,FALSE))","v":""},{"$f":"IF(B41=\"\",\"\",VLOOKUP($B41,'Download con sequenziale'!$F:$BC,Q$13,FALSE))","v":""}]
[28,{"$f":"+IF(ISERROR(VLOOKUP($B$11&A42,'Download con sequenziale'!F:F,1,FALSE)),\"\",VLOOKUP($B$11&A42,'Download con sequenziale'!F:F,1,FALSE))","v":""},null,{"$f":"IF(B42=\"\",\"\",VLOOKUP($B42,'Download con sequenziale'!$F:$BC,D$13,FALSE))","v":""},{"$f":"IF(B42=\"\",\"\",VLOOKUP($B42,'Download con sequenziale'!$F:$BC,E$13,FALSE))","v":""},{"$f":"IF(B42=\"\",\"\",VLOOKUP($B42,'Download con sequenziale'!$F:$BC,F$13,FALSE))","v":""},{"$f":"IF(B42=\"\",\"\",VLOOKUP($B42,'Download con sequenziale'!$F:$BC,G$13,FALSE))","v":""},{"$f":"+IF(B42=\"\",\"\",IF(VLOOKUP(B42,'Download con sequenziale'!$F:$I,4,FALSE)=\"x\",J42,\"Not required\"))","v":""},{"$f":"IF(B42=\"\",\"\",VLOOKUP($B42,'Download con sequenziale'!$F:$BC,I$13,FALSE))","v":""},{"$f":"IF(D42=\"\",\"\",VLOOKUP($B42,'Download con sequenziale'!$F:$BC,J$13,FALSE))","v":""},{"$f":"IF(B42=\"\",\"\",VLOOKUP($B42,'Download con sequenziale'!$F:$BC,K$13,FALSE))","v":""},{"$f":"IF(B42=\"\",\"\",VLOOKUP($B42,'Download con sequenziale'!$F:$BC,L$13,FALSE))","v":""},{"$f":"IF(B42=\"\",\"\",IF(ISBLANK(VLOOKUP($B42,'Download con sequenziale'!$F:$AX,25,FALSE)),VLOOKUP($B42,'Download con sequenziale'!$F:$BC,M$13,FALSE),VLOOKUP($B42,'Download con sequenziale'!$F:$BC,25,FALSE)))","v":""},{"$f":"IF(B42=\"\",\"\",VLOOKUP($B42,'Download con sequenziale'!$F:$BC,N$13,FALSE))","v":""},{"$f":"IF(B42=\"\",\"\",IF(VLOOKUP($B42,'Download con sequenziale'!$F:$BC,O$13,FALSE)=\"false\",\"No\",\"Yes\"))","v":""},{"$f":"IF(B42=\"\",\"\",VLOOKUP($B42,'Download con sequenziale'!$F:$BC,P$13,FALSE))","v":""},{"$f":"IF(B42=\"\",\"\",VLOOKUP($B42,'Download con sequenziale'!$F:$BC,Q$13,FALSE))","v":""}]
[29,{"$f":"+IF(ISERROR(VLOOKUP($B$11&A43,'Download con sequenziale'!F:F,1,FALSE)),\"\",VLOOKUP($B$11&A43,'Download con sequenziale'!F:F,1,FALSE))","v":""},null,{"$f":"IF(B43=\"\",\"\",VLOOKUP($B43,'Download con sequenziale'!$F:$BC,D$13,FALSE))","v":""},{"$f":"IF(B43=\"\",\"\",VLOOKUP($B43,'Download con sequenziale'!$F:$BC,E$13,FALSE))","v":""},{"$f":"IF(B43=\"\",\"\",VLOOKUP($B43,'Download con sequenziale'!$F:$BC,F$13,FALSE))","v":""},{"$f":"IF(B43=\"\",\"\",VLOOKUP($B43,'Download con sequenziale'!$F:$BC,G$13,FALSE))","v":""},{"$f":"+IF(B43=\"\",\"\",IF(VLOOKUP(B43,'Download con sequenziale'!$F:$I,4,FALSE)=\"x\",J43,\"Not required\"))","v":""},{"$f":"IF(B43=\"\",\"\",VLOOKUP($B43,'Download con sequenziale'!$F:$BC,I$13,FALSE))","v":""},{"$f":"IF(D43=\"\",\"\",VLOOKUP($B43,'Download con sequenziale'!$F:$BC,J$13,FALSE))","v":""},{"$f":"IF(B43=\"\",\"\",VLOOKUP($B43,'Download con sequenziale'!$F:$BC,K$13,FALSE))","v":""},{"$f":"IF(B43=\"\",\"\",VLOOKUP($B43,'Download con sequenziale'!$F:$BC,L$13,FALSE))","v":""},{"$f":"IF(B43=\"\",\"\",IF(ISBLANK(VLOOKUP($B43,'Download con sequenziale'!$F:$AX,25,FALSE)),VLOOKUP($B43,'Download con sequenziale'!$F:$BC,M$13,FALSE),VLOOKUP($B43,'Download con sequenziale'!$F:$BC,25,FALSE)))","v":""},{"$f":"IF(B43=\"\",\"\",VLOOKUP($B43,'Download con sequenziale'!$F:$BC,N$13,FALSE))","v":""},{"$f":"IF(B43=\"\",\"\",IF(VLOOKUP($B43,'Download con sequenziale'!$F:$BC,O$13,FALSE)=\"false\",\"No\",\"Yes\"))","v":""},{"$f":"IF(B43=\"\",\"\",VLOOKUP($B43,'Download con sequenziale'!$F:$BC,P$13,FALSE))","v":""},{"$f":"IF(B43=\"\",\"\",VLOOKUP($B43,'Download con sequenziale'!$F:$BC,Q$13,FALSE))","v":""}]
[30,{"$f":"+IF(ISERROR(VLOOKUP($B$11&A44,'Download con sequenziale'!F:F,1,FALSE)),\"\",VLOOKUP($B$11&A44,'Download con sequenziale'!F:F,1,FALSE))","v":""},null,{"$f":"IF(B44=\"\",\"\",VLOOKUP($B44,'Download con sequenziale'!$F:$BC,D$13,FALSE))","v":""},{"$f":"IF(B44=\"\",\"\",VLOOKUP($B44,'Download con sequenziale'!$F:$BC,E$13,FALSE))","v":""},{"$f":"IF(B44=\"\",\"\",VLOOKUP($B44,'Download con sequenziale'!$F:$BC,F$13,FALSE))","v":""},{"$f":"IF(B44=\"\",\"\",VLOOKUP($B44,'Download con sequenziale'!$F:$BC,G$13,FALSE))","v":""},{"$f":"+IF(B44=\"\",\"\",IF(VLOOKUP(B44,'Download con sequenziale'!$F:$I,4,FALSE)=\"x\",J44,\"Not required\"))","v":""},{"$f":"IF(B44=\"\",\"\",VLOOKUP($B44,'Download con sequenziale'!$F:$BC,I$13,FALSE))","v":""},{"$f":"IF(D44=\"\",\"\",VLOOKUP($B44,'Download con sequenziale'!$F:$BC,J$13,FALSE))","v":""},{"$f":"IF(B44=\"\",\"\",VLOOKUP($B44,'Download con sequenziale'!$F:$BC,K$13,FALSE))","v":""},{"$f":"IF(B44=\"\",\"\",VLOOKUP($B44,'Download con sequenziale'!$F:$BC,L$13,FALSE))","v":""},{"$f":"IF(B44=\"\",\"\",IF(ISBLANK(VLOOKUP($B44,'Download con sequenziale'!$F:$AX,25,FALSE)),VLOOKUP($B44,'Download con sequenziale'!$F:$BC,M$13,FALSE),VLOOKUP($B44,'Download con sequenziale'!$F:$BC,25,FALSE)))","v":""},{"$f":"IF(B44=\"\",\"\",VLOOKUP($B44,'Download con sequenziale'!$F:$BC,N$13,FALSE))","v":""},{"$f":"IF(B44=\"\",\"\",IF(VLOOKUP($B44,'Download con sequenziale'!$F:$BC,O$13,FALSE)=\"false\",\"No\",\"Yes\"))","v":""},{"$f":"IF(B44=\"\",\"\",VLOOKUP($B44,'Download con sequenziale'!$F:$BC,P$13,FALSE))","v":""},{"$f":"IF(B44=\"\",\"\",VLOOKUP($B44,'Download con sequenziale'!$F:$BC,Q$13,FALSE))","v":""}]
[31,{"$f":"+IF(ISERROR(VLOOKUP($B$11&A45,'Download con sequenziale'!F:F,1,FALSE)),\"\",VLOOKUP($B$11&A45,'Download con sequenziale'!F:F,1,FALSE))","v":""},null,{"$f":"IF(B45=\"\",\"\",VLOOKUP($B45,'Download con sequenziale'!$F:$BC,D$13,FALSE))","v":""},{"$f":"IF(B45=\"\",\"\",VLOOKUP($B45,'Download con sequenziale'!$F:$BC,E$13,FALSE))","v":""},{"$f":"IF(B45=\"\",\"\",VLOOKUP($B45,'Download con sequenziale'!$F:$BC,F$13,FALSE))","v":""},{"$f":"IF(B45=\"\",\"\",VLOOKUP($B45,'Download con sequenziale'!$F:$BC,G$13,FALSE))","v":""},{"$f":"+IF(B45=\"\",\"\",IF(VLOOKUP(B45,'Download con sequenziale'!$F:$I,4,FALSE)=\"x\",J45,\"Not required\"))","v":""},{"$f":"IF(B45=\"\",\"\",VLOOKUP($B45,'Download con sequenziale'!$F:$BC,I$13,FALSE))","v":""},{"$f":"IF(D45=\"\",\"\",VLOOKUP($B45,'Download con sequenziale'!$F:$BC,J$13,FALSE))","v":""},{"$f":"IF(B45=\"\",\"\",VLOOKUP($B45,'Download con sequenziale'!$F:$BC,K$13,FALSE))","v":""},{"$f":"IF(B45=\"\",\"\",VLOOKUP($B45,'Download con sequenziale'!$F:$BC,L$13,FALSE))","v":""},{"$f":"IF(B45=\"\",\"\",IF(ISBLANK(VLOOKUP($B45,'Download con sequenziale'!$F:$AX,25,FALSE)),VLOOKUP($B45,'Download con sequenziale'!$F:$BC,M$13,FALSE),VLOOKUP($B45,'Download con sequenziale'!$F:$BC,25,FALSE)))","v":""},{"$f":"IF(B45=\"\",\"\",VLOOKUP($B45,'Download con sequenziale'!$F:$BC,N$13,FALSE))","v":""},{"$f":"IF(B45=\"\",\"\",IF(VLOOKUP($B45,'Download con sequenziale'!$F:$BC,O$13,FALSE)=\"false\",\"No\",\"Yes\"))","v":""},{"$f":"IF(B45=\"\",\"\",VLOOKUP($B45,'Download con sequenziale'!$F:$BC,P$13,FALSE))","v":""},{"$f":"IF(B45=\"\",\"\",VLOOKUP($B45,'Download con sequenziale'!$F:$BC,Q$13,FALSE))","v":""}]
[32,{"$f":"+IF(ISERROR(VLOOKUP($B$11&A46,'Download con sequenziale'!F:F,1,FALSE)),\"\",VLOOKUP($B$11&A46,'Download con sequenziale'!F:F,1,FALSE))","v":""},null,{"$f":"IF(B46=\"\",\"\",VLOOKUP($B46,'Download con sequenziale'!$F:$BC,D$13,FALSE))","v":""},{"$f":"IF(B46=\"\",\"\",VLOOKUP($B46,'Download con sequenziale'!$F:$BC,E$13,FALSE))","v":""},{"$f":"IF(B46=\"\",\"\",VLOOKUP($B46,'Download con sequenziale'!$F:$BC,F$13,FALSE))","v":""},{"$f":"IF(B46=\"\",\"\",VLOOKUP($B46,'Download con sequenziale'!$F:$BC,G$13,FALSE))","v":""},{"$f":"+IF(B46=\"\",\"\",IF(VLOOKUP(B46,'Download con sequenziale'!$F:$I,4,FALSE)=\"x\",J46,\"Not required\"))","v":""},{"$f":"IF(B46=\"\",\"\",VLOOKUP($B46,'Download con sequenziale'!$F:$BC,I$13,FALSE))","v":""},{"$f":"IF(D46=\"\",\"\",VLOOKUP($B46,'Download con sequenziale'!$F:$BC,J$13,FALSE))","v":""},{"$f":"IF(B46=\"\",\"\",VLOOKUP($B46,'Download con sequenziale'!$F:$BC,K$13,FALSE))","v":""},{"$f":"IF(B46=\"\",\"\",VLOOKUP($B46,'Download con sequenziale'!$F:$BC,L$13,FALSE))","v":""},{"$f":"IF(B46=\"\",\"\",IF(ISBLANK(VLOOKUP($B46,'Download con sequenziale'!$F:$AX,25,FALSE)),VLOOKUP($B46,'Download con sequenziale'!$F:$BC,M$13,FALSE),VLOOKUP($B46,'Download con sequenziale'!$F:$BC,25,FALSE)))","v":""},{"$f":"IF(B46=\"\",\"\",VLOOKUP($B46,'Download con sequenziale'!$F:$BC,N$13,FALSE))","v":""},{"$f":"IF(B46=\"\",\"\",IF(VLOOKUP($B46,'Download con sequenziale'!$F:$BC,O$13,FALSE)=\"false\",\"No\",\"Yes\"))","v":""},{"$f":"IF(B46=\"\",\"\",VLOOKUP($B46,'Download con sequenziale'!$F:$BC,P$13,FALSE))","v":""},{"$f":"IF(B46=\"\",\"\",VLOOKUP($B46,'Download con sequenziale'!$F:$BC,Q$13,FALSE))","v":""}]
[33,{"$f":"+IF(ISERROR(VLOOKUP($B$11&A47,'Download con sequenziale'!F:F,1,FALSE)),\"\",VLOOKUP($B$11&A47,'Download con sequenziale'!F:F,1,FALSE))","v":""},null,{"$f":"IF(B47=\"\",\"\",VLOOKUP($B47,'Download con sequenziale'!$F:$BC,D$13,FALSE))","v":""},{"$f":"IF(B47=\"\",\"\",VLOOKUP($B47,'Download con sequenziale'!$F:$BC,E$13,FALSE))","v":""},{"$f":"IF(B47=\"\",\"\",VLOOKUP($B47,'Download con sequenziale'!$F:$BC,F$13,FALSE))","v":""},{"$f":"IF(B47=\"\",\"\",VLOOKUP($B47,'Download con sequenziale'!$F:$BC,G$13,FALSE))","v":""},{"$f":"+IF(B47=\"\",\"\",IF(VLOOKUP(B47,'Download con sequenziale'!$F:$I,4,FALSE)=\"x\",J47,\"Not required\"))","v":""},{"$f":"IF(B47=\"\",\"\",VLOOKUP($B47,'Download con sequenziale'!$F:$BC,I$13,FALSE))","v":""},{"$f":"IF(D47=\"\",\"\",VLOOKUP($B47,'Download con sequenziale'!$F:$BC,J$13,FALSE))","v":""},{"$f":"IF(B47=\"\",\"\",VLOOKUP($B47,'Download con sequenziale'!$F:$BC,K$13,FALSE))","v":""},{"$f":"IF(B47=\"\",\"\",VLOOKUP($B47,'Download con sequenziale'!$F:$BC,L$13,FALSE))","v":""},{"$f":"IF(B47=\"\",\"\",IF(ISBLANK(VLOOKUP($B47,'Download con sequenziale'!$F:$AX,25,FALSE)),VLOOKUP($B47,'Download con sequenziale'!$F:$BC,M$13,FALSE),VLOOKUP($B47,'Download con sequenziale'!$F:$BC,25,FALSE)))","v":""},{"$f":"IF(B47=\"\",\"\",VLOOKUP($B47,'Download con sequenziale'!$F:$BC,N$13,FALSE))","v":""},{"$f":"IF(B47=\"\",\"\",IF(VLOOKUP($B47,'Download con sequenziale'!$F:$BC,O$13,FALSE)=\"false\",\"No\",\"Yes\"))","v":""},{"$f":"IF(B47=\"\",\"\",VLOOKUP($B47,'Download con sequenziale'!$F:$BC,P$13,FALSE))","v":""},{"$f":"IF(B47=\"\",\"\",VLOOKUP($B47,'Download con sequenziale'!$F:$BC,Q$13,FALSE))","v":""}]
[34,{"$f":"+IF(ISERROR(VLOOKUP($B$11&A48,'Download con sequenziale'!F:F,1,FALSE)),\"\",VLOOKUP($B$11&A48,'Download con sequenziale'!F:F,1,FALSE))","v":""},null,{"$f":"IF(B48=\"\",\"\",VLOOKUP($B48,'Download con sequenziale'!$F:$BC,D$13,FALSE))","v":""},{"$f":"IF(B48=\"\",\"\",VLOOKUP($B48,'Download con sequenziale'!$F:$BC,E$13,FALSE))","v":""},{"$f":"IF(B48=\"\",\"\",VLOOKUP($B48,'Download con sequenziale'!$F:$BC,F$13,FALSE))","v":""},{"$f":"IF(B48=\"\",\"\",VLOOKUP($B48,'Download con sequenziale'!$F:$BC,G$13,FALSE))","v":""},{"$f":"+IF(B48=\"\",\"\",IF(VLOOKUP(B48,'Download con sequenziale'!$F:$I,4,FALSE)=\"x\",J48,\"Not required\"))","v":""},{"$f":"IF(B48=\"\",\"\",VLOOKUP($B48,'Download con sequenziale'!$F:$BC,I$13,FALSE))","v":""},{"$f":"IF(D48=\"\",\"\",VLOOKUP($B48,'Download con sequenziale'!$F:$BC,J$13,FALSE))","v":""},{"$f":"IF(B48=\"\",\"\",VLOOKUP($B48,'Download con sequenziale'!$F:$BC,K$13,FALSE))","v":""},{"$f":"IF(B48=\"\",\"\",VLOOKUP($B48,'Download con sequenziale'!$F:$BC,L$13,FALSE))","v":""},{"$f":"IF(B48=\"\",\"\",IF(ISBLANK(VLOOKUP($B48,'Download con sequenziale'!$F:$AX,25,FALSE)),VLOOKUP($B48,'Download con sequenziale'!$F:$BC,M$13,FALSE),VLOOKUP($B48,'Download con sequenziale'!$F:$BC,25,FALSE)))","v":""},{"$f":"IF(B48=\"\",\"\",VLOOKUP($B48,'Download con sequenziale'!$F:$BC,N$13,FALSE))","v":""},{"$f":"IF(B48=\"\",\"\",IF(VLOOKUP($B48,'Download con sequenziale'!$F:$BC,O$13,FALSE)=\"false\",\"No\",\"Yes\"))","v":""},{"$f":"IF(B48=\"\",\"\",VLOOKUP($B48,'Download con sequenziale'!$F:$BC,P$13,FALSE))","v":""},{"$f":"IF(B48=\"\",\"\",VLOOKUP($B48,'Download con sequenziale'!$F:$BC,Q$13,FALSE))","v":""}]
[35,{"$f":"+IF(ISERROR(VLOOKUP($B$11&A49,'Download con sequenziale'!F:F,1,FALSE)),\"\",VLOOKUP($B$11&A49,'Download con sequenziale'!F:F,1,FALSE))","v":""},null,{"$f":"IF(B49=\"\",\"\",VLOOKUP($B49,'Download con sequenziale'!$F:$BC,D$13,FALSE))","v":""},{"$f":"IF(B49=\"\",\"\",VLOOKUP($B49,'Download con sequenziale'!$F:$BC,E$13,FALSE))","v":""},{"$f":"IF(B49=\"\",\"\",VLOOKUP($B49,'Download con sequenziale'!$F:$BC,F$13,FALSE))","v":""},{"$f":"IF(B49=\"\",\"\",VLOOKUP($B49,'Download con sequenziale'!$F:$BC,G$13,FALSE))","v":""},{"$f":"+IF(B49=\"\",\"\",IF(VLOOKUP(B49,'Download con sequenziale'!$F:$I,4,FALSE)=\"x\",J49,\"Not required\"))","v":""},{"$f":"IF(B49=\"\",\"\",VLOOKUP($B49,'Download con sequenziale'!$F:$BC,I$13,FALSE))","v":""},{"$f":"IF(D49=\"\",\"\",VLOOKUP($B49,'Download con sequenziale'!$F:$BC,J$13,FALSE))","v":""},{"$f":"IF(B49=\"\",\"\",VLOOKUP($B49,'Download con sequenziale'!$F:$BC,K$13,FALSE))","v":""},{"$f":"IF(B49=\"\",\"\",VLOOKUP($B49,'Download con sequenziale'!$F:$BC,L$13,FALSE))","v":""},{"$f":"IF(B49=\"\",\"\",IF(ISBLANK(VLOOKUP($B49,'Download con sequenziale'!$F:$AX,25,FALSE)),VLOOKUP($B49,'Download con sequenziale'!$F:$BC,M$13,FALSE),VLOOKUP($B49,'Download con sequenziale'!$F:$BC,25,FALSE)))","v":""},{"$f":"IF(B49=\"\",\"\",VLOOKUP($B49,'Download con sequenziale'!$F:$BC,N$13,FALSE))","v":""},{"$f":"IF(B49=\"\",\"\",IF(VLOOKUP($B49,'Download con sequenziale'!$F:$BC,O$13,FALSE)=\"false\",\"No\",\"Yes\"))","v":""},{"$f":"IF(B49=\"\",\"\",VLOOKUP($B49,'Download con sequenziale'!$F:$BC,P$13,FALSE))","v":""},{"$f":"IF(B49=\"\",\"\",VLOOKUP($B49,'Download con sequenziale'!$F:$BC,Q$13,FALSE))","v":""}]
[36,{"$f":"+IF(ISERROR(VLOOKUP($B$11&A50,'Download con sequenziale'!F:F,1,FALSE)),\"\",VLOOKUP($B$11&A50,'Download con sequenziale'!F:F,1,FALSE))","v":""},null,{"$f":"IF(B50=\"\",\"\",VLOOKUP($B50,'Download con sequenziale'!$F:$BC,D$13,FALSE))","v":""},{"$f":"IF(B50=\"\",\"\",VLOOKUP($B50,'Download con sequenziale'!$F:$BC,E$13,FALSE))","v":""},{"$f":"IF(B50=\"\",\"\",VLOOKUP($B50,'Download con sequenziale'!$F:$BC,F$13,FALSE))","v":""},{"$f":"IF(B50=\"\",\"\",VLOOKUP($B50,'Download con sequenziale'!$F:$BC,G$13,FALSE))","v":""},{"$f":"+IF(B50=\"\",\"\",IF(VLOOKUP(B50,'Download con sequenziale'!$F:$I,4,FALSE)=\"x\",J50,\"Not required\"))","v":""},{"$f":"IF(B50=\"\",\"\",VLOOKUP($B50,'Download con sequenziale'!$F:$BC,I$13,FALSE))","v":""},{"$f":"IF(D50=\"\",\"\",VLOOKUP($B50,'Download con sequenziale'!$F:$BC,J$13,FALSE))","v":""},{"$f":"IF(B50=\"\",\"\",VLOOKUP($B50,'Download con sequenziale'!$F:$BC,K$13,FALSE))","v":""},{"$f":"IF(B50=\"\",\"\",VLOOKUP($B50,'Download con sequenziale'!$F:$BC,L$13,FALSE))","v":""},{"$f":"IF(B50=\"\",\"\",IF(ISBLANK(VLOOKUP($B50,'Download con sequenziale'!$F:$AX,25,FALSE)),VLOOKUP($B50,'Download con sequenziale'!$F:$BC,M$13,FALSE),VLOOKUP($B50,'Download con sequenziale'!$F:$BC,25,FALSE)))","v":""},{"$f":"IF(B50=\"\",\"\",VLOOKUP($B50,'Download con sequenziale'!$F:$BC,N$13,FALSE))","v":""},{"$f":"IF(B50=\"\",\"\",IF(VLOOKUP($B50,'Download con sequenziale'!$F:$BC,O$13,FALSE)=\"false\",\"No\",\"Yes\"))","v":""},{"$f":"IF(B50=\"\",\"\",VLOOKUP($B50,'Download con sequenziale'!$F:$BC,P$13,FALSE))","v":""},{"$f":"IF(B50=\"\",\"\",VLOOKUP($B50,'Download con sequenziale'!$F:$BC,Q$13,FALSE))","v":""}]
[37,{"$f":"+IF(ISERROR(VLOOKUP($B$11&A51,'Download con sequenziale'!F:F,1,FALSE)),\"\",VLOOKUP($B$11&A51,'Download con sequenziale'!F:F,1,FALSE))","v":""},null,{"$f":"IF(B51=\"\",\"\",VLOOKUP($B51,'Download con sequenziale'!$F:$BC,D$13,FALSE))","v":""},{"$f":"IF(B51=\"\",\"\",VLOOKUP($B51,'Download con sequenziale'!$F:$BC,E$13,FALSE))","v":""},{"$f":"IF(B51=\"\",\"\",VLOOKUP($B51,'Download con sequenziale'!$F:$BC,F$13,FALSE))","v":""},{"$f":"IF(B51=\"\",\"\",VLOOKUP($B51,'Download con sequenziale'!$F:$BC,G$13,FALSE))","v":""},{"$f":"+IF(B51=\"\",\"\",IF(VLOOKUP(B51,'Download con sequenziale'!$F:$I,4,FALSE)=\"x\",J51,\"Not required\"))","v":""},{"$f":"IF(B51=\"\",\"\",VLOOKUP($B51,'Download con sequenziale'!$F:$BC,I$13,FALSE))","v":""},{"$f":"IF(D51=\"\",\"\",VLOOKUP($B51,'Download con sequenziale'!$F:$BC,J$13,FALSE))","v":""},{"$f":"IF(B51=\"\",\"\",VLOOKUP($B51,'Download con sequenziale'!$F:$BC,K$13,FALSE))","v":""},{"$f":"IF(B51=\"\",\"\",VLOOKUP($B51,'Download con sequenziale'!$F:$BC,L$13,FALSE))","v":""},{"$f":"IF(B51=\"\",\"\",IF(ISBLANK(VLOOKUP($B51,'Download con sequenziale'!$F:$AX,25,FALSE)),VLOOKUP($B51,'Download con sequenziale'!$F:$BC,M$13,FALSE),VLOOKUP($B51,'Download con sequenziale'!$F:$BC,25,FALSE)))","v":""},{"$f":"IF(B51=\"\",\"\",VLOOKUP($B51,'Download con sequenziale'!$F:$BC,N$13,FALSE))","v":""},{"$f":"IF(B51=\"\",\"\",IF(VLOOKUP($B51,'Download con sequenziale'!$F:$BC,O$13,FALSE)=\"false\",\"No\",\"Yes\"))","v":""},{"$f":"IF(B51=\"\",\"\",VLOOKUP($B51,'Download con sequenziale'!$F:$BC,P$13,FALSE))","v":""},{"$f":"IF(B51=\"\",\"\",VLOOKUP($B51,'Download con sequenziale'!$F:$BC,Q$13,FALSE))","v":""}]
[38,{"$f":"+IF(ISERROR(VLOOKUP($B$11&A52,'Download con sequenziale'!F:F,1,FALSE)),\"\",VLOOKUP($B$11&A52,'Download con sequenziale'!F:F,1,FALSE))","v":""},null,{"$f":"IF(B52=\"\",\"\",VLOOKUP($B52,'Download con sequenziale'!$F:$BC,D$13,FALSE))","v":""},{"$f":"IF(B52=\"\",\"\",VLOOKUP($B52,'Download con sequenziale'!$F:$BC,E$13,FALSE))","v":""},{"$f":"IF(B52=\"\",\"\",VLOOKUP($B52,'Download con sequenziale'!$F:$BC,F$13,FALSE))","v":""},{"$f":"IF(B52=\"\",\"\",VLOOKUP($B52,'Download con sequenziale'!$F:$BC,G$13,FALSE))","v":""},{"$f":"+IF(B52=\"\",\"\",IF(VLOOKUP(B52,'Download con sequenziale'!$F:$I,4,FALSE)=\"x\",J52,\"Not required\"))","v":""},{"$f":"IF(B52=\"\",\"\",VLOOKUP($B52,'Download con sequenziale'!$F:$BC,I$13,FALSE))","v":""},{"$f":"IF(D52=\"\",\"\",VLOOKUP($B52,'Download con sequenziale'!$F:$BC,J$13,FALSE))","v":""},{"$f":"IF(B52=\"\",\"\",VLOOKUP($B52,'Download con sequenziale'!$F:$BC,K$13,FALSE))","v":""},{"$f":"IF(B52=\"\",\"\",VLOOKUP($B52,'Download con sequenziale'!$F:$BC,L$13,FALSE))","v":""},{"$f":"IF(B52=\"\",\"\",IF(ISBLANK(VLOOKUP($B52,'Download con sequenziale'!$F:$AX,25,FALSE)),VLOOKUP($B52,'Download con sequenziale'!$F:$BC,M$13,FALSE),VLOOKUP($B52,'Download con sequenziale'!$F:$BC,25,FALSE)))","v":""},{"$f":"IF(B52=\"\",\"\",VLOOKUP($B52,'Download con sequenziale'!$F:$BC,N$13,FALSE))","v":""},{"$f":"IF(B52=\"\",\"\",IF(VLOOKUP($B52,'Download con sequenziale'!$F:$BC,O$13,FALSE)=\"false\",\"No\",\"Yes\"))","v":""},{"$f":"IF(B52=\"\",\"\",VLOOKUP($B52,'Download con sequenziale'!$F:$BC,P$13,FALSE))","v":""},{"$f":"IF(B52=\"\",\"\",VLOOKUP($B52,'Download con sequenziale'!$F:$BC,Q$13,FALSE))","v":""}]
[39,{"$f":"+IF(ISERROR(VLOOKUP($B$11&A53,'Download con sequenziale'!F:F,1,FALSE)),\"\",VLOOKUP($B$11&A53,'Download con sequenziale'!F:F,1,FALSE))","v":""},null,{"$f":"IF(B53=\"\",\"\",VLOOKUP($B53,'Download con sequenziale'!$F:$BC,D$13,FALSE))","v":""},{"$f":"IF(B53=\"\",\"\",VLOOKUP($B53,'Download con sequenziale'!$F:$BC,E$13,FALSE))","v":""},{"$f":"IF(B53=\"\",\"\",VLOOKUP($B53,'Download con sequenziale'!$F:$BC,F$13,FALSE))","v":""},{"$f":"IF(B53=\"\",\"\",VLOOKUP($B53,'Download con sequenziale'!$F:$BC,G$13,FALSE))","v":""},{"$f":"+IF(B53=\"\",\"\",IF(VLOOKUP(B53,'Download con sequenziale'!$F:$I,4,FALSE)=\"x\",J53,\"Not required\"))","v":""},{"$f":"IF(B53=\"\",\"\",VLOOKUP($B53,'Download con sequenziale'!$F:$BC,I$13,FALSE))","v":""},{"$f":"IF(D53=\"\",\"\",VLOOKUP($B53,'Download con sequenziale'!$F:$BC,J$13,FALSE))","v":""},{"$f":"IF(B53=\"\",\"\",VLOOKUP($B53,'Download con sequenziale'!$F:$BC,K$13,FALSE))","v":""},{"$f":"IF(B53=\"\",\"\",VLOOKUP($B53,'Download con sequenziale'!$F:$BC,L$13,FALSE))","v":""},{"$f":"IF(B53=\"\",\"\",IF(ISBLANK(VLOOKUP($B53,'Download con sequenziale'!$F:$AX,25,FALSE)),VLOOKUP($B53,'Download con sequenziale'!$F:$BC,M$13,FALSE),VLOOKUP($B53,'Download con sequenziale'!$F:$BC,25,FALSE)))","v":""},{"$f":"IF(B53=\"\",\"\",VLOOKUP($B53,'Download con sequenziale'!$F:$BC,N$13,FALSE))","v":""},{"$f":"IF(B53=\"\",\"\",IF(VLOOKUP($B53,'Download con sequenziale'!$F:$BC,O$13,FALSE)=\"false\",\"No\",\"Yes\"))","v":""},{"$f":"IF(B53=\"\",\"\",VLOOKUP($B53,'Download con sequenziale'!$F:$BC,P$13,FALSE))","v":""},{"$f":"IF(B53=\"\",\"\",VLOOKUP($B53,'Download con sequenziale'!$F:$BC,Q$13,FALSE))","v":""}]
[40,{"$f":"+IF(ISERROR(VLOOKUP($B$11&A54,'Download con sequenziale'!F:F,1,FALSE)),\"\",VLOOKUP($B$11&A54,'Download con sequenziale'!F:F,1,FALSE))","v":""},null,{"$f":"IF(B54=\"\",\"\",VLOOKUP($B54,'Download con sequenziale'!$F:$BC,D$13,FALSE))","v":""},{"$f":"IF(B54=\"\",\"\",VLOOKUP($B54,'Download con sequenziale'!$F:$BC,E$13,FALSE))","v":""},{"$f":"IF(B54=\"\",\"\",VLOOKUP($B54,'Download con sequenziale'!$F:$BC,F$13,FALSE))","v":""},{"$f":"IF(B54=\"\",\"\",VLOOKUP($B54,'Download con sequenziale'!$F:$BC,G$13,FALSE))","v":""},{"$f":"+IF(B54=\"\",\"\",IF(VLOOKUP(B54,'Download con sequenziale'!$F:$I,4,FALSE)=\"x\",J54,\"Not required\"))","v":""},{"$f":"IF(B54=\"\",\"\",VLOOKUP($B54,'Download con sequenziale'!$F:$BC,I$13,FALSE))","v":""},{"$f":"IF(D54=\"\",\"\",VLOOKUP($B54,'Download con sequenziale'!$F:$BC,J$13,FALSE))","v":""},{"$f":"IF(B54=\"\",\"\",VLOOKUP($B54,'Download con sequenziale'!$F:$BC,K$13,FALSE))","v":""},{"$f":"IF(B54=\"\",\"\",VLOOKUP($B54,'Download con sequenziale'!$F:$BC,L$13,FALSE))","v":""},{"$f":"IF(B54=\"\",\"\",IF(ISBLANK(VLOOKUP($B54,'Download con sequenziale'!$F:$AX,25,FALSE)),VLOOKUP($B54,'Download con sequenziale'!$F:$BC,M$13,FALSE),VLOOKUP($B54,'Download con sequenziale'!$F:$BC,25,FALSE)))","v":""},{"$f":"IF(B54=\"\",\"\",VLOOKUP($B54,'Download con sequenziale'!$F:$BC,N$13,FALSE))","v":""},{"$f":"IF(B54=\"\",\"\",IF(VLOOKUP($B54,'Download con sequenziale'!$F:$BC,O$13,FALSE)=\"false\",\"No\",\"Yes\"))","v":""},{"$f":"IF(B54=\"\",\"\",VLOOKUP($B54,'Download con sequenziale'!$F:$BC,P$13,FALSE))","v":""},{"$f":"IF(B54=\"\",\"\",VLOOKUP($B54,'Download con sequenziale'!$F:$BC,Q$13,FALSE))","v":""}]
[41,{"$f":"+IF(ISERROR(VLOOKUP($B$11&A55,'Download con sequenziale'!F:F,1,FALSE)),\"\",VLOOKUP($B$11&A55,'Download con sequenziale'!F:F,1,FALSE))","v":""},null,{"$f":"IF(B55=\"\",\"\",VLOOKUP($B55,'Download con sequenziale'!$F:$BC,D$13,FALSE))","v":""},{"$f":"IF(B55=\"\",\"\",VLOOKUP($B55,'Download con sequenziale'!$F:$BC,E$13,FALSE))","v":""},{"$f":"IF(B55=\"\",\"\",VLOOKUP($B55,'Download con sequenziale'!$F:$BC,F$13,FALSE))","v":""},{"$f":"IF(B55=\"\",\"\",VLOOKUP($B55,'Download con sequenziale'!$F:$BC,G$13,FALSE))","v":""},{"$f":"+IF(B55=\"\",\"\",IF(VLOOKUP(B55,'Download con sequenziale'!$F:$I,4,FALSE)=\"x\",J55,\"Not required\"))","v":""},{"$f":"IF(B55=\"\",\"\",VLOOKUP($B55,'Download con sequenziale'!$F:$BC,I$13,FALSE))","v":""},{"$f":"IF(D55=\"\",\"\",VLOOKUP($B55,'Download con sequenziale'!$F:$BC,J$13,FALSE))","v":""},{"$f":"IF(B55=\"\",\"\",VLOOKUP($B55,'Download con sequenziale'!$F:$BC,K$13,FALSE))","v":""},{"$f":"IF(B55=\"\",\"\",VLOOKUP($B55,'Download con sequenziale'!$F:$BC,L$13,FALSE))","v":""},{"$f":"IF(B55=\"\",\"\",IF(ISBLANK(VLOOKUP($B55,'Download con sequenziale'!$F:$AX,25,FALSE)),VLOOKUP($B55,'Download con sequenziale'!$F:$BC,M$13,FALSE),VLOOKUP($B55,'Download con sequenziale'!$F:$BC,25,FALSE)))","v":""},{"$f":"IF(B55=\"\",\"\",VLOOKUP($B55,'Download con sequenziale'!$F:$BC,N$13,FALSE))","v":""},{"$f":"IF(B55=\"\",\"\",IF(VLOOKUP($B55,'Download con sequenziale'!$F:$BC,O$13,FALSE)=\"false\",\"No\",\"Yes\"))","v":""},{"$f":"IF(B55=\"\",\"\",VLOOKUP($B55,'Download con sequenziale'!$F:$BC,P$13,FALSE))","v":""},{"$f":"IF(B55=\"\",\"\",VLOOKUP($B55,'Download con sequenziale'!$F:$BC,Q$13,FALSE))","v":""}]
[42,{"$f":"+IF(ISERROR(VLOOKUP($B$11&A56,'Download con sequenziale'!F:F,1,FALSE)),\"\",VLOOKUP($B$11&A56,'Download con sequenziale'!F:F,1,FALSE))","v":""},null,{"$f":"IF(B56=\"\",\"\",VLOOKUP($B56,'Download con sequenziale'!$F:$BC,D$13,FALSE))","v":""},{"$f":"IF(B56=\"\",\"\",VLOOKUP($B56,'Download con sequenziale'!$F:$BC,E$13,FALSE))","v":""},{"$f":"IF(B56=\"\",\"\",VLOOKUP($B56,'Download con sequenziale'!$F:$BC,F$13,FALSE))","v":""},{"$f":"IF(B56=\"\",\"\",VLOOKUP($B56,'Download con sequenziale'!$F:$BC,G$13,FALSE))","v":""},{"$f":"+IF(B56=\"\",\"\",IF(VLOOKUP(B56,'Download con sequenziale'!$F:$I,4,FALSE)=\"x\",J56,\"Not required\"))","v":""},{"$f":"IF(B56=\"\",\"\",VLOOKUP($B56,'Download con sequenziale'!$F:$BC,I$13,FALSE))","v":""},{"$f":"IF(D56=\"\",\"\",VLOOKUP($B56,'Download con sequenziale'!$F:$BC,J$13,FALSE))","v":""},{"$f":"IF(B56=\"\",\"\",VLOOKUP($B56,'Download con sequenziale'!$F:$BC,K$13,FALSE))","v":""},{"$f":"IF(B56=\"\",\"\",VLOOKUP($B56,'Download con sequenziale'!$F:$BC,L$13,FALSE))","v":""},{"$f":"IF(B56=\"\",\"\",IF(ISBLANK(VLOOKUP($B56,'Download con sequenziale'!$F:$AX,25,FALSE)),VLOOKUP($B56,'Download con sequenziale'!$F:$BC,M$13,FALSE),VLOOKUP($B56,'Download con sequenziale'!$F:$BC,25,FALSE)))","v":""},{"$f":"IF(B56=\"\",\"\",VLOOKUP($B56,'Download con sequenziale'!$F:$BC,N$13,FALSE))","v":""},{"$f":"IF(B56=\"\",\"\",IF(VLOOKUP($B56,'Download con sequenziale'!$F:$BC,O$13,FALSE)=\"false\",\"No\",\"Yes\"))","v":""},{"$f":"IF(B56=\"\",\"\",VLOOKUP($B56,'Download con sequenziale'!$F:$BC,P$13,FALSE))","v":""},{"$f":"IF(B56=\"\",\"\",VLOOKUP($B56,'Download con sequenziale'!$F:$BC,Q$13,FALSE))","v":""}]
[43,{"$f":"+IF(ISERROR(VLOOKUP($B$11&A57,'Download con sequenziale'!F:F,1,FALSE)),\"\",VLOOKUP($B$11&A57,'Download con sequenziale'!F:F,1,FALSE))","v":""},null,{"$f":"IF(B57=\"\",\"\",VLOOKUP($B57,'Download con sequenziale'!$F:$BC,D$13,FALSE))","v":""},{"$f":"IF(B57=\"\",\"\",VLOOKUP($B57,'Download con sequenziale'!$F:$BC,E$13,FALSE))","v":""},{"$f":"IF(B57=\"\",\"\",VLOOKUP($B57,'Download con sequenziale'!$F:$BC,F$13,FALSE))","v":""},{"$f":"IF(B57=\"\",\"\",VLOOKUP($B57,'Download con sequenziale'!$F:$BC,G$13,FALSE))","v":""},{"$f":"+IF(B57=\"\",\"\",IF(VLOOKUP(B57,'Download con sequenziale'!$F:$I,4,FALSE)=\"x\",J57,\"Not required\"))","v":""},{"$f":"IF(B57=\"\",\"\",VLOOKUP($B57,'Download con sequenziale'!$F:$BC,I$13,FALSE))","v":""},{"$f":"IF(D57=\"\",\"\",VLOOKUP($B57,'Download con sequenziale'!$F:$BC,J$13,FALSE))","v":""},{"$f":"IF(B57=\"\",\"\",VLOOKUP($B57,'Download con sequenziale'!$F:$BC,K$13,FALSE))","v":""},{"$f":"IF(B57=\"\",\"\",VLOOKUP($B57,'Download con sequenziale'!$F:$BC,L$13,FALSE))","v":""},{"$f":"IF(B57=\"\",\"\",IF(ISBLANK(VLOOKUP($B57,'Download con sequenziale'!$F:$AX,25,FALSE)),VLOOKUP($B57,'Download con sequenziale'!$F:$BC,M$13,FALSE),VLOOKUP($B57,'Download con sequenziale'!$F:$BC,25,FALSE)))","v":""},{"$f":"IF(B57=\"\",\"\",VLOOKUP($B57,'Download con sequenziale'!$F:$BC,N$13,FALSE))","v":""},{"$f":"IF(B57=\"\",\"\",IF(VLOOKUP($B57,'Download con sequenziale'!$F:$BC,O$13,FALSE)=\"false\",\"No\",\"Yes\"))","v":""},{"$f":"IF(B57=\"\",\"\",VLOOKUP($B57,'Download con sequenziale'!$F:$BC,P$13,FALSE))","v":""},{"$f":"IF(B57=\"\",\"\",VLOOKUP($B57,'Download con sequenziale'!$F:$BC,Q$13,FALSE))","v":""}]
[44,{"$f":"+IF(ISERROR(VLOOKUP($B$11&A58,'Download con sequenziale'!F:F,1,FALSE)),\"\",VLOOKUP($B$11&A58,'Download con sequenziale'!F:F,1,FALSE))","v":""},null,{"$f":"IF(B58=\"\",\"\",VLOOKUP($B58,'Download con sequenziale'!$F:$BC,D$13,FALSE))","v":""},{"$f":"IF(B58=\"\",\"\",VLOOKUP($B58,'Download con sequenziale'!$F:$BC,E$13,FALSE))","v":""},{"$f":"IF(B58=\"\",\"\",VLOOKUP($B58,'Download con sequenziale'!$F:$BC,F$13,FALSE))","v":""},{"$f":"IF(B58=\"\",\"\",VLOOKUP($B58,'Download con sequenziale'!$F:$BC,G$13,FALSE))","v":""},{"$f":"+IF(B58=\"\",\"\",IF(VLOOKUP(B58,'Download con sequenziale'!$F:$I,4,FALSE)=\"x\",J58,\"Not required\"))","v":""},{"$f":"IF(B58=\"\",\"\",VLOOKUP($B58,'Download con sequenziale'!$F:$BC,I$13,FALSE))","v":""},{"$f":"IF(D58=\"\",\"\",VLOOKUP($B58,'Download con sequenziale'!$F:$BC,J$13,FALSE))","v":""},{"$f":"IF(B58=\"\",\"\",VLOOKUP($B58,'Download con sequenziale'!$F:$BC,K$13,FALSE))","v":""},{"$f":"IF(B58=\"\",\"\",VLOOKUP($B58,'Download con sequenziale'!$F:$BC,L$13,FALSE))","v":""},{"$f":"IF(B58=\"\",\"\",IF(ISBLANK(VLOOKUP($B58,'Download con sequenziale'!$F:$AX,25,FALSE)),VLOOKUP($B58,'Download con sequenziale'!$F:$BC,M$13,FALSE),VLOOKUP($B58,'Download con sequenziale'!$F:$BC,25,FALSE)))","v":""},{"$f":"IF(B58=\"\",\"\",VLOOKUP($B58,'Download con sequenziale'!$F:$BC,N$13,FALSE))","v":""},{"$f":"IF(B58=\"\",\"\",IF(VLOOKUP($B58,'Download con sequenziale'!$F:$BC,O$13,FALSE)=\"false\",\"No\",\"Yes\"))","v":""},{"$f":"IF(B58=\"\",\"\",VLOOKUP($B58,'Download con sequenziale'!$F:$BC,P$13,FALSE))","v":""},{"$f":"IF(B58=\"\",\"\",VLOOKUP($B58,'Download con sequenziale'!$F:$BC,Q$13,FALSE))","v":""}]
[45,{"$f":"+IF(ISERROR(VLOOKUP($B$11&A59,'Download con sequenziale'!F:F,1,FALSE)),\"\",VLOOKUP($B$11&A59,'Download con sequenziale'!F:F,1,FALSE))","v":""},null,{"$f":"IF(B59=\"\",\"\",VLOOKUP($B59,'Download con sequenziale'!$F:$BC,D$13,FALSE))","v":""},{"$f":"IF(B59=\"\",\"\",VLOOKUP($B59,'Download con sequenziale'!$F:$BC,E$13,FALSE))","v":""},{"$f":"IF(B59=\"\",\"\",VLOOKUP($B59,'Download con sequenziale'!$F:$BC,F$13,FALSE))","v":""},{"$f":"IF(B59=\"\",\"\",VLOOKUP($B59,'Download con sequenziale'!$F:$BC,G$13,FALSE))","v":""},{"$f":"+IF(B59=\"\",\"\",IF(VLOOKUP(B59,'Download con sequenziale'!$F:$I,4,FALSE)=\"x\",J59,\"Not required\"))","v":""},{"$f":"IF(B59=\"\",\"\",VLOOKUP($B59,'Download con sequenziale'!$F:$BC,I$13,FALSE))","v":""},{"$f":"IF(D59=\"\",\"\",VLOOKUP($B59,'Download con sequenziale'!$F:$BC,J$13,FALSE))","v":""},{"$f":"IF(B59=\"\",\"\",VLOOKUP($B59,'Download con sequenziale'!$F:$BC,K$13,FALSE))","v":""},{"$f":"IF(B59=\"\",\"\",VLOOKUP($B59,'Download con sequenziale'!$F:$BC,L$13,FALSE))","v":""},{"$f":"IF(B59=\"\",\"\",IF(ISBLANK(VLOOKUP($B59,'Download con sequenziale'!$F:$AX,25,FALSE)),VLOOKUP($B59,'Download con sequenziale'!$F:$BC,M$13,FALSE),VLOOKUP($B59,'Download con sequenziale'!$F:$BC,25,FALSE)))","v":""},{"$f":"IF(B59=\"\",\"\",VLOOKUP($B59,'Download con sequenziale'!$F:$BC,N$13,FALSE))","v":""},{"$f":"IF(B59=\"\",\"\",IF(VLOOKUP($B59,'Download con sequenziale'!$F:$BC,O$13,FALSE)=\"false\",\"No\",\"Yes\"))","v":""},{"$f":"IF(B59=\"\",\"\",VLOOKUP($B59,'Download con sequenziale'!$F:$BC,P$13,FALSE))","v":""},{"$f":"IF(B59=\"\",\"\",VLOOKUP($B59,'Download con sequenziale'!$F:$BC,Q$13,FALSE))","v":""}]
[46,{"$f":"+IF(ISERROR(VLOOKUP($B$11&A60,'Download con sequenziale'!F:F,1,FALSE)),\"\",VLOOKUP($B$11&A60,'Download con sequenziale'!F:F,1,FALSE))","v":""},null,{"$f":"IF(B60=\"\",\"\",VLOOKUP($B60,'Download con sequenziale'!$F:$BC,D$13,FALSE))","v":""},{"$f":"IF(B60=\"\",\"\",VLOOKUP($B60,'Download con sequenziale'!$F:$BC,E$13,FALSE))","v":""},{"$f":"IF(B60=\"\",\"\",VLOOKUP($B60,'Download con sequenziale'!$F:$BC,F$13,FALSE))","v":""},{"$f":"IF(B60=\"\",\"\",VLOOKUP($B60,'Download con sequenziale'!$F:$BC,G$13,FALSE))","v":""},{"$f":"+IF(B60=\"\",\"\",IF(VLOOKUP(B60,'Download con sequenziale'!$F:$I,4,FALSE)=\"x\",J60,\"Not required\"))","v":""},{"$f":"IF(B60=\"\",\"\",VLOOKUP($B60,'Download con sequenziale'!$F:$BC,I$13,FALSE))","v":""},{"$f":"IF(D60=\"\",\"\",VLOOKUP($B60,'Download con sequenziale'!$F:$BC,J$13,FALSE))","v":""},{"$f":"IF(B60=\"\",\"\",VLOOKUP($B60,'Download con sequenziale'!$F:$BC,K$13,FALSE))","v":""},{"$f":"IF(B60=\"\",\"\",VLOOKUP($B60,'Download con sequenziale'!$F:$BC,L$13,FALSE))","v":""},{"$f":"IF(B60=\"\",\"\",IF(ISBLANK(VLOOKUP($B60,'Download con sequenziale'!$F:$AX,25,FALSE)),VLOOKUP($B60,'Download con sequenziale'!$F:$BC,M$13,FALSE),VLOOKUP($B60,'Download con sequenziale'!$F:$BC,25,FALSE)))","v":""},{"$f":"IF(B60=\"\",\"\",VLOOKUP($B60,'Download con sequenziale'!$F:$BC,N$13,FALSE))","v":""},{"$f":"IF(B60=\"\",\"\",IF(VLOOKUP($B60,'Download con sequenziale'!$F:$BC,O$13,FALSE)=\"false\",\"No\",\"Yes\"))","v":""},{"$f":"IF(B60=\"\",\"\",VLOOKUP($B60,'Download con sequenziale'!$F:$BC,P$13,FALSE))","v":""},{"$f":"IF(B60=\"\",\"\",VLOOKUP($B60,'Download con sequenziale'!$F:$BC,Q$13,FALSE))","v":""}]
[47,{"$f":"+IF(ISERROR(VLOOKUP($B$11&A61,'Download con sequenziale'!F:F,1,FALSE)),\"\",VLOOKUP($B$11&A61,'Download con sequenziale'!F:F,1,FALSE))","v":""},null,{"$f":"IF(B61=\"\",\"\",VLOOKUP($B61,'Download con sequenziale'!$F:$BC,D$13,FALSE))","v":""},{"$f":"IF(B61=\"\",\"\",VLOOKUP($B61,'Download con sequenziale'!$F:$BC,E$13,FALSE))","v":""},{"$f":"IF(B61=\"\",\"\",VLOOKUP($B61,'Download con sequenziale'!$F:$BC,F$13,FALSE))","v":""},{"$f":"IF(B61=\"\",\"\",VLOOKUP($B61,'Download con sequenziale'!$F:$BC,G$13,FALSE))","v":""},{"$f":"+IF(B61=\"\",\"\",IF(VLOOKUP(B61,'Download con sequenziale'!$F:$I,4,FALSE)=\"x\",J61,\"Not required\"))","v":""},{"$f":"IF(B61=\"\",\"\",VLOOKUP($B61,'Download con sequenziale'!$F:$BC,I$13,FALSE))","v":""},{"$f":"IF(D61=\"\",\"\",VLOOKUP($B61,'Download con sequenziale'!$F:$BC,J$13,FALSE))","v":""},{"$f":"IF(B61=\"\",\"\",VLOOKUP($B61,'Download con sequenziale'!$F:$BC,K$13,FALSE))","v":""},{"$f":"IF(B61=\"\",\"\",VLOOKUP($B61,'Download con sequenziale'!$F:$BC,L$13,FALSE))","v":""},{"$f":"IF(B61=\"\",\"\",IF(ISBLANK(VLOOKUP($B61,'Download con sequenziale'!$F:$AX,25,FALSE)),VLOOKUP($B61,'Download con sequenziale'!$F:$BC,M$13,FALSE),VLOOKUP($B61,'Download con sequenziale'!$F:$BC,25,FALSE)))","v":""},{"$f":"IF(B61=\"\",\"\",VLOOKUP($B61,'Download con sequenziale'!$F:$BC,N$13,FALSE))","v":""},{"$f":"IF(B61=\"\",\"\",IF(VLOOKUP($B61,'Download con sequenziale'!$F:$BC,O$13,FALSE)=\"false\",\"No\",\"Yes\"))","v":""},{"$f":"IF(B61=\"\",\"\",VLOOKUP($B61,'Download con sequenziale'!$F:$BC,P$13,FALSE))","v":""},{"$f":"IF(B61=\"\",\"\",VLOOKUP($B61,'Download con sequenziale'!$F:$BC,Q$13,FALSE))","v":""}]
[48,{"$f":"+IF(ISERROR(VLOOKUP($B$11&A62,'Download con sequenziale'!F:F,1,FALSE)),\"\",VLOOKUP($B$11&A62,'Download con sequenziale'!F:F,1,FALSE))","v":""},null,{"$f":"IF(B62=\"\",\"\",VLOOKUP($B62,'Download con sequenziale'!$F:$BC,D$13,FALSE))","v":""},{"$f":"IF(B62=\"\",\"\",VLOOKUP($B62,'Download con sequenziale'!$F:$BC,E$13,FALSE))","v":""},{"$f":"IF(B62=\"\",\"\",VLOOKUP($B62,'Download con sequenziale'!$F:$BC,F$13,FALSE))","v":""},{"$f":"IF(B62=\"\",\"\",VLOOKUP($B62,'Download con sequenziale'!$F:$BC,G$13,FALSE))","v":""},{"$f":"+IF(B62=\"\",\"\",IF(VLOOKUP(B62,'Download con sequenziale'!$F:$I,4,FALSE)=\"x\",J62,\"Not required\"))","v":""},{"$f":"IF(B62=\"\",\"\",VLOOKUP($B62,'Download con sequenziale'!$F:$BC,I$13,FALSE))","v":""},{"$f":"IF(D62=\"\",\"\",VLOOKUP($B62,'Download con sequenziale'!$F:$BC,J$13,FALSE))","v":""},{"$f":"IF(B62=\"\",\"\",VLOOKUP($B62,'Download con sequenziale'!$F:$BC,K$13,FALSE))","v":""},{"$f":"IF(B62=\"\",\"\",VLOOKUP($B62,'Download con sequenziale'!$F:$BC,L$13,FALSE))","v":""},{"$f":"IF(B62=\"\",\"\",IF(ISBLANK(VLOOKUP($B62,'Download con sequenziale'!$F:$AX,25,FALSE)),VLOOKUP($B62,'Download con sequenziale'!$F:$BC,M$13,FALSE),VLOOKUP($B62,'Download con sequenziale'!$F:$BC,25,FALSE)))","v":""},{"$f":"IF(B62=\"\",\"\",VLOOKUP($B62,'Download con sequenziale'!$F:$BC,N$13,FALSE))","v":""},{"$f":"IF(B62=\"\",\"\",IF(VLOOKUP($B62,'Download con sequenziale'!$F:$BC,O$13,FALSE)=\"false\",\"No\",\"Yes\"))","v":""},{"$f":"IF(B62=\"\",\"\",VLOOKUP($B62,'Download con sequenziale'!$F:$BC,P$13,FALSE))","v":""},{"$f":"IF(B62=\"\",\"\",VLOOKUP($B62,'Download con sequenziale'!$F:$BC,Q$13,FALSE))","v":""}]
[49,{"$f":"+IF(ISERROR(VLOOKUP($B$11&A63,'Download con sequenziale'!F:F,1,FALSE)),\"\",VLOOKUP($B$11&A63,'Download con sequenziale'!F:F,1,FALSE))","v":""},null,{"$f":"IF(B63=\"\",\"\",VLOOKUP($B63,'Download con sequenziale'!$F:$BC,D$13,FALSE))","v":""},{"$f":"IF(B63=\"\",\"\",VLOOKUP($B63,'Download con sequenziale'!$F:$BC,E$13,FALSE))","v":""},{"$f":"IF(B63=\"\",\"\",VLOOKUP($B63,'Download con sequenziale'!$F:$BC,F$13,FALSE))","v":""},{"$f":"IF(B63=\"\",\"\",VLOOKUP($B63,'Download con sequenziale'!$F:$BC,G$13,FALSE))","v":""},{"$f":"+IF(B63=\"\",\"\",IF(VLOOKUP(B63,'Download con sequenziale'!$F:$I,4,FALSE)=\"x\",J63,\"Not required\"))","v":""},{"$f":"IF(B63=\"\",\"\",VLOOKUP($B63,'Download con sequenziale'!$F:$BC,I$13,FALSE))","v":""},{"$f":"IF(D63=\"\",\"\",VLOOKUP($B63,'Download con sequenziale'!$F:$BC,J$13,FALSE))","v":""},{"$f":"IF(B63=\"\",\"\",VLOOKUP($B63,'Download con sequenziale'!$F:$BC,K$13,FALSE))","v":""},{"$f":"IF(B63=\"\",\"\",VLOOKUP($B63,'Download con sequenziale'!$F:$BC,L$13,FALSE))","v":""},{"$f":"IF(B63=\"\",\"\",IF(ISBLANK(VLOOKUP($B63,'Download con sequenziale'!$F:$AX,25,FALSE)),VLOOKUP($B63,'Download con sequenziale'!$F:$BC,M$13,FALSE),VLOOKUP($B63,'Download con sequenziale'!$F:$BC,25,FALSE)))","v":""},{"$f":"IF(B63=\"\",\"\",VLOOKUP($B63,'Download con sequenziale'!$F:$BC,N$13,FALSE))","v":""},{"$f":"IF(B63=\"\",\"\",IF(VLOOKUP($B63,'Download con sequenziale'!$F:$BC,O$13,FALSE)=\"false\",\"No\",\"Yes\"))","v":""},{"$f":"IF(B63=\"\",\"\",VLOOKUP($B63,'Download con sequenziale'!$F:$BC,P$13,FALSE))","v":""},{"$f":"IF(B63=\"\",\"\",VLOOKUP($B63,'Download con sequenziale'!$F:$BC,Q$13,FALSE))","v":""}]
[50,{"$f":"+IF(ISERROR(VLOOKUP($B$11&A64,'Download con sequenziale'!F:F,1,FALSE)),\"\",VLOOKUP($B$11&A64,'Download con sequenziale'!F:F,1,FALSE))","v":""},null,{"$f":"IF(B64=\"\",\"\",VLOOKUP($B64,'Download con sequenziale'!$F:$BC,D$13,FALSE))","v":""},{"$f":"IF(B64=\"\",\"\",VLOOKUP($B64,'Download con sequenziale'!$F:$BC,E$13,FALSE))","v":""},{"$f":"IF(B64=\"\",\"\",VLOOKUP($B64,'Download con sequenziale'!$F:$BC,F$13,FALSE))","v":""},{"$f":"IF(B64=\"\",\"\",VLOOKUP($B64,'Download con sequenziale'!$F:$BC,G$13,FALSE))","v":""},{"$f":"+IF(B64=\"\",\"\",IF(VLOOKUP(B64,'Download con sequenziale'!$F:$I,4,FALSE)=\"x\",J64,\"Not required\"))","v":""},{"$f":"IF(B64=\"\",\"\",VLOOKUP($B64,'Download con sequenziale'!$F:$BC,I$13,FALSE))","v":""},{"$f":"IF(D64=\"\",\"\",VLOOKUP($B64,'Download con sequenziale'!$F:$BC,J$13,FALSE))","v":""},{"$f":"IF(B64=\"\",\"\",VLOOKUP($B64,'Download con sequenziale'!$F:$BC,K$13,FALSE))","v":""},{"$f":"IF(B64=\"\",\"\",VLOOKUP($B64,'Download con sequenziale'!$F:$BC,L$13,FALSE))","v":""},{"$f":"IF(B64=\"\",\"\",IF(ISBLANK(VLOOKUP($B64,'Download con sequenziale'!$F:$AX,25,FALSE)),VLOOKUP($B64,'Download con sequenziale'!$F:$BC,M$13,FALSE),VLOOKUP($B64,'Download con sequenziale'!$F:$BC,25,FALSE)))","v":""},{"$f":"IF(B64=\"\",\"\",VLOOKUP($B64,'Download con sequenziale'!$F:$BC,N$13,FALSE))","v":""},{"$f":"IF(B64=\"\",\"\",IF(VLOOKUP($B64,'Download con sequenziale'!$F:$BC,O$13,FALSE)=\"false\",\"No\",\"Yes\"))","v":""},{"$f":"IF(B64=\"\",\"\",VLOOKUP($B64,'Download con sequenziale'!$F:$BC,P$13,FALSE))","v":""},{"$f":"IF(B64=\"\",\"\",VLOOKUP($B64,'Download con sequenziale'!$F:$BC,Q$13,FALSE))","v":""}]
[51,{"$f":"+IF(ISERROR(VLOOKUP($B$11&A65,'Download con sequenziale'!F:F,1,FALSE)),\"\",VLOOKUP($B$11&A65,'Download con sequenziale'!F:F,1,FALSE))","v":""},null,{"$f":"IF(B65=\"\",\"\",VLOOKUP($B65,'Download con sequenziale'!$F:$BC,D$13,FALSE))","v":""},{"$f":"IF(B65=\"\",\"\",VLOOKUP($B65,'Download con sequenziale'!$F:$BC,E$13,FALSE))","v":""},{"$f":"IF(B65=\"\",\"\",VLOOKUP($B65,'Download con sequenziale'!$F:$BC,F$13,FALSE))","v":""},{"$f":"IF(B65=\"\",\"\",VLOOKUP($B65,'Download con sequenziale'!$F:$BC,G$13,FALSE))","v":""},{"$f":"+IF(B65=\"\",\"\",IF(VLOOKUP(B65,'Download con sequenziale'!$F:$I,4,FALSE)=\"x\",J65,\"Not required\"))","v":""},{"$f":"IF(B65=\"\",\"\",VLOOKUP($B65,'Download con sequenziale'!$F:$BC,I$13,FALSE))","v":""},{"$f":"IF(D65=\"\",\"\",VLOOKUP($B65,'Download con sequenziale'!$F:$BC,J$13,FALSE))","v":""},{"$f":"IF(B65=\"\",\"\",VLOOKUP($B65,'Download con sequenziale'!$F:$BC,K$13,FALSE))","v":""},{"$f":"IF(B65=\"\",\"\",VLOOKUP($B65,'Download con sequenziale'!$F:$BC,L$13,FALSE))","v":""},{"$f":"IF(B65=\"\",\"\",IF(ISBLANK(VLOOKUP($B65,'Download con sequenziale'!$F:$AX,25,FALSE)),VLOOKUP($B65,'Download con sequenziale'!$F:$BC,M$13,FALSE),VLOOKUP($B65,'Download con sequenziale'!$F:$BC,25,FALSE)))","v":""},{"$f":"IF(B65=\"\",\"\",VLOOKUP($B65,'Download con sequenziale'!$F:$BC,N$13,FALSE))","v":""},{"$f":"IF(B65=\"\",\"\",IF(VLOOKUP($B65,'Download con sequenziale'!$F:$BC,O$13,FALSE)=\"false\",\"No\",\"Yes\"))","v":""},{"$f":"IF(B65=\"\",\"\",VLOOKUP($B65,'Download con sequenziale'!$F:$BC,P$13,FALSE))","v":""},{"$f":"IF(B65=\"\",\"\",VLOOKUP($B65,'Download con sequenziale'!$F:$BC,Q$13,FALSE))","v":""}]
[52,{"$f":"+IF(ISERROR(VLOOKUP($B$11&A66,'Download con sequenziale'!F:F,1,FALSE)),\"\",VLOOKUP($B$11&A66,'Download con sequenziale'!F:F,1,FALSE))","v":""},null,{"$f":"IF(B66=\"\",\"\",VLOOKUP($B66,'Download con sequenziale'!$F:$BC,D$13,FALSE))","v":""},{"$f":"IF(B66=\"\",\"\",VLOOKUP($B66,'Download con sequenziale'!$F:$BC,E$13,FALSE))","v":""},{"$f":"IF(B66=\"\",\"\",VLOOKUP($B66,'Download con sequenziale'!$F:$BC,F$13,FALSE))","v":""},{"$f":"IF(B66=\"\",\"\",VLOOKUP($B66,'Download con sequenziale'!$F:$BC,G$13,FALSE))","v":""},{"$f":"+IF(B66=\"\",\"\",IF(VLOOKUP(B66,'Download con sequenziale'!$F:$I,4,FALSE)=\"x\",J66,\"Not required\"))","v":""},{"$f":"IF(B66=\"\",\"\",VLOOKUP($B66,'Download con sequenziale'!$F:$BC,I$13,FALSE))","v":""},{"$f":"IF(D66=\"\",\"\",VLOOKUP($B66,'Download con sequenziale'!$F:$BC,J$13,FALSE))","v":""},{"$f":"IF(B66=\"\",\"\",VLOOKUP($B66,'Download con sequenziale'!$F:$BC,K$13,FALSE))","v":""},{"$f":"IF(B66=\"\",\"\",VLOOKUP($B66,'Download con sequenziale'!$F:$BC,L$13,FALSE))","v":""},{"$f":"IF(B66=\"\",\"\",IF(ISBLANK(VLOOKUP($B66,'Download con sequenziale'!$F:$AX,25,FALSE)),VLOOKUP($B66,'Download con sequenziale'!$F:$BC,M$13,FALSE),VLOOKUP($B66,'Download con sequenziale'!$F:$BC,25,FALSE)))","v":""},{"$f":"IF(B66=\"\",\"\",VLOOKUP($B66,'Download con sequenziale'!$F:$BC,N$13,FALSE))","v":""},{"$f":"IF(B66=\"\",\"\",IF(VLOOKUP($B66,'Download con sequenziale'!$F:$BC,O$13,FALSE)=\"false\",\"No\",\"Yes\"))","v":""},{"$f":"IF(B66=\"\",\"\",VLOOKUP($B66,'Download con sequenziale'!$F:$BC,P$13,FALSE))","v":""},{"$f":"IF(B66=\"\",\"\",VLOOKUP($B66,'Download con sequenziale'!$F:$BC,Q$13,FALSE))","v":""}]
[53,{"$f":"+IF(ISERROR(VLOOKUP($B$11&A67,'Download con sequenziale'!F:F,1,FALSE)),\"\",VLOOKUP($B$11&A67,'Download con sequenziale'!F:F,1,FALSE))","v":""},null,{"$f":"IF(B67=\"\",\"\",VLOOKUP($B67,'Download con sequenziale'!$F:$BC,D$13,FALSE))","v":""},{"$f":"IF(B67=\"\",\"\",VLOOKUP($B67,'Download con sequenziale'!$F:$BC,E$13,FALSE))","v":""},{"$f":"IF(B67=\"\",\"\",VLOOKUP($B67,'Download con sequenziale'!$F:$BC,F$13,FALSE))","v":""},{"$f":"IF(B67=\"\",\"\",VLOOKUP($B67,'Download con sequenziale'!$F:$BC,G$13,FALSE))","v":""},{"$f":"+IF(B67=\"\",\"\",IF(VLOOKUP(B67,'Download con sequenziale'!$F:$I,4,FALSE)=\"x\",J67,\"Not required\"))","v":""},{"$f":"IF(B67=\"\",\"\",VLOOKUP($B67,'Download con sequenziale'!$F:$BC,I$13,FALSE))","v":""},{"$f":"IF(D67=\"\",\"\",VLOOKUP($B67,'Download con sequenziale'!$F:$BC,J$13,FALSE))","v":""},{"$f":"IF(B67=\"\",\"\",VLOOKUP($B67,'Download con sequenziale'!$F:$BC,K$13,FALSE))","v":""},{"$f":"IF(B67=\"\",\"\",VLOOKUP($B67,'Download con sequenziale'!$F:$BC,L$13,FALSE))","v":""},{"$f":"IF(B67=\"\",\"\",IF(ISBLANK(VLOOKUP($B67,'Download con sequenziale'!$F:$AX,25,FALSE)),VLOOKUP($B67,'Download con sequenziale'!$F:$BC,M$13,FALSE),VLOOKUP($B67,'Download con sequenziale'!$F:$BC,25,FALSE)))","v":""},{"$f":"IF(B67=\"\",\"\",VLOOKUP($B67,'Download con sequenziale'!$F:$BC,N$13,FALSE))","v":""},{"$f":"IF(B67=\"\",\"\",IF(VLOOKUP($B67,'Download con sequenziale'!$F:$BC,O$13,FALSE)=\"false\",\"No\",\"Yes\"))","v":""},{"$f":"IF(B67=\"\",\"\",VLOOKUP($B67,'Download con sequenziale'!$F:$BC,P$13,FALSE))","v":""},{"$f":"IF(B67=\"\",\"\",VLOOKUP($B67,'Download con sequenziale'!$F:$BC,Q$13,FALSE))","v":""}]
[54,{"$f":"+IF(ISERROR(VLOOKUP($B$11&A68,'Download con sequenziale'!F:F,1,FALSE)),\"\",VLOOKUP($B$11&A68,'Download con sequenziale'!F:F,1,FALSE))","v":""},null,{"$f":"IF(B68=\"\",\"\",VLOOKUP($B68,'Download con sequenziale'!$F:$BC,D$13,FALSE))","v":""},{"$f":"IF(B68=\"\",\"\",VLOOKUP($B68,'Download con sequenziale'!$F:$BC,E$13,FALSE))","v":""},{"$f":"IF(B68=\"\",\"\",VLOOKUP($B68,'Download con sequenziale'!$F:$BC,F$13,FALSE))","v":""},{"$f":"IF(B68=\"\",\"\",VLOOKUP($B68,'Download con sequenziale'!$F:$BC,G$13,FALSE))","v":""},{"$f":"+IF(B68=\"\",\"\",IF(VLOOKUP(B68,'Download con sequenziale'!$F:$I,4,FALSE)=\"x\",J68,\"Not required\"))","v":""},{"$f":"IF(B68=\"\",\"\",VLOOKUP($B68,'Download con sequenziale'!$F:$BC,I$13,FALSE))","v":""},{"$f":"IF(D68=\"\",\"\",VLOOKUP($B68,'Download con sequenziale'!$F:$BC,J$13,FALSE))","v":""},{"$f":"IF(B68=\"\",\"\",VLOOKUP($B68,'Download con sequenziale'!$F:$BC,K$13,FALSE))","v":""},{"$f":"IF(B68=\"\",\"\",VLOOKUP($B68,'Download con sequenziale'!$F:$BC,L$13,FALSE))","v":""},{"$f":"IF(B68=\"\",\"\",IF(ISBLANK(VLOOKUP($B68,'Download con sequenziale'!$F:$AX,25,FALSE)),VLOOKUP($B68,'Download con sequenziale'!$F:$BC,M$13,FALSE),VLOOKUP($B68,'Download con sequenziale'!$F:$BC,25,FALSE)))","v":""},{"$f":"IF(B68=\"\",\"\",VLOOKUP($B68,'Download con sequenziale'!$F:$BC,N$13,FALSE))","v":""},{"$f":"IF(B68=\"\",\"\",IF(VLOOKUP($B68,'Download con sequenziale'!$F:$BC,O$13,FALSE)=\"false\",\"No\",\"Yes\"))","v":""},{"$f":"IF(B68=\"\",\"\",VLOOKUP($B68,'Download con sequenziale'!$F:$BC,P$13,FALSE))","v":""},{"$f":"IF(B68=\"\",\"\",VLOOKUP($B68,'Download con sequenziale'!$F:$BC,Q$13,FALSE))","v":""}]
[55,{"$f":"+IF(ISERROR(VLOOKUP($B$11&A69,'Download con sequenziale'!F:F,1,FALSE)),\"\",VLOOKUP($B$11&A69,'Download con sequenziale'!F:F,1,FALSE))","v":""},null,{"$f":"IF(B69=\"\",\"\",VLOOKUP($B69,'Download con sequenziale'!$F:$BC,D$13,FALSE))","v":""},{"$f":"IF(B69=\"\",\"\",VLOOKUP($B69,'Download con sequenziale'!$F:$BC,E$13,FALSE))","v":""},{"$f":"IF(B69=\"\",\"\",VLOOKUP($B69,'Download con sequenziale'!$F:$BC,F$13,FALSE))","v":""},{"$f":"IF(B69=\"\",\"\",VLOOKUP($B69,'Download con sequenziale'!$F:$BC,G$13,FALSE))","v":""},{"$f":"+IF(B69=\"\",\"\",IF(VLOOKUP(B69,'Download con sequenziale'!$F:$I,4,FALSE)=\"x\",J69,\"Not required\"))","v":""},{"$f":"IF(B69=\"\",\"\",VLOOKUP($B69,'Download con sequenziale'!$F:$BC,I$13,FALSE))","v":""},{"$f":"IF(D69=\"\",\"\",VLOOKUP($B69,'Download con sequenziale'!$F:$BC,J$13,FALSE))","v":""},{"$f":"IF(B69=\"\",\"\",VLOOKUP($B69,'Download con sequenziale'!$F:$BC,K$13,FALSE))","v":""},{"$f":"IF(B69=\"\",\"\",VLOOKUP($B69,'Download con sequenziale'!$F:$BC,L$13,FALSE))","v":""},{"$f":"IF(B69=\"\",\"\",IF(ISBLANK(VLOOKUP($B69,'Download con sequenziale'!$F:$AX,25,FALSE)),VLOOKUP($B69,'Download con sequenziale'!$F:$BC,M$13,FALSE),VLOOKUP($B69,'Download con sequenziale'!$F:$BC,25,FALSE)))","v":""},{"$f":"IF(B69=\"\",\"\",VLOOKUP($B69,'Download con sequenziale'!$F:$BC,N$13,FALSE))","v":""},{"$f":"IF(B69=\"\",\"\",IF(VLOOKUP($B69,'Download con sequenziale'!$F:$BC,O$13,FALSE)=\"false\",\"No\",\"Yes\"))","v":""},{"$f":"IF(B69=\"\",\"\",VLOOKUP($B69,'Download con sequenziale'!$F:$BC,P$13,FALSE))","v":""},{"$f":"IF(B69=\"\",\"\",VLOOKUP($B69,'Download con sequenziale'!$F:$BC,Q$13,FALSE))","v":""}]
[56,{"$f":"+IF(ISERROR(VLOOKUP($B$11&A70,'Download con sequenziale'!F:F,1,FALSE)),\"\",VLOOKUP($B$11&A70,'Download con sequenziale'!F:F,1,FALSE))","v":""},null,{"$f":"IF(B70=\"\",\"\",VLOOKUP($B70,'Download con sequenziale'!$F:$BC,D$13,FALSE))","v":""},{"$f":"IF(B70=\"\",\"\",VLOOKUP($B70,'Download con sequenziale'!$F:$BC,E$13,FALSE))","v":""},{"$f":"IF(B70=\"\",\"\",VLOOKUP($B70,'Download con sequenziale'!$F:$BC,F$13,FALSE))","v":""},{"$f":"IF(B70=\"\",\"\",VLOOKUP($B70,'Download con sequenziale'!$F:$BC,G$13,FALSE))","v":""},{"$f":"+IF(B70=\"\",\"\",IF(VLOOKUP(B70,'Download con sequenziale'!$F:$I,4,FALSE)=\"x\",J70,\"Not required\"))","v":""},{"$f":"IF(B70=\"\",\"\",VLOOKUP($B70,'Download con sequenziale'!$F:$BC,I$13,FALSE))","v":""},{"$f":"IF(D70=\"\",\"\",VLOOKUP($B70,'Download con sequenziale'!$F:$BC,J$13,FALSE))","v":""},{"$f":"IF(B70=\"\",\"\",VLOOKUP($B70,'Download con sequenziale'!$F:$BC,K$13,FALSE))","v":""},{"$f":"IF(B70=\"\",\"\",VLOOKUP($B70,'Download con sequenziale'!$F:$BC,L$13,FALSE))","v":""},{"$f":"IF(B70=\"\",\"\",IF(ISBLANK(VLOOKUP($B70,'Download con sequenziale'!$F:$AX,25,FALSE)),VLOOKUP($B70,'Download con sequenziale'!$F:$BC,M$13,FALSE),VLOOKUP($B70,'Download con sequenziale'!$F:$BC,25,FALSE)))","v":""},{"$f":"IF(B70=\"\",\"\",VLOOKUP($B70,'Download con sequenziale'!$F:$BC,N$13,FALSE))","v":""},{"$f":"IF(B70=\"\",\"\",IF(VLOOKUP($B70,'Download con sequenziale'!$F:$BC,O$13,FALSE)=\"false\",\"No\",\"Yes\"))","v":""},{"$f":"IF(B70=\"\",\"\",VLOOKUP($B70,'Download con sequenziale'!$F:$BC,P$13,FALSE))","v":""},{"$f":"IF(B70=\"\",\"\",VLOOKUP($B70,'Download con sequenziale'!$F:$BC,Q$13,FALSE))","v":""}]
[57,{"$f":"+IF(ISERROR(VLOOKUP($B$11&A71,'Download con sequenziale'!F:F,1,FALSE)),\"\",VLOOKUP($B$11&A71,'Download con sequenziale'!F:F,1,FALSE))","v":""},null,{"$f":"IF(B71=\"\",\"\",VLOOKUP($B71,'Download con sequenziale'!$F:$BC,D$13,FALSE))","v":""},{"$f":"IF(B71=\"\",\"\",VLOOKUP($B71,'Download con sequenziale'!$F:$BC,E$13,FALSE))","v":""},{"$f":"IF(B71=\"\",\"\",VLOOKUP($B71,'Download con sequenziale'!$F:$BC,F$13,FALSE))","v":""},{"$f":"IF(B71=\"\",\"\",VLOOKUP($B71,'Download con sequenziale'!$F:$BC,G$13,FALSE))","v":""},{"$f":"+IF(B71=\"\",\"\",IF(VLOOKUP(B71,'Download con sequenziale'!$F:$I,4,FALSE)=\"x\",J71,\"Not required\"))","v":""},{"$f":"IF(B71=\"\",\"\",VLOOKUP($B71,'Download con sequenziale'!$F:$BC,I$13,FALSE))","v":""},{"$f":"IF(D71=\"\",\"\",VLOOKUP($B71,'Download con sequenziale'!$F:$BC,J$13,FALSE))","v":""},{"$f":"IF(B71=\"\",\"\",VLOOKUP($B71,'Download con sequenziale'!$F:$BC,K$13,FALSE))","v":""},{"$f":"IF(B71=\"\",\"\",VLOOKUP($B71,'Download con sequenziale'!$F:$BC,L$13,FALSE))","v":""},{"$f":"IF(B71=\"\",\"\",IF(ISBLANK(VLOOKUP($B71,'Download con sequenziale'!$F:$AX,25,FALSE)),VLOOKUP($B71,'Download con sequenziale'!$F:$BC,M$13,FALSE),VLOOKUP($B71,'Download con sequenziale'!$F:$BC,25,FALSE)))","v":""},{"$f":"IF(B71=\"\",\"\",VLOOKUP($B71,'Download con sequenziale'!$F:$BC,N$13,FALSE))","v":""},{"$f":"IF(B71=\"\",\"\",IF(VLOOKUP($B71,'Download con sequenziale'!$F:$BC,O$13,FALSE)=\"false\",\"No\",\"Yes\"))","v":""},{"$f":"IF(B71=\"\",\"\",VLOOKUP($B71,'Download con sequenziale'!$F:$BC,P$13,FALSE))","v":""},{"$f":"IF(B71=\"\",\"\",VLOOKUP($B71,'Download con sequenziale'!$F:$BC,Q$13,FALSE))","v":""}]
[58,{"$f":"+IF(ISERROR(VLOOKUP($B$11&A72,'Download con sequenziale'!F:F,1,FALSE)),\"\",VLOOKUP($B$11&A72,'Download con sequenziale'!F:F,1,FALSE))","v":""},null,{"$f":"IF(B72=\"\",\"\",VLOOKUP($B72,'Download con sequenziale'!$F:$BC,D$13,FALSE))","v":""},{"$f":"IF(B72=\"\",\"\",VLOOKUP($B72,'Download con sequenziale'!$F:$BC,E$13,FALSE))","v":""},{"$f":"IF(B72=\"\",\"\",VLOOKUP($B72,'Download con sequenziale'!$F:$BC,F$13,FALSE))","v":""},{"$f":"IF(B72=\"\",\"\",VLOOKUP($B72,'Download con sequenziale'!$F:$BC,G$13,FALSE))","v":""},{"$f":"+IF(B72=\"\",\"\",IF(VLOOKUP(B72,'Download con sequenziale'!$F:$I,4,FALSE)=\"x\",J72,\"Not required\"))","v":""},{"$f":"IF(B72=\"\",\"\",VLOOKUP($B72,'Download con sequenziale'!$F:$BC,I$13,FALSE))","v":""},{"$f":"IF(D72=\"\",\"\",VLOOKUP($B72,'Download con sequenziale'!$F:$BC,J$13,FALSE))","v":""},{"$f":"IF(B72=\"\",\"\",VLOOKUP($B72,'Download con sequenziale'!$F:$BC,K$13,FALSE))","v":""},{"$f":"IF(B72=\"\",\"\",VLOOKUP($B72,'Download con sequenziale'!$F:$BC,L$13,FALSE))","v":""},{"$f":"IF(B72=\"\",\"\",IF(ISBLANK(VLOOKUP($B72,'Download con sequenziale'!$F:$AX,25,FALSE)),VLOOKUP($B72,'Download con sequenziale'!$F:$BC,M$13,FALSE),VLOOKUP($B72,'Download con sequenziale'!$F:$BC,25,FALSE)))","v":""},{"$f":"IF(B72=\"\",\"\",VLOOKUP($B72,'Download con sequenziale'!$F:$BC,N$13,FALSE))","v":""},{"$f":"IF(B72=\"\",\"\",IF(VLOOKUP($B72,'Download con sequenziale'!$F:$BC,O$13,FALSE)=\"false\",\"No\",\"Yes\"))","v":""},{"$f":"IF(B72=\"\",\"\",VLOOKUP($B72,'Download con sequenziale'!$F:$BC,P$13,FALSE))","v":""},{"$f":"IF(B72=\"\",\"\",VLOOKUP($B72,'Download con sequenziale'!$F:$BC,Q$13,FALSE))","v":""}]
[59,{"$f":"+IF(ISERROR(VLOOKUP($B$11&A73,'Download con sequenziale'!F:F,1,FALSE)),\"\",VLOOKUP($B$11&A73,'Download con sequenziale'!F:F,1,FALSE))","v":""},null,{"$f":"IF(B73=\"\",\"\",VLOOKUP($B73,'Download con sequenziale'!$F:$BC,D$13,FALSE))","v":""},{"$f":"IF(B73=\"\",\"\",VLOOKUP($B73,'Download con sequenziale'!$F:$BC,E$13,FALSE))","v":""},{"$f":"IF(B73=\"\",\"\",VLOOKUP($B73,'Download con sequenziale'!$F:$BC,F$13,FALSE))","v":""},{"$f":"IF(B73=\"\",\"\",VLOOKUP($B73,'Download con sequenziale'!$F:$BC,G$13,FALSE))","v":""},{"$f":"+IF(B73=\"\",\"\",IF(VLOOKUP(B73,'Download con sequenziale'!$F:$I,4,FALSE)=\"x\",J73,\"Not required\"))","v":""},{"$f":"IF(B73=\"\",\"\",VLOOKUP($B73,'Download con sequenziale'!$F:$BC,I$13,FALSE))","v":""},{"$f":"IF(D73=\"\",\"\",VLOOKUP($B73,'Download con sequenziale'!$F:$BC,J$13,FALSE))","v":""},{"$f":"IF(B73=\"\",\"\",VLOOKUP($B73,'Download con sequenziale'!$F:$BC,K$13,FALSE))","v":""},{"$f":"IF(B73=\"\",\"\",VLOOKUP($B73,'Download con sequenziale'!$F:$BC,L$13,FALSE))","v":""},{"$f":"IF(B73=\"\",\"\",IF(ISBLANK(VLOOKUP($B73,'Download con sequenziale'!$F:$AX,25,FALSE)),VLOOKUP($B73,'Download con sequenziale'!$F:$BC,M$13,FALSE),VLOOKUP($B73,'Download con sequenziale'!$F:$BC,25,FALSE)))","v":""},{"$f":"IF(B73=\"\",\"\",VLOOKUP($B73,'Download con sequenziale'!$F:$BC,N$13,FALSE))","v":""},{"$f":"IF(B73=\"\",\"\",IF(VLOOKUP($B73,'Download con sequenziale'!$F:$BC,O$13,FALSE)=\"false\",\"No\",\"Yes\"))","v":""},{"$f":"IF(B73=\"\",\"\",VLOOKUP($B73,'Download con sequenziale'!$F:$BC,P$13,FALSE))","v":""},{"$f":"IF(B73=\"\",\"\",VLOOKUP($B73,'Download con sequenziale'!$F:$BC,Q$13,FALSE))","v":""}]
[60,{"$f":"+IF(ISERROR(VLOOKUP($B$11&A74,'Download con sequenziale'!F:F,1,FALSE)),\"\",VLOOKUP($B$11&A74,'Download con sequenziale'!F:F,1,FALSE))","v":""},null,{"$f":"IF(B74=\"\",\"\",VLOOKUP($B74,'Download con sequenziale'!$F:$BC,D$13,FALSE))","v":""},{"$f":"IF(B74=\"\",\"\",VLOOKUP($B74,'Download con sequenziale'!$F:$BC,E$13,FALSE))","v":""},{"$f":"IF(B74=\"\",\"\",VLOOKUP($B74,'Download con sequenziale'!$F:$BC,F$13,FALSE))","v":""},{"$f":"IF(B74=\"\",\"\",VLOOKUP($B74,'Download con sequenziale'!$F:$BC,G$13,FALSE))","v":""},{"$f":"+IF(B74=\"\",\"\",IF(VLOOKUP(B74,'Download con sequenziale'!$F:$I,4,FALSE)=\"x\",J74,\"Not required\"))","v":""},{"$f":"IF(B74=\"\",\"\",VLOOKUP($B74,'Download con sequenziale'!$F:$BC,I$13,FALSE))","v":""},{"$f":"IF(D74=\"\",\"\",VLOOKUP($B74,'Download con sequenziale'!$F:$BC,J$13,FALSE))","v":""},{"$f":"IF(B74=\"\",\"\",VLOOKUP($B74,'Download con sequenziale'!$F:$BC,K$13,FALSE))","v":""},{"$f":"IF(B74=\"\",\"\",VLOOKUP($B74,'Download con sequenziale'!$F:$BC,L$13,FALSE))","v":""},{"$f":"IF(B74=\"\",\"\",IF(ISBLANK(VLOOKUP($B74,'Download con sequenziale'!$F:$AX,25,FALSE)),VLOOKUP($B74,'Download con sequenziale'!$F:$BC,M$13,FALSE),VLOOKUP($B74,'Download con sequenziale'!$F:$BC,25,FALSE)))","v":""},{"$f":"IF(B74=\"\",\"\",VLOOKUP($B74,'Download con sequenziale'!$F:$BC,N$13,FALSE))","v":""},{"$f":"IF(B74=\"\",\"\",IF(VLOOKUP($B74,'Download con sequenziale'!$F:$BC,O$13,FALSE)=\"false\",\"No\",\"Yes\"))","v":""},{"$f":"IF(B74=\"\",\"\",VLOOKUP($B74,'Download con sequenziale'!$F:$BC,P$13,FALSE))","v":""},{"$f":"IF(B74=\"\",\"\",VLOOKUP($B74,'Download con sequenziale'!$F:$BC,Q$13,FALSE))","v":""}]
[61,{"$f":"+IF(ISERROR(VLOOKUP($B$11&A75,'Download con sequenziale'!F:F,1,FALSE)),\"\",VLOOKUP($B$11&A75,'Download con sequenziale'!F:F,1,FALSE))","v":""},null,{"$f":"IF(B75=\"\",\"\",VLOOKUP($B75,'Download con sequenziale'!$F:$BC,D$13,FALSE))","v":""},{"$f":"IF(B75=\"\",\"\",VLOOKUP($B75,'Download con sequenziale'!$F:$BC,E$13,FALSE))","v":""},{"$f":"IF(B75=\"\",\"\",VLOOKUP($B75,'Download con sequenziale'!$F:$BC,F$13,FALSE))","v":""},{"$f":"IF(B75=\"\",\"\",VLOOKUP($B75,'Download con sequenziale'!$F:$BC,G$13,FALSE))","v":""},{"$f":"+IF(B75=\"\",\"\",IF(VLOOKUP(B75,'Download con sequenziale'!$F:$I,4,FALSE)=\"x\",J75,\"Not required\"))","v":""},{"$f":"IF(B75=\"\",\"\",VLOOKUP($B75,'Download con sequenziale'!$F:$BC,I$13,FALSE))","v":""},{"$f":"IF(D75=\"\",\"\",VLOOKUP($B75,'Download con sequenziale'!$F:$BC,J$13,FALSE))","v":""},{"$f":"IF(B75=\"\",\"\",VLOOKUP($B75,'Download con sequenziale'!$F:$BC,K$13,FALSE))","v":""},{"$f":"IF(B75=\"\",\"\",VLOOKUP($B75,'Download con sequenziale'!$F:$BC,L$13,FALSE))","v":""},{"$f":"IF(B75=\"\",\"\",IF(ISBLANK(VLOOKUP($B75,'Download con sequenziale'!$F:$AX,25,FALSE)),VLOOKUP($B75,'Download con sequenziale'!$F:$BC,M$13,FALSE),VLOOKUP($B75,'Download con sequenziale'!$F:$BC,25,FALSE)))","v":""},{"$f":"IF(B75=\"\",\"\",VLOOKUP($B75,'Download con sequenziale'!$F:$BC,N$13,FALSE))","v":""},{"$f":"IF(B75=\"\",\"\",IF(VLOOKUP($B75,'Download con sequenziale'!$F:$BC,O$13,FALSE)=\"false\",\"No\",\"Yes\"))","v":""},{"$f":"IF(B75=\"\",\"\",VLOOKUP($B75,'Download con sequenziale'!$F:$BC,P$13,FALSE))","v":""},{"$f":"IF(B75=\"\",\"\",VLOOKUP($B75,'Download con sequenziale'!$F:$BC,Q$13,FALSE))","v":""}]
[62,{"$f":"+IF(ISERROR(VLOOKUP($B$11&A76,'Download con sequenziale'!F:F,1,FALSE)),\"\",VLOOKUP($B$11&A76,'Download con sequenziale'!F:F,1,FALSE))","v":""},null,{"$f":"IF(B76=\"\",\"\",VLOOKUP($B76,'Download con sequenziale'!$F:$BC,D$13,FALSE))","v":""},{"$f":"IF(B76=\"\",\"\",VLOOKUP($B76,'Download con sequenziale'!$F:$BC,E$13,FALSE))","v":""},{"$f":"IF(B76=\"\",\"\",VLOOKUP($B76,'Download con sequenziale'!$F:$BC,F$13,FALSE))","v":""},{"$f":"IF(B76=\"\",\"\",VLOOKUP($B76,'Download con sequenziale'!$F:$BC,G$13,FALSE))","v":""},{"$f":"+IF(B76=\"\",\"\",IF(VLOOKUP(B76,'Download con sequenziale'!$F:$I,4,FALSE)=\"x\",J76,\"Not required\"))","v":""},{"$f":"IF(B76=\"\",\"\",VLOOKUP($B76,'Download con sequenziale'!$F:$BC,I$13,FALSE))","v":""},{"$f":"IF(D76=\"\",\"\",VLOOKUP($B76,'Download con sequenziale'!$F:$BC,J$13,FALSE))","v":""},{"$f":"IF(B76=\"\",\"\",VLOOKUP($B76,'Download con sequenziale'!$F:$BC,K$13,FALSE))","v":""},{"$f":"IF(B76=\"\",\"\",VLOOKUP($B76,'Download con sequenziale'!$F:$BC,L$13,FALSE))","v":""},{"$f":"IF(B76=\"\",\"\",IF(ISBLANK(VLOOKUP($B76,'Download con sequenziale'!$F:$AX,25,FALSE)),VLOOKUP($B76,'Download con sequenziale'!$F:$BC,M$13,FALSE),VLOOKUP($B76,'Download con sequenziale'!$F:$BC,25,FALSE)))","v":""},{"$f":"IF(B76=\"\",\"\",VLOOKUP($B76,'Download con sequenziale'!$F:$BC,N$13,FALSE))","v":""},{"$f":"IF(B76=\"\",\"\",IF(VLOOKUP($B76,'Download con sequenziale'!$F:$BC,O$13,FALSE)=\"false\",\"No\",\"Yes\"))","v":""},{"$f":"IF(B76=\"\",\"\",VLOOKUP($B76,'Download con sequenziale'!$F:$BC,P$13,FALSE))","v":""},{"$f":"IF(B76=\"\",\"\",VLOOKUP($B76,'Download con sequenziale'!$F:$BC,Q$13,FALSE))","v":""}]
[63,{"$f":"+IF(ISERROR(VLOOKUP($B$11&A77,'Download con sequenziale'!F:F,1,FALSE)),\"\",VLOOKUP($B$11&A77,'Download con sequenziale'!F:F,1,FALSE))","v":""},null,{"$f":"IF(B77=\"\",\"\",VLOOKUP($B77,'Download con sequenziale'!$F:$BC,D$13,FALSE))","v":""},{"$f":"IF(B77=\"\",\"\",VLOOKUP($B77,'Download con sequenziale'!$F:$BC,E$13,FALSE))","v":""},{"$f":"IF(B77=\"\",\"\",VLOOKUP($B77,'Download con sequenziale'!$F:$BC,F$13,FALSE))","v":""},{"$f":"IF(B77=\"\",\"\",VLOOKUP($B77,'Download con sequenziale'!$F:$BC,G$13,FALSE))","v":""},{"$f":"+IF(B77=\"\",\"\",IF(VLOOKUP(B77,'Download con sequenziale'!$F:$I,4,FALSE)=\"x\",J77,\"Not required\"))","v":""},{"$f":"IF(B77=\"\",\"\",VLOOKUP($B77,'Download con sequenziale'!$F:$BC,I$13,FALSE))","v":""},{"$f":"IF(D77=\"\",\"\",VLOOKUP($B77,'Download con sequenziale'!$F:$BC,J$13,FALSE))","v":""},{"$f":"IF(B77=\"\",\"\",VLOOKUP($B77,'Download con sequenziale'!$F:$BC,K$13,FALSE))","v":""},{"$f":"IF(B77=\"\",\"\",VLOOKUP($B77,'Download con sequenziale'!$F:$BC,L$13,FALSE))","v":""},{"$f":"IF(B77=\"\",\"\",IF(ISBLANK(VLOOKUP($B77,'Download con sequenziale'!$F:$AX,25,FALSE)),VLOOKUP($B77,'Download con sequenziale'!$F:$BC,M$13,FALSE),VLOOKUP($B77,'Download con sequenziale'!$F:$BC,25,FALSE)))","v":""},{"$f":"IF(B77=\"\",\"\",VLOOKUP($B77,'Download con sequenziale'!$F:$BC,N$13,FALSE))","v":""},{"$f":"IF(B77=\"\",\"\",IF(VLOOKUP($B77,'Download con sequenziale'!$F:$BC,O$13,FALSE)=\"false\",\"No\",\"Yes\"))","v":""},{"$f":"IF(B77=\"\",\"\",VLOOKUP($B77,'Download con sequenziale'!$F:$BC,P$13,FALSE))","v":""},{"$f":"IF(B77=\"\",\"\",VLOOKUP($B77,'Download con sequenziale'!$F:$BC,Q$13,FALSE))","v":""}]
[64,{"$f":"+IF(ISERROR(VLOOKUP($B$11&A78,'Download con sequenziale'!F:F,1,FALSE)),\"\",VLOOKUP($B$11&A78,'Download con sequenziale'!F:F,1,FALSE))","v":""},null,{"$f":"IF(B78=\"\",\"\",VLOOKUP($B78,'Download con sequenziale'!$F:$BC,D$13,FALSE))","v":""},{"$f":"IF(B78=\"\",\"\",VLOOKUP($B78,'Download con sequenziale'!$F:$BC,E$13,FALSE))","v":""},{"$f":"IF(B78=\"\",\"\",VLOOKUP($B78,'Download con sequenziale'!$F:$BC,F$13,FALSE))","v":""},{"$f":"IF(B78=\"\",\"\",VLOOKUP($B78,'Download con sequenziale'!$F:$BC,G$13,FALSE))","v":""},{"$f":"+IF(B78=\"\",\"\",IF(VLOOKUP(B78,'Download con sequenziale'!$F:$I,4,FALSE)=\"x\",J78,\"Not required\"))","v":""},{"$f":"IF(B78=\"\",\"\",VLOOKUP($B78,'Download con sequenziale'!$F:$BC,I$13,FALSE))","v":""},{"$f":"IF(D78=\"\",\"\",VLOOKUP($B78,'Download con sequenziale'!$F:$BC,J$13,FALSE))","v":""},{"$f":"IF(B78=\"\",\"\",VLOOKUP($B78,'Download con sequenziale'!$F:$BC,K$13,FALSE))","v":""},{"$f":"IF(B78=\"\",\"\",VLOOKUP($B78,'Download con sequenziale'!$F:$BC,L$13,FALSE))","v":""},{"$f":"IF(B78=\"\",\"\",IF(ISBLANK(VLOOKUP($B78,'Download con sequenziale'!$F:$AX,25,FALSE)),VLOOKUP($B78,'Download con sequenziale'!$F:$BC,M$13,FALSE),VLOOKUP($B78,'Download con sequenziale'!$F:$BC,25,FALSE)))","v":""},{"$f":"IF(B78=\"\",\"\",VLOOKUP($B78,'Download con sequenziale'!$F:$BC,N$13,FALSE))","v":""},{"$f":"IF(B78=\"\",\"\",IF(VLOOKUP($B78,'Download con sequenziale'!$F:$BC,O$13,FALSE)=\"false\",\"No\",\"Yes\"))","v":""},{"$f":"IF(B78=\"\",\"\",VLOOKUP($B78,'Download con sequenziale'!$F:$BC,P$13,FALSE))","v":""},{"$f":"IF(B78=\"\",\"\",VLOOKUP($B78,'Download con sequenziale'!$F:$BC,Q$13,FALSE))","v":""}]
[65,{"$f":"+IF(ISERROR(VLOOKUP($B$11&A79,'Download con sequenziale'!F:F,1,FALSE)),\"\",VLOOKUP($B$11&A79,'Download con sequenziale'!F:F,1,FALSE))","v":""},null,{"$f":"IF(B79=\"\",\"\",VLOOKUP($B79,'Download con sequenziale'!$F:$BC,D$13,FALSE))","v":""},{"$f":"IF(B79=\"\",\"\",VLOOKUP($B79,'Download con sequenziale'!$F:$BC,E$13,FALSE))","v":""},{"$f":"IF(B79=\"\",\"\",VLOOKUP($B79,'Download con sequenziale'!$F:$BC,F$13,FALSE))","v":""},{"$f":"IF(B79=\"\",\"\",VLOOKUP($B79,'Download con sequenziale'!$F:$BC,G$13,FALSE))","v":""},{"$f":"+IF(B79=\"\",\"\",IF(VLOOKUP(B79,'Download con sequenziale'!$F:$I,4,FALSE)=\"x\",J79,\"Not required\"))","v":""},{"$f":"IF(B79=\"\",\"\",VLOOKUP($B79,'Download con sequenziale'!$F:$BC,I$13,FALSE))","v":""},{"$f":"IF(D79=\"\",\"\",VLOOKUP($B79,'Download con sequenziale'!$F:$BC,J$13,FALSE))","v":""},{"$f":"IF(B79=\"\",\"\",VLOOKUP($B79,'Download con sequenziale'!$F:$BC,K$13,FALSE))","v":""},{"$f":"IF(B79=\"\",\"\",VLOOKUP($B79,'Download con sequenziale'!$F:$BC,L$13,FALSE))","v":""},{"$f":"IF(B79=\"\",\"\",IF(ISBLANK(VLOOKUP($B79,'Download con sequenziale'!$F:$AX,25,FALSE)),VLOOKUP($B79,'Download con sequenziale'!$F:$BC,M$13,FALSE),VLOOKUP($B79,'Download con sequenziale'!$F:$BC,25,FALSE)))","v":""},{"$f":"IF(B79=\"\",\"\",VLOOKUP($B79,'Download con sequenziale'!$F:$BC,N$13,FALSE))","v":""},{"$f":"IF(B79=\"\",\"\",IF(VLOOKUP($B79,'Download con sequenziale'!$F:$BC,O$13,FALSE)=\"false\",\"No\",\"Yes\"))","v":""},{"$f":"IF(B79=\"\",\"\",VLOOKUP($B79,'Download con sequenziale'!$F:$BC,P$13,FALSE))","v":""},{"$f":"IF(B79=\"\",\"\",VLOOKUP($B79,'Download con sequenziale'!$F:$BC,Q$13,FALSE))","v":""}]
[66,{"$f":"+IF(ISERROR(VLOOKUP($B$11&A80,'Download con sequenziale'!F:F,1,FALSE)),\"\",VLOOKUP($B$11&A80,'Download con sequenziale'!F:F,1,FALSE))","v":""},null,{"$f":"IF(B80=\"\",\"\",VLOOKUP($B80,'Download con sequenziale'!$F:$BC,D$13,FALSE))","v":""},{"$f":"IF(B80=\"\",\"\",VLOOKUP($B80,'Download con sequenziale'!$F:$BC,E$13,FALSE))","v":""},{"$f":"IF(B80=\"\",\"\",VLOOKUP($B80,'Download con sequenziale'!$F:$BC,F$13,FALSE))","v":""},{"$f":"IF(B80=\"\",\"\",VLOOKUP($B80,'Download con sequenziale'!$F:$BC,G$13,FALSE))","v":""},{"$f":"+IF(B80=\"\",\"\",IF(VLOOKUP(B80,'Download con sequenziale'!$F:$I,4,FALSE)=\"x\",J80,\"Not required\"))","v":""},{"$f":"IF(B80=\"\",\"\",VLOOKUP($B80,'Download con sequenziale'!$F:$BC,I$13,FALSE))","v":""},{"$f":"IF(D80=\"\",\"\",VLOOKUP($B80,'Download con sequenziale'!$F:$BC,J$13,FALSE))","v":""},{"$f":"IF(B80=\"\",\"\",VLOOKUP($B80,'Download con sequenziale'!$F:$BC,K$13,FALSE))","v":""},{"$f":"IF(B80=\"\",\"\",VLOOKUP($B80,'Download con sequenziale'!$F:$BC,L$13,FALSE))","v":""},{"$f":"IF(B80=\"\",\"\",IF(ISBLANK(VLOOKUP($B80,'Download con sequenziale'!$F:$AX,25,FALSE)),VLOOKUP($B80,'Download con sequenziale'!$F:$BC,M$13,FALSE),VLOOKUP($B80,'Download con sequenziale'!$F:$BC,25,FALSE)))","v":""},{"$f":"IF(B80=\"\",\"\",VLOOKUP($B80,'Download con sequenziale'!$F:$BC,N$13,FALSE))","v":""},{"$f":"IF(B80=\"\",\"\",IF(VLOOKUP($B80,'Download con sequenziale'!$F:$BC,O$13,FALSE)=\"false\",\"No\",\"Yes\"))","v":""},{"$f":"IF(B80=\"\",\"\",VLOOKUP($B80,'Download con sequenziale'!$F:$BC,P$13,FALSE))","v":""},{"$f":"IF(B80=\"\",\"\",VLOOKUP($B80,'Download con sequenziale'!$F:$BC,Q$13,FALSE))","v":""}]
[67,{"$f":"+IF(ISERROR(VLOOKUP($B$11&A81,'Download con sequenziale'!F:F,1,FALSE)),\"\",VLOOKUP($B$11&A81,'Download con sequenziale'!F:F,1,FALSE))","v":""},null,{"$f":"IF(B81=\"\",\"\",VLOOKUP($B81,'Download con sequenziale'!$F:$BC,D$13,FALSE))","v":""},{"$f":"IF(B81=\"\",\"\",VLOOKUP($B81,'Download con sequenziale'!$F:$BC,E$13,FALSE))","v":""},{"$f":"IF(B81=\"\",\"\",VLOOKUP($B81,'Download con sequenziale'!$F:$BC,F$13,FALSE))","v":""},{"$f":"IF(B81=\"\",\"\",VLOOKUP($B81,'Download con sequenziale'!$F:$BC,G$13,FALSE))","v":""},{"$f":"+IF(B81=\"\",\"\",IF(VLOOKUP(B81,'Download con sequenziale'!$F:$I,4,FALSE)=\"x\",J81,\"Not required\"))","v":""},{"$f":"IF(B81=\"\",\"\",VLOOKUP($B81,'Download con sequenziale'!$F:$BC,I$13,FALSE))","v":""},{"$f":"IF(D81=\"\",\"\",VLOOKUP($B81,'Download con sequenziale'!$F:$BC,J$13,FALSE))","v":""},{"$f":"IF(B81=\"\",\"\",VLOOKUP($B81,'Download con sequenziale'!$F:$BC,K$13,FALSE))","v":""},{"$f":"IF(B81=\"\",\"\",VLOOKUP($B81,'Download con sequenziale'!$F:$BC,L$13,FALSE))","v":""},{"$f":"IF(B81=\"\",\"\",IF(ISBLANK(VLOOKUP($B81,'Download con sequenziale'!$F:$AX,25,FALSE)),VLOOKUP($B81,'Download con sequenziale'!$F:$BC,M$13,FALSE),VLOOKUP($B81,'Download con sequenziale'!$F:$BC,25,FALSE)))","v":""},{"$f":"IF(B81=\"\",\"\",VLOOKUP($B81,'Download con sequenziale'!$F:$BC,N$13,FALSE))","v":""},{"$f":"IF(B81=\"\",\"\",IF(VLOOKUP($B81,'Download con sequenziale'!$F:$BC,O$13,FALSE)=\"false\",\"No\",\"Yes\"))","v":""},{"$f":"IF(B81=\"\",\"\",VLOOKUP($B81,'Download con sequenziale'!$F:$BC,P$13,FALSE))","v":""},{"$f":"IF(B81=\"\",\"\",VLOOKUP($B81,'Download con sequenziale'!$F:$BC,Q$13,FALSE))","v":""}]
[68,{"$f":"+IF(ISERROR(VLOOKUP($B$11&A82,'Download con sequenziale'!F:F,1,FALSE)),\"\",VLOOKUP($B$11&A82,'Download con sequenziale'!F:F,1,FALSE))","v":""},null,{"$f":"IF(B82=\"\",\"\",VLOOKUP($B82,'Download con sequenziale'!$F:$BC,D$13,FALSE))","v":""},{"$f":"IF(B82=\"\",\"\",VLOOKUP($B82,'Download con sequenziale'!$F:$BC,E$13,FALSE))","v":""},{"$f":"IF(B82=\"\",\"\",VLOOKUP($B82,'Download con sequenziale'!$F:$BC,F$13,FALSE))","v":""},{"$f":"IF(B82=\"\",\"\",VLOOKUP($B82,'Download con sequenziale'!$F:$BC,G$13,FALSE))","v":""},{"$f":"+IF(B82=\"\",\"\",IF(VLOOKUP(B82,'Download con sequenziale'!$F:$I,4,FALSE)=\"x\",J82,\"Not required\"))","v":""},{"$f":"IF(B82=\"\",\"\",VLOOKUP($B82,'Download con sequenziale'!$F:$BC,I$13,FALSE))","v":""},{"$f":"IF(D82=\"\",\"\",VLOOKUP($B82,'Download con sequenziale'!$F:$BC,J$13,FALSE))","v":""},{"$f":"IF(B82=\"\",\"\",VLOOKUP($B82,'Download con sequenziale'!$F:$BC,K$13,FALSE))","v":""},{"$f":"IF(B82=\"\",\"\",VLOOKUP($B82,'Download con sequenziale'!$F:$BC,L$13,FALSE))","v":""},{"$f":"IF(B82=\"\",\"\",IF(ISBLANK(VLOOKUP($B82,'Download con sequenziale'!$F:$AX,25,FALSE)),VLOOKUP($B82,'Download con sequenziale'!$F:$BC,M$13,FALSE),VLOOKUP($B82,'Download con sequenziale'!$F:$BC,25,FALSE)))","v":""},{"$f":"IF(B82=\"\",\"\",VLOOKUP($B82,'Download con sequenziale'!$F:$BC,N$13,FALSE))","v":""},{"$f":"IF(B82=\"\",\"\",IF(VLOOKUP($B82,'Download con sequenziale'!$F:$BC,O$13,FALSE)=\"false\",\"No\",\"Yes\"))","v":""},{"$f":"IF(B82=\"\",\"\",VLOOKUP($B82,'Download con sequenziale'!$F:$BC,P$13,FALSE))","v":""},{"$f":"IF(B82=\"\",\"\",VLOOKUP($B82,'Download con sequenziale'!$F:$BC,Q$13,FALSE))","v":""}]
[69,{"$f":"+IF(ISERROR(VLOOKUP($B$11&A83,'Download con sequenziale'!F:F,1,FALSE)),\"\",VLOOKUP($B$11&A83,'Download con sequenziale'!F:F,1,FALSE))","v":""},null,{"$f":"IF(B83=\"\",\"\",VLOOKUP($B83,'Download con sequenziale'!$F:$BC,D$13,FALSE))","v":""},{"$f":"IF(B83=\"\",\"\",VLOOKUP($B83,'Download con sequenziale'!$F:$BC,E$13,FALSE))","v":""},{"$f":"IF(B83=\"\",\"\",VLOOKUP($B83,'Download con sequenziale'!$F:$BC,F$13,FALSE))","v":""},{"$f":"IF(B83=\"\",\"\",VLOOKUP($B83,'Download con sequenziale'!$F:$BC,G$13,FALSE))","v":""},{"$f":"+IF(B83=\"\",\"\",IF(VLOOKUP(B83,'Download con sequenziale'!$F:$I,4,FALSE)=\"x\",J83,\"Not required\"))","v":""},{"$f":"IF(B83=\"\",\"\",VLOOKUP($B83,'Download con sequenziale'!$F:$BC,I$13,FALSE))","v":""},{"$f":"IF(D83=\"\",\"\",VLOOKUP($B83,'Download con sequenziale'!$F:$BC,J$13,FALSE))","v":""},{"$f":"IF(B83=\"\",\"\",VLOOKUP($B83,'Download con sequenziale'!$F:$BC,K$13,FALSE))","v":""},{"$f":"IF(B83=\"\",\"\",VLOOKUP($B83,'Download con sequenziale'!$F:$BC,L$13,FALSE))","v":""},{"$f":"IF(B83=\"\",\"\",IF(ISBLANK(VLOOKUP($B83,'Download con sequenziale'!$F:$AX,25,FALSE)),VLOOKUP($B83,'Download con sequenziale'!$F:$BC,M$13,FALSE),VLOOKUP($B83,'Download con sequenziale'!$F:$BC,25,FALSE)))","v":""},{"$f":"IF(B83=\"\",\"\",VLOOKUP($B83,'Download con sequenziale'!$F:$BC,N$13,FALSE))","v":""},{"$f":"IF(B83=\"\",\"\",IF(VLOOKUP($B83,'Download con sequenziale'!$F:$BC,O$13,FALSE)=\"false\",\"No\",\"Yes\"))","v":""},{"$f":"IF(B83=\"\",\"\",VLOOKUP($B83,'Download con sequenziale'!$F:$BC,P$13,FALSE))","v":""},{"$f":"IF(B83=\"\",\"\",VLOOKUP($B83,'Download con sequenziale'!$F:$BC,Q$13,FALSE))","v":""}]

{"sheet":"Transhipment","index":2,"n_rows":90,"n_cols":6,"rows_kept":90,"cut":false,"hidden":false,"merged":[[1,3,1,5]]}
[]
[null,null,null,{"$f":"IF(ISERROR(Schedule!B11),\"Available transhipment\",\"Available transhipment via \"&Schedule!B11)","v":"Available transhipment via Sydney"}]
[]
[null,null,null,null,null,"Below transit times do not include turnaround time at transhipment HUB."]
[null,{"$f":"+IF(Schedule!B11=\"\",\"\",1)","v":1},null,"Final destination","Country","Transit time"]
[{"$f":"+IF($B$5=\"\",\"\",A5+1)","v":1},{"$f":"+IF($B$5=\"\",\"\",IF(ISERROR(VLOOKUP(Schedule!$B$11&Transhipment!A6,'Lista Transhipment'!C:C,1,FALSE)),\"\",VLOOKUP(Schedule!$B$11&Transhipment!A6,'Lista Transhipment'!C:C,1,FALSE)))","v":"SYDNEY1"},null,{"$f":"+IF($B6=\"\",\"No transhipment available\",VLOOKUP($B6,'Lista Transhipment'!$C:$I,4,FALSE))","v":"Brisbane"},{"$f":"+IF($B6=\"\",\"No transhipment available\",VLOOKUP($B6,'Lista Transhipment'!$C:$I,6,FALSE))","v":"Australia"},{"$f":"+IF($B6=\"\",\"No transhipment available\",VLOOKUP($B6,'Lista Transhipment'!$C:$I,7,FALSE))","v":43}]
[{"$f":"+IF($B$5=\"\",\"\",A6+1)","v":2},{"$f":"+IF(B6=\"\",\"\",IF(ISERROR(VLOOKUP(Schedule!$B$11&Transhipment!A7,'Lista Transhipment'!C:C,1,FALSE)),\"\",VLOOKUP(Schedule!$B$11&Transhipment!A7,'Lista Transhipment'!C:C,1,FALSE)))","v":""},null,{"$f":"+IF($B7=\"\",\"\",IF(ISERROR(VLOOKUP($B7,'Lista Transhipment'!$C:$I,4,FALSE)),\"\",VLOOKUP($B7,'Lista Transhipment'!$C:$I,4,FALSE)))","v":""},{"$f":"+IF($B7=\"\",\"\",IF(ISERROR(VLOOKUP($B7,'Lista Transhipment'!$C:$I,4,FALSE)),\"\",VLOOKUP($B7,'Lista Transhipment'!$C:$I,6,FALSE)))","v":""},{"$f":"+IF($B7=\"\",\"\",IF(ISERROR(VLOOKUP($B7,'Lista Transhipment'!$C:$I,4,FALSE)),\"\",VLOOKUP($B7,'Lista Transhipment'!$C:$I,7,FALSE)))","v":""}]
[3,{"$f":"+IF(B7=\"\",\"\",IF(ISERROR(VLOOKUP(Schedule!$B$11&Transhipment!A8,'Lista Transhipment'!C:C,1,FALSE)),\"\",VLOOKUP(Schedule!$B$11&Transhipment!A8,'Lista Transhipment'!C:C,1,FALSE)))","v":""},null,{"$f":"+IF($B8=\"\",\"\",IF(ISERROR(VLOOKUP($B8,'Lista Transhipment'!$C:$I,4,FALSE)),\"\",VLOOKUP($B8,'Lista Transhipment'!$C:$I,4,FALSE)))","v":""},{"$f":"+IF($B8=\"\",\"\",IF(ISERROR(VLOOKUP($B8,'Lista Transhipment'!$C:$I,4,FALSE)),\"\",VLOOKUP($B8,'Lista Transhipment'!$C:$I,6,FALSE)))","v":""},{"$f":"+IF($B8=\"\",\"\",IF(ISERROR(VLOOKUP($B8,'Lista Transhipment'!$C:$I,4,FALSE)),\"\",VLOOKUP($B8,'Lista Transhipment'!$C:$I,7,FALSE)))","v":""}]
[4,{"$f":"+IF(B8=\"\",\"\",IF(ISERROR(VLOOKUP(Schedule!$B$11&Transhipment!A9,'Lista Transhipment'!C:C,1,FALSE)),\"\",VLOOKUP(Schedule!$B$11&Transhipment!A9,'Lista Transhipment'!C:C,1,FALSE)))","v":""},null,{"$f":"+IF($B9=\"\",\"\",IF(ISERROR(VLOOKUP($B9,'Lista Transhipment'!$C:$I,4,FALSE)),\"\",VLOOKUP($B9,'Lista Transhipment'!$C:$I,4,FALSE)))","v":""},{"$f":"+IF($B9=\"\",\"\",IF(ISERROR(VLOOKUP($B9,'Lista Transhipment'!$C:$I,4,FALSE)),\"\",VLOOKUP($B9,'Lista Transhipment'!$C:$I,6,FALSE)))","v":""},{"$f":"+IF($B9=\"\",\"\",IF(ISERROR(VLOOKUP($B9,'Lista Transhipment'!$C:$I,4,FALSE)),\"\",VLOOKUP($B9,'Lista Transhipment'!$C:$I,7,FALSE)))","v":""}]
[5,{"$f":"+IF(B9=\"\",\"\",IF(ISERROR(VLOOKUP(Schedule!$B$11&Transhipment!A10,'Lista Transhipment'!C:C,1,FALSE)),\"\",VLOOKUP(Schedule!$B$11&Transhipment!A10,'Lista Transhipment'!C:C,1,FALSE)))","v":""},null,{"$f":"+IF($B10=\"\",\"\",IF(ISERROR(VLOOKUP($B10,'Lista Transhipment'!$C:$I,4,FALSE)),\"\",VLOOKUP($B10,'Lista Transhipment'!$C:$I,4,FALSE)))","v":""},{"$f":"+IF($B10=\"\",\"\",IF(ISERROR(VLOOKUP($B10,'Lista Transhipment'!$C:$I,4,FALSE)),\"\",VLOOKUP($B10,'Lista Transhipment'!$C:$I,6,FALSE)))","v":""},{"$f":"+IF($B10=\"\",\"\",IF(ISERROR(VLOOKUP($B10,'Lista Transhipment'!$C:$I,4,FALSE)),\"\",VLOOKUP($B10,'Lista Transhipment'!$C:$I,7,FALSE)))","v":""}]
[6,{"$f":"+IF(B10=\"\",\"\",IF(ISERROR(VLOOKUP(Schedule!$B$11&Transhipment!A11,'Lista Transhipment'!C:C,1,FALSE)),\"\",VLOOKUP(Schedule!$B$11&Transhipment!A11,'Lista Transhipment'!C:C,1,FALSE)))","v":""},null,{"$f":"+IF($B11=\"\",\"\",IF(ISERROR(VLOOKUP($B11,'Lista Transhipment'!$C:$I,4,FALSE)),\"\",VLOOKUP($B11,'Lista Transhipment'!$C:$I,4,FALSE)))","v":""},{"$f":"+IF($B11=\"\",\"\",IF(ISERROR(VLOOKUP($B11,'Lista Transhipment'!$C:$I,4,FALSE)),\"\",VLOOKUP($B11,'Lista Transhipment'!$C:$I,6,FALSE)))","v":""},{"$f":"+IF($B11=\"\",\"\",IF(ISERROR(VLOOKUP($B11,'Lista Transhipment'!$C:$I,4,FALSE)),\"\",VLOOKUP($B11,'Lista Transhipment'!$C:$I,7,FALSE)))","v":""}]
[7,{"$f":"+IF(B11=\"\",\"\",IF(ISERROR(VLOOKUP(Schedule!$B$11&Transhipment!A12,'Lista Transhipment'!C:C,1,FALSE)),\"\",VLOOKUP(Schedule!$B$11&Transhipment!A12,'Lista Transhipment'!C:C,1,FALSE)))","v":""},null,{"$f":"+IF($B12=\"\",\"\",IF(ISERROR(VLOOKUP($B12,'Lista Transhipment'!$C:$I,4,FALSE)),\"\",VLOOKUP($B12,'Lista Transhipment'!$C:$I,4,FALSE)))","v":""},{"$f":"+IF($B12=\"\",\"\",IF(ISERROR(VLOOKUP($B12,'Lista Transhipment'!$C:$I,4,FALSE)),\"\",VLOOKUP($B12,'Lista Transhipment'!$C:$I,6,FALSE)))","v":""},{"$f":"+IF($B12=\"\",\"\",IF(ISERROR(VLOOKUP($B12,'Lista Transhipment'!$C:$I,4,FALSE)),\"\",VLOOKUP($B12,'Lista Transhipment'!$C:$I,7,FALSE)))","v":""}]
[8,{"$f":"+IF(B12=\"\",\"\",IF(ISERROR(VLOOKUP(Schedule!$B$11&Transhipment!A13,'Lista Transhipment'!C:C,1,FALSE)),\"\",VLOOKUP(Schedule!$B$11&Transhipment!A13,'Lista Transhipment'!C:C,1,FALSE)))","v":""},null,{"$f":"+IF($B13=\"\",\"\",IF(ISERROR(VLOOKUP($B13,'Lista Transhipment'!$C:$I,4,FALSE)),\"\",VLOOKUP($B13,'Lista Transhipment'!$C:$I,4,FALSE)))","v":""},{"$f":"+IF($B13=\"\",\"\",IF(ISERROR(VLOOKUP($B13,'Lista Transhipment'!$C:$I,4,FALSE)),\"\",VLOOKUP($B13,'Lista Transhipment'!$C:$I,6,FALSE)))","v":""},{"$f":"+IF($B13=\"\",\"\",IF(ISERROR(VLOOKUP($B13,'Lista Transhipment'!$C:$I,4,FALSE)),\"\",VLOOKUP($B13,'Lista Transhipment'!$C:$I,7,FALSE)))","v":""}]
[9,{"$f":"+IF(B13=\"\",\"\",IF(ISERROR(VLOOKUP(Schedule!$B$11&Transhipment!A14,'Lista Transhipment'!C:C,1,FALSE)),\"\",VLOOKUP(Schedule!$B$11&Transhipment!A14,'Lista Transhipment'!C:C,1,FALSE)))","v":""},null,{"$f":"+IF($B14=\"\",\"\",IF(ISERROR(VLOOKUP($B14,'Lista Transhipment'!$C:$I,4,FALSE)),\"\",VLOOKUP($B14,'Lista Transhipment'!$C:$I,4,FALSE)))","v":""},{"$f":"+IF($B14=\"\",\"\",IF(ISERROR(VLOOKUP($B14,'Lista Transhipment'!$C:$I,4,FALSE)),\"\",VLOOKUP($B14,'Lista Transhipment'!$C:$I,6,FALSE)))","v":""},{"$f":"+IF($B14=\"\",\"\",IF(ISERROR(VLOOKUP($B14,'Lista Transhipment'!$C:$I,4,FALSE)),\"\",VLOOKUP($B14,'Lista Transhipment'!$C:$I,7,FALSE)))","v":""}]
[10,{"$f":"+IF(B14=\"\",\"\",IF(ISERROR(VLOOKUP(Schedule!$B$11&Transhipment!A15,'Lista Transhipment'!C:C,1,FALSE)),\"\",VLOOKUP(Schedule!$B$11&Transhipment!A15,'Lista Transhipment'!C:C,1,FALSE)))","v":""},null,{"$f":"+IF($B15=\"\",\"\",IF(ISERROR(VLOOKUP($B15,'Lista Transhipment'!$C:$I,4,FALSE)),\"\",VLOOKUP($B15,'Lista Transhipment'!$C:$I,4,FALSE)))","v":""},{"$f":"+IF($B15=\"\",\"\",IF(ISERROR(VLOOKUP($B15,'Lista Transhipment'!$C:$I,4,FALSE)),\"\",VLOOKUP($B15,'Lista Transhipment'!$C:$I,6,FALSE)))","v":""},{"$f":"+IF($B15=\"\",\"\",IF(ISERROR(VLOOKUP($B15,'Lista Transhipment'!$C:$I,4,FALSE)),\"\",VLOOKUP($B15,'Lista Transhipment'!$C:$I,7,FALSE)))","v":""}]
[11,{"$f":"+IF(B15=\"\",\"\",IF(ISERROR(VLOOKUP(Schedule!$B$11&Transhipment!A16,'Lista Transhipment'!C:C,1,FALSE)),\"\",VLOOKUP(Schedule!$B$11&Transhipment!A16,'Lista Transhipment'!C:C,1,FALSE)))","v":""},null,{"$f":"+IF($B16=\"\",\"\",IF(ISERROR(VLOOKUP($B16,'Lista Transhipment'!$C:$I,4,FALSE)),\"\",VLOOKUP($B16,'Lista Transhipment'!$C:$I,4,FALSE)))","v":""},{"$f":"+IF($B16=\"\",\"\",IF(ISERROR(VLOOKUP($B16,'Lista Transhipment'!$C:$I,4,FALSE)),\"\",VLOOKUP($B16,'Lista Transhipment'!$C:$I,6,FALSE)))","v":""},{"$f":"+IF($B16=\"\",\"\",IF(ISERROR(VLOOKUP($B16,'Lista Transhipment'!$C:$I,4,FALSE)),\"\",VLOOKUP($B16,'Lista Transhipment'!$C:$I,7,FALSE)))","v":""}]
[12,{"$f":"+IF(B16=\"\",\"\",IF(ISERROR(VLOOKUP(Schedule!$B$11&Transhipment!A17,'Lista Transhipment'!C:C,1,FALSE)),\"\",VLOOKUP(Schedule!$B$11&Transhipment!A17,'Lista Transhipment'!C:C,1,FALSE)))","v":""},null,{"$f":"+IF($B17=\"\",\"\",IF(ISERROR(VLOOKUP($B17,'Lista Transhipment'!$C:$I,4,FALSE)),\"\",VLOOKUP($B17,'Lista Transhipment'!$C:$I,4,FALSE)))","v":""},{"$f":"+IF($B17=\"\",\"\",IF(ISERROR(VLOOKUP($B17,'Lista Transhipment'!$C:$I,4,FALSE)),\"\",VLOOKUP($B17,'Lista Transhipment'!$C:$I,6,FALSE)))","v":""},{"$f":"+IF($B17=\"\",\"\",IF(ISERROR(VLOOKUP($B17,'Lista Transhipment'!$C:$I,4,FALSE)),\"\",VLOOKUP($B17,'Lista Transhipment'!$C:$I,7,FALSE)))","v":""}]
[13,{"$f":"+IF(B17=\"\",\"\",IF(ISERROR(VLOOKUP(Schedule!$B$11&Transhipment!A18,'Lista Transhipment'!C:C,1,FALSE)),\"\",VLOOKUP(Schedule!$B$11&Transhipment!A18,'Lista Transhipment'!C:C,1,FALSE)))","v":""},null,{"$f":"+IF($B18=\"\",\"\",IF(ISERROR(VLOOKUP($B18,'Lista Transhipment'!$C:$I,4,FALSE)),\"\",VLOOKUP($B18,'Lista Transhipment'!$C:$I,4,FALSE)))","v":""},{"$f":"+IF($B18=\"\",\"\",IF(ISERROR(VLOOKUP($B18,'Lista Transhipment'!$C:$I,4,FALSE)),\"\",VLOOKUP($B18,'Lista Transhipment'!$C:$I,6,FALSE)))","v":""},{"$f":"+IF($B18=\"\",\"\",IF(ISERROR(VLOOKUP($B18,'Lista Transhipment'!$C:$I,4,FALSE)),\"\",VLOOKUP($B18,'Lista Transhipment'!$C:$I,7,FALSE)))","v":""}]
[14,{"$f":"+IF(B18=\"\",\"\",IF(ISERROR(VLOOKUP(Schedule!$B$11&Transhipment!A19,'Lista Transhipment'!C:C,1,FALSE)),\"\",VLOOKUP(Schedule!$B$11&Transhipment!A19,'Lista Transhipment'!C:C,1,FALSE)))","v":""},null,{"$f":"+IF($B19=\"\",\"\",IF(ISERROR(VLOOKUP($B19,'Lista Transhipment'!$C:$I,4,FALSE)),\"\",VLOOKUP($B19,'Lista Transhipment'!$C:$I,4,FALSE)))","v":""},{"$f":"+IF($B19=\"\",\"\",IF(ISERROR(VLOOKUP($B19,'Lista Transhipment'!$C:$I,4,FALSE)),\"\",VLOOKUP($B19,'Lista Transhipment'!$C:$I,6,FALSE)))","v":""},{"$f":"+IF($B19=\"\",\"\",IF(ISERROR(VLOOKUP($B19,'Lista Transhipment'!$C:$I,4,FALSE)),\"\",VLOOKUP($B19,'Lista Transhipment'!$C:$I,7,FALSE)))","v":""}]
[15,{"$f":"+IF(B19=\"\",\"\",IF(ISERROR(VLOOKUP(Schedule!$B$11&Transhipment!A20,'Lista Transhipment'!C:C,1,FALSE)),\"\",VLOOKUP(Schedule!$B$11&Transhipment!A20,'Lista Transhipment'!C:C,1,FALSE)))","v":""},null,{"$f":"+IF($B20=\"\",\"\",IF(ISERROR(VLOOKUP($B20,'Lista Transhipment'!$C:$I,4,FALSE)),\"\",VLOOKUP($B20,'Lista Transhipment'!$C:$I,4,FALSE)))","v":""},{"$f":"+IF($B20=\"\",\"\",IF(ISERROR(VLOOKUP($B20,'Lista Transhipment'!$C:$I,4,FALSE)),\"\",VLOOKUP($B20,'Lista Transhipment'!$C:$I,6,FALSE)))","v":""},{"$f":"+IF($B20=\"\",\"\",IF(ISERROR(VLOOKUP($B20,'Lista Transhipment'!$C:$I,4,FALSE)),\"\",VLOOKUP($B20,'Lista Transhipment'!$C:$I,7,FALSE)))","v":""}]
[16,{"$f":"+IF(B20=\"\",\"\",IF(ISERROR(VLOOKUP(Schedule!$B$11&Transhipment!A21,'Lista Transhipment'!C:C,1,FALSE)),\"\",VLOOKUP(Schedule!$B$11&Transhipment!A21,'Lista Transhipment'!C:C,1,FALSE)))","v":""},null,{"$f":"+IF($B21=\"\",\"\",IF(ISERROR(VLOOKUP($B21,'Lista Transhipment'!$C:$I,4,FALSE)),\"\",VLOOKUP($B21,'Lista Transhipment'!$C:$I,4,FALSE)))","v":""},{"$f":"+IF($B21=\"\",\"\",IF(ISERROR(VLOOKUP($B21,'Lista Transhipment'!$C:$I,4,FALSE)),\"\",VLOOKUP($B21,'Lista Transhipment'!$C:$I,6,FALSE)))","v":""},{"$f":"+IF($B21=\"\",\"\",IF(ISERROR(VLOOKUP($B21,'Lista Transhipment'!$C:$I,4,FALSE)),\"\",VLOOKUP($B21,'Lista Transhipment'!$C:$I,7,FALSE)))","v":""}]
[17,{"$f":"+IF(B21=\"\",\"\",IF(ISERROR(VLOOKUP(Schedule!$B$11&Transhipment!A22,'Lista Transhipment'!C:C,1,FALSE)),\"\",VLOOKUP(Schedule!$B$11&Transhipment!A22,'Lista Transhipment'!C:C,1,FALSE)))","v":""},null,{"$f":"+IF($B22=\"\",\"\",IF(ISERROR(VLOOKUP($B22,'Lista Transhipment'!$C:$I,4,FALSE)),\"\",VLOOKUP($B22,'Lista Transhipment'!$C:$I,4,FALSE)))","v":""},{"$f":"+IF($B22=\"\",\"\",IF(ISERROR(VLOOKUP($B22,'Lista Transhipment'!$C:$I,4,FALSE)),\"\",VLOOKUP($B22,'Lista Transhipment'!$C:$I,6,FALSE)))","v":""},{"$f":"+IF($B22=\"\",\"\",IF(ISERROR(VLOOKUP($B22,'Lista Transhipment'!$C:$I,4,FALSE)),\"\",VLOOKUP($B22,'Lista Transhipment'!$C:$I,7,FALSE)))","v":""}]
[18,{"$f":"+IF(B22=\"\",\"\",IF(ISERROR(VLOOKUP(Schedule!$B$11&Transhipment!A23,'Lista Transhipment'!C:C,1,FALSE)),\"\",VLOOKUP(Schedule!$B$11&Transhipment!A23,'Lista Transhipment'!C:C,1,FALSE)))","v":""},null,{"$f":"+IF($B23=\"\",\"\",IF(ISERROR(VLOOKUP($B23,'Lista Transhipment'!$C:$I,4,FALSE)),\"\",VLOOKUP($B23,'Lista Transhipment'!$C:$I,4,FALSE)))","v":""},{"$f":"+IF($B23=\"\",\"\",IF(ISERROR(VLOOKUP($B23,'Lista Transhipment'!$C:$I,4,FALSE)),\"\",VLOOKUP($B23,'Lista Transhipment'!$C:$I,6,FALSE)))","v":""},{"$f":"+IF($B23=\"\",\"\",IF(ISERROR(VLOOKUP($B23,'Lista Transhipment'!$C:$I,4,FALSE)),\"\",VLOOKUP($B23,'Lista Transhipment'!$C:$I,7,FALSE)))","v":""}]
[19,{"$f":"+IF(B23=\"\",\"\",IF(ISERROR(VLOOKUP(Schedule!$B$11&Transhipment!A24,'Lista Transhipment'!C:C,1,FALSE)),\"\",VLOOKUP(Schedule!$B$11&Transhipment!A24,'Lista Transhipment'!C:C,1,FALSE)))","v":""},null,{"$f":"+IF($B24=\"\",\"\",IF(ISERROR(VLOOKUP($B24,'Lista Transhipment'!$C:$I,4,FALSE)),\"\",VLOOKUP($B24,'Lista Transhipment'!$C:$I,4,FALSE)))","v":""},{"$f":"+IF($B24=\"\",\"\",IF(ISERROR(VLOOKUP($B24,'Lista Transhipment'!$C:$I,4,FALSE)),\"\",VLOOKUP($B24,'Lista Transhipment'!$C:$I,6,FALSE)))","v":""},{"$f":"+IF($B24=\"\",\"\",IF(ISERROR(VLOOKUP($B24,'Lista Transhipment'!$C:$I,4,FALSE)),\"\",VLOOKUP($B24,'Lista Transhipment'!$C:$I,7,FALSE)))","v":""}]
[20,{"$f":"+IF(B24=\"\",\"\",IF(ISERROR(VLOOKUP(Schedule!$B$11&Transhipment!A25,'Lista Transhipment'!C:C,1,FALSE)),\"\",VLOOKUP(Schedule!$B$11&Transhipment!A25,'Lista Transhipment'!C:C,1,FALSE)))","v":""},null,{"$f":"+IF($B25=\"\",\"\",IF(ISERROR(VLOOKUP($B25,'Lista Transhipment'!$C:$I,4,FALSE)),\"\",VLOOKUP($B25,'Lista Transhipment'!$C:$I,4,FALSE)))","v":""},{"$f":"+IF($B25=\"\",\"\",IF(ISERROR(VLOOKUP($B25,'Lista Transhipment'!$C:$I,4,FALSE)),\"\",VLOOKUP($B25,'Lista Transhipment'!$C:$I,6,FALSE)))","v":""},{"$f":"+IF($B25=\"\",\"\",IF(ISERROR(VLOOKUP($B25,'Lista Transhipment'!$C:$I,4,FALSE)),\"\",VLOOKUP($B25,'Lista Transhipment'!$C:$I,7,FALSE)))","v":""}]
[21,{"$f":"+IF(B25=\"\",\"\",IF(ISERROR(VLOOKUP(Schedule!$B$11&Transhipment!A26,'Lista Transhipment'!C:C,1,FALSE)),\"\",VLOOKUP(Schedule!$B$11&Transhipment!A26,'Lista Transhipment'!C:C,1,FALSE)))","v":""},null,{"$f":"+IF($B26=\"\",\"\",IF(ISERROR(VLOOKUP($B26,'Lista Transhipment'!$C:$I,4,FALSE)),\"\",VLOOKUP($B26,'Lista Transhipment'!$C:$I,4,FALSE)))","v":""},{"$f":"+IF($B26=\"\",\"\",IF(ISERROR(VLOOKUP($B26,'Lista Transhipment'!$C:$I,4,FALSE)),\"\",VLOOKUP($B26,'Lista Transhipment'!$C:$I,6,FALSE)))","v":""},{"$f":"+IF($B26=\"\",\"\",IF(ISERROR(VLOOKUP($B26,'Lista Transhipment'!$C:$I,4,FALSE)),\"\",VLOOKUP($B26,'Lista Transhipment'!$C:$I,7,FALSE)))","v":""}]
[22,{"$f":"+IF(B26=\"\",\"\",IF(ISERROR(VLOOKUP(Schedule!$B$11&Transhipment!A27,'Lista Transhipment'!C:C,1,FALSE)),\"\",VLOOKUP(Schedule!$B$11&Transhipment!A27,'Lista Transhipment'!C:C,1,FALSE)))","v":""},null,{"$f":"+IF($B27=\"\",\"\",IF(ISERROR(VLOOKUP($B27,'Lista Transhipment'!$C:$I,4,FALSE)),\"\",VLOOKUP($B27,'Lista Transhipment'!$C:$I,4,FALSE)))","v":""},{"$f":"+IF($B27=\"\",\"\",IF(ISERROR(VLOOKUP($B27,'Lista Transhipment'!$C:$I,4,FALSE)),\"\",VLOOKUP($B27,'Lista Transhipment'!$C:$I,6,FALSE)))","v":""},{"$f":"+IF($B27=\"\",\"\",IF(ISERROR(VLOOKUP($B27,'Lista Transhipment'!$C:$I,4,FALSE)),\"\",VLOOKUP($B27,'Lista Transhipment'!$C:$I,7,FALSE)))","v":""}]
[23,{"$f":"+IF(B27=\"\",\"\",IF(ISERROR(VLOOKUP(Schedule!$B$11&Transhipment!A28,'Lista Transhipment'!C:C,1,FALSE)),\"\",VLOOKUP(Schedule!$B$11&Transhipment!A28,'Lista Transhipment'!C:C,1,FALSE)))","v":""},null,{"$f":"+IF($B28=\"\",\"\",IF(ISERROR(VLOOKUP($B28,'Lista Transhipment'!$C:$I,4,FALSE)),\"\",VLOOKUP($B28,'Lista Transhipment'!$C:$I,4,FALSE)))","v":""},{"$f":"+IF($B28=\"\",\"\",IF(ISERROR(VLOOKUP($B28,'Lista Transhipment'!$C:$I,4,FALSE)),\"\",VLOOKUP($B28,'Lista Transhipment'!$C:$I,6,FALSE)))","v":""},{"$f":"+IF($B28=\"\",\"\",IF(ISERROR(VLOOKUP($B28,'Lista Transhipment'!$C:$I,4,FALSE)),\"\",VLOOKUP($B28,'Lista Transhipment'!$C:$I,7,FALSE)))","v":""}]
[24,{"$f":"+IF(B28=\"\",\"\",IF(ISERROR(VLOOKUP(Schedule!$B$11&Transhipment!A29,'Lista Transhipment'!C:C,1,FALSE)),\"\",VLOOKUP(Schedule!$B$11&Transhipment!A29,'Lista Transhipment'!C:C,1,FALSE)))","v":""},null,{"$f":"+IF($B29=\"\",\"\",IF(ISERROR(VLOOKUP($B29,'Lista Transhipment'!$C:$I,4,FALSE)),\"\",VLOOKUP($B29,'Lista Transhipment'!$C:$I,4,FALSE)))","v":""},{"$f":"+IF($B29=\"\",\"\",IF(ISERROR(VLOOKUP($B29,'Lista Transhipment'!$C:$I,4,FALSE)),\"\",VLOOKUP($B29,'Lista Transhipment'!$C:$I,6,FALSE)))","v":""},{"$f":"+IF($B29=\"\",\"\",IF(ISERROR(VLOOKUP($B29,'Lista Transhipment'!$C:$I,4,FALSE)),\"\",VLOOKUP($B29,'Lista Transhipment'!$C:$I,7,FALSE)))","v":""}]
[25,{"$f":"+IF(B29=\"\",\"\",IF(ISERROR(VLOOKUP(Schedule!$B$11&Transhipment!A30,'Lista Transhipment'!C:C,1,FALSE)),\"\",VLOOKUP(Schedule!$B$11&Transhipment!A30,'Lista Transhipment'!C:C,1,FALSE)))","v":""},null,{"$f":"+IF($B30=\"\",\"\",IF(ISERROR(VLOOKUP($B30,'Lista Transhipment'!$C:$I,4,FALSE)),\"\",VLOOKUP($B30,'Lista Transhipment'!$C:$I,4,FALSE)))","v":""},{"$f":"+IF($B30=\"\",\"\",IF(ISERROR(VLOOKUP($B30,'Lista Transhipment'!$C:$I,4,FALSE)),\"\",VLOOKUP($B30,'Lista Transhipment'!$C:$I,6,FALSE)))","v":""},{"$f":"+IF($B30=\"\",\"\",IF(ISERROR(VLOOKUP($B30,'Lista Transhipment'!$C:$I,4,FALSE)),\"\",VLOOKUP($B30,'Lista Transhipment'!$C:$I,7,FALSE)))","v":""}]
[26,{"$f":"+IF(B30=\"\",\"\",IF(ISERROR(VLOOKUP(Schedule!$B$11&Transhipment!A31,'Lista Transhipment'!C:C,1,FALSE)),\"\",VLOOKUP(Schedule!$B$11&Transhipment!A31,'Lista Transhipment'!C:C,1,FALSE)))","v":""},null,{"$f":"+IF($B31=\"\",\"\",IF(ISERROR(VLOOKUP($B31,'Lista Transhipment'!$C:$I,4,FALSE)),\"\",VLOOKUP($B31,'Lista Transhipment'!$C:$I,4,FALSE)))","v":""},{"$f":"+IF($B31=\"\",\"\",IF(ISERROR(VLOOKUP($B31,'Lista Transhipment'!$C:$I,4,FALSE)),\"\",VLOOKUP($B31,'Lista Transhipment'!$C:$I,6,FALSE)))","v":""},{"$f":"+IF($B31=\"\",\"\",IF(ISERROR(VLOOKUP($B31,'Lista Transhipment'!$C:$I,4,FALSE)),\"\",VLOOKUP($B31,'Lista Transhipment'!$C:$I,7,FALSE)))","v":""}]
[27,{"$f":"+IF(B31=\"\",\"\",IF(ISERROR(VLOOKUP(Schedule!$B$11&Transhipment!A32,'Lista Transhipment'!C:C,1,FALSE)),\"\",VLOOKUP(Schedule!$B$11&Transhipment!A32,'Lista Transhipment'!C:C,1,FALSE)))","v":""},null,{"$f":"+IF($B32=\"\",\"\",IF(ISERROR(VLOOKUP($B32,'Lista Transhipment'!$C:$I,4,FALSE)),\"\",VLOOKUP($B32,'Lista Transhipment'!$C:$I,4,FALSE)))","v":""},{"$f":"+IF($B32=\"\",\"\",IF(ISERROR(VLOOKUP($B32,'Lista Transhipment'!$C:$I,4,FALSE)),\"\",VLOOKUP($B32,'Lista Transhipment'!$C:$I,6,FALSE)))","v":""},{"$f":"+IF($B32=\"\",\"\",IF(ISERROR(VLOOKUP($B32,'Lista Transhipment'!$C:$I,4,FALSE)),\"\",VLOOKUP($B32,'Lista Transhipment'!$C:$I,7,FALSE)))","v":""}]
[28,{"$f":"+IF(B32=\"\",\"\",IF(ISERROR(VLOOKUP(Schedule!$B$11&Transhipment!A33,'Lista Transhipment'!C:C,1,FALSE)),\"\",VLOOKUP(Schedule!$B$11&Transhipment!A33,'Lista Transhipment'!C:C,1,FALSE)))","v":""},null,{"$f":"+IF($B33=\"\",\"\",IF(ISERROR(VLOOKUP($B33,'Lista Transhipment'!$C:$I,4,FALSE)),\"\",VLOOKUP($B33,'Lista Transhipment'!$C:$I,4,FALSE)))","v":""},{"$f":"+IF($B33=\"\",\"\",IF(ISERROR(VLOOKUP($B33,'Lista Transhipment'!$C:$I,4,FALSE)),\"\",VLOOKUP($B33,'Lista Transhipment'!$C:$I,6,FALSE)))","v":""},{"$f":"+IF($B33=\"\",\"\",IF(ISERROR(VLOOKUP($B33,'Lista Transhipment'!$C:$I,4,FALSE)),\"\",VLOOKUP($B33,'Lista Transhipment'!$C:$I,7,FALSE)))","v":""}]
[29,{"$f":"+IF(B33=\"\",\"\",IF(ISERROR(VLOOKUP(Schedule!$B$11&Transhipment!A34,'Lista Transhipment'!C:C,1,FALSE)),\"\",VLOOKUP(Schedule!$B$11&Transhipment!A34,'Lista Transhipment'!C:C,1,FALSE)))","v":""},null,{"$f":"+IF($B34=\"\",\"\",IF(ISERROR(VLOOKUP($B34,'Lista Transhipment'!$C:$I,4,FALSE)),\"\",VLOOKUP($B34,'Lista Transhipment'!$C:$I,4,FALSE)))","v":""},{"$f":"+IF($B34=\"\",\"\",IF(ISERROR(VLOOKUP($B34,'Lista Transhipment'!$C:$I,4,FALSE)),\"\",VLOOKUP($B34,'Lista Transhipment'!$C:$I,6,FALSE)))","v":""},{"$f":"+IF($B34=\"\",\"\",IF(ISERROR(VLOOKUP($B34,'Lista Transhipment'!$C:$I,4,FALSE)),\"\",VLOOKUP($B34,'Lista Transhipment'!$C:$I,7,FALSE)))","v":""}]
[30,{"$f":"+IF(B34=\"\",\"\",IF(ISERROR(VLOOKUP(Schedule!$B$11&Transhipment!A35,'Lista Transhipment'!C:C,1,FALSE)),\"\",VLOOKUP(Schedule!$B$11&Transhipment!A35,'Lista Transhipment'!C:C,1,FALSE)))","v":""},null,{"$f":"+IF($B35=\"\",\"\",IF(ISERROR(VLOOKUP($B35,'Lista Transhipment'!$C:$I,4,FALSE)),\"\",VLOOKUP($B35,'Lista Transhipment'!$C:$I,4,FALSE)))","v":""},{"$f":"+IF($B35=\"\",\"\",IF(ISERROR(VLOOKUP($B35,'Lista Transhipment'!$C:$I,4,FALSE)),\"\",VLOOKUP($B35,'Lista Transhipment'!$C:$I,6,FALSE)))","v":""},{"$f":"+IF($B35=\"\",\"\",IF(ISERROR(VLOOKUP($B35,'Lista Transhipment'!$C:$I,4,FALSE)),\"\",VLOOKUP($B35,'Lista Transhipment'!$C:$I,7,FALSE)))","v":""}]
[31,{"$f":"+IF(B35=\"\",\"\",IF(ISERROR(VLOOKUP(Schedule!$B$11&Transhipment!A36,'Lista Transhipment'!C:C,1,FALSE)),\"\",VLOOKUP(Schedule!$B$11&Transhipment!A36,'Lista Transhipment'!C:C,1,FALSE)))","v":""},null,{"$f":"+IF($B36=\"\",\"\",IF(ISERROR(VLOOKUP($B36,'Lista Transhipment'!$C:$I,4,FALSE)),\"\",VLOOKUP($B36,'Lista Transhipment'!$C:$I,4,FALSE)))","v":""},{"$f":"+IF($B36=\"\",\"\",IF(ISERROR(VLOOKUP($B36,'Lista Transhipment'!$C:$I,4,FALSE)),\"\",VLOOKUP($B36,'Lista Transhipment'!$C:$I,6,FALSE)))","v":""},{"$f":"+IF($B36=\"\",\"\",IF(ISERROR(VLOOKUP($B36,'Lista Transhipment'!$C:$I,4,FALSE)),\"\",VLOOKUP($B36,'Lista Transhipment'!$C:$I,7,FALSE)))","v":""}]
[32,{"$f":"+IF(B36=\"\",\"\",IF(ISERROR(VLOOKUP(Schedule!$B$11&Transhipment!A37,'Lista Transhipment'!C:C,1,FALSE)),\"\",VLOOKUP(Schedule!$B$11&Transhipment!A37,'Lista Transhipment'!C:C,1,FALSE)))","v":""},null,{"$f":"+IF($B37=\"\",\"\",IF(ISERROR(VLOOKUP($B37,'Lista Transhipment'!$C:$I,4,FALSE)),\"\",VLOOKUP($B37,'Lista Transhipment'!$C:$I,4,FALSE)))","v":""},{"$f":"+IF($B37=\"\",\"\",IF(ISERROR(VLOOKUP($B37,'Lista Transhipment'!$C:$I,4,FALSE)),\"\",VLOOKUP($B37,'Lista Transhipment'!$C:$I,6,FALSE)))","v":""},{"$f":"+IF($B37=\"\",\"\",IF(ISERROR(VLOOKUP($B37,'Lista Transhipment'!$C:$I,4,FALSE)),\"\",VLOOKUP($B37,'Lista Transhipment'!$C:$I,7,FALSE)))","v":""}]
[33,{"$f":"+IF(B37=\"\",\"\",IF(ISERROR(VLOOKUP(Schedule!$B$11&Transhipment!A38,'Lista Transhipment'!C:C,1,FALSE)),\"\",VLOOKUP(Schedule!$B$11&Transhipment!A38,'Lista Transhipment'!C:C,1,FALSE)))","v":""},null,{"$f":"+IF($B38=\"\",\"\",IF(ISERROR(VLOOKUP($B38,'Lista Transhipment'!$C:$I,4,FALSE)),\"\",VLOOKUP($B38,'Lista Transhipment'!$C:$I,4,FALSE)))","v":""},{"$f":"+IF($B38=\"\",\"\",IF(ISERROR(VLOOKUP($B38,'Lista Transhipment'!$C:$I,4,FALSE)),\"\",VLOOKUP($B38,'Lista Transhipment'!$C:$I,6,FALSE)))","v":""},{"$f":"+IF($B38=\"\",\"\",IF(ISERROR(VLOOKUP($B38,'Lista Transhipment'!$C:$I,4,FALSE)),\"\",VLOOKUP($B38,'Lista Transhipment'!$C:$I,7,FALSE)))","v":""}]
[34,{"$f":"+IF(B38=\"\",\"\",IF(ISERROR(VLOOKUP(Schedule!$B$11&Transhipment!A39,'Lista Transhipment'!C:C,1,FALSE)),\"\",VLOOKUP(Schedule!$B$11&Transhipment!A39,'Lista Transhipment'!C:C,1,FALSE)))","v":""},null,{"$f":"+IF($B39=\"\",\"\",IF(ISERROR(VLOOKUP($B39,'Lista Transhipment'!$C:$I,4,FALSE)),\"\",VLOOKUP($B39,'Lista Transhipment'!$C:$I,4,FALSE)))","v":""},{"$f":"+IF($B39=\"\",\"\",IF(ISERROR(VLOOKUP($B39,'Lista Transhipment'!$C:$I,4,FALSE)),\"\",VLOOKUP($B39,'Lista Transhipment'!$C:$I,6,FALSE)))","v":""},{"$f":"+IF($B39=\"\",\"\",IF(ISERROR(VLOOKUP($B39,'Lista Transhipment'!$C:$I,4,FALSE)),\"\",VLOOKUP($B39,'Lista Transhipment'!$C:$I,7,FALSE)))","v":""}]
[35,{"$f":"+IF(B39=\"\",\"\",IF(ISERROR(VLOOKUP(Schedule!$B$11&Transhipment!A40,'Lista Transhipment'!C:C,1,FALSE)),\"\",VLOOKUP(Schedule!$B$11&Transhipment!A40,'Lista Transhipment'!C:C,1,FALSE)))","v":""},null,{"$f":"+IF($B40=\"\",\"\",IF(ISERROR(VLOOKUP($B40,'Lista Transhipment'!$C:$I,4,FALSE)),\"\",VLOOKUP($B40,'Lista Transhipment'!$C:$I,4,FALSE)))","v":""},{"$f":"+IF($B40=\"\",\"\",IF(ISERROR(VLOOKUP($B40,'Lista Transhipment'!$C:$I,4,FALSE)),\"\",VLOOKUP($B40,'Lista Transhipment'!$C:$I,6,FALSE)))","v":""},{"$f":"+IF($B40=\"\",\"\",IF(ISERROR(VLOOKUP($B40,'Lista Transhipment'!$C:$I,4,FALSE)),\"\",VLOOKUP($B40,'Lista Transhipment'!$C:$I,7,FALSE)))","v":""}]
[36,{"$f":"+IF(B40=\"\",\"\",IF(ISERROR(VLOOKUP(Schedule!$B$11&Transhipment!A41,'Lista Transhipment'!C:C,1,FALSE)),\"\",VLOOKUP(Schedule!$B$11&Transhipment!A41,'Lista Transhipment'!C:C,1,FALSE)))","v":""},null,{"$f":"+IF($B41=\"\",\"\",IF(ISERROR(VLOOKUP($B41,'Lista Transhipment'!$C:$I,4,FALSE)),\"\",VLOOKUP($B41,'Lista Transhipment'!$C:$I,4,FALSE)))","v":""},{"$f":"+IF($B41=\"\",\"\",IF(ISERROR(VLOOKUP($B41,'Lista Transhipment'!$C:$I,4,FALSE)),\"\",VLOOKUP($B41,'Lista Transhipment'!$C:$I,6,FALSE)))","v":""},{"$f":"+IF($B41=\"\",\"\",IF(ISERROR(VLOOKUP($B41,'Lista Transhipment'!$C:$I,4,FALSE)),\"\",VLOOKUP($B41,'Lista Transhipment'!$C:$I,7,FALSE)))","v":""}]
[37,{"$f":"+IF(B41=\"\",\"\",IF(ISERROR(VLOOKUP(Schedule!$B$11&Transhipment!A42,'Lista Transhipment'!C:C,1,FALSE)),\"\",VLOOKUP(Schedule!$B$11&Transhipment!A42,'Lista Transhipment'!C:C,1,FALSE)))","v":""},null,{"$f":"+IF($B42=\"\",\"\",IF(ISERROR(VLOOKUP($B42,'Lista Transhipment'!$C:$I,4,FALSE)),\"\",VLOOKUP($B42,'Lista Transhipment'!$C:$I,4,FALSE)))","v":""},{"$f":"+IF($B42=\"\",\"\",IF(ISERROR(VLOOKUP($B42,'Lista Transhipment'!$C:$I,4,FALSE)),\"\",VLOOKUP($B42,'Lista Transhipment'!$C:$I,6,FALSE)))","v":""},{"$f":"+IF($B42=\"\",\"\",IF(ISERROR(VLOOKUP($B42,'Lista Transhipment'!$C:$I,4,FALSE)),\"\",VLOOKUP($B42,'Lista Transhipment'!$C:$I,7,FALSE)))","v":""}]
[38,{"$f":"+IF(B42=\"\",\"\",IF(ISERROR(VLOOKUP(Schedule!$B$11&Transhipment!A43,'Lista Transhipment'!C:C,1,FALSE)),\"\",VLOOKUP(Schedule!$B$11&Transhipment!A43,'Lista Transhipment'!C:C,1,FALSE)))","v":""},null,{"$f":"+IF($B43=\"\",\"\",IF(ISERROR(VLOOKUP($B43,'Lista Transhipment'!$C:$I,4,FALSE)),\"\",VLOOKUP($B43,'Lista Transhipment'!$C:$I,4,FALSE)))","v":""},{"$f":"+IF($B43=\"\",\"\",IF(ISERROR(VLOOKUP($B43,'Lista Transhipment'!$C:$I,4,FALSE)),\"\",VLOOKUP($B43,'Lista Transhipment'!$C:$I,6,FALSE)))","v":""},{"$f":"+IF($B43=\"\",\"\",IF(ISERROR(VLOOKUP($B43,'Lista Transhipment'!$C:$I,4,FALSE)),\"\",VLOOKUP($B43,'Lista Transhipment'!$C:$I,7,FALSE)))","v":""}]
[39,{"$f":"+IF(B43=\"\",\"\",IF(ISERROR(VLOOKUP(Schedule!$B$11&Transhipment!A44,'Lista Transhipment'!C:C,1,FALSE)),\"\",VLOOKUP(Schedule!$B$11&Transhipment!A44,'Lista Transhipment'!C:C,1,FALSE)))","v":""},null,{"$f":"+IF($B44=\"\",\"\",IF(ISERROR(VLOOKUP($B44,'Lista Transhipment'!$C:$I,4,FALSE)),\"\",VLOOKUP($B44,'Lista Transhipment'!$C:$I,4,FALSE)))","v":""},{"$f":"+IF($B44=\"\",\"\",IF(ISERROR(VLOOKUP($B44,'Lista Transhipment'!$C:$I,4,FALSE)),\"\",VLOOKUP($B44,'Lista Transhipment'!$C:$I,6,FALSE)))","v":""},{"$f":"+IF($B44=\"\",\"\",IF(ISERROR(VLOOKUP($B44,'Lista Transhipment'!$C:$I,4,FALSE)),\"\",VLOOKUP($B44,'Lista Transhipment'!$C:$I,7,FALSE)))","v":""}]
[40,{"$f":"+IF(B44=\"\",\"\",IF(ISERROR(VLOOKUP(Schedule!$B$11&Transhipment!A45,'Lista Transhipment'!C:C,1,FALSE)),\"\",VLOOKUP(Schedule!$B$11&Transhipment!A45,'Lista Transhipment'!C:C,1,FALSE)))","v":""},null,{"$f":"+IF($B45=\"\",\"\",IF(ISERROR(VLOOKUP($B45,'Lista Transhipment'!$C:$I,4,FALSE)),\"\",VLOOKUP($B45,'Lista Transhipment'!$C:$I,4,FALSE)))","v":""},{"$f":"+IF($B45=\"\",\"\",IF(ISERROR(VLOOKUP($B45,'Lista Transhipment'!$C:$I,4,FALSE)),\"\",VLOOKUP($B45,'Lista Transhipment'!$C:$I,6,FALSE)))","v":""},{"$f":"+IF($B45=\"\",\"\",IF(ISERROR(VLOOKUP($B45,'Lista Transhipment'!$C:$I,4,FALSE)),\"\",VLOOKUP($B45,'Lista Transhipment'!$C:$I,7,FALSE)))","v":""}]
[41,{"$f":"+IF(B45=\"\",\"\",IF(ISERROR(VLOOKUP(Schedule!$B$11&Transhipment!A46,'Lista Transhipment'!C:C,1,FALSE)),\"\",VLOOKUP(Schedule!$B$11&Transhipment!A46,'Lista Transhipment'!C:C,1,FALSE)))","v":""},null,{"$f":"+IF($B46=\"\",\"\",IF(ISERROR(VLOOKUP($B46,'Lista Transhipment'!$C:$I,4,FALSE)),\"\",VLOOKUP($B46,'Lista Transhipment'!$C:$I,4,FALSE)))","v":""},{"$f":"+IF($B46=\"\",\"\",IF(ISERROR(VLOOKUP($B46,'Lista Transhipment'!$C:$I,4,FALSE)),\"\",VLOOKUP($B46,'Lista Transhipment'!$C:$I,6,FALSE)))","v":""},{"$f":"+IF($B46=\"\",\"\",IF(ISERROR(VLOOKUP($B46,'Lista Transhipment'!$C:$I,4,FALSE)),\"\",VLOOKUP($B46,'Lista Transhipment'!$C:$I,7,FALSE)))","v":""}]
[42,{"$f":"+IF(B46=\"\",\"\",IF(ISERROR(VLOOKUP(Schedule!$B$11&Transhipment!A47,'Lista Transhipment'!C:C,1,FALSE)),\"\",VLOOKUP(Schedule!$B$11&Transhipment!A47,'Lista Transhipment'!C:C,1,FALSE)))","v":""},null,{"$f":"+IF($B47=\"\",\"\",IF(ISERROR(VLOOKUP($B47,'Lista Transhipment'!$C:$I,4,FALSE)),\"\",VLOOKUP($B47,'Lista Transhipment'!$C:$I,4,FALSE)))","v":""},{"$f":"+IF($B47=\"\",\"\",IF(ISERROR(VLOOKUP($B47,'Lista Transhipment'!$C:$I,4,FALSE)),\"\",VLOOKUP($B47,'Lista Transhipment'!$C:$I,6,FALSE)))","v":""},{"$f":"+IF($B47=\"\",\"\",IF(ISERROR(VLOOKUP($B47,'Lista Transhipment'!$C:$I,4,FALSE)),\"\",VLOOKUP($B47,'Lista Transhipment'!$C:$I,7,FALSE)))","v":""}]
[43,{"$f":"+IF(B47=\"\",\"\",IF(ISERROR(VLOOKUP(Schedule!$B$11&Transhipment!A48,'Lista Transhipment'!C:C,1,FALSE)),\"\",VLOOKUP(Schedule!$B$11&Transhipment!A48,'Lista Transhipment'!C:C,1,FALSE)))","v":""},null,{"$f":"+IF($B48=\"\",\"\",IF(ISERROR(VLOOKUP($B48,'Lista Transhipment'!$C:$I,4,FALSE)),\"\",VLOOKUP($B48,'Lista Transhipment'!$C:$I,4,FALSE)))","v":""},{"$f":"+IF($B48=\"\",\"\",IF(ISERROR(VLOOKUP($B48,'Lista Transhipment'!$C:$I,4,FALSE)),\"\",VLOOKUP($B48,'Lista Transhipment'!$C:$I,6,FALSE)))","v":""},{"$f":"+IF($B48=\"\",\"\",IF(ISERROR(VLOOKUP($B48,'Lista Transhipment'!$C:$I,4,FALSE)),\"\",VLOOKUP($B48,'Lista Transhipment'!$C:$I,7,FALSE)))","v":""}]
[44,{"$f":"+IF(B48=\"\",\"\",IF(ISERROR(VLOOKUP(Schedule!$B$11&Transhipment!A49,'Lista Transhipment'!C:C,1,FALSE)),\"\",VLOOKUP(Schedule!$B$11&Transhipment!A49,'Lista Transhipment'!C:C,1,FALSE)))","v":""},null,{"$f":"+IF($B49=\"\",\"\",IF(ISERROR(VLOOKUP($B49,'Lista Transhipment'!$C:$I,4,FALSE)),\"\",VLOOKUP($B49,'Lista Transhipment'!$C:$I,4,FALSE)))","v":""},{"$f":"+IF($B49=\"\",\"\",IF(ISERROR(VLOOKUP($B49,'Lista Transhipment'!$C:$I,4,FALSE)),\"\",VLOOKUP($B49,'Lista Transhipment'!$C:$I,6,FALSE)))","v":""},{"$f":"+IF($B49=\"\",\"\",IF(ISERROR(VLOOKUP($B49,'Lista Transhipment'!$C:$I,4,FALSE)),\"\",VLOOKUP($B49,'Lista Transhipment'!$C:$I,7,FALSE)))","v":""}]
[45,{"$f":"+IF(B49=\"\",\"\",IF(ISERROR(VLOOKUP(Schedule!$B$11&Transhipment!A50,'Lista Transhipment'!C:C,1,FALSE)),\"\",VLOOKUP(Schedule!$B$11&Transhipment!A50,'Lista Transhipment'!C:C,1,FALSE)))","v":""},null,{"$f":"+IF($B50=\"\",\"\",IF(ISERROR(VLOOKUP($B50,'Lista Transhipment'!$C:$I,4,FALSE)),\"\",VLOOKUP($B50,'Lista Transhipment'!$C:$I,4,FALSE)))","v":""},{"$f":"+IF($B50=\"\",\"\",IF(ISERROR(VLOOKUP($B50,'Lista Transhipment'!$C:$I,4,FALSE)),\"\",VLOOKUP($B50,'Lista Transhipment'!$C:$I,6,FALSE)))","v":""},{"$f":"+IF($B50=\"\",\"\",IF(ISERROR(VLOOKUP($B50,'Lista Transhipment'!$C:$I,4,FALSE)),\"\",VLOOKUP($B50,'Lista Transhipment'!$C:$I,7,FALSE)))","v":""}]
[46,{"$f":"+IF(B50=\"\",\"\",IF(ISERROR(VLOOKUP(Schedule!$B$11&Transhipment!A51,'Lista Transhipment'!C:C,1,FALSE)),\"\",VLOOKUP(Schedule!$B$11&Transhipment!A51,'Lista Transhipment'!C:C,1,FALSE)))","v":""},null,{"$f":"+IF($B51=\"\",\"\",IF(ISERROR(VLOOKUP($B51,'Lista Transhipment'!$C:$I,4,FALSE)),\"\",VLOOKUP($B51,'Lista Transhipment'!$C:$I,4,FALSE)))","v":""},{"$f":"+IF($B51=\"\",\"\",IF(ISERROR(VLOOKUP($B51,'Lista Transhipment'!$C:$I,4,FALSE)),\"\",VLOOKUP($B51,'Lista Transhipment'!$C:$I,6,FALSE)))","v":""},{"$f":"+IF($B51=\"\",\"\",IF(ISERROR(VLOOKUP($B51,'Lista Transhipment'!$C:$I,4,FALSE)),\"\",VLOOKUP($B51,'Lista Transhipment'!$C:$I,7,FALSE)))","v":""}]
[47,{"$f":"+IF(B51=\"\",\"\",IF(ISERROR(VLOOKUP(Schedule!$B$11&Transhipment!A52,'Lista Transhipment'!C:C,1,FALSE)),\"\",VLOOKUP(Schedule!$B$11&Transhipment!A52,'Lista Transhipment'!C:C,1,FALSE)))","v":""},null,{"$f":"+IF($B52=\"\",\"\",IF(ISERROR(VLOOKUP($B52,'Lista Transhipment'!$C:$I,4,FALSE)),\"\",VLOOKUP($B52,'Lista Transhipment'!$C:$I,4,FALSE)))","v":""},{"$f":"+IF($B52=\"\",\"\",IF(ISERROR(VLOOKUP($B52,'Lista Transhipment'!$C:$I,4,FALSE)),\"\",VLOOKUP($B52,'Lista Transhipment'!$C:$I,6,FALSE)))","v":""},{"$f":"+IF($B52=\"\",\"\",IF(ISERROR(VLOOKUP($B52,'Lista Transhipment'!$C:$I,4,FALSE)),\"\",VLOOKUP($B52,'Lista Transhipment'!$C:$I,7,FALSE)))","v":""}]
[48,{"$f":"+IF(B52=\"\",\"\",IF(ISERROR(VLOOKUP(Schedule!$B$11&Transhipment!A53,'Lista Transhipment'!C:C,1,FALSE)),\"\",VLOOKUP(Schedule!$B$11&Transhipment!A53,'Lista Transhipment'!C:C,1,FALSE)))","v":""},null,{"$f":"+IF($B53=\"\",\"\",IF(ISERROR(VLOOKUP($B53,'Lista Transhipment'!$C:$I,4,FALSE)),\"\",VLOOKUP($B53,'Lista Transhipment'!$C:$I,4,FALSE)))","v":""},{"$f":"+IF($B53=\"\",\"\",IF(ISERROR(VLOOKUP($B53,'Lista Transhipment'!$C:$I,4,FALSE)),\"\",VLOOKUP($B53,'Lista Transhipment'!$C:$I,6,FALSE)))","v":""},{"$f":"+IF($B53=\"\",\"\",IF(ISERROR(VLOOKUP($B53,'Lista Transhipment'!$C:$I,4,FALSE)),\"\",VLOOKUP($B53,'Lista Transhipment'!$C:$I,7,FALSE)))","v":""}]
[49,{"$f":"+IF(B53=\"\",\"\",IF(ISERROR(VLOOKUP(Schedule!$B$11&Transhipment!A54,'Lista Transhipment'!C:C,1,FALSE)),\"\",VLOOKUP(Schedule!$B$11&Transhipment!A54,'Lista Transhipment'!C:C,1,FALSE)))","v":""},null,{"$f":"+IF($B54=\"\",\"\",IF(ISERROR(VLOOKUP($B54,'Lista Transhipment'!$C:$I,4,FALSE)),\"\",VLOOKUP($B54,'Lista Transhipment'!$C:$I,4,FALSE)))","v":""},{"$f":"+IF($B54=\"\",\"\",IF(ISERROR(VLOOKUP($B54,'Lista Transhipment'!$C:$I,4,FALSE)),\"\",VLOOKUP($B54,'Lista Transhipment'!$C:$I,6,FALSE)))","v":""},{"$f":"+IF($B54=\"\",\"\",IF(ISERROR(VLOOKUP($B54,'Lista Transhipment'!$C:$I,4,FALSE)),\"\",VLOOKUP($B54,'Lista Transhipment'!$C:$I,7,FALSE)))","v":""}]
[50,{"$f":"+IF(B54=\"\",\"\",IF(ISERROR(VLOOKUP(Schedule!$B$11&Transhipment!A55,'Lista Transhipment'!C:C,1,FALSE)),\"\",VLOOKUP(Schedule!$B$11&Transhipment!A55,'Lista Transhipment'!C:C,1,FALSE)))","v":""},null,{"$f":"+IF($B55=\"\",\"\",IF(ISERROR(VLOOKUP($B55,'Lista Transhipment'!$C:$I,4,FALSE)),\"\",VLOOKUP($B55,'Lista Transhipment'!$C:$I,4,FALSE)))","v":""},{"$f":"+IF($B55=\"\",\"\",IF(ISERROR(VLOOKUP($B55,'Lista Transhipment'!$C:$I,4,FALSE)),\"\",VLOOKUP($B55,'Lista Transhipment'!$C:$I,6,FALSE)))","v":""},{"$f":"+IF($B55=\"\",\"\",IF(ISERROR(VLOOKUP($B55,'Lista Transhipment'!$C:$I,4,FALSE)),\"\",VLOOKUP($B55,'Lista Transhipment'!$C:$I,7,FALSE)))","v":""}]
[51,{"$f":"+IF(B55=\"\",\"\",IF(ISERROR(VLOOKUP(Schedule!$B$11&Transhipment!A56,'Lista Transhipment'!C:C,1,FALSE)),\"\",VLOOKUP(Schedule!$B$11&Transhipment!A56,'Lista Transhipment'!C:C,1,FALSE)))","v":""},null,{"$f":"+IF($B56=\"\",\"\",IF(ISERROR(VLOOKUP($B56,'Lista Transhipment'!$C:$I,4,FALSE)),\"\",VLOOKUP($B56,'Lista Transhipment'!$C:$I,4,FALSE)))","v":""},{"$f":"+IF($B56=\"\",\"\",IF(ISERROR(VLOOKUP($B56,'Lista Transhipment'!$C:$I,4,FALSE)),\"\",VLOOKUP($B56,'Lista Transhipment'!$C:$I,6,FALSE)))","v":""},{"$f":"+IF($B56=\"\",\"\",IF(ISERROR(VLOOKUP($B56,'Lista Transhipment'!$C:$I,4,FALSE)),\"\",VLOOKUP($B56,'Lista Transhipment'!$C:$I,7,FALSE)))","v":""}]
[52,{"$f":"+IF(B56=\"\",\"\",IF(ISERROR(VLOOKUP(Schedule!$B$11&Transhipment!A57,'Lista Transhipment'!C:C,1,FALSE)),\"\",VLOOKUP(Schedule!$B$11&Transhipment!A57,'Lista Transhipment'!C:C,1,FALSE)))","v":""},null,{"$f":"+IF($B57=\"\",\"\",IF(ISERROR(VLOOKUP($B57,'Lista Transhipment'!$C:$I,4,FALSE)),\"\",VLOOKUP($B57,'Lista Transhipment'!$C:$I,4,FALSE)))","v":""},{"$f":"+IF($B57=\"\",\"\",IF(ISERROR(VLOOKUP($B57,'Lista Transhipment'!$C:$I,4,FALSE)),\"\",VLOOKUP($B57,'Lista Transhipment'!$C:$I,6,FALSE)))","v":""},{"$f":"+IF($B57=\"\",\"\",IF(ISERROR(VLOOKUP($B57,'Lista Transhipment'!$C:$I,4,FALSE)),\"\",VLOOKUP($B57,'Lista Transhipment'!$C:$I,7,FALSE)))","v":""}]
[53,{"$f":"+IF(B57=\"\",\"\",IF(ISERROR(VLOOKUP(Schedule!$B$11&Transhipment!A58,'Lista Transhipment'!C:C,1,FALSE)),\"\",VLOOKUP(Schedule!$B$11&Transhipment!A58,'Lista Transhipment'!C:C,1,FALSE)))","v":""},null,{"$f":"+IF($B58=\"\",\"\",IF(ISERROR(VLOOKUP($B58,'Lista Transhipment'!$C:$I,4,FALSE)),\"\",VLOOKUP($B58,'Lista Transhipment'!$C:$I,4,FALSE)))","v":""},{"$f":"+IF($B58=\"\",\"\",IF(ISERROR(VLOOKUP($B58,'Lista Transhipment'!$C:$I,4,FALSE)),\"\",VLOOKUP($B58,'Lista Transhipment'!$C:$I,6,FALSE)))","v":""},{"$f":"+IF($B58=\"\",\"\",IF(ISERROR(VLOOKUP($B58,'Lista Transhipment'!$C:$I,4,FALSE)),\"\",VLOOKUP($B58,'Lista Transhipment'!$C:$I,7,FALSE)))","v":""}]
[54,{"$f":"+IF(B58=\"\",\"\",IF(ISERROR(VLOOKUP(Schedule!$B$11&Transhipment!A59,'Lista Transhipment'!C:C,1,FALSE)),\"\",VLOOKUP(Schedule!$B$11&Transhipment!A59,'Lista Transhipment'!C:C,1,FALSE)))","v":""},null,{"$f":"+IF($B59=\"\",\"\",IF(ISERROR(VLOOKUP($B59,'Lista Transhipment'!$C:$I,4,FALSE)),\"\",VLOOKUP($B59,'Lista Transhipment'!$C:$I,4,FALSE)))","v":""},{"$f":"+IF($B59=\"\",\"\",IF(ISERROR(VLOOKUP($B59,'Lista Transhipment'!$C:$I,4,FALSE)),\"\",VLOOKUP($B59,'Lista Transhipment'!$C:$I,6,FALSE)))","v":""},{"$f":"+IF($B59=\"\",\"\",IF(ISERROR(VLOOKUP($B59,'Lista Transhipment'!$C:$I,4,FALSE)),\"\",VLOOKUP($B59,'Lista Transhipment'!$C:$I,7,FALSE)))","v":""}]
[55,{"$f":"+IF(B59=\"\",\"\",IF(ISERROR(VLOOKUP(Schedule!$B$11&Transhipment!A60,'Lista Transhipment'!C:C,1,FALSE)),\"\",VLOOKUP(Schedule!$B$11&Transhipment!A60,'Lista Transhipment'!C:C,1,FALSE)))","v":""},null,{"$f":"+IF($B60=\"\",\"\",IF(ISERROR(VLOOKUP($B60,'Lista Transhipment'!$C:$I,4,FALSE)),\"\",VLOOKUP($B60,'Lista Transhipment'!$C:$I,4,FALSE)))","v":""},{"$f":"+IF($B60=\"\",\"\",IF(ISERROR(VLOOKUP($B60,'Lista Transhipment'!$C:$I,4,FALSE)),\"\",VLOOKUP($B60,'Lista Transhipment'!$C:$I,6,FALSE)))","v":""},{"$f":"+IF($B60=\"\",\"\",IF(ISERROR(VLOOKUP($B60,'Lista Transhipment'!$C:$I,4,FALSE)),\"\",VLOOKUP($B60,'Lista Transhipment'!$C:$I,7,FALSE)))","v":""}]
[56,{"$f":"+IF(B60=\"\",\"\",IF(ISERROR(VLOOKUP(Schedule!$B$11&Transhipment!A61,'Lista Transhipment'!C:C,1,FALSE)),\"\",VLOOKUP(Schedule!$B$11&Transhipment!A61,'Lista Transhipment'!C:C,1,FALSE)))","v":""},null,{"$f":"+IF($B61=\"\",\"\",IF(ISERROR(VLOOKUP($B61,'Lista Transhipment'!$C:$I,4,FALSE)),\"\",VLOOKUP($B61,'Lista Transhipment'!$C:$I,4,FALSE)))","v":""},{"$f":"+IF($B61=\"\",\"\",IF(ISERROR(VLOOKUP($B61,'Lista Transhipment'!$C:$I,4,FALSE)),\"\",VLOOKUP($B61,'Lista Transhipment'!$C:$I,6,FALSE)))","v":""},{"$f":"+IF($B61=\"\",\"\",IF(ISERROR(VLOOKUP($B61,'Lista Transhipment'!$C:$I,4,FALSE)),\"\",VLOOKUP($B61,'Lista Transhipment'!$C:$I,7,FALSE)))","v":""}]
[57,{"$f":"+IF(B61=\"\",\"\",IF(ISERROR(VLOOKUP(Schedule!$B$11&Transhipment!A62,'Lista Transhipment'!C:C,1,FALSE)),\"\",VLOOKUP(Schedule!$B$11&Transhipment!A62,'Lista Transhipment'!C:C,1,FALSE)))","v":""},null,{"$f":"+IF($B62=\"\",\"\",IF(ISERROR(VLOOKUP($B62,'Lista Transhipment'!$C:$I,4,FALSE)),\"\",VLOOKUP($B62,'Lista Transhipment'!$C:$I,4,FALSE)))","v":""},{"$f":"+IF($B62=\"\",\"\",IF(ISERROR(VLOOKUP($B62,'Lista Transhipment'!$C:$I,4,FALSE)),\"\",VLOOKUP($B62,'Lista Transhipment'!$C:$I,6,FALSE)))","v":""},{"$f":"+IF($B62=\"\",\"\",IF(ISERROR(VLOOKUP($B62,'Lista Transhipment'!$C:$I,4,FALSE)),\"\",VLOOKUP($B62,'Lista Transhipment'!$C:$I,7,FALSE)))","v":""}]
[58,{"$f":"+IF(B62=\"\",\"\",IF(ISERROR(VLOOKUP(Schedule!$B$11&Transhipment!A63,'Lista Transhipment'!C:C,1,FALSE)),\"\",VLOOKUP(Schedule!$B$11&Transhipment!A63,'Lista Transhipment'!C:C,1,FALSE)))","v":""},null,{"$f":"+IF($B63=\"\",\"\",IF(ISERROR(VLOOKUP($B63,'Lista Transhipment'!$C:$I,4,FALSE)),\"\",VLOOKUP($B63,'Lista Transhipment'!$C:$I,4,FALSE)))","v":""},{"$f":"+IF($B63=\"\",\"\",IF(ISERROR(VLOOKUP($B63,'Lista Transhipment'!$C:$I,4,FALSE)),\"\",VLOOKUP($B63,'Lista Transhipment'!$C:$I,6,FALSE)))","v":""},{"$f":"+IF($B63=\"\",\"\",IF(ISERROR(VLOOKUP($B63,'Lista Transhipment'!$C:$I,4,FALSE)),\"\",VLOOKUP($B63,'Lista Transhipment'!$C:$I,7,FALSE)))","v":""}]
[59,{"$f":"+IF(B63=\"\",\"\",IF(ISERROR(VLOOKUP(Schedule!$B$11&Transhipment!A64,'Lista Transhipment'!C:C,1,FALSE)),\"\",VLOOKUP(Schedule!$B$11&Transhipment!A64,'Lista Transhipment'!C:C,1,FALSE)))","v":""},null,{"$f":"+IF($B64=\"\",\"\",IF(ISERROR(VLOOKUP($B64,'Lista Transhipment'!$C:$I,4,FALSE)),\"\",VLOOKUP($B64,'Lista Transhipment'!$C:$I,4,FALSE)))","v":""},{"$f":"+IF($B64=\"\",\"\",IF(ISERROR(VLOOKUP($B64,'Lista Transhipment'!$C:$I,4,FALSE)),\"\",VLOOKUP($B64,'Lista Transhipment'!$C:$I,6,FALSE)))","v":""},{"$f":"+IF($B64=\"\",\"\",IF(ISERROR(VLOOKUP($B64,'Lista Transhipment'!$C:$I,4,FALSE)),\"\",VLOOKUP($B64,'Lista Transhipment'!$C:$I,7,FALSE)))","v":""}]
[60,{"$f":"+IF(B64=\"\",\"\",IF(ISERROR(VLOOKUP(Schedule!$B$11&Transhipment!A65,'Lista Transhipment'!C:C,1,FALSE)),\"\",VLOOKUP(Schedule!$B$11&Transhipment!A65,'Lista Transhipment'!C:C,1,FALSE)))","v":""},null,{"$f":"+IF($B65=\"\",\"\",IF(ISERROR(VLOOKUP($B65,'Lista Transhipment'!$C:$I,4,FALSE)),\"\",VLOOKUP($B65,'Lista Transhipment'!$C:$I,4,FALSE)))","v":""},{"$f":"+IF($B65=\"\",\"\",IF(ISERROR(VLOOKUP($B65,'Lista Transhipment'!$C:$I,4,FALSE)),\"\",VLOOKUP($B65,'Lista Transhipment'!$C:$I,6,FALSE)))","v":""},{"$f":"+IF($B65=\"\",\"\",IF(ISERROR(VLOOKUP($B65,'Lista Transhipment'!$C:$I,4,FALSE)),\"\",VLOOKUP($B65,'Lista Transhipment'!$C:$I,7,FALSE)))","v":""}]
[61,{"$f":"+IF(B65=\"\",\"\",IF(ISERROR(VLOOKUP(Schedule!$B$11&Transhipment!A66,'Lista Transhipment'!C:C,1,FALSE)),\"\",VLOOKUP(Schedule!$B$11&Transhipment!A66,'Lista Transhipment'!C:C,1,FALSE)))","v":""},null,{"$f":"+IF($B66=\"\",\"\",IF(ISERROR(VLOOKUP($B66,'Lista Transhipment'!$C:$I,4,FALSE)),\"\",VLOOKUP($B66,'Lista Transhipment'!$C:$I,4,FALSE)))","v":""},{"$f":"+IF($B66=\"\",\"\",IF(ISERROR(VLOOKUP($B66,'Lista Transhipment'!$C:$I,4,FALSE)),\"\",VLOOKUP($B66,'Lista Transhipment'!$C:$I,6,FALSE)))","v":""},{"$f":"+IF($B66=\"\",\"\",IF(ISERROR(VLOOKUP($B66,'Lista Transhipment'!$C:$I,4,FALSE)),\"\",VLOOKUP($B66,'Lista Transhipment'!$C:$I,7,FALSE)))","v":""}]
[62,{"$f":"+IF(B66=\"\",\"\",IF(ISERROR(VLOOKUP(Schedule!$B$11&Transhipment!A67,'Lista Transhipment'!C:C,1,FALSE)),\"\",VLOOKUP(Schedule!$B$11&Transhipment!A67,'Lista Transhipment'!C:C,1,FALSE)))","v":""},null,{"$f":"+IF($B67=\"\",\"\",IF(ISERROR(VLOOKUP($B67,'Lista Transhipment'!$C:$I,4,FALSE)),\"\",VLOOKUP($B67,'Lista Transhipment'!$C:$I,4,FALSE)))","v":""},{"$f":"+IF($B67=\"\",\"\",IF(ISERROR(VLOOKUP($B67,'Lista Transhipment'!$C:$I,4,FALSE)),\"\",VLOOKUP($B67,'Lista Transhipment'!$C:$I,6,FALSE)))","v":""},{"$f":"+IF($B67=\"\",\"\",IF(ISERROR(VLOOKUP($B67,'Lista Transhipment'!$C:$I,4,FALSE)),\"\",VLOOKUP($B67,'Lista Transhipment'!$C:$I,7,FALSE)))","v":""}]
[63,{"$f":"+IF(B67=\"\",\"\",IF(ISERROR(VLOOKUP(Schedule!$B$11&Transhipment!A68,'Lista Transhipment'!C:C,1,FALSE)),\"\",VLOOKUP(Schedule!$B$11&Transhipment!A68,'Lista Transhipment'!C:C,1,FALSE)))","v":""},null,{"$f":"+IF($B68=\"\",\"\",IF(ISERROR(VLOOKUP($B68,'Lista Transhipment'!$C:$I,4,FALSE)),\"\",VLOOKUP($B68,'Lista Transhipment'!$C:$I,4,FALSE)))","v":""},{"$f":"+IF($B68=\"\",\"\",IF(ISERROR(VLOOKUP($B68,'Lista Transhipment'!$C:$I,4,FALSE)),\"\",VLOOKUP($B68,'Lista Transhipment'!$C:$I,6,FALSE)))","v":""},{"$f":"+IF($B68=\"\",\"\",IF(ISERROR(VLOOKUP($B68,'Lista Transhipment'!$C:$I,4,FALSE)),\"\",VLOOKUP($B68,'Lista Transhipment'!$C:$I,7,FALSE)))","v":""}]
[64,{"$f":"+IF(B68=\"\",\"\",IF(ISERROR(VLOOKUP(Schedule!$B$11&Transhipment!A69,'Lista Transhipment'!C:C,1,FALSE)),\"\",VLOOKUP(Schedule!$B$11&Transhipment!A69,'Lista Transhipment'!C:C,1,FALSE)))","v":""},null,{"$f":"+IF($B69=\"\",\"\",IF(ISERROR(VLOOKUP($B69,'Lista Transhipment'!$C:$I,4,FALSE)),\"\",VLOOKUP($B69,'Lista Transhipment'!$C:$I,4,FALSE)))","v":""},{"$f":"+IF($B69=\"\",\"\",IF(ISERROR(VLOOKUP($B69,'Lista Transhipment'!$C:$I,4,FALSE)),\"\",VLOOKUP($B69,'Lista Transhipment'!$C:$I,6,FALSE)))","v":""},{"$f":"+IF($B69=\"\",\"\",IF(ISERROR(VLOOKUP($B69,'Lista Transhipment'!$C:$I,4,FALSE)),\"\",VLOOKUP($B69,'Lista Transhipment'!$C:$I,7,FALSE)))","v":""}]
[65,{"$f":"+IF(B69=\"\",\"\",IF(ISERROR(VLOOKUP(Schedule!$B$11&Transhipment!A70,'Lista Transhipment'!C:C,1,FALSE)),\"\",VLOOKUP(Schedule!$B$11&Transhipment!A70,'Lista Transhipment'!C:C,1,FALSE)))","v":""},null,{"$f":"+IF($B70=\"\",\"\",IF(ISERROR(VLOOKUP($B70,'Lista Transhipment'!$C:$I,4,FALSE)),\"\",VLOOKUP($B70,'Lista Transhipment'!$C:$I,4,FALSE)))","v":""},{"$f":"+IF($B70=\"\",\"\",IF(ISERROR(VLOOKUP($B70,'Lista Transhipment'!$C:$I,4,FALSE)),\"\",VLOOKUP($B70,'Lista Transhipment'!$C:$I,6,FALSE)))","v":""},{"$f":"+IF($B70=\"\",\"\",IF(ISERROR(VLOOKUP($B70,'Lista Transhipment'!$C:$I,4,FALSE)),\"\",VLOOKUP($B70,'Lista Transhipment'!$C:$I,7,FALSE)))","v":""}]
[{"$f":"+IF($B$5=\"\",\"\",A70+1)","v":66},{"$f":"+IF(B70=\"\",\"\",IF(ISERROR(VLOOKUP(Schedule!$B$11&Transhipment!A71,'Lista Transhipment'!C:C,1,FALSE)),\"\",VLOOKUP(Schedule!$B$11&Transhipment!A71,'Lista Transhipment'!C:C,1,FALSE)))","v":""},null,{"$f":"+IF($B71=\"\",\"\",IF(ISERROR(VLOOKUP($B71,'Lista Transhipment'!$C:$I,4,FALSE)),\"\",VLOOKUP($B71,'Lista Transhipment'!$C:$I,4,FALSE)))","v":""},{"$f":"+IF($B71=\"\",\"\",IF(ISERROR(VLOOKUP($B71,'Lista Transhipment'!$C:$I,4,FALSE)),\"\",VLOOKUP($B71,'Lista Transhipment'!$C:$I,6,FALSE)))","v":""},{"$f":"+IF($B71=\"\",\"\",IF(ISERROR(VLOOKUP($B71,'Lista Transhipment'!$C:$I,4,FALSE)),\"\",VLOOKUP($B71,'Lista Transhipment'!$C:$I,7,FALSE)))","v":""}]
[67,{"$f":"+IF(B71=\"\",\"\",IF(ISERROR(VLOOKUP(Schedule!$B$11&Transhipment!A72,'Lista Transhipment'!C:C,1,FALSE)),\"\",VLOOKUP(Schedule!$B$11&Transhipment!A72,'Lista Transhipment'!C:C,1,FALSE)))","v":""},null,{"$f":"+IF($B72=\"\",\"\",IF(ISERROR(VLOOKUP($B72,'Lista Transhipment'!$C:$I,4,FALSE)),\"\",VLOOKUP($B72,'Lista Transhipment'!$C:$I,4,FALSE)))","v":""},{"$f":"+IF($B72=\"\",\"\",IF(ISERROR(VLOOKUP($B72,'Lista Transhipment'!$C:$I,4,FALSE)),\"\",VLOOKUP($B72,'Lista Transhipment'!$C:$I,6,FALSE)))","v":""},{"$f":"+IF($B72=\"\",\"\",IF(ISERROR(VLOOKUP($B72,'Lista Transhipment'!$C:$I,4,FALSE)),\"\",VLOOKUP($B72,'Lista Transhipment'!$C:$I,7,FALSE)))","v":""}]
[68,{"$f":"+IF(B72=\"\",\"\",IF(ISERROR(VLOOKUP(Schedule!$B$11&Transhipment!A73,'Lista Transhipment'!C:C,1,FALSE)),\"\",VLOOKUP(Schedule!$B$11&Transhipment!A73,'Lista Transhipment'!C:C,1,FALSE)))","v":""},null,{"$f":"+IF($B73=\"\",\"\",IF(ISERROR(VLOOKUP($B73,'Lista Transhipment'!$C:$I,4,FALSE)),\"\",VLOOKUP($B73,'Lista Transhipment'!$C:$I,4,FALSE)))","v":""},{"$f":"+IF($B73=\"\",\"\",IF(ISERROR(VLOOKUP($B73,'Lista Transhipment'!$C:$I,4,FALSE)),\"\",VLOOKUP($B73,'Lista Transhipment'!$C:$I,6,FALSE)))","v":""},{"$f":"+IF($B73=\"\",\"\",IF(ISERROR(VLOOKUP($B73,'Lista Transhipment'!$C:$I,4,FALSE)),\"\",VLOOKUP($B73,'Lista Transhipment'!$C:$I,7,FALSE)))","v":""}]
[69,{"$f":"+IF(B73=\"\",\"\",IF(ISERROR(VLOOKUP(Schedule!$B$11&Transhipment!A74,'Lista Transhipment'!C:C,1,FALSE)),\"\",VLOOKUP(Schedule!$B$11&Transhipment!A74,'Lista Transhipment'!C:C,1,FALSE)))","v":""},null,{"$f":"+IF($B74=\"\",\"\",IF(ISERROR(VLOOKUP($B74,'Lista Transhipment'!$C:$I,4,FALSE)),\"\",VLOOKUP($B74,'Lista Transhipment'!$C:$I,4,FALSE)))","v":""},{"$f":"+IF($B74=\"\",\"\",IF(ISERROR(VLOOKUP($B74,'Lista Transhipment'!$C:$I,4,FALSE)),\"\",VLOOKUP($B74,'Lista Transhipment'!$C:$I,6,FALSE)))","v":""},{"$f":"+IF($B74=\"\",\"\",IF(ISERROR(VLOOKUP($B74,'Lista Transhipment'!$C:$I,4,FALSE)),\"\",VLOOKUP($B74,'Lista Transhipment'!$C:$I,7,FALSE)))","v":""}]
[70,{"$f":"+IF(B74=\"\",\"\",IF(ISERROR(VLOOKUP(Schedule!$B$11&Transhipment!A75,'Lista Transhipment'!C:C,1,FALSE)),\"\",VLOOKUP(Schedule!$B$11&Transhipment!A75,'Lista Transhipment'!C:C,1,FALSE)))","v":""},null,{"$f":"+IF($B75=\"\",\"\",IF(ISERROR(VLOOKUP($B75,'Lista Transhipment'!$C:$I,4,FALSE)),\"\",VLOOKUP($B75,'Lista Transhipment'!$C:$I,4,FALSE)))","v":""},{"$f":"+IF($B75=\"\",\"\",IF(ISERROR(VLOOKUP($B75,'Lista Transhipment'!$C:$I,4,FALSE)),\"\",VLOOKUP($B75,'Lista Transhipment'!$C:$I,6,FALSE)))","v":""},{"$f":"+IF($B75=\"\",\"\",IF(ISERROR(VLOOKUP($B75,'Lista Transhipment'!$C:$I,4,FALSE)),\"\",VLOOKUP($B75,'Lista Transhipment'!$C:$I,7,FALSE)))","v":""}]
[71,{"$f":"+IF(B75=\"\",\"\",IF(ISERROR(VLOOKUP(Schedule!$B$11&Transhipment!A76,'Lista Transhipment'!C:C,1,FALSE)),\"\",VLOOKUP(Schedule!$B$11&Transhipment!A76,'Lista Transhipment'!C:C,1,FALSE)))","v":""},null,{"$f":"+IF($B76=\"\",\"\",IF(ISERROR(VLOOKUP($B76,'Lista Transhipment'!$C:$I,4,FALSE)),\"\",VLOOKUP($B76,'Lista Transhipment'!$C:$I,4,FALSE)))","v":""},{"$f":"+IF($B76=\"\",\"\",IF(ISERROR(VLOOKUP($B76,'Lista Transhipment'!$C:$I,4,FALSE)),\"\",VLOOKUP($B76,'Lista Transhipment'!$C:$I,6,FALSE)))","v":""},{"$f":"+IF($B76=\"\",\"\",IF(ISERROR(VLOOKUP($B76,'Lista Transhipment'!$C:$I,4,FALSE)),\"\",VLOOKUP($B76,'Lista Transhipment'!$C:$I,7,FALSE)))","v":""}]
[72,{"$f":"+IF(B76=\"\",\"\",IF(ISERROR(VLOOKUP(Schedule!$B$11&Transhipment!A77,'Lista Transhipment'!C:C,1,FALSE)),\"\",VLOOKUP(Schedule!$B$11&Transhipment!A77,'Lista Transhipment'!C:C,1,FALSE)))","v":""},null,{"$f":"+IF($B77=\"\",\"\",IF(ISERROR(VLOOKUP($B77,'Lista Transhipment'!$C:$I,4,FALSE)),\"\",VLOOKUP($B77,'Lista Transhipment'!$C:$I,4,FALSE)))","v":""},{"$f":"+IF($B77=\"\",\"\",IF(ISERROR(VLOOKUP($B77,'Lista Transhipment'!$C:$I,4,FALSE)),\"\",VLOOKUP($B77,'Lista Transhipment'!$C:$I,6,FALSE)))","v":""},{"$f":"+IF($B77=\"\",\"\",IF(ISERROR(VLOOKUP($B77,'Lista Transhipment'!$C:$I,4,FALSE)),\"\",VLOOKUP($B77,'Lista Transhipment'!$C:$I,7,FALSE)))","v":""}]
[73,{"$f":"+IF(B77=\"\",\"\",IF(ISERROR(VLOOKUP(Schedule!$B$11&Transhipment!A78,'Lista Transhipment'!C:C,1,FALSE)),\"\",VLOOKUP(Schedule!$B$11&Transhipment!A78,'Lista Transhipment'!C:C,1,FALSE)))","v":""},null,{"$f":"+IF($B78=\"\",\"\",IF(ISERROR(VLOOKUP($B78,'Lista Transhipment'!$C:$I,4,FALSE)),\"\",VLOOKUP($B78,'Lista Transhipment'!$C:$I,4,FALSE)))","v":""},{"$f":"+IF($B78=\"\",\"\",IF(ISERROR(VLOOKUP($B78,'Lista Transhipment'!$C:$I,4,FALSE)),\"\",VLOOKUP($B78,'Lista Transhipment'!$C:$I,6,FALSE)))","v":""},{"$f":"+IF($B78=\"\",\"\",IF(ISERROR(VLOOKUP($B78,'Lista Transhipment'!$C:$I,4,FALSE)),\"\",VLOOKUP($B78,'Lista Transhipment'!$C:$I,7,FALSE)))","v":""}]
[74,{"$f":"+IF(B78=\"\",\"\",IF(ISERROR(VLOOKUP(Schedule!$B$11&Transhipment!A79,'Lista Transhipment'!C:C,1,FALSE)),\"\",VLOOKUP(Schedule!$B$11&Transhipment!A79,'Lista Transhipment'!C:C,1,FALSE)))","v":""},null,{"$f":"+IF($B79=\"\",\"\",IF(ISERROR(VLOOKUP($B79,'Lista Transhipment'!$C:$I,4,FALSE)),\"\",VLOOKUP($B79,'Lista Transhipment'!$C:$I,4,FALSE)))","v":""},{"$f":"+IF($B79=\"\",\"\",IF(ISERROR(VLOOKUP($B79,'Lista Transhipment'!$C:$I,4,FALSE)),\"\",VLOOKUP($B79,'Lista Transhipment'!$C:$I,6,FALSE)))","v":""},{"$f":"+IF($B79=\"\",\"\",IF(ISERROR(VLOOKUP($B79,'Lista Transhipment'!$C:$I,4,FALSE)),\"\",VLOOKUP($B79,'Lista Transhipment'!$C:$I,7,FALSE)))","v":""}]
[75,{"$f":"+IF(B79=\"\",\"\",IF(ISERROR(VLOOKUP(Schedule!$B$11&Transhipment!A80,'Lista Transhipment'!C:C,1,FALSE)),\"\",VLOOKUP(Schedule!$B$11&Transhipment!A80,'Lista Transhipment'!C:C,1,FALSE)))","v":""},null,{"$f":"+IF($B80=\"\",\"\",IF(ISERROR(VLOOKUP($B80,'Lista Transhipment'!$C:$I,4,FALSE)),\"\",VLOOKUP($B80,'Lista Transhipment'!$C:$I,4,FALSE)))","v":""},{"$f":"+IF($B80=\"\",\"\",IF(ISERROR(VLOOKUP($B80,'Lista Transhipment'!$C:$I,4,FALSE)),\"\",VLOOKUP($B80,'Lista Transhipment'!$C:$I,6,FALSE)))","v":""},{"$f":"+IF($B80=\"\",\"\",IF(ISERROR(VLOOKUP($B80,'Lista Transhipment'!$C:$I,4,FALSE)),\"\",VLOOKUP($B80,'Lista Transhipment'!$C:$I,7,FALSE)))","v":""}]
[76,{"$f":"+IF(B80=\"\",\"\",IF(ISERROR(VLOOKUP(Schedule!$B$11&Transhipment!A81,'Lista Transhipment'!C:C,1,FALSE)),\"\",VLOOKUP(Schedule!$B$11&Transhipment!A81,'Lista Transhipment'!C:C,1,FALSE)))","v":""},null,{"$f":"+IF($B81=\"\",\"\",IF(ISERROR(VLOOKUP($B81,'Lista Transhipment'!$C:$I,4,FALSE)),\"\",VLOOKUP($B81,'Lista Transhipment'!$C:$I,4,FALSE)))","v":""},{"$f":"+IF($B81=\"\",\"\",IF(ISERROR(VLOOKUP($B81,'Lista Transhipment'!$C:$I,4,FALSE)),\"\",VLOOKUP($B81,'Lista Transhipment'!$C:$I,6,FALSE)))","v":""},{"$f":"+IF($B81=\"\",\"\",IF(ISERROR(VLOOKUP($B81,'Lista Transhipment'!$C:$I,4,FALSE)),\"\",VLOOKUP($B81,'Lista Transhipment'!$C:$I,7,FALSE)))","v":""}]
[77,{"$f":"+IF(B81=\"\",\"\",IF(ISERROR(VLOOKUP(Schedule!$B$11&Transhipment!A82,'Lista Transhipment'!C:C,1,FALSE)),\"\",VLOOKUP(Schedule!$B$11&Transhipment!A82,'Lista Transhipment'!C:C,1,FALSE)))","v":""},null,{"$f":"+IF($B82=\"\",\"\",IF(ISERROR(VLOOKUP($B82,'Lista Transhipment'!$C:$I,4,FALSE)),\"\",VLOOKUP($B82,'Lista Transhipment'!$C:$I,4,FALSE)))","v":""},{"$f":"+IF($B82=\"\",\"\",IF(ISERROR(VLOOKUP($B82,'Lista Transhipment'!$C:$I,4,FALSE)),\"\",VLOOKUP($B82,'Lista Transhipment'!$C:$I,6,FALSE)))","v":""},{"$f":"+IF($B82=\"\",\"\",IF(ISERROR(VLOOKUP($B82,'Lista Transhipment'!$C:$I,4,FALSE)),\"\",VLOOKUP($B82,'Lista Transhipment'!$C:$I,7,FALSE)))","v":""}]
[78,{"$f":"+IF(B82=\"\",\"\",IF(ISERROR(VLOOKUP(Schedule!$B$11&Transhipment!A83,'Lista Transhipment'!C:C,1,FALSE)),\"\",VLOOKUP(Schedule!$B$11&Transhipment!A83,'Lista Transhipment'!C:C,1,FALSE)))","v":""},null,{"$f":"+IF($B83=\"\",\"\",IF(ISERROR(VLOOKUP($B83,'Lista Transhipment'!$C:$I,4,FALSE)),\"\",VLOOKUP($B83,'Lista Transhipment'!$C:$I,4,FALSE)))","v":""},{"$f":"+IF($B83=\"\",\"\",IF(ISERROR(VLOOKUP($B83,'Lista Transhipment'!$C:$I,4,FALSE)),\"\",VLOOKUP($B83,'Lista Transhipment'!$C:$I,6,FALSE)))","v":""},{"$f":"+IF($B83=\"\",\"\",IF(ISERROR(VLOOKUP($B83,'Lista Transhipment'!$C:$I,4,FALSE)),\"\",VLOOKUP($B83,'Lista Transhipment'!$C:$I,7,FALSE)))","v":""}]
[79,{"$f":"+IF(B83=\"\",\"\",IF(ISERROR(VLOOKUP(Schedule!$B$11&Transhipment!A84,'Lista Transhipment'!C:C,1,FALSE)),\"\",VLOOKUP(Schedule!$B$11&Transhipment!A84,'Lista Transhipment'!C:C,1,FALSE)))","v":""},null,{"$f":"+IF($B84=\"\",\"\",IF(ISERROR(VLOOKUP($B84,'Lista Transhipment'!$C:$I,4,FALSE)),\"\",VLOOKUP($B84,'Lista Transhipment'!$C:$I,4,FALSE)))","v":""},{"$f":"+IF($B84=\"\",\"\",IF(ISERROR(VLOOKUP($B84,'Lista Transhipment'!$C:$I,4,FALSE)),\"\",VLOOKUP($B84,'Lista Transhipment'!$C:$I,6,FALSE)))","v":""},{"$f":"+IF($B84=\"\",\"\",IF(ISERROR(VLOOKUP($B84,'Lista Transhipment'!$C:$I,4,FALSE)),\"\",VLOOKUP($B84,'Lista Transhipment'!$C:$I,7,FALSE)))","v":""}]
[{"$f":"+IF($B$5=\"\",\"\",A84+1)","v":80},{"$f":"+IF(B84=\"\",\"\",IF(ISERROR(VLOOKUP(Schedule!$B$11&Transhipment!A85,'Lista Transhipment'!C:C,1,FALSE)),\"\",VLOOKUP(Schedule!$B$11&Transhipment!A85,'Lista Transhipment'!C:C,1,FALSE)))","v":""}]
[81,{"$f":"+IF(B85=\"\",\"\",IF(ISERROR(VLOOKUP(Schedule!$B$11&Transhipment!A86,'Lista Transhipment'!C:C,1,FALSE)),\"\",VLOOKUP(Schedule!$B$11&Transhipment!A86,'Lista Transhipment'!C:C,1,FALSE)))","v":""}]
[82,{"$f":"+IF(B86=\"\",\"\",IF(ISERROR(VLOOKUP(Schedule!$B$11&Transhipment!A87,'Lista Transhipment'!C:C,1,FALSE)),\"\",VLOOKUP(Schedule!$B$11&Transhipment!A87,'Lista Transhipment'!C:C,1,FALSE)))","v":""}]
[83,{"$f":"+IF(B87=\"\",\"\",IF(ISERROR(VLOOKUP(Schedule!$B$11&Transhipment!A88,'Lista Transhipment'!C:C,1,FALSE)),\"\",VLOOKUP(Schedule!$B$11&Transhipment!A88,'Lista Transhipment'!C:C,1,FALSE)))","v":""}]
[84,{"$f":"+IF(B88=\"\",\"\",IF(ISERROR(VLOOKUP(Schedule!$B$11&Transhipment!A89,'Lista Transhipment'!C:C,1,FALSE)),\"\",VLOOKUP(Schedule!$B$11&Transhipment!A89,'Lista Transhipment'!C:C,1,FALSE)))","v":""}]
[85,{"$f":"+IF(B89=\"\",\"\",IF(ISERROR(VLOOKUP(Schedule!$B$11&Transhipment!A90,'Lista Transhipment'!C:C,1,FALSE)),\"\",VLOOKUP(Schedule!$B$11&Transhipment!A90,'Lista Transhipment'!C:C,1,FALSE)))","v":""}]

{"sheet":"Lista Transhipment","index":3,"n_rows":263,"n_cols":9,"rows_kept":263,"cut":false,"hidden":true,"merged":[]}
["pod","seq","unique","Main CFS","Main CFS code","Destination","Destination code","Destination country","t/t"]
[{"$f":"+D2","v":"ASHDOD"},{"$f":"+IF(A2=A1,B1+1,1)","v":1},{"$f":"+A2&B2","v":"ASHDOD1"},"ASHDOD","ILASH","Haifa","ILHFA","Israel",8]
["BANGKOK",1,"BANGKOK1","BANGKOK","THBKK","Lat Krabang","THLKR","Thailand",28]
["Chennai (ex Madras)",1,"Chennai (ex Madras)1","Chennai (ex Madras)","INMAA","Bangalore","INBLR","India",28]
["DURBAN",1,"DURBAN1","DURBAN","ZADUR","Luanda","AOLAD","Angola",52]
["DURBAN",2,"DURBAN2","DURBAN","ZADUR","Gaborone","BWGBE","Botswana",34]
["DURBAN",3,"DURBAN3","DURBAN","ZADUR","Abidjan","CIABJ","Côte D'Ivoire",57]
["DURBAN",4,"DURBAN4","DURBAN","ZADUR","Accra","GHACC","Ghana",51]
["DURBAN",5,"DURBAN5","DURBAN","ZADUR","Tema","GHTEM","Ghana",49]
["DURBAN",6,"DURBAN6","DURBAN","ZADUR","Tamatave (Toamasina)","MGTMM","Madagascar",48]
["DURBAN",7,"DURBAN7","DURBAN","ZADUR","Antananarivo","MGTNR","Madagascar",50]
["DURBAN",8,"DURBAN8","DURBAN","ZADUR","Port Louis","MUPLU","Mauritius",38]
["DURBAN",9,"DURBAN9","DURBAN","ZADUR","Blantyre","MWBLZ","Malawi",45]
["DURBAN",10,"DURBAN10","DURBAN","ZADUR","Lilongwe","MWLLW","Malawi",45]
["DURBAN",11,"DURBAN11","DURBAN","ZADUR","Beira","MZBEW","Mozambique",36]
["DURBAN",12,"DURBAN12","DURBAN","ZADUR","Maputo","MZMPM","Mozambique",43]
["DURBAN",13,"DURBAN13","DURBAN","ZADUR","Windhoek","NAWDH","Namibia",39]
["DURBAN",14,"DURBAN14","DURBAN","ZADUR","Walvis Bay","NAWVB","Namibia",37]
["DURBAN",15,"DURBAN15","DURBAN","ZADUR","Apapa","NGAPP","Nigeria",51]
["DURBAN",16,"DURBAN16","DURBAN","ZADUR","Pointe De Galess","REPDG","Réunion",75]
["DURBAN",17,"DURBAN17","DURBAN","ZADUR","Reunion","REREU","Réunion",47]
["DURBAN",18,"DURBAN18","DURBAN","ZADUR","Kigali","RWKGL","Rwanda",63]
["DURBAN",19,"DURBAN19","DURBAN","ZADUR","Mahe","SCMAW","Seychelles",52]
["DURBAN",20,"DURBAN20","DURBAN","ZADUR","Kampala","UGKLA","Uganda",58]
["DURBAN",21,"DURBAN21","DURBAN","ZADUR","Johannesburg","ZAJNB","South Africa",35]
["DURBAN",22,"DURBAN22","DURBAN","ZADUR","Kitwe","ZMKIW","Zambia",44]
["DURBAN",23,"DURBAN23","DURBAN","ZADUR","Lusaka","ZMLUN","Zambia",43]
["DURBAN",24,"DURBAN24","DURBAN","ZADUR","Ndola","ZMNLA","Zambia",40]
["DURBAN",25,"DURBAN25","DURBAN","ZADUR","Bulawayo","ZWBUQ","Zimbabwe",37]
["DURBAN",26,"DURBAN26","DURBAN","ZADUR","Harare","ZWHRE","Zimbabwe",36]
["HONG KONG",1,"HONG KONG1","HONG KONG","HKHKG","Beijing","CNBJS","China",44]
["HONG KONG",{"$f":"+IF(A32=A31,B31+1,1)","v":2},"HONG KONG2","HONG KONG","HKHKG","Dongguan","CNDGG","China",39]
["HONG KONG",3,"HONG KONG3","HONG KONG","HKHKG","Doumen","CNDOU","China",39]
["HONG KONG",4,"HONG KONG4","HONG KONG","HKHKG","Fuzhou","CNFOC","China",39]
["HONG KONG",5,"HONG KONG5","HONG KONG","HKHKG","Foshan","CNFOS","China",39]
["HONG KONG",6,"HONG KONG6","HONG KONG","HKHKG","Foshan new port","CNFRT","China",39]
["HONG KONG",7,"HONG KONG7","HONG KONG","HKHKG","Gaoyao","CNGAY","China",39]
["HONG KONG",8,"HONG KONG8","HONG KONG","HKHKG","Gaoming","CNGOM","China",39]
["HONG KONG",9,"HONG KONG9","HONG KONG","HKHKG","Gaolan","CNGON","China",39]
["HONG KONG",10,"HONG KONG10","HONG KONG","HKHKG","Guigang","CNGUG","China",47]
["HONG KONG",11,"HONG KONG11","HONG KONG","HKHKG","Haikou","CNHAK","China",39]
["HONG KONG",12,"HONG KONG12","HONG KONG","HKHKG","Huadu","CNHDU","China",39]
["HONG KONG",13,"HONG KONG13","HONG KONG","HKHKG","Huangpu Old Port","CNHOP","China",39]
["HONG KONG",14,"HONG KONG14","HONG KONG","HKHKG","Heshan","CNHSN","China",39]
["HONG KONG",15,"HONG KONG15","HONG KONG","HKHKG","Huangpu New Port","CNHUN","China",39]
["HONG KONG",16,"HONG KONG16","HONG KONG","HKHKG","Jiangmen","CNJMN","China",39]
["HONG KONG",17,"HONG KONG17","HONG KONG","HKHKG","Jiao Xin","CNJXN","China",39]
["HONG KONG",18,"HONG KONG18","HONG KONG","HKHKG","Kaiping","CNKAP","China",39]
["HONG KONG",19,"HONG KONG19","HONG KONG","HKHKG","Lianhuashan","CNLIH","China",39]
["HONG KONG",20,"HONG KONG20","HONG KONG","HKHKG","Maoming","CNMMI","China",42]
["HONG KONG",21,"HONG KONG21","HONG KONG","HKHKG","Nanhai","CNNAH","China",39]
["HONG KONG",22,"HONG KONG22","HONG KONG","HKHKG","Nanjing","CNNKG","China",46]
["HONG KONG",23,"HONG KONG23","HONG KONG","HKHKG","Nansha","CNNSA","China",39]
["HONG KONG",24,"HONG KONG24","HONG KONG","HKHKG","Rongqi","CNROQ","China",39]
["HONG KONG",25,"HONG KONG25","HONG KONG","HKHKG","Sanshan","CNSHG","China",39]
["HONG KONG",26,"HONG KONG26","HONG KONG","HKHKG","Sihui","CNSIH","China",39]
["HONG KONG",27,"HONG KONG27","HONG KONG","HKHKG","Sanshui","CNSJQ","China",39]
["HONG KONG",28,"HONG KONG28","HONG KONG","HKHKG","Sanshui","CNSJQ","China",39]
["HONG KONG",29,"HONG KONG29","HONG KONG","HKHKG","Sanrong","CNSRG","China",39]
["HONG KONG",30,"HONG KONG30","HONG KONG","HKHKG","Shunde","CNSUD","China",39]
["HONG KONG",31,"HONG KONG31","HONG KONG","HKHKG","Shantou","CNSWA","China",39]
["HONG KONG",32,"HONG KONG32","HONG KONG","HKHKG","Shenzhen","CNSZX","China",34]
["HONG KONG",33,"HONG KONG33","HONG KONG","HKHKG","Taiping","CNTAP","China",39]
["HONG KONG",34,"HONG KONG34","HONG KONG","HKHKG","Taishan","CNTIS","China",39]
["HONG KONG",35,"HONG KONG35","HONG KONG","HKHKG","Tianjinxingang","CNTXG","China",39]
[{"$f":"+D66","v":"HONG KONG"},36,{"$f":"+A66&B66","v":"HONG KONG36"},"HONG KONG","HKHKG","Wuhan","CNWUH","China",42]
["HONG KONG",37,"HONG KONG37","HONG KONG","HKHKG","Wuzhou","CNWUZ","China",42]
["HONG KONG",38,"HONG KONG38","HONG KONG","HKHKG","Xinfeng","CNXAB","China",39]
["HONG KONG",39,"HONG KONG39","HONG KONG","HKHKG","Xiaolan","CNXIL","China",39]
["HONG KONG",40,"HONG KONG40","HONG KONG","HKHKG","Xinhui","CNXIN","China",39]
["HONG KONG",41,"HONG KONG41","HONG KONG","HKHKG","Xiamen","CNXMN","China",33]
["HONG KONG",42,"HONG KONG42","HONG KONG","HKHKG","Yantai","CNYNT","China",42]
["HONG KONG",43,"HONG KONG43","HONG KONG","HKHKG","Beijiao","CNYQS","China",39]
["HONG KONG",44,"HONG KONG44","HONG KONG","HKHKG","Yunfu","CNYUF","China",39]
["HONG KONG",45,"HONG KONG45","HONG KONG","HKHKG","Zhanjiang","CNZHA","China",39]
["HONG KONG",46,"HONG KONG46","HONG KONG","HKHKG","Zhongshan","CNZSN","China",39]
["HONG KONG",47,"HONG KONG47","HONG KONG","HKHKG","Zhuhai","CNZUH","China",39]
["HONG KONG",48,"HONG KONG48","HONG KONG","HKHKG","Gaunpotung","HUANG","China",39]
["HONG KONG",49,"HONG KONG49","HONG KONG","HKHKG","Macau","MOMFM","Macao",34]
["JEBEL ALI",1,"JEBEL ALI1","JEBEL ALI","AEJEA","Abu Dhabi","AEAUH","United Arab Emirates",20]
["JEBEL ALI",2,"JEBEL ALI2","JEBEL ALI","AEJEA","Sharjah","AESHJ","United Arab Emirates",19]
["JEBEL ALI",3,"JEBEL ALI3","JEBEL ALI","AEJEA","Bahrain","BHBAH","Bahrain",20]
["JEBEL ALI",4,"JEBEL ALI4","JEBEL ALI","AEJEA","Port Said","EGPSD","Egypt",48]
["JEBEL ALI",5,"JEBEL ALI5","JEBEL ALI","AEJEA","Cochin","INCOK","India",30]
["JEBEL ALI",6,"JEBEL ALI6","JEBEL ALI","AEJEA","Tuticorin","INTUT","India",38]
["JEBEL ALI",7,"JEBEL ALI7","JEBEL ALI","AEJEA","Umm Qasr","IQUQR","Iraq",20]
["JEBEL ALI",8,"JEBEL ALI8","JEBEL ALI","AEJEA","Bandar Abbas","IRBND","Iran, Islamic Republic Of",20]
["JEBEL ALI",9,"JEBEL ALI9","JEBEL ALI","AEJEA","Mombasa","KEMBA","Kenya",27]
["JEBEL ALI",10,"JEBEL ALI10","JEBEL ALI","AEJEA","Kuwait","KWKWI","Kuwait",20]
["JEBEL ALI",11,"JEBEL ALI11","JEBEL ALI","AEJEA","Muscat","OMMCT","Oman",19]
["JEBEL ALI",12,"JEBEL ALI12","JEBEL ALI","AEJEA","Muscat","OMMCT","Oman",19]
["JEBEL ALI",13,"JEBEL ALI13","JEBEL ALI","AEJEA","Sohar","OMSOH","Oman",21]
["JEBEL ALI",14,"JEBEL ALI14","JEBEL ALI","AEJEA","Karachi","PKKHI","Pakistan",21]
["JEBEL ALI",15,"JEBEL ALI15","JEBEL ALI","AEJEA","Doha","QADOH","Qatar",19]
["JEBEL ALI",16,"JEBEL ALI16","JEBEL ALI","AEJEA","Dammam","SADMM","Saudi Arabia",20]
["JEBEL ALI",{"$f":"+IF(A96=A95,B95+1,1)","v":17},"JEBEL ALI17","JEBEL ALI","AEJEA","Riyadh","SARUH","Saudi Arabia",26]
["JEBEL ALI",18,"JEBEL ALI18","JEBEL ALI","AEJEA","Port Sudan","SDPZU","Sudan",30]
["JEBEL ALI",19,"JEBEL ALI19","JEBEL ALI","AEJEA","Dar es Salaam","TZDAR","Tanzania, United Republic Of",33]
["JEBEL ALI",20,"JEBEL ALI20","JEBEL ALI","AEJEA","Aden","YEADE","Yemen",44]
["JEBEL ALI",21,"JEBEL ALI21","JEBEL ALI","AEJEA","Hodeidah","YEHOD","Yemen",44]
["MELBOURNE",1,"MELBOURNE1","MELBOURNE","AUMEL","Adelaide","AUADL","Australia",34]
["MONTREAL",1,"MONTREAL1","MONTREAL","CAMTR","Calgary","CACAL","Canada","On request only"]
["MONTREAL",2,"MONTREAL2","MONTREAL","CAMTR","Edmonton","CAEDM","Canada","On request only"]
["MONTREAL",3,"MONTREAL3","MONTREAL","CAMTR","Halifax","CAHAL","Canada","On request only"]
["MONTREAL",4,"MONTREAL4","MONTREAL","CAMTR","Ottawa","CAOTT","Canada","On request only"]
["MONTREAL",5,"MONTREAL5","MONTREAL","CAMTR","Quebec","CAQUE","Canada","On request only"]
["MONTREAL",6,"MONTREAL6","MONTREAL","CAMTR","Saskatoon","CASAK","Canada","On request only"]
["MONTREAL",7,"MONTREAL7","MONTREAL","CAMTR","Vancouver","CAVAN","Canada","On request only"]
["MONTREAL",8,"MONTREAL8","MONTREAL","CAMTR","Winnipeg","CAWNP","Canada","On request only"]
["NEW YORK",1,"NEW YORK1","NEW YORK","GBNWY","Kingsport","US3D7","United States",21]
["NEW YORK",2,"NEW YORK2","NEW YORK","GBNWY","Albuquerque","USABQ","United States",30]
["NEW YORK",3,"NEW YORK3","NEW YORK","GBNWY","Atlanta","USATL","United States",19]
["NEW YORK",4,"NEW YORK4","NEW YORK","GBNWY","Austin","USAUS","United States",22]
["NEW YORK",5,"NEW YORK5","NEW YORK","GBNWY","Baltimore","USBAL","United States",19]
["NEW YORK",6,"NEW YORK6","NEW YORK","GBNWY","Birmingham","USBHM","United States",21]
["NEW YORK",7,"NEW YORK7","NEW YORK","GBNWY","Nashville","USBNA","United States",19]
["NEW YORK",8,"NEW YORK8","NEW YORK","GBNWY","Boston","USBOS","United States",19]
["NEW YORK",9,"NEW YORK9","NEW YORK","GBNWY","Brownsville","USBRO","United States",22]
["NEW YORK",10,"NEW YORK10","NEW YORK","GBNWY","Baton Rouge","USBTR","United States",22]
["NEW YORK",11,"NEW YORK11","NEW YORK","GBNWY","Buffalo","USBUF","United States",21]
["NEW YORK",12,"NEW YORK12","NEW YORK","GBNWY","Chattanooga","USCHA","United States",21]
["NEW YORK",13,"NEW YORK13","NEW YORK","GBNWY","Chicago","USCHI","United States",19]
["NEW YORK",14,"NEW YORK14","NEW YORK","GBNWY","Charleston","USCHS","United States",19]
["NEW YORK",15,"NEW YORK15","NEW YORK","GBNWY","Cleveland","USCLE","United States",19]
["NEW YORK",16,"NEW YORK16","NEW YORK","GBNWY","Charlotte","USCLT","United States",19]
["NEW YORK",17,"NEW YORK17","NEW YORK","GBNWY","Columbus","USCMH","United States",19]
["NEW YORK",18,"NEW YORK18","NEW YORK","GBNWY","Cincinnati","USCVG","United States",19]
["NEW YORK",19,"NEW YORK19","NEW YORK","GBNWY","Dallas","USDAL","United States",19]
["NEW YORK",20,"NEW YORK20","NEW YORK","GBNWY","Dayton","USDAY","United States",19]
[{"$f":"+D130","v":"NEW YORK"},21,{"$f":"+A130&B130","v":"NEW YORK21"},"NEW YORK","GBNWY","Denver","USDEN","United States",30]
["NEW YORK",22,"NEW YORK22","NEW YORK","GBNWY","Detroit","USDET","United States",20]
["NEW YORK",23,"NEW YORK23","NEW YORK","GBNWY","Des Moines","USDSM","United States",21]
["NEW YORK",24,"NEW YORK24","NEW YORK","GBNWY","El Paso","USELP","United States",26]
["NEW YORK",25,"NEW YORK25","NEW YORK","GBNWY","Greensboro","USGBO","United States",21]
["NEW YORK",26,"NEW YORK26","NEW YORK","GBNWY","Grand Rapids","USGRR","United States",21]
["NEW YORK",27,"NEW YORK27","NEW YORK","GBNWY","Greenville","USGV9","United States",21]
["NEW YORK",28,"NEW YORK28","NEW YORK","GBNWY","Hidalgo","USHID","United States",22]
["NEW YORK",29,"NEW YORK29","NEW YORK","GBNWY","Houston","USHOU","United States",20]
["NEW YORK",30,"NEW YORK30","NEW YORK","GBNWY","Huntsville","USHSV","United States",21]
["NEW YORK",31,"NEW YORK31","NEW YORK","GBNWY","Wichita","USICT","United States",20]
["NEW YORK",32,"NEW YORK32","NEW YORK","GBNWY","Wilmington","USILM","United States",19]
["NEW YORK",33,"NEW YORK33","NEW YORK","GBNWY","Indianapolis","USIND","United States",21]
["NEW YORK",34,"NEW YORK34","NEW YORK","GBNWY","Jackson","USJAN","United States",21]
["NEW YORK",35,"NEW YORK35","NEW YORK","GBNWY","Jacksonville","USJAX","United States",24]
["NEW YORK",36,"NEW YORK36","NEW YORK","GBNWY","Las Vegas","USLAS","United States",30]
["NEW YORK",37,"NEW YORK37","NEW YORK","GBNWY","Los Angeles","USLAX","United States",27]
["NEW YORK",38,"NEW YORK38","NEW YORK","GBNWY","Lexington","USLEX","United States",21]
["NEW YORK",39,"NEW YORK39","NEW YORK","GBNWY","Little Rock","USLIT","United States",21]
["NEW YORK",40,"NEW YORK40","NEW YORK","GBNWY","Laredo","USLRD","United States",22]
["NEW YORK",41,"NEW YORK41","NEW YORK","GBNWY","Louisville","USLUI","United States",21]
["NEW YORK",42,"NEW YORK42","NEW YORK","GBNWY","Memphis","USMEM","United States",21]
["NEW YORK",43,"NEW YORK43","NEW YORK","GBNWY","Minneapolis","USMES","United States",21]
["NEW YORK",44,"NEW YORK44","NEW YORK","GBNWY","Montgomery","USMGM","United States",21]
["NEW YORK",45,"NEW YORK45","NEW YORK","GBNWY","Miami","USMIA","United States",24]
["NEW YORK",46,"NEW YORK46","NEW YORK","GBNWY","Kansas City","USMKC","United States",24]
["NEW YORK",47,"NEW YORK47","NEW YORK","GBNWY","Milwaukee","USMKE","United States",21]
["NEW YORK",48,"NEW YORK48","NEW YORK","GBNWY","Mobile","USMOB","United States",21]
["NEW YORK",49,"NEW YORK49","NEW YORK","GBNWY","New Orleans","USMSY","United States",22]
["NEW YORK",50,"NEW YORK50","NEW YORK","GBNWY","Oklahoma City","USOKC","United States",21]
["NEW YORK",{"$f":"+IF(A160=A159,B159+1,1)","v":51},"NEW YORK51","NEW YORK","GBNWY","Omaha","USOMA","United States",21]
["NEW YORK",52,"NEW YORK52","NEW YORK","GBNWY","Norfolk","USORF","United States",19]
["NEW YORK",53,"NEW YORK53","NEW YORK","GBNWY","Orlando","USORL","United States",24]
["NEW YORK",54,"NEW YORK54","NEW YORK","GBNWY","Portland","USPDX","United States",30]
["NEW YORK",55,"NEW YORK55","NEW YORK","GBNWY","Philadelphia","USPHL","United States",19]
["NEW YORK",56,"NEW YORK56","NEW YORK","GBNWY","Phoenix","USPHX","United States",30]
["NEW YORK",57,"NEW YORK57","NEW YORK","GBNWY","Pittsburgh","USPIT","United States",19]
["NEW YORK",58,"NEW YORK58","NEW YORK","GBNWY","Raleigh","USRAG","United States",22]
["NEW YORK",59,"NEW YORK59","NEW YORK","GBNWY","Richmond","USRIC","United States",21]
["NEW YORK",60,"NEW YORK60","NEW YORK","GBNWY","San Diego","USSAN","United States",30]
["NEW YORK",61,"NEW YORK61","NEW YORK","GBNWY","San Antonio","USSAT","United States",22]
["NEW YORK",62,"NEW YORK62","NEW YORK","GBNWY","Savannah","USSAV","United States",19]
["NEW YORK",63,"NEW YORK63","NEW YORK","GBNWY","Seattle","USSEA","United States",30]
["NEW YORK",64,"NEW YORK64","NEW YORK","GBNWY","San Francisco","USSFO","United States",30]
["NEW YORK",65,"NEW YORK65","NEW YORK","GBNWY","Springfield","USSGF","United States",21]
["NEW YORK",66,"NEW YORK66","NEW YORK","GBNWY","Salt Lake City","USSLC","United States",30]
["NEW YORK",67,"NEW YORK67","NEW YORK","GBNWY","St Louis","USSTL","United States",21]
["NEW YORK",68,"NEW YORK68","NEW YORK","GBNWY","Toledo","USTOL","United States",21]
["NEW YORK",69,"NEW YORK69","NEW YORK","GBNWY","Tampa","USTPA","United States",24]
["NEW YORK",70,"NEW YORK70","NEW YORK","GBNWY","Tulsa","USTUL","United States",21]
["NEW YORK",71,"NEW YORK71","NEW YORK","GBNWY","Tucson","USTUS","United States",30]
["NEW YORK",72,"NEW YORK72","NEW YORK","GBNWY","McAllen","USTXC","United States",22]
["NEW YORK",73,"NEW YORK73","NEW YORK","GBNWY","Knoxville","USTYS","United States",21]
["NEW YORK",74,"NEW YORK74","NEW YORK","GBNWY","Washington","USWAS","United States",21]
["NHAVA SHEVA",1,"NHAVA SHEVA1","NHAVA SHEVA","INNSA","Mumbai (ex Bombay)","INBOM","India",32]
["NHAVA SHEVA",2,"NHAVA SHEVA2","NHAVA SHEVA","INNSA","New Delhi","INICD","India",33]
["OSAKA",1,"OSAKA1","OSAKA","JPOSA","Nagoya, Aichi","JPNGO","Japan",49]
["OSAKA",2,"OSAKA2","OSAKA","JPOSA","Kobe","JPUKB","Japan",46]
["PORT KELANG",1,"PORT KELANG1","PORT KELANG","MYPKG","Penang (Georgetown)","MYPEN","Malaysia",23]
["SINGAPORE",1,"SINGAPORE1","SINGAPORE","SGSIN","Pago Pago","ASPPG","American Samoa",69]
["SINGAPORE",2,"SINGAPORE2","SINGAPORE","SGSIN","Adelaide","AUADL","Australia",43]
["SINGAPORE",3,"SINGAPORE3","SINGAPORE","SGSIN","Brisbane","AUBNE","Australia",43]
["SINGAPORE",4,"SINGAPORE4","SINGAPORE","SGSIN","Darwin","AUDRW","Australia",69]
["SINGAPORE",5,"SINGAPORE5","SINGAPORE","SGSIN","Fremantle","AUFRE","Australia",35]
[{"$f":"+D194","v":"SINGAPORE"},6,{"$f":"+A194&B194","v":"SINGAPORE6"},"SINGAPORE","SGSIN","Hobart","AUHBA","Australia",56]
["SINGAPORE",7,"SINGAPORE7","SINGAPORE","SGSIN","Melbourne","AUMEL","Australia",41]
["SINGAPORE",8,"SINGAPORE8","SINGAPORE","SGSIN","Sydney","AUSYD","Australia",47]
["SINGAPORE",9,"SINGAPORE9","SINGAPORE","SGSIN","Muara","BNMUA","Brunei Darussalam",32]
["SINGAPORE",10,"SINGAPORE10","SINGAPORE","SGSIN","Dalian","CNDLC","China",38]
["SINGAPORE",11,"SINGAPORE11","SINGAPORE","SGSIN","Ningbo","CNNGB","China",38]
["SINGAPORE",12,"SINGAPORE12","SINGAPORE","SGSIN","Qingdao","CNTAO","China",37]
["SINGAPORE",13,"SINGAPORE13","SINGAPORE","SGSIN","Lautoka","FJLTK","Fiji",58]
["SINGAPORE",14,"SINGAPORE14","SINGAPORE","SGSIN","Belawan, Sumatra","IDBLW","Indonesia",32]
["SINGAPORE",15,"SINGAPORE15","SINGAPORE","SGSIN","Balikpapan, Kalimantan","IDBPN","Indonesia",32]
["SINGAPORE",16,"SINGAPORE16","SINGAPORE","SGSIN","Jakarta, Java","IDJKT","Indonesia",30]
["SINGAPORE",17,"SINGAPORE17","SINGAPORE","SGSIN","Semarang, Java","IDSRG","Indonesia",32]
["SINGAPORE",18,"SINGAPORE18","SINGAPORE","SGSIN","Surabaya","IDSUB","Indonesia",32]
["SINGAPORE",19,"SINGAPORE19","SINGAPORE","SGSIN","Kolkata (ex Calcutta)","INCCU","India",37]
["SINGAPORE",20,"SINGAPORE20","SINGAPORE","SGSIN","Hyderabad","INHYD","India",38]
["SINGAPORE",21,"SINGAPORE21","SINGAPORE","SGSIN","Fukuoka","JPFUK","Japan",43]
["SINGAPORE",22,"SINGAPORE22","SINGAPORE","SGSIN","Hiroshima","JPHIJ","Japan",45]
["SINGAPORE",23,"SINGAPORE23","SINGAPORE","SGSIN","Hakata/Fukuoka","JPHKT","Japan",43]
["SINGAPORE",24,"SINGAPORE24","SINGAPORE","SGSIN","Moji/Kitakyushu","JPMOJ","Japan",39]
["SINGAPORE",25,"SINGAPORE25","SINGAPORE","SGSIN","Shimizu","JPSMZ","Japan",46]
["SINGAPORE",26,"SINGAPORE26","SINGAPORE","SGSIN","Kampong Saom","KHKOS","Cambodia",34]
["SINGAPORE",27,"SINGAPORE27","SINGAPORE","SGSIN","Phnom Penh","KHPNH","Cambodia",34]
["SINGAPORE",28,"SINGAPORE28","SINGAPORE","SGSIN","Tarawa","KITRW","Kiribati",89]
["SINGAPORE",29,"SINGAPORE29","SINGAPORE","SGSIN","Yangon","MMRGN","Myanmar",36]
["SINGAPORE",30,"SINGAPORE30","SINGAPORE","SGSIN","Male","MVMLE","Maldives",41]
["SINGAPORE",31,"SINGAPORE31","SINGAPORE","SGSIN","Kota Kinabalu, Sabah","MYBKI","Malaysia",32]
["SINGAPORE",32,"SINGAPORE32","SINGAPORE","SGSIN","Bintulu, Sarawak","MYBTU","Malaysia",40]
["SINGAPORE",33,"SINGAPORE33","SINGAPORE","SGSIN","Kuching, Sarawak","MYKCH","Malaysia",31]
["SINGAPORE",34,"SINGAPORE34","SINGAPORE","SGSIN","Labuan, Sabah","MYLBU","Malaysia",34]
["SINGAPORE",35,"SINGAPORE35","SINGAPORE","SGSIN","Miri, Sarawak","MYMYY","Malaysia",49]
["SINGAPORE",{"$f":"+IF(A224=A223,B223+1,1)","v":36},"SINGAPORE36","SINGAPORE","SGSIN","Penang (Georgetown)","MYPEN","Malaysia",32]
["SINGAPORE",37,"SINGAPORE37","SINGAPORE","SGSIN","Pasir Gudang, Johor","MYPGU","Malaysia",30]
["SINGAPORE",38,"SINGAPORE38","SINGAPORE","SGSIN","Port Kelang","MYPKG","Malaysia",24]
["SINGAPORE",39,"SINGAPORE39","SINGAPORE","SGSIN","Sibu, Sarawak","MYSBW","Malaysia",41]
["SINGAPORE",40,"SINGAPORE40","SINGAPORE","SGSIN","Tawau, Sabah","MYTWU","Malaysia",36]
["SINGAPORE",41,"SINGAPORE41","SINGAPORE","SGSIN","Noumea","NCNOU","New Caledonia",62]
["SINGAPORE",42,"SINGAPORE42","SINGAPORE","SGSIN","Auckland","NZAKL","New Zealand",43]
["SINGAPORE",43,"SINGAPORE43","SINGAPORE","SGSIN","Dunedin","NZDUD","New Zealand",50]
["SINGAPORE",44,"SINGAPORE44","SINGAPORE","SGSIN","Lyttelton","NZLYT","New Zealand",46]
["SINGAPORE",45,"SINGAPORE45","SINGAPORE","SGSIN","Wellington","NZWLG","New Zealand",54]
["SINGAPORE",46,"SINGAPORE46","SINGAPORE","SGSIN","Papeete","PFPPT","French Polynesia",56]
["SINGAPORE",47,"SINGAPORE47","SINGAPORE","SGSIN","Port Moresby","PGPOM","Papua New Guinea",48]
["SINGAPORE",48,"SINGAPORE48","SINGAPORE","SGSIN","Cebu","PHCEB","Philippines",36]
["SINGAPORE",49,"SINGAPORE49","SINGAPORE","SGSIN","Davao, Mindanao","PHDVO","Philippines",49]
["SINGAPORE",50,"SINGAPORE50","SINGAPORE","SGSIN","Manila","PHMNL","Philippines",34]
["SINGAPORE",51,"SINGAPORE51","SINGAPORE","SGSIN","Subic Bay","PHSFS","Philippines",36]
["SINGAPORE",52,"SINGAPORE52","SINGAPORE","SGSIN","Zamboanga","PHZAM","Philippines",44]
["SINGAPORE",53,"SINGAPORE53","SINGAPORE","SGSIN","Vladivostok","RUVVO","Russian Federation",45]
["SINGAPORE",54,"SINGAPORE54","SINGAPORE","SGSIN","Honiara, Guadalcanal Is","SBHIR","Solomon Islands",79]
["SINGAPORE",55,"SINGAPORE55","SINGAPORE","SGSIN","Laem Chabang","THLCH","Thailand",32]
["SINGAPORE",56,"SINGAPORE56","SINGAPORE","SGSIN","Lat Krabang","THLKR","Thailand",34]
["SINGAPORE",57,"SINGAPORE57","SINGAPORE","SGSIN","Funafuti","TVFUN","Tuvalu",89]
["SINGAPORE",58,"SINGAPORE58","SINGAPORE","SGSIN","Kaohsiung","TWKHH","Taiwan, Province Of China",35]
["SINGAPORE",59,"SINGAPORE59","SINGAPORE","SGSIN","Taichung","TWTXG","Taiwan, Province Of China",38]
["SINGAPORE",60,"SINGAPORE60","SINGAPORE","SGSIN","Cat Lai","VNCLI","Viet Nam",33]
["SINGAPORE",61,"SINGAPORE61","SINGAPORE","SGSIN","Da Nang","VNDAD","Viet Nam",37]
["SINGAPORE",62,"SINGAPORE62","SINGAPORE","SGSIN","Haiphong","VNHPH","Viet Nam",34]
["SINGAPORE",63,"SINGAPORE63","SINGAPORE","SGSIN","Ho Chi Minh City","VNSGN","Viet Nam",34]
["SINGAPORE",64,"SINGAPORE64","SINGAPORE","SGSIN","Port Vila","VUVLI","Vanuatu",63]
["SINGAPORE",65,"SINGAPORE65","SINGAPORE","SGSIN","Apia","WSAPW","Samoa",69]
["SYDNEY",1,"SYDNEY1","SYDNEY","AUSYD","Brisbane","AUBNE","Australia",43]
["TOKYO",1,"TOKYO1","TOKYO","JPTYO","Yokohama","JPYOK","Japan",46]
["TORONTO",1,"TORONTO1","TORONTO","CATOR","Calgary","CACAL","Canada","On request only"]
["TORONTO",2,"TORONTO2","TORONTO","CATOR","Edmonton","CAEDM","Canada","On request only"]
[{"$f":"+D258","v":"TORONTO"},3,{"$f":"+A258&B258","v":"TORONTO3"},"TORONTO","CATOR","Halifax","CAHAL","Canada","On request only"]
["TORONTO",4,"TORONTO4","TORONTO","CATOR","Ottawa","CAOTT","Canada","On request only"]
["TORONTO",5,"TORONTO5","TORONTO","CATOR","Quebec","CAQUE","Canada","On request only"]
["TORONTO",6,"TORONTO6","TORONTO","CATOR","Saskatoon","CASAK","Canada","On request only"]
["TORONTO",7,"TORONTO7","TORONTO","CATOR","Vancouver","CAVAN","Canada","On request only"]
["TORONTO",8,"TORONTO8","TORONTO","CATOR","Winnipeg","CAWNP","Canada","On request only"]

{"sheet":"Download con sequenziale","index":4,"n_rows":365,"n_cols":55,"rows_kept":365,"cut":false,"hidden":true,"merged":[[1,12,2,12],[9,12,10,12],[4,12,7,12],[4,14,7,17]]}
[]
[null,null,null,null,null,null,null,null,null,null,null,null,"STEP 1 -------------->"]
[]
[]
[null,null,null,null,null,null,null,null,null,null,null,null,"STEP 2 -------------->",null,"Copiare e incollare lo scarico da TANGO,\nposizionandosi nella cella M15.\nATTENZIONE!!! Non copiare l'intestazione della tabella!"]
[]
[]
[]
[]
[null,null,null,null,null,null,null,null,null,null,null,null,"STEP 3 -------------->"]
[]
[]
[]
["Prog pulsante","SEQ (POD)","UNIQUE (POD)","POD","SEQ (To)","UNIQUE (To)","To","POL","ams/aci/afr","UniqueVessel_ID","NTCS code","Terminal","Schedule ID","Saved","Manual Creation","From","Departure","Destination","To","Via 1","Via 2","External Carrier","Vessel Name 1","Voyage No. 1","ETD1 (Date)","ETD1 (Time)","ETA1 (Date)","ETA1 (Time)","Vessel Name 2","Voyage No. 2","ETD2 (Date)","ETD2 (Time)","ETA2 (Date)","ETA2 (Time)","Vessel Name 3","Voyage No. 3","ETD3 (Date)","ETD3 (Time)","ETA3 (Date)","ETA3 (Time)","Cut-off Day","Cut-off Date (Date)","Cut-off Date (Time)","Cut-off at Departure (CFS) (Date)","Cut-off at Departure (CFS) (Time)","Cut-off at Departure (CY) (Date)","Cut-off at Departure (CY) (Time)","Cut-off for DG Cargo (Date)","Cut-off for DG Cargo (Time)","Day of Service","Transit Time","Origin Contact","DG Acceptable","SkyBridge","Deleted"]
[{"$f":"+VLOOKUP(G15,'Lista consol SKR'!$P:$Q,2,FALSE)","v":{"$error":"#N/A"}},{"$f":"IF(D15=D14,B14+1,1)","v":1},{"$f":"+D15&B15","v":"Adelaide1"},{"$f":"+VLOOKUP(R15,'Lista consol SKR'!C:D,2,FALSE)","v":"Adelaide"},{"$f":"IF(G15=G14,E14+1,1)","v":1},{"$f":"+G15&E15","v":"Adelaide1"},{"$f":"+VLOOKUP(S15,'Lista consol SKR'!C:D,2,FALSE)","v":"Adelaide"},{"$f":"+VLOOKUP(Q15,'Lista consol SKR'!A:B,2,FALSE)","v":"La Spezia"},{"$f":"IF(M15=\"\",\"\",IF(LEFT(S15,2)=\"CN\",\"x\",IF(LEFT(S15,2)=\"US\",\"x\",IF(LEFT(S15,2)=\"CA\",\"x\",IF(LEFT(S15,2)=\"JP\",\"x\",\"Not required\")))))","v":"Not required"},{"$f":"IF(W15=\"\",\"\",W15&Q15)","v":"APL MEXICO CITYITSPE"},{"$f":"+IF(J15=\"\",\"\",IF(ISERROR(VLOOKUP(J15,'Vessel list'!A:J,10,FALSE)),\"\",VLOOKUP(J15,'Vessel list'!A:J,10,FALSE)))","v":""},{"$f":"+IF(J15=\"\",\"\",IF(ISERROR(VLOOKUP(J15,'Vessel list'!A:C,3,FALSE)),\"\",VLOOKUP(J15,'Vessel list'!A:C,3,FALSE)))","v":""},"ITMILAUADL000564074",null,"false","ITMIL","ITSPE","AUADL","AUADL",null,null,"DESACOSHIP0001","APL MEXICO CITY","ONN8FE","2020-10-16","00:00:00","2020-11-24","00:00:00",null,null,null,null,null,null,null,null,null,null,null,null,"Thursday","2020-10-08","00:00:00",44118,"00:00:00",44119,"00:00:00",null,null,"Friday",39,"Gladys Chiccoli","true","false","false"]
[{"$f":"+VLOOKUP(G16,'Lista consol SKR'!$P:$Q,2,FALSE)","v":{"$error":"#N/A"}},2,"Adelaide2",{"$f":"+VLOOKUP(R16,'Lista consol SKR'!C:D,2,FALSE)","v":"Adelaide"},2,"Adelaide2",{"$f":"+VLOOKUP(S16,'Lista consol SKR'!C:D,2,FALSE)","v":"Adelaide"},{"$f":"+VLOOKUP(Q16,'Lista consol SKR'!A:B,2,FALSE)","v":"La Spezia"},"Not required","MSC TIANJINITSPE",{"$f":"+IF(J16=\"\",\"\",IF(ISERROR(VLOOKUP(J16,'Vessel list'!A:J,10,FALSE)),\"\",VLOOKUP(J16,'Vessel list'!A:J,10,FALSE)))","v":""},{"$f":"+IF(J16=\"\",\"\",IF(ISERROR(VLOOKUP(J16,'Vessel list'!A:C,3,FALSE)),\"\",VLOOKUP(J16,'Vessel list'!A:C,3,FALSE)))","v":""},"ITMILAUADL000564439",null,"false","ITMIL","ITSPE","AUADL","AUADL",null,null,"DESACOSHIP0001","MSC TIANJIN","MA040A","2020-10-23","00:00:00","2020-12-01","00:00:00",null,null,null,null,null,null,null,null,null,null,null,null,"Thursday","2020-10-15","00:00:00",44125,"00:00:00",44126,"00:00:00",null,null,"Friday",39,"Gladys Chiccoli","true","false","false"]
[{"$f":"+VLOOKUP(G17,'Lista consol SKR'!$P:$Q,2,FALSE)","v":{"$error":"#N/A"}},3,"Adelaide3",{"$f":"+VLOOKUP(R17,'Lista consol SKR'!C:D,2,FALSE)","v":"Adelaide"},3,"Adelaide3",{"$f":"+VLOOKUP(S17,'Lista consol SKR'!C:D,2,FALSE)","v":"Adelaide"},{"$f":"+VLOOKUP(Q17,'Lista consol SKR'!A:B,2,FALSE)","v":"La Spezia"},"Not required","MSC JOANNAITSPE",{"$f":"+IF(J17=\"\",\"\",IF(ISERROR(VLOOKUP(J17,'Vessel list'!A:J,10,FALSE)),\"\",VLOOKUP(J17,'Vessel list'!A:J,10,FALSE)))","v":""},{"$f":"+IF(J17=\"\",\"\",IF(ISERROR(VLOOKUP(J17,'Vessel list'!A:C,3,FALSE)),\"\",VLOOKUP(J17,'Vessel list'!A:C,3,FALSE)))","v":""},"ITMILAUADL000564440",null,"false","ITMIL","ITSPE","AUADL","AUADL",null,null,"DESACOSHIP0001","MSC JOANNA","MA041A","2020-10-30","00:00:00","2020-12-08","00:00:00",null,null,null,null,null,null,null,null,null,null,null,null,"Friday","2020-10-23","12:30:00",44132,"00:00:00",44133,"00:00:00",null,null,"Friday",39,"Gladys Chiccoli","true","false","false"]
[{"$f":"+VLOOKUP(G18,'Lista consol SKR'!$P:$Q,2,FALSE)","v":1},1,"Alexandria1",{"$f":"+VLOOKUP(R18,'Lista consol SKR'!C:D,2,FALSE)","v":"Alexandria"},1,"Alexandria1",{"$f":"+VLOOKUP(S18,'Lista consol SKR'!C:D,2,FALSE)","v":"Alexandria"},{"$f":"+VLOOKUP(Q18,'Lista consol SKR'!A:B,2,FALSE)","v":"Genoa"},"Not required","CINZIA AITGOA",{"$f":"+IF(J18=\"\",\"\",IF(ISERROR(VLOOKUP(J18,'Vessel list'!A:J,10,FALSE)),\"\",VLOOKUP(J18,'Vessel list'!A:J,10,FALSE)))","v":""},{"$f":"+IF(J18=\"\",\"\",IF(ISERROR(VLOOKUP(J18,'Vessel list'!A:C,3,FALSE)),\"\",VLOOKUP(J18,'Vessel list'!A:C,3,FALSE)))","v":""},"ITMILEGALY000558709",null,"false","ITMIL","ITGOA","EGALY","EGALY",null,null,"FRCMACGM0001","CINZIA A","0RB6HE1MA","2020-10-15","06:00:00","2020-10-19","08:00:00",null,null,null,null,null,null,null,null,null,null,null,null,"Friday","2020-10-09","18:00:00","2020-10-13","06:00:00","2020-10-14","06:00:00",null,null,"Thursday",5,"Silvia Bagnalasta","true","false","false"]
[{"$f":"+VLOOKUP(G19,'Lista consol SKR'!$P:$Q,2,FALSE)","v":1},2,"Alexandria2",{"$f":"+VLOOKUP(R19,'Lista consol SKR'!C:D,2,FALSE)","v":"Alexandria"},2,"Alexandria2",{"$f":"+VLOOKUP(S19,'Lista consol SKR'!C:D,2,FALSE)","v":"Alexandria"},{"$f":"+VLOOKUP(Q19,'Lista consol SKR'!A:B,2,FALSE)","v":"Genoa"},"Not required","CINZIA AITGOA",{"$f":"+IF(J19=\"\",\"\",IF(ISERROR(VLOOKUP(J19,'Vessel list'!A:J,10,FALSE)),\"\",VLOOKUP(J19,'Vessel list'!A:J,10,FALSE)))","v":""},{"$f":"+IF(J19=\"\",\"\",IF(ISERROR(VLOOKUP(J19,'Vessel list'!A:C,3,FALSE)),\"\",VLOOKUP(J19,'Vessel list'!A:C,3,FALSE)))","v":""},"ITMILEGALY000552677",null,"false","ITMIL","ITGOA","EGALY","EGALY",null,null,"FRCMACGM0001","CINZIA A","0RB6HE1MA","2020-10-15","06:00:00","2020-10-19","08:00:00",null,null,null,null,null,null,null,null,null,null,null,null,"Friday","2020-10-09","18:00:00",44117,"06:00:00",44118,"06:00:00",null,null,"Thursday",5,null,"true","false","false"]
[{"$f":"+VLOOKUP(G20,'Lista consol SKR'!$P:$Q,2,FALSE)","v":1},3,"Alexandria3",{"$f":"+VLOOKUP(R20,'Lista consol SKR'!C:D,2,FALSE)","v":"Alexandria"},3,"Alexandria3",{"$f":"+VLOOKUP(S20,'Lista consol SKR'!C:D,2,FALSE)","v":"Alexandria"},{"$f":"+VLOOKUP(Q20,'Lista consol SKR'!A:B,2,FALSE)","v":"Genoa"},"Not required","CHARLOTTE BORCHARDITGOA",{"$f":"+IF(J20=\"\",\"\",IF(ISERROR(VLOOKUP(J20,'Vessel list'!A:J,10,FALSE)),\"\",VLOOKUP(J20,'Vessel list'!A:J,10,FALSE)))","v":""},{"$f":"+IF(J20=\"\",\"\",IF(ISERROR(VLOOKUP(J20,'Vessel list'!A:C,3,FALSE)),\"\",VLOOKUP(J20,'Vessel list'!A:C,3,FALSE)))","v":""},"ITMILEGALY000564478",null,"false","ITMIL","ITGOA","EGALY","EGALY",null,null,"USVANGLOGI0001","CHARLOTTE BORCHARD","643","2020-10-19","00:00:00","2020-10-29","00:00:00",null,null,null,null,null,null,null,null,null,null,null,null,"Tuesday","2020-10-13","00:00:00",44121,"00:00:00",44122,"00:00:00",null,null,"Monday",10,"Silvia Bagnalasta","true","false","false"]
[{"$f":"+VLOOKUP(G21,'Lista consol SKR'!$P:$Q,2,FALSE)","v":1},4,"Alexandria4",{"$f":"+VLOOKUP(R21,'Lista consol SKR'!C:D,2,FALSE)","v":"Alexandria"},4,"Alexandria4",{"$f":"+VLOOKUP(S21,'Lista consol SKR'!C:D,2,FALSE)","v":"Alexandria"},{"$f":"+VLOOKUP(Q21,'Lista consol SKR'!A:B,2,FALSE)","v":"Genoa"},"Not required","MAERSK NAIROBIITGOA",{"$f":"+IF(J21=\"\",\"\",IF(ISERROR(VLOOKUP(J21,'Vessel list'!A:J,10,FALSE)),\"\",VLOOKUP(J21,'Vessel list'!A:J,10,FALSE)))","v":""},{"$f":"+IF(J21=\"\",\"\",IF(ISERROR(VLOOKUP(J21,'Vessel list'!A:C,3,FALSE)),\"\",VLOOKUP(J21,'Vessel list'!A:C,3,FALSE)))","v":""},"ITMILEGALY000556428",null,"false","ITMIL","ITGOA","EGALY","EGALY",null,null,"FRCMACGM0001","MAERSK NAIROBI","0RB6JE1MA","2020-10-22","06:00:00","2020-10-26","08:00:00",null,null,null,null,null,null,null,null,null,null,null,null,"Friday","2020-10-16","18:00:00",44124,"06:00:00",44125,"06:00:00",null,null,"Thursday",5,null,"true","false","false"]
[{"$f":"+VLOOKUP(G22,'Lista consol SKR'!$P:$Q,2,FALSE)","v":1},5,"Alexandria5",{"$f":"+VLOOKUP(R22,'Lista consol SKR'!C:D,2,FALSE)","v":"Alexandria"},5,"Alexandria5",{"$f":"+VLOOKUP(S22,'Lista consol SKR'!C:D,2,FALSE)","v":"Alexandria"},{"$f":"+VLOOKUP(Q22,'Lista consol SKR'!A:B,2,FALSE)","v":"Genoa"},"Not required","MAERSK NAIROBIITGOA",{"$f":"+IF(J22=\"\",\"\",IF(ISERROR(VLOOKUP(J22,'Vessel list'!A:J,10,FALSE)),\"\",VLOOKUP(J22,'Vessel list'!A:J,10,FALSE)))","v":""},{"$f":"+IF(J22=\"\",\"\",IF(ISERROR(VLOOKUP(J22,'Vessel list'!A:C,3,FALSE)),\"\",VLOOKUP(J22,'Vessel list'!A:C,3,FALSE)))","v":""},"ITMILEGALY000558711",null,"false","ITMIL","ITGOA","EGALY","EGALY",null,null,"FRCMACGM0001","MAERSK NAIROBI","0RB6JE1MA","2020-10-22","06:00:00","2020-10-26","08:00:00",null,null,null,null,null,null,null,null,null,null,null,null,"Friday","2020-10-16","18:00:00",44124,"06:00:00",44125,"06:00:00",null,null,"Thursday",5,"Silvia Bagnalasta","true","false","false"]
[{"$f":"+VLOOKUP(G23,'Lista consol SKR'!$P:$Q,2,FALSE)","v":1},6,"Alexandria6",{"$f":"+VLOOKUP(R23,'Lista consol SKR'!C:D,2,FALSE)","v":"Alexandria"},6,"Alexandria6",{"$f":"+VLOOKUP(S23,'Lista consol SKR'!C:D,2,FALSE)","v":"Alexandria"},{"$f":"+VLOOKUP(Q23,'Lista consol SKR'!A:B,2,FALSE)","v":"Genoa"},"Not required","TEOMAN AITGOA",{"$f":"+IF(J23=\"\",\"\",IF(ISERROR(VLOOKUP(J23,'Vessel list'!A:J,10,FALSE)),\"\",VLOOKUP(J23,'Vessel list'!A:J,10,FALSE)))","v":""},{"$f":"+IF(J23=\"\",\"\",IF(ISERROR(VLOOKUP(J23,'Vessel list'!A:C,3,FALSE)),\"\",VLOOKUP(J23,'Vessel list'!A:C,3,FALSE)))","v":""},"ITMILEGALY000565807",null,"false","ITMIL","ITGOA","EGALY","EGALY",null,null,"FRCMACGM0001","TEOMAN A","0RB6LE1MA","2020-10-29","06:00:00","2020-11-02","08:00:00",null,null,null,null,null,null,null,null,null,null,null,null,"Friday","2020-10-23","18:00:00","2020-10-27","06:00:00","2020-10-28","06:00:00",null,null,"Thursday",5,"Silvia Bagnalasta","true","false","false"]
[{"$f":"+VLOOKUP(G24,'Lista consol SKR'!$P:$Q,2,FALSE)","v":1},7,"Alexandria7",{"$f":"+VLOOKUP(R24,'Lista consol SKR'!C:D,2,FALSE)","v":"Alexandria"},7,"Alexandria7",{"$f":"+VLOOKUP(S24,'Lista consol SKR'!C:D,2,FALSE)","v":"Alexandria"},{"$f":"+VLOOKUP(Q24,'Lista consol SKR'!A:B,2,FALSE)","v":"Genoa"},"Not required","TEOMAN AITGOA",{"$f":"+IF(J24=\"\",\"\",IF(ISERROR(VLOOKUP(J24,'Vessel list'!A:J,10,FALSE)),\"\",VLOOKUP(J24,'Vessel list'!A:J,10,FALSE)))","v":""},{"$f":"+IF(J24=\"\",\"\",IF(ISERROR(VLOOKUP(J24,'Vessel list'!A:C,3,FALSE)),\"\",VLOOKUP(J24,'Vessel list'!A:C,3,FALSE)))","v":""},"ITMILEGALY000556429",null,"false","ITMIL","ITGOA","EGALY","EGALY",null,null,"FRCMACGM0001","TEOMAN A","0RB6LE1MA","2020-10-29","06:00:00","2020-11-02","08:00:00",null,null,null,null,null,null,null,null,null,null,null,null,"Friday","2020-10-23","18:00:00","2020-10-27","06:00:00","2020-10-28","06:00:00",null,null,"Thursday",5,null,"true","false","false"]
[{"$f":"+VLOOKUP(G25,'Lista consol SKR'!$P:$Q,2,FALSE)","v":1},8,"Alexandria8",{"$f":"+VLOOKUP(R25,'Lista consol SKR'!C:D,2,FALSE)","v":"Alexandria"},8,"Alexandria8",{"$f":"+VLOOKUP(S25,'Lista consol SKR'!C:D,2,FALSE)","v":"Alexandria"},{"$f":"+VLOOKUP(Q25,'Lista consol SKR'!A:B,2,FALSE)","v":"Genoa"},"Not required","SAFMARINE NILEITGOA",{"$f":"+IF(J25=\"\",\"\",IF(ISERROR(VLOOKUP(J25,'Vessel list'!A:J,10,FALSE)),\"\",VLOOKUP(J25,'Vessel list'!A:J,10,FALSE)))","v":""},{"$f":"+IF(J25=\"\",\"\",IF(ISERROR(VLOOKUP(J25,'Vessel list'!A:C,3,FALSE)),\"\",VLOOKUP(J25,'Vessel list'!A:C,3,FALSE)))","v":""},"ITMILEGALY000556430",null,"false","ITMIL","ITGOA","EGALY","EGALY",null,null,"FRCMACGM0001","SAFMARINE NILE","0RB6NE1MA","2020-11-05","06:00:00","2020-11-09","08:00:00",null,null,null,null,null,null,null,null,null,null,null,null,"Friday","2020-10-30","18:00:00",44138,"06:00:00",44139,"06:00:00",null,null,"Thursday",5,null,"true","false","false"]
[{"$f":"+VLOOKUP(G26,'Lista consol SKR'!$P:$Q,2,FALSE)","v":1},9,"Alexandria9",{"$f":"+VLOOKUP(R26,'Lista consol SKR'!C:D,2,FALSE)","v":"Alexandria"},9,"Alexandria9",{"$f":"+VLOOKUP(S26,'Lista consol SKR'!C:D,2,FALSE)","v":"Alexandria"},{"$f":"+VLOOKUP(Q26,'Lista consol SKR'!A:B,2,FALSE)","v":"Genoa"},"Not required","SAFMARINE NILEITGOA",{"$f":"+IF(J26=\"\",\"\",IF(ISERROR(VLOOKUP(J26,'Vessel list'!A:J,10,FALSE)),\"\",VLOOKUP(J26,'Vessel list'!A:J,10,FALSE)))","v":""},{"$f":"+IF(J26=\"\",\"\",IF(ISERROR(VLOOKUP(J26,'Vessel list'!A:C,3,FALSE)),\"\",VLOOKUP(J26,'Vessel list'!A:C,3,FALSE)))","v":""},"ITMILEGALY000565808",null,"false","ITMIL","ITGOA","EGALY","EGALY",null,null,"FRCMACGM0001","SAFMARINE NILE","0RB6NE1MA","2020-11-05","06:00:00","2020-11-09","08:00:00",null,null,null,null,null,null,null,null,null,null,null,null,"Friday","2020-10-30","18:00:00",44138,"06:00:00",44139,"06:00:00",null,null,"Thursday",5,"Silvia Bagnalasta","true","false","false"]
[{"$f":"+VLOOKUP(G27,'Lista consol SKR'!$P:$Q,2,FALSE)","v":1},10,"Alexandria10",{"$f":"+VLOOKUP(R27,'Lista consol SKR'!C:D,2,FALSE)","v":"Alexandria"},10,"Alexandria10",{"$f":"+VLOOKUP(S27,'Lista consol SKR'!C:D,2,FALSE)","v":"Alexandria"},{"$f":"+VLOOKUP(Q27,'Lista consol SKR'!A:B,2,FALSE)","v":"Genoa"},"Not required","CINZIA AITGOA",{"$f":"+IF(J27=\"\",\"\",IF(ISERROR(VLOOKUP(J27,'Vessel list'!A:J,10,FALSE)),\"\",VLOOKUP(J27,'Vessel list'!A:J,10,FALSE)))","v":""},{"$f":"+IF(J27=\"\",\"\",IF(ISERROR(VLOOKUP(J27,'Vessel list'!A:C,3,FALSE)),\"\",VLOOKUP(J27,'Vessel list'!A:C,3,FALSE)))","v":""},"ITMILEGALY000556431",null,"false","ITMIL","ITGOA","EGALY","EGALY",null,null,"FRCMACGM0001","CINZIA A","0RB6PE1MA","2020-11-12","06:00:00","2020-11-16","08:00:00",null,null,null,null,null,null,null,null,null,null,null,null,"Friday","2020-11-06","18:00:00",44145,"06:00:00",44146,"06:00:00",null,null,"Thursday",5,null,"true","false","false"]
[{"$f":"+VLOOKUP(G28,'Lista consol SKR'!$P:$Q,2,FALSE)","v":1},11,"Alexandria11",{"$f":"+VLOOKUP(R28,'Lista consol SKR'!C:D,2,FALSE)","v":"Alexandria"},11,"Alexandria11",{"$f":"+VLOOKUP(S28,'Lista consol SKR'!C:D,2,FALSE)","v":"Alexandria"},{"$f":"+VLOOKUP(Q28,'Lista consol SKR'!A:B,2,FALSE)","v":"Genoa"},"Not required","CINZIA AITGOA",{"$f":"+IF(J28=\"\",\"\",IF(ISERROR(VLOOKUP(J28,'Vessel list'!A:J,10,FALSE)),\"\",VLOOKUP(J28,'Vessel list'!A:J,10,FALSE)))","v":""},{"$f":"+IF(J28=\"\",\"\",IF(ISERROR(VLOOKUP(J28,'Vessel list'!A:C,3,FALSE)),\"\",VLOOKUP(J28,'Vessel list'!A:C,3,FALSE)))","v":""},"ITMILEGALY000565809",null,"false","ITMIL","ITGOA","EGALY","EGALY",null,null,"FRCMACGM0001","CINZIA A","0RB6PE1MA","2020-11-12","06:00:00","2020-11-16","08:00:00",null,null,null,null,null,null,null,null,null,null,null,null,"Friday","2020-11-06","18:00:00",44145,0.25,44146,0.25,null,null,"Thursday",5,"Silvia Bagnalasta","true","false","false"]
[{"$f":"+VLOOKUP(G29,'Lista consol SKR'!$P:$Q,2,FALSE)","v":1},12,"Alexandria12",{"$f":"+VLOOKUP(R29,'Lista consol SKR'!C:D,2,FALSE)","v":"Alexandria"},12,"Alexandria12",{"$f":"+VLOOKUP(S29,'Lista consol SKR'!C:D,2,FALSE)","v":"Alexandria"},{"$f":"+VLOOKUP(Q29,'Lista consol SKR'!A:B,2,FALSE)","v":"Genoa"},"Not required","MAERSK NAIROBIITGOA",{"$f":"+IF(J29=\"\",\"\",IF(ISERROR(VLOOKUP(J29,'Vessel list'!A:J,10,FALSE)),\"\",VLOOKUP(J29,'Vessel list'!A:J,10,FALSE)))","v":""},{"$f":"+IF(J29=\"\",\"\",IF(ISERROR(VLOOKUP(J29,'Vessel list'!A:C,3,FALSE)),\"\",VLOOKUP(J29,'Vessel list'!A:C,3,FALSE)))","v":""},"ITMILEGALY000565810",null,"false","ITMIL","ITGOA","EGALY","EGALY",null,null,"FRCMACGM0001","MAERSK NAIROBI","0RB6RE1MA","2020-11-19","09:38:00","2020-11-23","16:43:00",null,null,null,null,null,null,null,null,null,null,null,null,"Friday","2020-11-13","18:00:00",44152,"09:38:00",44153,"09:38:00",null,null,"Thursday",5,"Silvia Bagnalasta","true","false","false"]
[{"$f":"+VLOOKUP(G30,'Lista consol SKR'!$P:$Q,2,FALSE)","v":1},13,"Alexandria13",{"$f":"+VLOOKUP(R30,'Lista consol SKR'!C:D,2,FALSE)","v":"Alexandria"},13,"Alexandria13",{"$f":"+VLOOKUP(S30,'Lista consol SKR'!C:D,2,FALSE)","v":"Alexandria"},{"$f":"+VLOOKUP(Q30,'Lista consol SKR'!A:B,2,FALSE)","v":"Genoa"},"Not required","TEOMAN AITGOA",{"$f":"+IF(J30=\"\",\"\",IF(ISERROR(VLOOKUP(J30,'Vessel list'!A:J,10,FALSE)),\"\",VLOOKUP(J30,'Vessel list'!A:J,10,FALSE)))","v":""},{"$f":"+IF(J30=\"\",\"\",IF(ISERROR(VLOOKUP(J30,'Vessel list'!A:C,3,FALSE)),\"\",VLOOKUP(J30,'Vessel list'!A:C,3,FALSE)))","v":""},"ITMILEGALY000563310",null,"false","ITMIL","ITGOA","EGALY","EGALY",null,null,"FRCMACGM0001","TEOMAN A","0RB6TE1MA","2020-11-26","09:41:00","2020-11-30","16:46:00",null,null,null,null,null,null,null,null,null,null,null,null,"Thursday","2020-11-19","18:00:00",44159,"09:41:00",44160,"09:41:00",null,null,"Thursday",5,null,"true","false","false"]
[{"$f":"+VLOOKUP(G31,'Lista consol SKR'!$P:$Q,2,FALSE)","v":1},14,"Alexandria14",{"$f":"+VLOOKUP(R31,'Lista consol SKR'!C:D,2,FALSE)","v":"Alexandria"},14,"Alexandria14",{"$f":"+VLOOKUP(S31,'Lista consol SKR'!C:D,2,FALSE)","v":"Alexandria"},{"$f":"+VLOOKUP(Q31,'Lista consol SKR'!A:B,2,FALSE)","v":"Genoa"},"Not required","TEOMAN AITGOA",{"$f":"+IF(J31=\"\",\"\",IF(ISERROR(VLOOKUP(J31,'Vessel list'!A:J,10,FALSE)),\"\",VLOOKUP(J31,'Vessel list'!A:J,10,FALSE)))","v":""},{"$f":"+IF(J31=\"\",\"\",IF(ISERROR(VLOOKUP(J31,'Vessel list'!A:C,3,FALSE)),\"\",VLOOKUP(J31,'Vessel list'!A:C,3,FALSE)))","v":""},"ITMILEGALY000565811",null,"false","ITMIL","ITGOA","EGALY","EGALY",null,null,"FRCMACGM0001","TEOMAN A","0RB6TE1MA","2020-11-26","09:41:00","2020-11-30","16:46:00",null,null,null,null,null,null,null,null,null,null,null,null,"Friday","2020-11-20","18:00:00",44159,"09:41:00",44160,"09:41:00",null,null,"Thursday",5,"Silvia Bagnalasta","true","false","false"]
[{"$f":"+VLOOKUP(G32,'Lista consol SKR'!$P:$Q,2,FALSE)","v":1},15,"Alexandria15",{"$f":"+VLOOKUP(R32,'Lista consol SKR'!C:D,2,FALSE)","v":"Alexandria"},15,"Alexandria15",{"$f":"+VLOOKUP(S32,'Lista consol SKR'!C:D,2,FALSE)","v":"Alexandria"},{"$f":"+VLOOKUP(Q32,'Lista consol SKR'!A:B,2,FALSE)","v":"Genoa"},"Not required","SAFMARINE NILEITGOA",{"$f":"+IF(J32=\"\",\"\",IF(ISERROR(VLOOKUP(J32,'Vessel list'!A:J,10,FALSE)),\"\",VLOOKUP(J32,'Vessel list'!A:J,10,FALSE)))","v":""},{"$f":"+IF(J32=\"\",\"\",IF(ISERROR(VLOOKUP(J32,'Vessel list'!A:C,3,FALSE)),\"\",VLOOKUP(J32,'Vessel list'!A:C,3,FALSE)))","v":""},"ITMILEGALY000563311",null,"false","ITMIL","ITGOA","EGALY","EGALY",null,null,"FRCMACGM0001","SAFMARINE NILE","0RB6VE1MA","2020-12-03","09:40:00","2020-12-07","16:45:00",null,null,null,null,null,null,null,null,null,null,null,null,"Thursday","2020-11-26","18:00:00",44166,0.40277777778101154,44167,0.40277777778101154,null,null,"Thursday",5,null,"true","false","false"]
[{"$f":"+VLOOKUP(G33,'Lista consol SKR'!$P:$Q,2,FALSE)","v":1},16,"Alexandria16",{"$f":"+VLOOKUP(R33,'Lista consol SKR'!C:D,2,FALSE)","v":"Alexandria"},16,"Alexandria16",{"$f":"+VLOOKUP(S33,'Lista consol SKR'!C:D,2,FALSE)","v":"Alexandria"},{"$f":"+VLOOKUP(Q33,'Lista consol SKR'!A:B,2,FALSE)","v":"Genoa"},"Not required","SAFMARINE NILEITGOA",{"$f":"+IF(J33=\"\",\"\",IF(ISERROR(VLOOKUP(J33,'Vessel list'!A:J,10,FALSE)),\"\",VLOOKUP(J33,'Vessel list'!A:J,10,FALSE)))","v":""},{"$f":"+IF(J33=\"\",\"\",IF(ISERROR(VLOOKUP(J33,'Vessel list'!A:C,3,FALSE)),\"\",VLOOKUP(J33,'Vessel list'!A:C,3,FALSE)))","v":""},"ITMILEGALY000565812",null,"false","ITMIL","ITGOA","EGALY","EGALY",null,null,"FRCMACGM0001","SAFMARINE NILE","0RB6VE1MA","2020-12-03","09:40:00","2020-12-07","16:45:00",null,null,null,null,null,null,null,null,null,null,null,null,"Friday","2020-11-27","18:00:00",44166,"09:40:00",44167,"09:40:00",null,null,"Thursday",5,"Silvia Bagnalasta","true","false","false"]
[{"$f":"+VLOOKUP(G34,'Lista consol SKR'!$P:$Q,2,FALSE)","v":1},17,"Alexandria17",{"$f":"+VLOOKUP(R34,'Lista consol SKR'!C:D,2,FALSE)","v":"Alexandria"},17,"Alexandria17",{"$f":"+VLOOKUP(S34,'Lista consol SKR'!C:D,2,FALSE)","v":"Alexandria"},{"$f":"+VLOOKUP(Q34,'Lista consol SKR'!A:B,2,FALSE)","v":"Genoa"},"Not required","CINZIA AITGOA",{"$f":"+IF(J34=\"\",\"\",IF(ISERROR(VLOOKUP(J34,'Vessel list'!A:J,10,FALSE)),\"\",VLOOKUP(J34,'Vessel list'!A:J,10,FALSE)))","v":""},{"$f":"+IF(J34=\"\",\"\",IF(ISERROR(VLOOKUP(J34,'Vessel list'!A:C,3,FALSE)),\"\",VLOOKUP(J34,'Vessel list'!A:C,3,FALSE)))","v":""},"ITMILEGALY000563312",null,"false","ITMIL","ITGOA","EGALY","EGALY",null,null,"FRCMACGM0001","CINZIA A","0RB6XE1MA","2020-12-10","09:37:00","2020-12-14","16:42:00",null,null,null,null,null,null,null,null,null,null,null,null,"Thursday","2020-12-03","18:00:00","2020-12-08","09:37:00","2020-12-09","09:37:00",null,null,"Thursday",5,null,"true","false","false"]
[{"$f":"+VLOOKUP(G35,'Lista consol SKR'!$P:$Q,2,FALSE)","v":1},18,"Alexandria18",{"$f":"+VLOOKUP(R35,'Lista consol SKR'!C:D,2,FALSE)","v":"Alexandria"},18,"Alexandria18",{"$f":"+VLOOKUP(S35,'Lista consol SKR'!C:D,2,FALSE)","v":"Alexandria"},{"$f":"+VLOOKUP(Q35,'Lista consol SKR'!A:B,2,FALSE)","v":"Genoa"},"Not required","CINZIA AITGOA",{"$f":"+IF(J35=\"\",\"\",IF(ISERROR(VLOOKUP(J35,'Vessel list'!A:J,10,FALSE)),\"\",VLOOKUP(J35,'Vessel list'!A:J,10,FALSE)))","v":""},{"$f":"+IF(J35=\"\",\"\",IF(ISERROR(VLOOKUP(J35,'Vessel list'!A:C,3,FALSE)),\"\",VLOOKUP(J35,'Vessel list'!A:C,3,FALSE)))","v":""},"ITMILEGALY000565813",null,"false","ITMIL","ITGOA","EGALY","EGALY",null,null,"FRCMACGM0001","CINZIA A","0RB6XE1MA","2020-12-10","09:37:00","2020-12-14","16:42:00",null,null,null,null,null,null,null,null,null,null,null,null,"Friday","2020-12-04","18:00:00",44173,"09:37:00",44174,"09:37:00",null,null,"Thursday",5,"Silvia Bagnalasta","true","false","false"]
[{"$f":"+VLOOKUP(G36,'Lista consol SKR'!$P:$Q,2,FALSE)","v":1},19,"Alexandria19",{"$f":"+VLOOKUP(R36,'Lista consol SKR'!C:D,2,FALSE)","v":"Alexandria"},19,"Alexandria19",{"$f":"+VLOOKUP(S36,'Lista consol SKR'!C:D,2,FALSE)","v":"Alexandria"},{"$f":"+VLOOKUP(Q36,'Lista consol SKR'!A:B,2,FALSE)","v":"Genoa"},"Not required","MAERSK NAIROBIITGOA",{"$f":"+IF(J36=\"\",\"\",IF(ISERROR(VLOOKUP(J36,'Vessel list'!A:J,10,FALSE)),\"\",VLOOKUP(J36,'Vessel list'!A:J,10,FALSE)))","v":""},{"$f":"+IF(J36=\"\",\"\",IF(ISERROR(VLOOKUP(J36,'Vessel list'!A:C,3,FALSE)),\"\",VLOOKUP(J36,'Vessel list'!A:C,3,FALSE)))","v":""},"ITMILEGALY000563313",null,"false","ITMIL","ITGOA","EGALY","EGALY",null,null,"FRCMACGM0001","MAERSK NAIROBI","0RB6ZE1MA","2020-12-17","09:39:00","2020-12-21","16:44:00",null,null,null,null,null,null,null,null,null,null,null,null,"Thursday","2020-12-10","18:00:00",44180,"09:39:00",44181,"09:39:00",null,null,"Thursday",5,null,"true","false","false"]
[{"$f":"+VLOOKUP(G37,'Lista consol SKR'!$P:$Q,2,FALSE)","v":1},20,"Alexandria20",{"$f":"+VLOOKUP(R37,'Lista consol SKR'!C:D,2,FALSE)","v":"Alexandria"},20,"Alexandria20",{"$f":"+VLOOKUP(S37,'Lista consol SKR'!C:D,2,FALSE)","v":"Alexandria"},{"$f":"+VLOOKUP(Q37,'Lista consol SKR'!A:B,2,FALSE)","v":"Genoa"},"Not required","TEOMAN AITGOA",{"$f":"+IF(J37=\"\",\"\",IF(ISERROR(VLOOKUP(J37,'Vessel list'!A:J,10,FALSE)),\"\",VLOOKUP(J37,'Vessel list'!A:J,10,FALSE)))","v":""},{"$f":"+IF(J37=\"\",\"\",IF(ISERROR(VLOOKUP(J37,'Vessel list'!A:C,3,FALSE)),\"\",VLOOKUP(J37,'Vessel list'!A:C,3,FALSE)))","v":""},"ITMILEGALY000563314",null,"false","ITMIL","ITGOA","EGALY","EGALY",null,null,"FRCMACGM0001","TEOMAN A","0RB71E1MA","2020-12-24","09:42:00","2020-12-28","16:47:00",null,null,null,null,null,null,null,null,null,null,null,null,"Thursday","2020-12-17","18:00:00",44187,0.40416666666715173,44188,0.40416666666715173,null,null,"Thursday",5,null,"true","false","false"]
[{"$f":"+VLOOKUP(G38,'Lista consol SKR'!$P:$Q,2,FALSE)","v":{"$error":"#N/A"}},1,"Alger (Algiers)1",{"$f":"+VLOOKUP(R38,'Lista consol SKR'!C:D,2,FALSE)","v":"Alger (Algiers)"},1,"Alger (Algiers)1",{"$f":"+VLOOKUP(S38,'Lista consol SKR'!C:D,2,FALSE)","v":"Alger (Algiers)"},{"$f":"+VLOOKUP(Q38,'Lista consol SKR'!A:B,2,FALSE)","v":"Genoa"},"Not required","HOLANDIAITGOA",{"$f":"+IF(J38=\"\",\"\",IF(ISERROR(VLOOKUP(J38,'Vessel list'!A:J,10,FALSE)),\"\",VLOOKUP(J38,'Vessel list'!A:J,10,FALSE)))","v":""},{"$f":"+IF(J38=\"\",\"\",IF(ISERROR(VLOOKUP(J38,'Vessel list'!A:C,3,FALSE)),\"\",VLOOKUP(J38,'Vessel list'!A:C,3,FALSE)))","v":""},"ITMILDZALG000566241",null,"false","ITMIL","ITGOA","DZALG","DZALG",null,null,"DESACOSHIP0001","HOLANDIA","200360","2020-10-28","00:00:00","2020-11-01","00:00:00",null,null,null,null,null,null,null,null,null,null,null,null,"Monday","2020-10-19","18:00:00","2020-10-26","00:00:00","2020-10-27","00:00:00",null,null,"Wednesday",4,null,"true","false","false"]
[{"$f":"+VLOOKUP(G39,'Lista consol SKR'!$P:$Q,2,FALSE)","v":{"$error":"#N/A"}},2,"Alger (Algiers)2",{"$f":"+VLOOKUP(R39,'Lista consol SKR'!C:D,2,FALSE)","v":"Alger (Algiers)"},2,"Alger (Algiers)2",{"$f":"+VLOOKUP(S39,'Lista consol SKR'!C:D,2,FALSE)","v":"Alger (Algiers)"},{"$f":"+VLOOKUP(Q39,'Lista consol SKR'!A:B,2,FALSE)","v":"Genoa"},"Not required","HOLANDIAITGOA",{"$f":"+IF(J39=\"\",\"\",IF(ISERROR(VLOOKUP(J39,'Vessel list'!A:J,10,FALSE)),\"\",VLOOKUP(J39,'Vessel list'!A:J,10,FALSE)))","v":""},{"$f":"+IF(J39=\"\",\"\",IF(ISERROR(VLOOKUP(J39,'Vessel list'!A:C,3,FALSE)),\"\",VLOOKUP(J39,'Vessel list'!A:C,3,FALSE)))","v":""},"ITMILDZALG000565914",null,"false","ITMIL","ITGOA","DZALG","DZALG",null,null,"DESACOSHIP0001","HOLANDIA","200376","2020-11-08","00:00:00","2020-11-12","00:00:00",null,null,null,null,null,null,null,null,null,null,null,null,"Friday","2020-10-30","18:00:00","2020-11-06","00:00:00","2020-11-07","00:00:00",null,null,"Sunday",4,null,"true","false","false"]
[{"$f":"+VLOOKUP(G40,'Lista consol SKR'!$P:$Q,2,FALSE)","v":{"$error":"#N/A"}},3,"Alger (Algiers)3",{"$f":"+VLOOKUP(R40,'Lista consol SKR'!C:D,2,FALSE)","v":"Alger (Algiers)"},3,"Alger (Algiers)3",{"$f":"+VLOOKUP(S40,'Lista consol SKR'!C:D,2,FALSE)","v":"Alger (Algiers)"},{"$f":"+VLOOKUP(Q40,'Lista consol SKR'!A:B,2,FALSE)","v":"Genoa"},"Not required","HOLANDIAITGOA",{"$f":"+IF(J40=\"\",\"\",IF(ISERROR(VLOOKUP(J40,'Vessel list'!A:J,10,FALSE)),\"\",VLOOKUP(J40,'Vessel list'!A:J,10,FALSE)))","v":""},{"$f":"+IF(J40=\"\",\"\",IF(ISERROR(VLOOKUP(J40,'Vessel list'!A:C,3,FALSE)),\"\",VLOOKUP(J40,'Vessel list'!A:C,3,FALSE)))","v":""},"ITMILDZALG000566131",null,"false","ITMIL","ITGOA","DZALG","DZALG",null,null,"DESACOSHIP0001","HOLANDIA","200376","2020-11-08","00:00:00","2020-11-12","00:00:00",null,null,null,null,null,null,null,null,null,null,null,null,"Friday","2020-10-30","00:00:00",44141,"00:00:00",44142,"00:00:00",null,null,"Sunday",4,null,"true","false","false"]
[{"$f":"+VLOOKUP(G41,'Lista consol SKR'!$P:$Q,2,FALSE)","v":2},1,"Altamira1",{"$f":"+VLOOKUP(R41,'Lista consol SKR'!C:D,2,FALSE)","v":"Altamira"},1,"Altamira1",{"$f":"+VLOOKUP(S41,'Lista consol SKR'!C:D,2,FALSE)","v":"Altamira"},{"$f":"+VLOOKUP(Q41,'Lista consol SKR'!A:B,2,FALSE)","v":"Genoa"},"Not required","ALDEBARANITGOA",{"$f":"+IF(J41=\"\",\"\",IF(ISERROR(VLOOKUP(J41,'Vessel list'!A:J,10,FALSE)),\"\",VLOOKUP(J41,'Vessel list'!A:J,10,FALSE)))","v":""},{"$f":"+IF(J41=\"\",\"\",IF(ISERROR(VLOOKUP(J41,'Vessel list'!A:C,3,FALSE)),\"\",VLOOKUP(J41,'Vessel list'!A:C,3,FALSE)))","v":""},"ITMILMXATM000545950",null,"false","ITMIL","ITGOA","MXATM","MXATM",null,null,"ILZIMINTEG0001","ALDEBARAN","17","2020-10-16","09:09:09","2020-11-09","08:00:08",null,null,null,null,null,null,null,null,null,null,null,null,"Thursday","2020-10-08","18:00:00",44118,"09:09:09",44119,"09:09:09",null,null,"Friday",25,null,"true","false","false"]
[{"$f":"+VLOOKUP(G42,'Lista consol SKR'!$P:$Q,2,FALSE)","v":2},2,"Altamira2",{"$f":"+VLOOKUP(R42,'Lista consol SKR'!C:D,2,FALSE)","v":"Altamira"},2,"Altamira2",{"$f":"+VLOOKUP(S42,'Lista consol SKR'!C:D,2,FALSE)","v":"Altamira"},{"$f":"+VLOOKUP(Q42,'Lista consol SKR'!A:B,2,FALSE)","v":"Genoa"},"Not required","MY NYITGOA",{"$f":"+IF(J42=\"\",\"\",IF(ISERROR(VLOOKUP(J42,'Vessel list'!A:J,10,FALSE)),\"\",VLOOKUP(J42,'Vessel list'!A:J,10,FALSE)))","v":""},{"$f":"+IF(J42=\"\",\"\",IF(ISERROR(VLOOKUP(J42,'Vessel list'!A:C,3,FALSE)),\"\",VLOOKUP(J42,'Vessel list'!A:C,3,FALSE)))","v":""},"ITMILMXATM000552689",null,"false","ITMIL","ITGOA","MXATM","MXATM",null,null,"ILZIMINTEG0001","MY NY","9","2020-10-23","00:00:00","2020-11-16","00:00:00",null,null,null,null,null,null,null,null,null,null,null,null,"Thursday","2020-10-15","18:00:00","2020-10-21","00:00:00","2020-10-22","00:00:00",null,null,"Friday",25,null,"true","false","false"]
[{"$f":"+VLOOKUP(G43,'Lista consol SKR'!$P:$Q,2,FALSE)","v":2},3,"Altamira3",{"$f":"+VLOOKUP(R43,'Lista consol SKR'!C:D,2,FALSE)","v":"Altamira"},3,"Altamira3",{"$f":"+VLOOKUP(S43,'Lista consol SKR'!C:D,2,FALSE)","v":"Altamira"},{"$f":"+VLOOKUP(Q43,'Lista consol SKR'!A:B,2,FALSE)","v":"Genoa"},"Not required","AGIOS MINASITGOA",{"$f":"+IF(J43=\"\",\"\",IF(ISERROR(VLOOKUP(J43,'Vessel list'!A:J,10,FALSE)),\"\",VLOOKUP(J43,'Vessel list'!A:J,10,FALSE)))","v":""},{"$f":"+IF(J43=\"\",\"\",IF(ISERROR(VLOOKUP(J43,'Vessel list'!A:C,3,FALSE)),\"\",VLOOKUP(J43,'Vessel list'!A:C,3,FALSE)))","v":""},"ITMILMXATM000556704",null,"false","ITMIL","ITGOA","MXATM","MXATM",null,null,"ILZIMINTEG0001","AGIOS MINAS","8","2020-11-06","09:09:00","2020-11-30","08:08:00",null,null,null,null,null,null,null,null,null,null,null,null,"Thursday","2020-10-29","18:00:00",44139,"00:00:00",44140,"00:00:00",null,null,"Friday",25,null,"true","false","false"]
[{"$f":"+VLOOKUP(G44,'Lista consol SKR'!$P:$Q,2,FALSE)","v":2},4,"Altamira4",{"$f":"+VLOOKUP(R44,'Lista consol SKR'!C:D,2,FALSE)","v":"Altamira"},4,"Altamira4",{"$f":"+VLOOKUP(S44,'Lista consol SKR'!C:D,2,FALSE)","v":"Altamira"},{"$f":"+VLOOKUP(Q44,'Lista consol SKR'!A:B,2,FALSE)","v":"Genoa"},"Not required","NORTHERN PRACTISEITGOA",{"$f":"+IF(J44=\"\",\"\",IF(ISERROR(VLOOKUP(J44,'Vessel list'!A:J,10,FALSE)),\"\",VLOOKUP(J44,'Vessel list'!A:J,10,FALSE)))","v":""},{"$f":"+IF(J44=\"\",\"\",IF(ISERROR(VLOOKUP(J44,'Vessel list'!A:C,3,FALSE)),\"\",VLOOKUP(J44,'Vessel list'!A:C,3,FALSE)))","v":""},"ITMILMXATM000564636",null,"false","ITMIL","ITGOA","MXATM","MXATM",null,null,"ILZIMINTEG0001","NORTHERN PRACTISE","34","2020-11-13","00:00:00","2020-12-07","00:00:00",null,null,null,null,null,null,null,null,null,null,null,null,"Thursday","2020-11-05","18:00:00",44146,"00:00:00",44147,"00:00:00",null,null,"Friday",25,null,"true","false","false"]
[{"$f":"+VLOOKUP(G45,'Lista consol SKR'!$P:$Q,2,FALSE)","v":2},5,"Altamira5",{"$f":"+VLOOKUP(R45,'Lista consol SKR'!C:D,2,FALSE)","v":"Altamira"},5,"Altamira5",{"$f":"+VLOOKUP(S45,'Lista consol SKR'!C:D,2,FALSE)","v":"Altamira"},{"$f":"+VLOOKUP(Q45,'Lista consol SKR'!A:B,2,FALSE)","v":"Genoa"},"Not required","SANTA VIOLAITGOA",{"$f":"+IF(J45=\"\",\"\",IF(ISERROR(VLOOKUP(J45,'Vessel list'!A:J,10,FALSE)),\"\",VLOOKUP(J45,'Vessel list'!A:J,10,FALSE)))","v":""},{"$f":"+IF(J45=\"\",\"\",IF(ISERROR(VLOOKUP(J45,'Vessel list'!A:C,3,FALSE)),\"\",VLOOKUP(J45,'Vessel list'!A:C,3,FALSE)))","v":""},"ITMILMXATM000564637",null,"false","ITMIL","ITGOA","MXATM","MXATM",null,null,"ILZIMINTEG0001","SANTA VIOLA","24","2020-11-20","00:00:00","2020-12-14","00:00:00",null,null,null,null,null,null,null,null,null,null,null,null,"Thursday","2020-11-12","18:00:00",44153,"00:00:00",44154,"00:00:00",null,null,"Friday",25,null,"true","false","false"]
[{"$f":"+VLOOKUP(G46,'Lista consol SKR'!$P:$Q,2,FALSE)","v":2},6,"Altamira6",{"$f":"+VLOOKUP(R46,'Lista consol SKR'!C:D,2,FALSE)","v":"Altamira"},6,"Altamira6",{"$f":"+VLOOKUP(S46,'Lista consol SKR'!C:D,2,FALSE)","v":"Altamira"},{"$f":"+VLOOKUP(Q46,'Lista consol SKR'!A:B,2,FALSE)","v":"Genoa"},"Not required","DIMITRA CITGOA",{"$f":"+IF(J46=\"\",\"\",IF(ISERROR(VLOOKUP(J46,'Vessel list'!A:J,10,FALSE)),\"\",VLOOKUP(J46,'Vessel list'!A:J,10,FALSE)))","v":""},{"$f":"+IF(J46=\"\",\"\",IF(ISERROR(VLOOKUP(J46,'Vessel list'!A:C,3,FALSE)),\"\",VLOOKUP(J46,'Vessel list'!A:C,3,FALSE)))","v":""},"ITMILMXATM000565834",null,"false","ITMIL","ITGOA","MXATM","MXATM",null,null,"ILZIMINTEG0001","DIMITRA C","5","2020-12-04","09:09:09","2020-12-28","08:08:08",null,null,null,null,null,null,null,null,null,null,null,null,"Friday","2020-11-27","18:00:00","2020-12-02","00:00:00","2020-12-03","00:00:00",null,null,"Friday",25,null,"true","false","false"]
[{"$f":"+VLOOKUP(G47,'Lista consol SKR'!$P:$Q,2,FALSE)","v":2},7,"Altamira7",{"$f":"+VLOOKUP(R47,'Lista consol SKR'!C:D,2,FALSE)","v":"Altamira"},7,"Altamira7",{"$f":"+VLOOKUP(S47,'Lista consol SKR'!C:D,2,FALSE)","v":"Altamira"},{"$f":"+VLOOKUP(Q47,'Lista consol SKR'!A:B,2,FALSE)","v":"Genoa"},"Not required","SEASPAN LAHOREITGOA",{"$f":"+IF(J47=\"\",\"\",IF(ISERROR(VLOOKUP(J47,'Vessel list'!A:J,10,FALSE)),\"\",VLOOKUP(J47,'Vessel list'!A:J,10,FALSE)))","v":""},{"$f":"+IF(J47=\"\",\"\",IF(ISERROR(VLOOKUP(J47,'Vessel list'!A:C,3,FALSE)),\"\",VLOOKUP(J47,'Vessel list'!A:C,3,FALSE)))","v":""},"ITMILMXATM000565836",null,"false","ITMIL","ITGOA","MXATM","MXATM",null,null,"ILZIMINTEG0001","SEASPAN LAHORE","2","2020-12-11","20:20:20","2021-01-04","08:08:08",null,null,null,null,null,null,null,null,null,null,null,null,"Friday","2020-12-04","18:00:00","2020-12-09","00:00:00","2020-12-10","00:00:00",null,null,"Friday",24,null,"true","false","false"]
[{"$f":"+VLOOKUP(G48,'Lista consol SKR'!$P:$Q,2,FALSE)","v":2},8,"Altamira8",{"$f":"+VLOOKUP(R48,'Lista consol SKR'!C:D,2,FALSE)","v":"Altamira"},8,"Altamira8",{"$f":"+VLOOKUP(S48,'Lista consol SKR'!C:D,2,FALSE)","v":"Altamira"},{"$f":"+VLOOKUP(Q48,'Lista consol SKR'!A:B,2,FALSE)","v":"Genoa"},"Not required","MY NYITGOA",{"$f":"+IF(J48=\"\",\"\",IF(ISERROR(VLOOKUP(J48,'Vessel list'!A:J,10,FALSE)),\"\",VLOOKUP(J48,'Vessel list'!A:J,10,FALSE)))","v":""},{"$f":"+IF(J48=\"\",\"\",IF(ISERROR(VLOOKUP(J48,'Vessel list'!A:C,3,FALSE)),\"\",VLOOKUP(J48,'Vessel list'!A:C,3,FALSE)))","v":""},"ITMILMXATM000565837",null,"false","ITMIL","ITGOA","MXATM","MXATM",null,null,"ILZIMINTEG0001","MY NY","10","2020-12-18","09:09:09","2021-01-11","08:08:08",null,null,null,null,null,null,null,null,null,null,null,null,"Friday","2020-12-11","18:00:00",44181,"00:00:00",44182,"00:00:00",null,null,"Friday",25,null,"true","false","false"]
[{"$f":"+VLOOKUP(G49,'Lista consol SKR'!$P:$Q,2,FALSE)","v":3},1,"Ashdod1",{"$f":"+VLOOKUP(R49,'Lista consol SKR'!C:D,2,FALSE)","v":"Ashdod"},1,"Ashdod1",{"$f":"+VLOOKUP(S49,'Lista consol SKR'!C:D,2,FALSE)","v":"Ashdod"},{"$f":"+VLOOKUP(Q49,'Lista consol SKR'!A:B,2,FALSE)","v":"Ravenna"},"Not required","MSC MARYLENAITRAN",{"$f":"+IF(J49=\"\",\"\",IF(ISERROR(VLOOKUP(J49,'Vessel list'!A:J,10,FALSE)),\"\",VLOOKUP(J49,'Vessel list'!A:J,10,FALSE)))","v":"IT221100"},{"$f":"+IF(J49=\"\",\"\",IF(ISERROR(VLOOKUP(J49,'Vessel list'!A:C,3,FALSE)),\"\",VLOOKUP(J49,'Vessel list'!A:C,3,FALSE)))","v":"Ravenna TCR"},"ITMILILASH000556409",null,"false","ITMIL","ITRAN","ILASH","ILASH",null,null,"CHMEDISHIP0001","MSC MARYLENA","AE042A","2020-10-19","09:09:00","2020-10-26","08:08:08",null,null,null,null,null,null,null,null,null,null,null,null,"Tuesday","2020-10-13","18:00:00","2020-10-17","00:00:00","2020-10-18","00:00:00",null,null,"Monday",7,"Silvia Bagnalasta","true","false","false"]
[{"$f":"+VLOOKUP(G50,'Lista consol SKR'!$P:$Q,2,FALSE)","v":3},2,"Ashdod2",{"$f":"+VLOOKUP(R50,'Lista consol SKR'!C:D,2,FALSE)","v":"Ashdod"},2,"Ashdod2",{"$f":"+VLOOKUP(S50,'Lista consol SKR'!C:D,2,FALSE)","v":"Ashdod"},{"$f":"+VLOOKUP(Q50,'Lista consol SKR'!A:B,2,FALSE)","v":"Ravenna"},"Not required","MSC ADRIANAITRAN",{"$f":"+IF(J50=\"\",\"\",IF(ISERROR(VLOOKUP(J50,'Vessel list'!A:J,10,FALSE)),\"\",VLOOKUP(J50,'Vessel list'!A:J,10,FALSE)))","v":""},{"$f":"+IF(J50=\"\",\"\",IF(ISERROR(VLOOKUP(J50,'Vessel list'!A:C,3,FALSE)),\"\",VLOOKUP(J50,'Vessel list'!A:C,3,FALSE)))","v":""},"ITMILILASH000556410",null,"false","ITMIL","ITRAN","ILASH","ILASH",null,null,"CHMEDISHIP0001","MSC ADRIANA","AE043A","2020-10-25","09:09:09","2020-11-01","08:08:08",null,null,null,null,null,null,null,null,null,null,null,null,"Tuesday","2020-10-20","18:00:00","2020-10-23","00:00:00","2020-10-24","00:00:00",null,null,"Sunday",7,"Silvia Bagnalasta","true","false","false"]
[{"$f":"+VLOOKUP(G51,'Lista consol SKR'!$P:$Q,2,FALSE)","v":3},3,"Ashdod3",{"$f":"+VLOOKUP(R51,'Lista consol SKR'!C:D,2,FALSE)","v":"Ashdod"},3,"Ashdod3",{"$f":"+VLOOKUP(S51,'Lista consol SKR'!C:D,2,FALSE)","v":"Ashdod"},{"$f":"+VLOOKUP(Q51,'Lista consol SKR'!A:B,2,FALSE)","v":"Ravenna"},"Not required","MSC MARYLENAITRAN",{"$f":"+IF(J51=\"\",\"\",IF(ISERROR(VLOOKUP(J51,'Vessel list'!A:J,10,FALSE)),\"\",VLOOKUP(J51,'Vessel list'!A:J,10,FALSE)))","v":"IT221100"},{"$f":"+IF(J51=\"\",\"\",IF(ISERROR(VLOOKUP(J51,'Vessel list'!A:C,3,FALSE)),\"\",VLOOKUP(J51,'Vessel list'!A:C,3,FALSE)))","v":"Ravenna TCR"},"ITMILILASH000556411",null,"false","ITMIL","ITRAN","ILASH","ILASH",null,null,"CHMEDISHIP0001","MSC MARYLENA","AE044A","2020-11-02","09:09:09","2020-11-09","12:12:12",null,null,null,null,null,null,null,null,null,null,null,null,"Tuesday","2020-10-27","18:00:00",44135,"00:00:00",44136,"00:00:00",null,null,"Monday",8,"Silvia Bagnalasta","true","false","false"]
[{"$f":"+VLOOKUP(G52,'Lista consol SKR'!$P:$Q,2,FALSE)","v":3},4,"Ashdod4",{"$f":"+VLOOKUP(R52,'Lista consol SKR'!C:D,2,FALSE)","v":"Ashdod"},4,"Ashdod4",{"$f":"+VLOOKUP(S52,'Lista consol SKR'!C:D,2,FALSE)","v":"Ashdod"},{"$f":"+VLOOKUP(Q52,'Lista consol SKR'!A:B,2,FALSE)","v":"Ravenna"},"Not required","MSC EDITHITRAN",{"$f":"+IF(J52=\"\",\"\",IF(ISERROR(VLOOKUP(J52,'Vessel list'!A:J,10,FALSE)),\"\",VLOOKUP(J52,'Vessel list'!A:J,10,FALSE)))","v":""},{"$f":"+IF(J52=\"\",\"\",IF(ISERROR(VLOOKUP(J52,'Vessel list'!A:C,3,FALSE)),\"\",VLOOKUP(J52,'Vessel list'!A:C,3,FALSE)))","v":""},"ITMILILASH000565767",null,"false","ITMIL","ITRAN","ILASH","ILASH",null,null,"CHMEDISHIP0001","MSC EDITH","AE045A","2020-11-09","09:00:09","2020-11-16","08:08:00",null,null,null,null,null,null,null,null,null,null,null,null,"Wednesday","2020-11-04","18:00:00","2020-11-07","00:00:00","2020-11-08","00:00:00",null,null,"Monday",7,"Silvia Bagnalasta","true","false","false"]
[{"$f":"+VLOOKUP(G53,'Lista consol SKR'!$P:$Q,2,FALSE)","v":3},5,"Ashdod5",{"$f":"+VLOOKUP(R53,'Lista consol SKR'!C:D,2,FALSE)","v":"Ashdod"},5,"Ashdod5",{"$f":"+VLOOKUP(S53,'Lista consol SKR'!C:D,2,FALSE)","v":"Ashdod"},{"$f":"+VLOOKUP(Q53,'Lista consol SKR'!A:B,2,FALSE)","v":"Ravenna"},"Not required","MSC MARYLENAITRAN",{"$f":"+IF(J53=\"\",\"\",IF(ISERROR(VLOOKUP(J53,'Vessel list'!A:J,10,FALSE)),\"\",VLOOKUP(J53,'Vessel list'!A:J,10,FALSE)))","v":"IT221100"},{"$f":"+IF(J53=\"\",\"\",IF(ISERROR(VLOOKUP(J53,'Vessel list'!A:C,3,FALSE)),\"\",VLOOKUP(J53,'Vessel list'!A:C,3,FALSE)))","v":"Ravenna TCR"},"ITMILILASH000565769",null,"false","ITMIL","ITRAN","ILASH","ILASH",null,null,"CHMEDISHIP0001","MSC MARYLENA","AE046A","2020-11-16","09:09:09","2020-11-23","08:08:08",null,null,null,null,null,null,null,null,null,null,null,null,"Wednesday","2020-11-11","18:00:00",44149,"00:00:00",44150,"00:00:00",null,null,"Monday",7,"Silvia Bagnalasta","true","false","false"]
[{"$f":"+VLOOKUP(G54,'Lista consol SKR'!$P:$Q,2,FALSE)","v":3},6,"Ashdod6",{"$f":"+VLOOKUP(R54,'Lista consol SKR'!C:D,2,FALSE)","v":"Ashdod"},6,"Ashdod6",{"$f":"+VLOOKUP(S54,'Lista consol SKR'!C:D,2,FALSE)","v":"Ashdod"},{"$f":"+VLOOKUP(Q54,'Lista consol SKR'!A:B,2,FALSE)","v":"Ravenna"},"Not required","MSC EDITHITRAN",{"$f":"+IF(J54=\"\",\"\",IF(ISERROR(VLOOKUP(J54,'Vessel list'!A:J,10,FALSE)),\"\",VLOOKUP(J54,'Vessel list'!A:J,10,FALSE)))","v":""},{"$f":"+IF(J54=\"\",\"\",IF(ISERROR(VLOOKUP(J54,'Vessel list'!A:C,3,FALSE)),\"\",VLOOKUP(J54,'Vessel list'!A:C,3,FALSE)))","v":""},"ITMILILASH000565770",null,"false","ITMIL","ITRAN","ILASH","ILASH",null,null,"CHMEDISHIP0001","MSC EDITH","AE047A","2020-11-23","09:09:09","2020-11-30","08:08:08",null,null,null,null,null,null,null,null,null,null,null,null,"Wednesday","2020-11-18","18:00:00","2020-11-21","00:00:00","2020-11-22","00:00:00",null,null,"Monday",7,"Silvia Bagnalasta","true","false","false"]
[{"$f":"+VLOOKUP(G55,'Lista consol SKR'!$P:$Q,2,FALSE)","v":{"$error":"#N/A"}},1,"Auckland1",{"$f":"+VLOOKUP(R55,'Lista consol SKR'!C:D,2,FALSE)","v":"Auckland"},1,"Auckland1",{"$f":"+VLOOKUP(S55,'Lista consol SKR'!C:D,2,FALSE)","v":"Auckland"},{"$f":"+VLOOKUP(Q55,'Lista consol SKR'!A:B,2,FALSE)","v":"Genoa"},"Not required","DUESSELDORF EXPRESSITGOA",{"$f":"+IF(J55=\"\",\"\",IF(ISERROR(VLOOKUP(J55,'Vessel list'!A:J,10,FALSE)),\"\",VLOOKUP(J55,'Vessel list'!A:J,10,FALSE)))","v":""},{"$f":"+IF(J55=\"\",\"\",IF(ISERROR(VLOOKUP(J55,'Vessel list'!A:C,3,FALSE)),\"\",VLOOKUP(J55,'Vessel list'!A:C,3,FALSE)))","v":""},"ITMILNZAKL000566240",null,"false","ITMIL","ITGOA","NZAKL","NZAKL",null,null,"DESACOSHIP0001","DUESSELDORF EXPRESS","044W","2020-11-01","00:00:00","2020-12-20","00:00:00",null,null,null,null,null,null,null,null,null,null,null,null,"Tuesday","2020-10-27","18:00:00","2020-10-30","00:00:00","2020-10-31","00:00:00",null,null,"Sunday",49,null,"true","false","false"]
[{"$f":"+VLOOKUP(G56,'Lista consol SKR'!$P:$Q,2,FALSE)","v":4},1,"Bangkok1",{"$f":"+VLOOKUP(R56,'Lista consol SKR'!C:D,2,FALSE)","v":"Bangkok"},1,"Bangkok1",{"$f":"+VLOOKUP(S56,'Lista consol SKR'!C:D,2,FALSE)","v":"Bangkok"},{"$f":"+VLOOKUP(Q56,'Lista consol SKR'!A:B,2,FALSE)","v":"Genoa"},"Not required","CMA CGM LYRAITGOA",{"$f":"+IF(J56=\"\",\"\",IF(ISERROR(VLOOKUP(J56,'Vessel list'!A:J,10,FALSE)),\"\",VLOOKUP(J56,'Vessel list'!A:J,10,FALSE)))","v":""},{"$f":"+IF(J56=\"\",\"\",IF(ISERROR(VLOOKUP(J56,'Vessel list'!A:C,3,FALSE)),\"\",VLOOKUP(J56,'Vessel list'!A:C,3,FALSE)))","v":""},"ITMILTHBKK000556414",null,"false","ITMIL","ITGOA","THBKK","THBKK","MYPKG",null,"CNCHINOCEA0001","CMA CGM LYRA","0ME7CE1MA","2020-10-14","09:00:09","2020-11-08","08:00:08","GSS YANGON","1127N",44143,0.95833333333575865,44147,0.33888888888759539,null,null,null,null,null,null,"Wednesday","2020-10-07","18:00:00","2020-10-12","00:00:00","2020-10-13","00:00:00",null,null,"Wednesday",29,null,"false","false","false"]
[{"$f":"+VLOOKUP(G57,'Lista consol SKR'!$P:$Q,2,FALSE)","v":4},2,"Bangkok2",{"$f":"+VLOOKUP(R57,'Lista consol SKR'!C:D,2,FALSE)","v":"Bangkok"},2,"Bangkok2",{"$f":"+VLOOKUP(S57,'Lista consol SKR'!C:D,2,FALSE)","v":"Bangkok"},{"$f":"+VLOOKUP(Q57,'Lista consol SKR'!A:B,2,FALSE)","v":"Genoa"},"Not required","CMA CGM COLUMBAITGOA",{"$f":"+IF(J57=\"\",\"\",IF(ISERROR(VLOOKUP(J57,'Vessel list'!A:J,10,FALSE)),\"\",VLOOKUP(J57,'Vessel list'!A:J,10,FALSE)))","v":"IT262102"},{"$f":"+IF(J57=\"\",\"\",IF(ISERROR(VLOOKUP(J57,'Vessel list'!A:C,3,FALSE)),\"\",VLOOKUP(J57,'Vessel list'!A:C,3,FALSE)))","v":"Genoa VTE"},"ITMILTHBKK000556415",null,"false","ITMIL","ITGOA","THBKK","THBKK","MYPKG",null,"CNCHINOCEA0001","CMA CGM COLUMBA","0ME7EE1MA","2020-10-21","09:09:00","2020-11-15","08:08:08","ISEACO GENESIS","1128N",44150,0.95833333333575865,44154,0.33898148148000473,null,null,null,null,null,null,"Wednesday","2020-10-14","18:00:00","2020-10-19","00:00:00","2020-10-20","00:00:00",null,null,"Wednesday",29,null,"false","false","false"]
[{"$f":"+VLOOKUP(G58,'Lista consol SKR'!$P:$Q,2,FALSE)","v":4},3,"Bangkok3",{"$f":"+VLOOKUP(R58,'Lista consol SKR'!C:D,2,FALSE)","v":"Bangkok"},3,"Bangkok3",{"$f":"+VLOOKUP(S58,'Lista consol SKR'!C:D,2,FALSE)","v":"Bangkok"},{"$f":"+VLOOKUP(Q58,'Lista consol SKR'!A:B,2,FALSE)","v":"Genoa"},"Not required","CMA CGM CENTAURUSITGOA",{"$f":"+IF(J58=\"\",\"\",IF(ISERROR(VLOOKUP(J58,'Vessel list'!A:J,10,FALSE)),\"\",VLOOKUP(J58,'Vessel list'!A:J,10,FALSE)))","v":""},{"$f":"+IF(J58=\"\",\"\",IF(ISERROR(VLOOKUP(J58,'Vessel list'!A:C,3,FALSE)),\"\",VLOOKUP(J58,'Vessel list'!A:C,3,FALSE)))","v":""},"ITMILTHBKK000558905",null,"false","ITMIL","ITGOA","THBKK","THBKK","MYPKG",null,"CNCHINOCEA0001","CMA CGM CENTAURUS","0ME7GE1MA","2020-10-27","00:00:00","2020-11-21","00:00:00","ISEACO WISDOM","1129N",44157,0.95833333333575865,44161,0.333425925928168,null,null,null,null,null,null,"Tuesday","2020-10-20","18:00:00",44136,0,44137,0,null,null,"Tuesday",31,null,"false","false","false"]
[{"$f":"+VLOOKUP(G59,'Lista consol SKR'!$P:$Q,2,FALSE)","v":4},4,"Bangkok4",{"$f":"+VLOOKUP(R59,'Lista consol SKR'!C:D,2,FALSE)","v":"Bangkok"},4,"Bangkok4",{"$f":"+VLOOKUP(S59,'Lista consol SKR'!C:D,2,FALSE)","v":"Bangkok"},{"$f":"+VLOOKUP(Q59,'Lista consol SKR'!A:B,2,FALSE)","v":"Genoa"},"Not required","CMA CGM GEMINIITGOA",{"$f":"+IF(J59=\"\",\"\",IF(ISERROR(VLOOKUP(J59,'Vessel list'!A:J,10,FALSE)),\"\",VLOOKUP(J59,'Vessel list'!A:J,10,FALSE)))","v":"IT262102"},{"$f":"+IF(J59=\"\",\"\",IF(ISERROR(VLOOKUP(J59,'Vessel list'!A:C,3,FALSE)),\"\",VLOOKUP(J59,'Vessel list'!A:C,3,FALSE)))","v":"Genoa VTE"},"ITMILTHBKK000558914",null,"false","ITMIL","ITGOA","THBKK","THBKK","MYPKG",null,"CNCHINOCEA0001","CMA CGM GEMINI","0ME7IE1MA","2020-11-03","12:12:12","2020-11-28","01:21:02","GSS YANGON","1128N",44164,"23:23:00",44168,"08:08:00",null,null,null,null,null,null,"Tuesday","2020-10-27","18:00:00",44136,"00:00:00",44137,"00:00:00",null,null,"Tuesday",30,null,"false","false","false"]
[{"$f":"+VLOOKUP(G60,'Lista consol SKR'!$P:$Q,2,FALSE)","v":4},5,"Bangkok5",{"$f":"+VLOOKUP(R60,'Lista consol SKR'!C:D,2,FALSE)","v":"Bangkok"},5,"Bangkok5",{"$f":"+VLOOKUP(S60,'Lista consol SKR'!C:D,2,FALSE)","v":"Bangkok"},{"$f":"+VLOOKUP(Q60,'Lista consol SKR'!A:B,2,FALSE)","v":"Genoa"},"Not required","CMA CGM TITANITGOA",{"$f":"+IF(J60=\"\",\"\",IF(ISERROR(VLOOKUP(J60,'Vessel list'!A:J,10,FALSE)),\"\",VLOOKUP(J60,'Vessel list'!A:J,10,FALSE)))","v":"IT262102"},{"$f":"+IF(J60=\"\",\"\",IF(ISERROR(VLOOKUP(J60,'Vessel list'!A:C,3,FALSE)),\"\",VLOOKUP(J60,'Vessel list'!A:C,3,FALSE)))","v":"Genoa VTE"},"ITMILTHBKK000558919",null,"false","ITMIL","ITGOA","THBKK","THBKK","MYPKG",null,"CNCHINOCEA0001","CMA CGM TITAN","0ME7KE1MA","2020-11-10","00:00:00","2020-12-05","00:00:00","ISEACO GENESIS","1129N",44171,"23:00:00",44175,"12:12:12",null,null,null,null,null,null,"Tuesday","2020-11-03","18:00:00",44143,"00:00:00",44144,"00:00:00",null,null,"Tuesday",31,null,"false","false","false"]
[{"$f":"+VLOOKUP(G61,'Lista consol SKR'!$P:$Q,2,FALSE)","v":4},6,"Bangkok6",{"$f":"+VLOOKUP(R61,'Lista consol SKR'!C:D,2,FALSE)","v":"Bangkok"},6,"Bangkok6",{"$f":"+VLOOKUP(S61,'Lista consol SKR'!C:D,2,FALSE)","v":"Bangkok"},{"$f":"+VLOOKUP(Q61,'Lista consol SKR'!A:B,2,FALSE)","v":"Genoa"},"Not required","OOCL FRANCEITGOA",{"$f":"+IF(J61=\"\",\"\",IF(ISERROR(VLOOKUP(J61,'Vessel list'!A:J,10,FALSE)),\"\",VLOOKUP(J61,'Vessel list'!A:J,10,FALSE)))","v":"IT262102"},{"$f":"+IF(J61=\"\",\"\",IF(ISERROR(VLOOKUP(J61,'Vessel list'!A:C,3,FALSE)),\"\",VLOOKUP(J61,'Vessel list'!A:C,3,FALSE)))","v":"Genoa VTE"},"ITMILTHBKK000565781",null,"false","ITMIL","ITGOA","THBKK","THBKK","MYPKG",null,"CNCHINOCEA0001","OOCL FRANCE","033E","2020-11-25","12:12:21","2020-12-20","01:01:01","GSS YANGON","1129N",44185,"23:00:00",44189,"08:08:08",null,null,null,null,null,null,"Wednesday","2020-11-18","18:00:00",44158,"00:00:00",44159,"00:00:00",null,null,"Wednesday",29,null,"false","false","false"]
[{"$f":"+VLOOKUP(G62,'Lista consol SKR'!$P:$Q,2,FALSE)","v":{"$error":"#N/A"}},1,"Brisbane1",{"$f":"+VLOOKUP(R62,'Lista consol SKR'!C:D,2,FALSE)","v":"Brisbane"},1,"Brisbane1",{"$f":"+VLOOKUP(S62,'Lista consol SKR'!C:D,2,FALSE)","v":"Brisbane"},{"$f":"+VLOOKUP(Q62,'Lista consol SKR'!A:B,2,FALSE)","v":"Genoa"},"Not required","NYSTED MAERSKITGOA",{"$f":"+IF(J62=\"\",\"\",IF(ISERROR(VLOOKUP(J62,'Vessel list'!A:J,10,FALSE)),\"\",VLOOKUP(J62,'Vessel list'!A:J,10,FALSE)))","v":""},{"$f":"+IF(J62=\"\",\"\",IF(ISERROR(VLOOKUP(J62,'Vessel list'!A:C,3,FALSE)),\"\",VLOOKUP(J62,'Vessel list'!A:C,3,FALSE)))","v":""},"ITMILAUBNE000564451",null,"false","ITMIL","ITGOA","AUBNE","AUBNE",null,null,"DESACOSHIP0001","NYSTED MAERSK","044W","2020-10-25","00:00:00","2020-12-13","00:00:00",null,null,null,null,null,null,null,null,null,null,null,null,"Thursday","2020-10-15","18:00:00",44127,"00:00:00",44128,"00:00:00",null,null,"Sunday",37,"Gladys Chiccoli","true","false","false"]
[{"$f":"+VLOOKUP(G63,'Lista consol SKR'!$P:$Q,2,FALSE)","v":{"$error":"#N/A"}},2,"Brisbane2",{"$f":"+VLOOKUP(R63,'Lista consol SKR'!C:D,2,FALSE)","v":"Brisbane"},2,"Brisbane2",{"$f":"+VLOOKUP(S63,'Lista consol SKR'!C:D,2,FALSE)","v":"Brisbane"},{"$f":"+VLOOKUP(Q63,'Lista consol SKR'!A:B,2,FALSE)","v":"Genoa"},"Not required","NORA MAERSKITGOA",{"$f":"+IF(J63=\"\",\"\",IF(ISERROR(VLOOKUP(J63,'Vessel list'!A:J,10,FALSE)),\"\",VLOOKUP(J63,'Vessel list'!A:J,10,FALSE)))","v":""},{"$f":"+IF(J63=\"\",\"\",IF(ISERROR(VLOOKUP(J63,'Vessel list'!A:C,3,FALSE)),\"\",VLOOKUP(J63,'Vessel list'!A:C,3,FALSE)))","v":""},"ITMILAUBNE000565982",null,"false","ITMIL","ITGOA","AUBNE","AUBNE",null,null,"DESACOSHIP0001","NORA MAERSK","045W","2020-11-01","00:00:00","2020-12-20","00:00:00",null,null,null,null,null,null,null,null,null,null,null,null,"Thursday","2020-10-22","12:30:00",44134,"00:00:00",44135,"00:00:00",null,null,"Sunday",49,"Gladys Chiccoli","true","false","false"]
[{"$f":"+VLOOKUP(G64,'Lista consol SKR'!$P:$Q,2,FALSE)","v":6},1,"Buenos Aires1",{"$f":"+VLOOKUP(R64,'Lista consol SKR'!C:D,2,FALSE)","v":"Buenos Aires"},1,"Buenos Aires1",{"$f":"+VLOOKUP(S64,'Lista consol SKR'!C:D,2,FALSE)","v":"Buenos Aires"},{"$f":"+VLOOKUP(Q64,'Lista consol SKR'!A:B,2,FALSE)","v":"Genoa"},"Not required","MSC JUDITHITGOA",{"$f":"+IF(J64=\"\",\"\",IF(ISERROR(VLOOKUP(J64,'Vessel list'!A:J,10,FALSE)),\"\",VLOOKUP(J64,'Vessel list'!A:J,10,FALSE)))","v":"IT262102"},{"$f":"+IF(J64=\"\",\"\",IF(ISERROR(VLOOKUP(J64,'Vessel list'!A:C,3,FALSE)),\"\",VLOOKUP(J64,'Vessel list'!A:C,3,FALSE)))","v":"Genoa VTE"},"ITMILARBUE000563802",null,"false","ITMIL","ITGOA","ARBUE","ARBUE",null,null,"BEECUWORLD0001","MSC JUDITH","041W","2020-10-17","00:00:00","2020-11-12","00:00:00",null,null,null,null,null,null,null,null,null,null,null,null,"Tuesday","2020-10-13","18:00:00","2020-10-15","00:00:00","2020-10-16","00:00:00",null,null,"Saturday",27,"Silvia Malabarba","true","false","false"]
[{"$f":"+VLOOKUP(G65,'Lista consol SKR'!$P:$Q,2,FALSE)","v":6},2,"Buenos Aires2",{"$f":"+VLOOKUP(R65,'Lista consol SKR'!C:D,2,FALSE)","v":"Buenos Aires"},2,"Buenos Aires2",{"$f":"+VLOOKUP(S65,'Lista consol SKR'!C:D,2,FALSE)","v":"Buenos Aires"},{"$f":"+VLOOKUP(Q65,'Lista consol SKR'!A:B,2,FALSE)","v":"Genoa"},"Not required","MSC ADELAIDEITGOA",{"$f":"+IF(J65=\"\",\"\",IF(ISERROR(VLOOKUP(J65,'Vessel list'!A:J,10,FALSE)),\"\",VLOOKUP(J65,'Vessel list'!A:J,10,FALSE)))","v":"IT262102"},{"$f":"+IF(J65=\"\",\"\",IF(ISERROR(VLOOKUP(J65,'Vessel list'!A:C,3,FALSE)),\"\",VLOOKUP(J65,'Vessel list'!A:C,3,FALSE)))","v":"Genoa VTE"},"ITMILARBUE000563080",null,"false","ITMIL","ITGOA","ARBUE","ARBUE",null,null,"DESACOSHIP0001","MSC ADELAIDE","17S","2020-10-19","00:00:00","2020-11-20","00:00:00",null,null,null,null,null,null,null,null,null,null,null,null,"Tuesday","2020-10-13","12:00:00",44121,"00:00:00",44122,"00:00:00",null,null,"Monday",33,"Gladys Chiccoli","true","false","false"]
[{"$f":"+VLOOKUP(G66,'Lista consol SKR'!$P:$Q,2,FALSE)","v":6},3,"Buenos Aires3",{"$f":"+VLOOKUP(R66,'Lista consol SKR'!C:D,2,FALSE)","v":"Buenos Aires"},3,"Buenos Aires3",{"$f":"+VLOOKUP(S66,'Lista consol SKR'!C:D,2,FALSE)","v":"Buenos Aires"},{"$f":"+VLOOKUP(Q66,'Lista consol SKR'!A:B,2,FALSE)","v":"Genoa"},"Not required","MSC TORONTOITGOA",{"$f":"+IF(J66=\"\",\"\",IF(ISERROR(VLOOKUP(J66,'Vessel list'!A:J,10,FALSE)),\"\",VLOOKUP(J66,'Vessel list'!A:J,10,FALSE)))","v":""},{"$f":"+IF(J66=\"\",\"\",IF(ISERROR(VLOOKUP(J66,'Vessel list'!A:C,3,FALSE)),\"\",VLOOKUP(J66,'Vessel list'!A:C,3,FALSE)))","v":""},"ITMILARBUE000563803",null,"false","ITMIL","ITGOA","ARBUE","ARBUE",null,null,"BEECUWORLD0001","MSC TORONTO","042W","2020-10-24","00:00:00","2020-11-19","00:00:00",null,null,null,null,null,null,null,null,null,null,null,null,"Tuesday","2020-10-20","18:00:00",44126,"00:00:00",44127,"00:00:00",null,null,"Saturday",27,null,"true","false","false"]
[{"$f":"+VLOOKUP(G67,'Lista consol SKR'!$P:$Q,2,FALSE)","v":7},1,"Busan1",{"$f":"+VLOOKUP(R67,'Lista consol SKR'!C:D,2,FALSE)","v":"Busan"},1,"Busan1",{"$f":"+VLOOKUP(S67,'Lista consol SKR'!C:D,2,FALSE)","v":"Busan"},{"$f":"+VLOOKUP(Q67,'Lista consol SKR'!A:B,2,FALSE)","v":"Genoa"},"Not required","MILANO BRIDGEITGOA",{"$f":"+IF(J67=\"\",\"\",IF(ISERROR(VLOOKUP(J67,'Vessel list'!A:J,10,FALSE)),\"\",VLOOKUP(J67,'Vessel list'!A:J,10,FALSE)))","v":""},{"$f":"+IF(J67=\"\",\"\",IF(ISERROR(VLOOKUP(J67,'Vessel list'!A:C,3,FALSE)),\"\",VLOOKUP(J67,'Vessel list'!A:C,3,FALSE)))","v":""},"ITMILKRPUS000552702",null,"false","ITMIL","ITGOA","KRPUS","KRPUS",null,null,"SGOCEANETW0001","MILANO BRIDGE","012E","2020-10-18","12:00:00","2020-11-18","20:00:00",null,null,null,null,null,null,null,null,null,null,null,null,"Wednesday","2020-10-14","18:00:00",44120,0.5,44121,0.5,null,null,"Sunday",32,null,"true","false","false"]
[{"$f":"+VLOOKUP(G68,'Lista consol SKR'!$P:$Q,2,FALSE)","v":7},2,"Busan2",{"$f":"+VLOOKUP(R68,'Lista consol SKR'!C:D,2,FALSE)","v":"Busan"},2,"Busan2",{"$f":"+VLOOKUP(S68,'Lista consol SKR'!C:D,2,FALSE)","v":"Busan"},{"$f":"+VLOOKUP(Q68,'Lista consol SKR'!A:B,2,FALSE)","v":"Genoa"},"Not required","MILANO BRIDGEITGOA",{"$f":"+IF(J68=\"\",\"\",IF(ISERROR(VLOOKUP(J68,'Vessel list'!A:J,10,FALSE)),\"\",VLOOKUP(J68,'Vessel list'!A:J,10,FALSE)))","v":""},{"$f":"+IF(J68=\"\",\"\",IF(ISERROR(VLOOKUP(J68,'Vessel list'!A:C,3,FALSE)),\"\",VLOOKUP(J68,'Vessel list'!A:C,3,FALSE)))","v":""},"ITMILKRPUS000558713",null,"false","ITMIL","ITGOA","KRPUS","KRPUS",null,null,"SGOCEANETW0001","MILANO BRIDGE","012E","2020-10-18","12:00:00","2020-11-18","20:00:00",null,null,null,null,null,null,null,null,null,null,null,null,"Wednesday","2020-10-14","18:00:00",44120,0.5,44121,0.5,null,null,"Sunday",32,"Luca Giudici","true","false","false"]
[{"$f":"+VLOOKUP(G69,'Lista consol SKR'!$P:$Q,2,FALSE)","v":7},3,"Busan3",{"$f":"+VLOOKUP(R69,'Lista consol SKR'!C:D,2,FALSE)","v":"Busan"},3,"Busan3",{"$f":"+VLOOKUP(S69,'Lista consol SKR'!C:D,2,FALSE)","v":"Busan"},{"$f":"+VLOOKUP(Q69,'Lista consol SKR'!A:B,2,FALSE)","v":"Genoa"},"Not required","ONE MILLAUITGOA",{"$f":"+IF(J69=\"\",\"\",IF(ISERROR(VLOOKUP(J69,'Vessel list'!A:J,10,FALSE)),\"\",VLOOKUP(J69,'Vessel list'!A:J,10,FALSE)))","v":""},{"$f":"+IF(J69=\"\",\"\",IF(ISERROR(VLOOKUP(J69,'Vessel list'!A:C,3,FALSE)),\"\",VLOOKUP(J69,'Vessel list'!A:C,3,FALSE)))","v":""},"ITMILKRPUS000564260",null,"false","ITMIL","ITGOA","KRPUS","KRPUS",null,null,"SGOCEANETW0001","ONE MILLAU","027E","2020-10-25","12:00:00","2020-11-23","20:00:00",null,null,null,null,null,null,null,null,null,null,null,null,"Wednesday","2020-10-21","18:00:00",44126,"00:00:00",44126,"00:00:00",null,null,"Sunday",29,null,"true","false","false"]
[{"$f":"+VLOOKUP(G70,'Lista consol SKR'!$P:$Q,2,FALSE)","v":7},4,"Busan4",{"$f":"+VLOOKUP(R70,'Lista consol SKR'!C:D,2,FALSE)","v":"Busan"},4,"Busan4",{"$f":"+VLOOKUP(S70,'Lista consol SKR'!C:D,2,FALSE)","v":"Busan"},{"$f":"+VLOOKUP(Q70,'Lista consol SKR'!A:B,2,FALSE)","v":"Genoa"},"Not required","JEBEL ALIITGOA",{"$f":"+IF(J70=\"\",\"\",IF(ISERROR(VLOOKUP(J70,'Vessel list'!A:J,10,FALSE)),\"\",VLOOKUP(J70,'Vessel list'!A:J,10,FALSE)))","v":"IT262102"},{"$f":"+IF(J70=\"\",\"\",IF(ISERROR(VLOOKUP(J70,'Vessel list'!A:C,3,FALSE)),\"\",VLOOKUP(J70,'Vessel list'!A:C,3,FALSE)))","v":"Genoa VTE"},"ITMILKRPUS000565891",null,"false","ITMIL","ITGOA","KRPUS","KRPUS",null,null,"SGOCEANETW0001","JEBEL ALI","015E","2020-11-01","09:09:09","2020-11-26","08:08:08",null,null,null,null,null,null,null,null,null,null,null,null,"Wednesday","2020-10-28","18:00:00",44134,"00:00:00",44135,"00:00:00",null,null,"Sunday",25,null,"true","false","false"]
[{"$f":"+VLOOKUP(G71,'Lista consol SKR'!$P:$Q,2,FALSE)","v":7},5,"Busan5",{"$f":"+VLOOKUP(R71,'Lista consol SKR'!C:D,2,FALSE)","v":"Busan"},5,"Busan5",{"$f":"+VLOOKUP(S71,'Lista consol SKR'!C:D,2,FALSE)","v":"Busan"},{"$f":"+VLOOKUP(Q71,'Lista consol SKR'!A:B,2,FALSE)","v":"Genoa"},"Not required","JEBEL ALIITGOA",{"$f":"+IF(J71=\"\",\"\",IF(ISERROR(VLOOKUP(J71,'Vessel list'!A:J,10,FALSE)),\"\",VLOOKUP(J71,'Vessel list'!A:J,10,FALSE)))","v":"IT262102"},{"$f":"+IF(J71=\"\",\"\",IF(ISERROR(VLOOKUP(J71,'Vessel list'!A:C,3,FALSE)),\"\",VLOOKUP(J71,'Vessel list'!A:C,3,FALSE)))","v":"Genoa VTE"},"ITMILKRPUS000558714",null,"false","ITMIL","ITGOA","KRPUS","KRPUS",null,null,"SGOCEANETW0001","JEBEL ALI","015E","2020-11-06","12:00:00","2020-12-06","20:00:00",null,null,null,null,null,null,null,null,null,null,null,null,"Wednesday","2020-10-28","18:00:00",44134,0,44139,0.25,null,null,"Sunday",25,"Luca Giudici","true","false","false"]
[{"$f":"+VLOOKUP(G72,'Lista consol SKR'!$P:$Q,2,FALSE)","v":7},6,"Busan6",{"$f":"+VLOOKUP(R72,'Lista consol SKR'!C:D,2,FALSE)","v":"Busan"},6,"Busan6",{"$f":"+VLOOKUP(S72,'Lista consol SKR'!C:D,2,FALSE)","v":"Busan"},{"$f":"+VLOOKUP(Q72,'Lista consol SKR'!A:B,2,FALSE)","v":"Genoa"},"Not required","ONE MANCHESTERITGOA",{"$f":"+IF(J72=\"\",\"\",IF(ISERROR(VLOOKUP(J72,'Vessel list'!A:J,10,FALSE)),\"\",VLOOKUP(J72,'Vessel list'!A:J,10,FALSE)))","v":""},{"$f":"+IF(J72=\"\",\"\",IF(ISERROR(VLOOKUP(J72,'Vessel list'!A:C,3,FALSE)),\"\",VLOOKUP(J72,'Vessel list'!A:C,3,FALSE)))","v":""},"ITMILKRPUS000565843",null,"false","ITMIL","ITGOA","KRPUS","KRPUS",null,null,"SGOCEANETW0001","ONE MANCHESTER","025E","2020-11-08","02:34:25","2020-12-09","00:00:00",null,null,null,null,null,null,null,null,null,null,null,null,"Wednesday","2020-11-04","18:00:00","2020-11-06","00:00:00","2020-11-07","00:00:00",null,null,"Sunday",31,"Luca Giudici","true","false","false"]
[{"$f":"+VLOOKUP(G73,'Lista consol SKR'!$P:$Q,2,FALSE)","v":7},7,"Busan7",{"$f":"+VLOOKUP(R73,'Lista consol SKR'!C:D,2,FALSE)","v":"Busan"},7,"Busan7",{"$f":"+VLOOKUP(S73,'Lista consol SKR'!C:D,2,FALSE)","v":"Busan"},{"$f":"+VLOOKUP(Q73,'Lista consol SKR'!A:B,2,FALSE)","v":"Genoa"},"Not required","ONE MANCHESTERITGOA",{"$f":"+IF(J73=\"\",\"\",IF(ISERROR(VLOOKUP(J73,'Vessel list'!A:J,10,FALSE)),\"\",VLOOKUP(J73,'Vessel list'!A:J,10,FALSE)))","v":""},{"$f":"+IF(J73=\"\",\"\",IF(ISERROR(VLOOKUP(J73,'Vessel list'!A:C,3,FALSE)),\"\",VLOOKUP(J73,'Vessel list'!A:C,3,FALSE)))","v":""},"ITMILKRPUS000559376",null,"false","ITMIL","ITGOA","KRPUS","KRPUS",null,null,"SGOCEANETW0001","ONE MANCHESTER","025E","2020-11-13","12:00:00","2020-12-13","20:00:00",null,null,null,null,null,null,null,null,null,null,null,null,"Wednesday","2020-11-11","18:00:00",44146,"12:00:00",44147,"12:00:00",null,null,"Friday",30,null,"true","false","false"]
[{"$f":"+VLOOKUP(G74,'Lista consol SKR'!$P:$Q,2,FALSE)","v":7},8,"Busan8",{"$f":"+VLOOKUP(R74,'Lista consol SKR'!C:D,2,FALSE)","v":"Busan"},8,"Busan8",{"$f":"+VLOOKUP(S74,'Lista consol SKR'!C:D,2,FALSE)","v":"Busan"},{"$f":"+VLOOKUP(Q74,'Lista consol SKR'!A:B,2,FALSE)","v":"Genoa"},"Not required","LEVERKUSEN EXPRESSITGOA",{"$f":"+IF(J74=\"\",\"\",IF(ISERROR(VLOOKUP(J74,'Vessel list'!A:J,10,FALSE)),\"\",VLOOKUP(J74,'Vessel list'!A:J,10,FALSE)))","v":""},{"$f":"+IF(J74=\"\",\"\",IF(ISERROR(VLOOKUP(J74,'Vessel list'!A:C,3,FALSE)),\"\",VLOOKUP(J74,'Vessel list'!A:C,3,FALSE)))","v":""},"ITMILKRPUS000565844",null,"false","ITMIL","ITGOA","KRPUS","KRPUS",null,null,"SGOCEANETW0001","LEVERKUSEN EXPRESS","033E","2020-11-15","09:30:00","2020-12-16","17:30:00",null,null,null,null,null,null,null,null,null,null,null,null,"Wednesday","2020-11-11","18:00:00",44148,"09:30:00",44149,"09:30:00",null,null,"Sunday",31,"Luca Giudici","true","false","false"]
[{"$f":"+VLOOKUP(G75,'Lista consol SKR'!$P:$Q,2,FALSE)","v":7},9,"Busan9",{"$f":"+VLOOKUP(R75,'Lista consol SKR'!C:D,2,FALSE)","v":"Busan"},9,"Busan9",{"$f":"+VLOOKUP(S75,'Lista consol SKR'!C:D,2,FALSE)","v":"Busan"},{"$f":"+VLOOKUP(Q75,'Lista consol SKR'!A:B,2,FALSE)","v":"Genoa"},"Not required","LEVERKUSEN EXPRESSITGOA",{"$f":"+IF(J75=\"\",\"\",IF(ISERROR(VLOOKUP(J75,'Vessel list'!A:J,10,FALSE)),\"\",VLOOKUP(J75,'Vessel list'!A:J,10,FALSE)))","v":""},{"$f":"+IF(J75=\"\",\"\",IF(ISERROR(VLOOKUP(J75,'Vessel list'!A:C,3,FALSE)),\"\",VLOOKUP(J75,'Vessel list'!A:C,3,FALSE)))","v":""},"ITMILKRPUS000559486",null,"false","ITMIL","ITGOA","KRPUS","KRPUS",null,null,"SGOCEANETW0001","LEVERKUSEN EXPRESS","033E","2020-11-15","09:30:00","2020-12-16","17:30:00",null,null,null,null,null,null,null,null,null,null,null,null,"Wednesday","2020-11-11","18:00:00","2020-11-13","09:30:00","2020-11-14","09:30:00",null,null,"Sunday",null,null,"true","false","false"]
[{"$f":"+VLOOKUP(G76,'Lista consol SKR'!$P:$Q,2,FALSE)","v":7},10,"Busan10",{"$f":"+VLOOKUP(R76,'Lista consol SKR'!C:D,2,FALSE)","v":"Busan"},10,"Busan10",{"$f":"+VLOOKUP(S76,'Lista consol SKR'!C:D,2,FALSE)","v":"Busan"},{"$f":"+VLOOKUP(Q76,'Lista consol SKR'!A:B,2,FALSE)","v":"Genoa"},"Not required","UMM SALALITGOA",{"$f":"+IF(J76=\"\",\"\",IF(ISERROR(VLOOKUP(J76,'Vessel list'!A:J,10,FALSE)),\"\",VLOOKUP(J76,'Vessel list'!A:J,10,FALSE)))","v":""},{"$f":"+IF(J76=\"\",\"\",IF(ISERROR(VLOOKUP(J76,'Vessel list'!A:C,3,FALSE)),\"\",VLOOKUP(J76,'Vessel list'!A:C,3,FALSE)))","v":""},"ITMILKRPUS000559485",null,"false","ITMIL","ITGOA","KRPUS","KRPUS",null,null,"SGOCEANETW0001","UMM SALAL","022E","2020-11-29","09:31:00","2020-12-30","17:31:00",null,null,null,null,null,null,null,null,null,null,null,null,"Wednesday","2020-11-25","18:00:00",44162,0.39652777777519077,44163,0.39652777777519077,null,null,"Sunday",31,null,"true","false","false"]
[{"$f":"+VLOOKUP(G77,'Lista consol SKR'!$P:$Q,2,FALSE)","v":7},11,"Busan11",{"$f":"+VLOOKUP(R77,'Lista consol SKR'!C:D,2,FALSE)","v":"Busan"},11,"Busan11",{"$f":"+VLOOKUP(S77,'Lista consol SKR'!C:D,2,FALSE)","v":"Busan"},{"$f":"+VLOOKUP(Q77,'Lista consol SKR'!A:B,2,FALSE)","v":"Genoa"},"Not required","UMM SALALITGOA",{"$f":"+IF(J77=\"\",\"\",IF(ISERROR(VLOOKUP(J77,'Vessel list'!A:J,10,FALSE)),\"\",VLOOKUP(J77,'Vessel list'!A:J,10,FALSE)))","v":""},{"$f":"+IF(J77=\"\",\"\",IF(ISERROR(VLOOKUP(J77,'Vessel list'!A:C,3,FALSE)),\"\",VLOOKUP(J77,'Vessel list'!A:C,3,FALSE)))","v":""},"ITMILKRPUS000565845",null,"false","ITMIL","ITGOA","KRPUS","KRPUS",null,null,"SGOCEANETW0001","UMM SALAL","022E","2020-11-29","09:31:00","2020-12-30","17:31:00",null,null,null,null,null,null,null,null,null,null,null,null,"Friday","2020-11-27","18:00:00",44162,"09:31:00",44163,"09:31:00",null,null,"Sunday",31,"Luca Giudici","true","false","false"]
[{"$f":"+VLOOKUP(G78,'Lista consol SKR'!$P:$Q,2,FALSE)","v":7},12,"Busan12",{"$f":"+VLOOKUP(R78,'Lista consol SKR'!C:D,2,FALSE)","v":"Busan"},12,"Busan12",{"$f":"+VLOOKUP(S78,'Lista consol SKR'!C:D,2,FALSE)","v":"Busan"},{"$f":"+VLOOKUP(Q78,'Lista consol SKR'!A:B,2,FALSE)","v":"Genoa"},"Not required","UNAYZAHITGOA",{"$f":"+IF(J78=\"\",\"\",IF(ISERROR(VLOOKUP(J78,'Vessel list'!A:J,10,FALSE)),\"\",VLOOKUP(J78,'Vessel list'!A:J,10,FALSE)))","v":"IT262102"},{"$f":"+IF(J78=\"\",\"\",IF(ISERROR(VLOOKUP(J78,'Vessel list'!A:C,3,FALSE)),\"\",VLOOKUP(J78,'Vessel list'!A:C,3,FALSE)))","v":"Genoa VTE"},"ITMILKRPUS000565848",null,"false","ITMIL","ITGOA","KRPUS","KRPUS",null,null,"SGOCEANETW0001","UNAYZAH","019E","2020-12-06","12:00:00","2021-01-06","20:00:00",null,null,null,null,null,null,null,null,null,null,null,null,"Wednesday","2020-12-02","18:00:00",44169,0.5,44170,0.5,null,null,"Sunday",31,"Luca Giudici","true","false","false"]
[{"$f":"+VLOOKUP(G79,'Lista consol SKR'!$P:$Q,2,FALSE)","v":7},{"$f":"IF(D79=D78,B78+1,1)","v":13},{"$f":"+D79&B79","v":"Busan13"},{"$f":"+VLOOKUP(R79,'Lista consol SKR'!C:D,2,FALSE)","v":"Busan"},{"$f":"IF(G79=G78,E78+1,1)","v":13},{"$f":"+G79&E79","v":"Busan13"},{"$f":"+VLOOKUP(S79,'Lista consol SKR'!C:D,2,FALSE)","v":"Busan"},{"$f":"+VLOOKUP(Q79,'Lista consol SKR'!A:B,2,FALSE)","v":"Genoa"},{"$f":"IF(M79=\"\",\"\",IF(LEFT(S79,2)=\"CN\",\"x\",IF(LEFT(S79,2)=\"US\",\"x\",IF(LEFT(S79,2)=\"CA\",\"x\",IF(LEFT(S79,2)=\"JP\",\"x\",\"Not required\")))))","v":"Not required"},{"$f":"IF(W79=\"\",\"\",W79&Q79)","v":"UNAYZAHITGOA"},{"$f":"+IF(J79=\"\",\"\",IF(ISERROR(VLOOKUP(J79,'Vessel list'!A:J,10,FALSE)),\"\",VLOOKUP(J79,'Vessel list'!A:J,10,FALSE)))","v":"IT262102"},{"$f":"+IF(J79=\"\",\"\",IF(ISERROR(VLOOKUP(J79,'Vessel list'!A:C,3,FALSE)),\"\",VLOOKUP(J79,'Vessel list'!A:C,3,FALSE)))","v":"Genoa VTE"},"ITMILKRPUS000565892",null,"false","ITMIL","ITGOA","KRPUS","KRPUS",null,null,"SGOCEANETW0001","UNAYZAH","019E","2020-12-06","12:00:00","2021-01-06","20:00:00",null,null,null,null,null,null,null,null,null,null,null,null,"Wednesday","2020-12-02","18:00:00",44169,"12:00:00",44170,"12:00:00",null,null,"Sunday",31,null,"true","false","false"]
[{"$f":"+VLOOKUP(G80,'Lista consol SKR'!$P:$Q,2,FALSE)","v":7},14,"Busan14",{"$f":"+VLOOKUP(R80,'Lista consol SKR'!C:D,2,FALSE)","v":"Busan"},14,"Busan14",{"$f":"+VLOOKUP(S80,'Lista consol SKR'!C:D,2,FALSE)","v":"Busan"},{"$f":"+VLOOKUP(Q80,'Lista consol SKR'!A:B,2,FALSE)","v":"Genoa"},"Not required","NEW YORK EXPRESSITGOA",{"$f":"+IF(J80=\"\",\"\",IF(ISERROR(VLOOKUP(J80,'Vessel list'!A:J,10,FALSE)),\"\",VLOOKUP(J80,'Vessel list'!A:J,10,FALSE)))","v":""},{"$f":"+IF(J80=\"\",\"\",IF(ISERROR(VLOOKUP(J80,'Vessel list'!A:C,3,FALSE)),\"\",VLOOKUP(J80,'Vessel list'!A:C,3,FALSE)))","v":""},"ITMILKRPUS000565893",null,"false","ITMIL","ITGOA","KRPUS","KRPUS",null,null,"SGOCEANETW0001","NEW YORK EXPRESS","040E","2020-12-20","09:09:09","2021-01-20","08:08:08",null,null,null,null,null,null,null,null,null,null,null,null,"Wednesday","2020-12-16","18:00:00",44183,"00:00:00",44184,"00:00:00",null,null,"Sunday",31,null,"true","false","false"]
[{"$f":"+VLOOKUP(G81,'Lista consol SKR'!$P:$Q,2,FALSE)","v":{"$error":"#N/A"}},1,"Callao1",{"$f":"+VLOOKUP(R81,'Lista consol SKR'!C:D,2,FALSE)","v":"Callao"},1,"Callao1",{"$f":"+VLOOKUP(S81,'Lista consol SKR'!C:D,2,FALSE)","v":"Callao"},{"$f":"+VLOOKUP(Q81,'Lista consol SKR'!A:B,2,FALSE)","v":"Genoa"},"Not required","ALEXANDRAITGOA",{"$f":"+IF(J81=\"\",\"\",IF(ISERROR(VLOOKUP(J81,'Vessel list'!A:J,10,FALSE)),\"\",VLOOKUP(J81,'Vessel list'!A:J,10,FALSE)))","v":""},{"$f":"+IF(J81=\"\",\"\",IF(ISERROR(VLOOKUP(J81,'Vessel list'!A:C,3,FALSE)),\"\",VLOOKUP(J81,'Vessel list'!A:C,3,FALSE)))","v":""},"ITMILPECLL000562860",null,"false","ITMIL","ITGOA","PECLL","PECLL",null,null,"DESACOSHIP0001","ALEXANDRA","DV79S1MA","2020-10-14","00:00:00","2020-11-10","00:00:00",null,null,null,null,null,null,null,null,null,null,null,null,"Thursday","2020-10-08","18:00:00",44116,"00:00:00",44117,"00:00:00",null,null,"Wednesday",28,null,"true","false","false"]
[{"$f":"+VLOOKUP(G82,'Lista consol SKR'!$P:$Q,2,FALSE)","v":{"$error":"#N/A"}},1,"Caucedo1",{"$f":"+VLOOKUP(R82,'Lista consol SKR'!C:D,2,FALSE)","v":"Caucedo"},1,"Caucedo1",{"$f":"+VLOOKUP(S82,'Lista consol SKR'!C:D,2,FALSE)","v":"Caucedo"},{"$f":"+VLOOKUP(Q82,'Lista consol SKR'!A:B,2,FALSE)","v":{"$error":"#N/A"}},"Not required","CALA PALMAITVDL",{"$f":"+IF(J82=\"\",\"\",IF(ISERROR(VLOOKUP(J82,'Vessel list'!A:J,10,FALSE)),\"\",VLOOKUP(J82,'Vessel list'!A:J,10,FALSE)))","v":""},{"$f":"+IF(J82=\"\",\"\",IF(ISERROR(VLOOKUP(J82,'Vessel list'!A:C,3,FALSE)),\"\",VLOOKUP(J82,'Vessel list'!A:C,3,FALSE)))","v":""},"ITMILDOCAU000565964",null,"false","ITMIL","ITVDL","DOCAU","DOCAU",null,null,"DESACOSHIP0001","CALA PALMA","2046WB","2020-10-27","00:00:00","2020-11-13","00:00:00",null,null,null,null,null,null,null,null,null,null,null,null,"Wednesday","2020-10-21","18:00:00",44129,0,44130,0,null,null,"Tuesday",18,null,"true","false","false"]
[{"$f":"+VLOOKUP(G83,'Lista consol SKR'!$P:$Q,2,FALSE)","v":8},1,"Chennai1",{"$f":"+VLOOKUP(R83,'Lista consol SKR'!C:D,2,FALSE)","v":"Chennai"},1,"Chennai1",{"$f":"+VLOOKUP(S83,'Lista consol SKR'!C:D,2,FALSE)","v":"Chennai"},{"$f":"+VLOOKUP(Q83,'Lista consol SKR'!A:B,2,FALSE)","v":"Genoa"},"Not required","THALASSA PISTISITGOA",{"$f":"+IF(J83=\"\",\"\",IF(ISERROR(VLOOKUP(J83,'Vessel list'!A:J,10,FALSE)),\"\",VLOOKUP(J83,'Vessel list'!A:J,10,FALSE)))","v":""},{"$f":"+IF(J83=\"\",\"\",IF(ISERROR(VLOOKUP(J83,'Vessel list'!A:C,3,FALSE)),\"\",VLOOKUP(J83,'Vessel list'!A:C,3,FALSE)))","v":""},"ITMILINMAA000564405",null,"false","ITMIL","ITGOA","INMAA","INMAA",null,null,"USVANGLOGI0001","THALASSA PISTIS","0458-036E","2020-10-27","00:00:00","2020-11-20","00:00:00",null,null,null,null,null,null,null,null,null,null,null,null,"Monday","2020-10-19","18:00:00",44129,"00:00:00",44130,"00:00:00",null,null,"Tuesday",24,null,"true","false","false"]
[{"$f":"+VLOOKUP(G84,'Lista consol SKR'!$P:$Q,2,FALSE)","v":{"$error":"#N/A"}},1,"Colombo1",{"$f":"+VLOOKUP(R84,'Lista consol SKR'!C:D,2,FALSE)","v":"Colombo"},1,"Colombo1",{"$f":"+VLOOKUP(S84,'Lista consol SKR'!C:D,2,FALSE)","v":"Colombo"},{"$f":"+VLOOKUP(Q84,'Lista consol SKR'!A:B,2,FALSE)","v":"Genoa"},"Not required","THALASSA PISTISITGOA",{"$f":"+IF(J84=\"\",\"\",IF(ISERROR(VLOOKUP(J84,'Vessel list'!A:J,10,FALSE)),\"\",VLOOKUP(J84,'Vessel list'!A:J,10,FALSE)))","v":""},{"$f":"+IF(J84=\"\",\"\",IF(ISERROR(VLOOKUP(J84,'Vessel list'!A:C,3,FALSE)),\"\",VLOOKUP(J84,'Vessel list'!A:C,3,FALSE)))","v":""},"ITMILLKCMB000565436",null,"false","ITMIL","ITGOA","LKCMB","LKCMB",null,null,"BEECUWORLD0001","THALASSA PISTIS","0458-036E","2020-10-27","00:00:00","2020-11-18","00:00:00",null,null,null,null,null,null,null,null,null,null,null,null,"Wednesday","2020-10-21","18:00:00",44129,"00:00:00",44130,"00:00:00",null,null,"Tuesday",22,null,"true","false","false"]
[{"$f":"+VLOOKUP(G85,'Lista consol SKR'!$P:$Q,2,FALSE)","v":9},1,"Durban1",{"$f":"+VLOOKUP(R85,'Lista consol SKR'!C:D,2,FALSE)","v":"Durban"},1,"Durban1",{"$f":"+VLOOKUP(S85,'Lista consol SKR'!C:D,2,FALSE)","v":"Durban"},{"$f":"+VLOOKUP(Q85,'Lista consol SKR'!A:B,2,FALSE)","v":"Genoa"},"Not required","CSCL BRISBANEITGOA",{"$f":"+IF(J85=\"\",\"\",IF(ISERROR(VLOOKUP(J85,'Vessel list'!A:J,10,FALSE)),\"\",VLOOKUP(J85,'Vessel list'!A:J,10,FALSE)))","v":""},{"$f":"+IF(J85=\"\",\"\",IF(ISERROR(VLOOKUP(J85,'Vessel list'!A:C,3,FALSE)),\"\",VLOOKUP(J85,'Vessel list'!A:C,3,FALSE)))","v":""},"ITMILZADUR000564473",null,"false","ITMIL","ITGOA","ZADUR","ZADUR",null,null,"DESACOSHIP0001","CSCL BRISBANE","187W","2020-10-20","00:00:00","2020-11-20","00:00:00",null,null,null,null,null,null,null,null,null,null,null,null,"Wednesday","2020-10-14","18:00:00",44122,"00:00:00",44123,"00:00:00",null,null,"Tuesday",31,null,"true","false","false"]
[{"$f":"+VLOOKUP(G86,'Lista consol SKR'!$P:$Q,2,FALSE)","v":{"$error":"#N/A"}},1,"Fremantle1",{"$f":"+VLOOKUP(R86,'Lista consol SKR'!C:D,2,FALSE)","v":"Fremantle"},1,"Fremantle1",{"$f":"+VLOOKUP(S86,'Lista consol SKR'!C:D,2,FALSE)","v":"Fremantle"},{"$f":"+VLOOKUP(Q86,'Lista consol SKR'!A:B,2,FALSE)","v":"Genoa"},"Not required","MILANO BRIDGEITGOA",{"$f":"+IF(J86=\"\",\"\",IF(ISERROR(VLOOKUP(J86,'Vessel list'!A:J,10,FALSE)),\"\",VLOOKUP(J86,'Vessel list'!A:J,10,FALSE)))","v":""},{"$f":"+IF(J86=\"\",\"\",IF(ISERROR(VLOOKUP(J86,'Vessel list'!A:C,3,FALSE)),\"\",VLOOKUP(J86,'Vessel list'!A:C,3,FALSE)))","v":""},"ITMILAUFRE000562865",null,"false","ITMIL","ITGOA","AUFRE","AUFRE",null,null,"DESACOSHIP0001","MILANO BRIDGE","012E","2020-10-18","00:00:00","2020-11-20","00:00:00",null,null,null,null,null,null,null,null,null,null,null,null,"Friday","2020-10-09","18:00:00",44120,"00:00:00",44121,"00:00:00",null,null,"Sunday",33,"Gladys Chiccoli","true","false","false"]
[{"$f":"+VLOOKUP(G87,'Lista consol SKR'!$P:$Q,2,FALSE)","v":{"$error":"#N/A"}},2,"Fremantle2",{"$f":"+VLOOKUP(R87,'Lista consol SKR'!C:D,2,FALSE)","v":"Fremantle"},2,"Fremantle2",{"$f":"+VLOOKUP(S87,'Lista consol SKR'!C:D,2,FALSE)","v":"Fremantle"},{"$f":"+VLOOKUP(Q87,'Lista consol SKR'!A:B,2,FALSE)","v":"Genoa"},"Not required","ONE MILLAUITGOA",{"$f":"+IF(J87=\"\",\"\",IF(ISERROR(VLOOKUP(J87,'Vessel list'!A:J,10,FALSE)),\"\",VLOOKUP(J87,'Vessel list'!A:J,10,FALSE)))","v":""},{"$f":"+IF(J87=\"\",\"\",IF(ISERROR(VLOOKUP(J87,'Vessel list'!A:C,3,FALSE)),\"\",VLOOKUP(J87,'Vessel list'!A:C,3,FALSE)))","v":""},"ITMILAUFRE000564446",null,"false","ITMIL","ITGOA","AUFRE","AUFRE",null,null,"DESACOSHIP0001","ONE MILLAU","027E","2020-10-28","00:00:00","2020-11-30","00:00:00",null,null,null,null,null,null,null,null,null,null,null,null,"Tuesday","2020-10-20","12:30:00",44130,0,44131,0,null,null,"Wednesday",33,"Gladys Chiccoli","true","false","false"]
[{"$f":"+VLOOKUP(G88,'Lista consol SKR'!$P:$Q,2,FALSE)","v":{"$error":"#N/A"}},1,"Ho Chi Minh City1",{"$f":"+VLOOKUP(R88,'Lista consol SKR'!C:D,2,FALSE)","v":"Ho Chi Minh City"},1,"Ho Chi Minh City1",{"$f":"+VLOOKUP(S88,'Lista consol SKR'!C:D,2,FALSE)","v":"Ho Chi Minh City"},{"$f":"+VLOOKUP(Q88,'Lista consol SKR'!A:B,2,FALSE)","v":"Genoa"},"Not required","MILANO BRIDGEITGOA",{"$f":"+IF(J88=\"\",\"\",IF(ISERROR(VLOOKUP(J88,'Vessel list'!A:J,10,FALSE)),\"\",VLOOKUP(J88,'Vessel list'!A:J,10,FALSE)))","v":""},{"$f":"+IF(J88=\"\",\"\",IF(ISERROR(VLOOKUP(J88,'Vessel list'!A:C,3,FALSE)),\"\",VLOOKUP(J88,'Vessel list'!A:C,3,FALSE)))","v":""},"ITMILVNCLI000558705",null,"false","ITMIL","ITGOA","VNCLI","VNCLI",null,null,"USVANGLOGI0001","MILANO BRIDGE","012E","2020-10-18","00:00:00","2020-11-15","18:00:00",null,null,null,null,null,null,null,null,null,null,null,null,"Monday","2020-10-12","18:00:00","2020-10-16","00:00:00","2020-10-18","00:00:00",null,null,"Sunday",28,"Serena Facchini","true","false","false"]
[{"$f":"+VLOOKUP(G89,'Lista consol SKR'!$P:$Q,2,FALSE)","v":{"$error":"#N/A"}},2,"Ho Chi Minh City2",{"$f":"+VLOOKUP(R89,'Lista consol SKR'!C:D,2,FALSE)","v":"Ho Chi Minh City"},2,"Ho Chi Minh City2",{"$f":"+VLOOKUP(S89,'Lista consol SKR'!C:D,2,FALSE)","v":"Ho Chi Minh City"},{"$f":"+VLOOKUP(Q89,'Lista consol SKR'!A:B,2,FALSE)","v":"Genoa"},"Not required","ONE MILLAUITGOA",{"$f":"+IF(J89=\"\",\"\",IF(ISERROR(VLOOKUP(J89,'Vessel list'!A:J,10,FALSE)),\"\",VLOOKUP(J89,'Vessel list'!A:J,10,FALSE)))","v":""},{"$f":"+IF(J89=\"\",\"\",IF(ISERROR(VLOOKUP(J89,'Vessel list'!A:C,3,FALSE)),\"\",VLOOKUP(J89,'Vessel list'!A:C,3,FALSE)))","v":""},"ITMILVNCLI000565420",null,"false","ITMIL","ITGOA","VNCLI","VNCLI",null,null,"DESACOSHIP0001","ONE MILLAU","027E","2020-10-25","01:41:05","2020-11-26","12:41:05",null,null,null,null,null,null,null,null,null,null,null,null,"Monday","2020-10-19","00:00:00",44127,"00:00:00",44128,"00:00:00",null,null,"Sunday",33,null,"true","false","false"]
[{"$f":"+VLOOKUP(G90,'Lista consol SKR'!$P:$Q,2,FALSE)","v":{"$error":"#N/A"}},3,"Ho Chi Minh City3",{"$f":"+VLOOKUP(R90,'Lista consol SKR'!C:D,2,FALSE)","v":"Ho Chi Minh City"},3,"Ho Chi Minh City3",{"$f":"+VLOOKUP(S90,'Lista consol SKR'!C:D,2,FALSE)","v":"Ho Chi Minh City"},{"$f":"+VLOOKUP(Q90,'Lista consol SKR'!A:B,2,FALSE)","v":"Genoa"},"Not required","ONE MILLAUITGOA",{"$f":"+IF(J90=\"\",\"\",IF(ISERROR(VLOOKUP(J90,'Vessel list'!A:J,10,FALSE)),\"\",VLOOKUP(J90,'Vessel list'!A:J,10,FALSE)))","v":""},{"$f":"+IF(J90=\"\",\"\",IF(ISERROR(VLOOKUP(J90,'Vessel list'!A:C,3,FALSE)),\"\",VLOOKUP(J90,'Vessel list'!A:C,3,FALSE)))","v":""},"ITMILVNCLI000564256",null,"false","ITMIL","ITGOA","VNCLI","VNCLI",null,null,"USVANGLOGI0001","ONE MILLAU","027E","2020-10-25","01:41:01","2020-11-26","12:41:01",null,null,null,null,null,null,null,null,null,null,null,null,"Monday","2020-10-19","00:00:00","2020-10-23","00:00:00","2020-10-24","00:00:00",null,null,"Sunday",33,null,"true","false","false"]
[{"$f":"+VLOOKUP(G91,'Lista consol SKR'!$P:$Q,2,FALSE)","v":{"$error":"#N/A"}},4,"Ho Chi Minh City4",{"$f":"+VLOOKUP(R91,'Lista consol SKR'!C:D,2,FALSE)","v":"Ho Chi Minh City"},4,"Ho Chi Minh City4",{"$f":"+VLOOKUP(S91,'Lista consol SKR'!C:D,2,FALSE)","v":"Ho Chi Minh City"},{"$f":"+VLOOKUP(Q91,'Lista consol SKR'!A:B,2,FALSE)","v":"Genoa"},"Not required","JEBEL ALIITGOA",{"$f":"+IF(J91=\"\",\"\",IF(ISERROR(VLOOKUP(J91,'Vessel list'!A:J,10,FALSE)),\"\",VLOOKUP(J91,'Vessel list'!A:J,10,FALSE)))","v":"IT262102"},{"$f":"+IF(J91=\"\",\"\",IF(ISERROR(VLOOKUP(J91,'Vessel list'!A:C,3,FALSE)),\"\",VLOOKUP(J91,'Vessel list'!A:C,3,FALSE)))","v":"Genoa VTE"},"ITMILVNCLI000564236",null,"false","ITMIL","ITGOA","VNCLI","VNCLI",null,null,"USVANGLOGI0001","JEBEL ALI","015E","2020-11-06","00:00:00","2020-12-08","00:00:00",null,null,null,null,null,null,null,null,null,null,null,null,"Friday","2020-10-30","00:00:00","2020-10-30","00:00:00","2020-10-30","00:00:00",null,null,"Friday",32,null,"true","false","false"]
[{"$f":"+VLOOKUP(G92,'Lista consol SKR'!$P:$Q,2,FALSE)","v":10},1,"Hong Kong1",{"$f":"+VLOOKUP(R92,'Lista consol SKR'!C:D,2,FALSE)","v":"Hong Kong"},1,"Hong Kong1",{"$f":"+VLOOKUP(S92,'Lista consol SKR'!C:D,2,FALSE)","v":"Hong Kong"},{"$f":"+VLOOKUP(Q92,'Lista consol SKR'!A:B,2,FALSE)","v":"Genoa"},"Not required","MILANO BRIDGEITGOA",{"$f":"+IF(J92=\"\",\"\",IF(ISERROR(VLOOKUP(J92,'Vessel list'!A:J,10,FALSE)),\"\",VLOOKUP(J92,'Vessel list'!A:J,10,FALSE)))","v":""},{"$f":"+IF(J92=\"\",\"\",IF(ISERROR(VLOOKUP(J92,'Vessel list'!A:C,3,FALSE)),\"\",VLOOKUP(J92,'Vessel list'!A:C,3,FALSE)))","v":""},"ITMILHKHKG000559497",null,"false","ITMIL","ITGOA","HKHKG","HKHKG",null,null,"SGOCEANETW0001","MILANO BRIDGE","012E","2020-10-18","12:00:00","2020-11-12","19:00:00",null,null,null,null,null,null,null,null,null,null,null,null,"Tuesday","2020-10-13","17:00:00","2020-10-16","12:00:00","2020-10-17","12:00:00",null,null,"Sunday",26,null,"false","false","false"]
[{"$f":"+VLOOKUP(G93,'Lista consol SKR'!$P:$Q,2,FALSE)","v":10},2,"Hong Kong2",{"$f":"+VLOOKUP(R93,'Lista consol SKR'!C:D,2,FALSE)","v":"Hong Kong"},2,"Hong Kong2",{"$f":"+VLOOKUP(S93,'Lista consol SKR'!C:D,2,FALSE)","v":"Hong Kong"},{"$f":"+VLOOKUP(Q93,'Lista consol SKR'!A:B,2,FALSE)","v":"Genoa"},"Not required","JEBEL ALIITGOA",{"$f":"+IF(J93=\"\",\"\",IF(ISERROR(VLOOKUP(J93,'Vessel list'!A:J,10,FALSE)),\"\",VLOOKUP(J93,'Vessel list'!A:J,10,FALSE)))","v":"IT262102"},{"$f":"+IF(J93=\"\",\"\",IF(ISERROR(VLOOKUP(J93,'Vessel list'!A:C,3,FALSE)),\"\",VLOOKUP(J93,'Vessel list'!A:C,3,FALSE)))","v":"Genoa VTE"},"ITMILHKHKG000559498",null,"false","ITMIL","ITGOA","HKHKG","HKHKG",null,null,"SGOCEANETW0001","JEBEL ALI","015E","2020-11-01","09:39:00","2020-11-27","17:39:00",null,null,null,null,null,null,null,null,null,null,null,null,"Tuesday","2020-10-27","17:00:00",44134,"09:39:00",44135,"09:39:00",null,null,"Sunday",27,null,"false","false","false"]
[{"$f":"+VLOOKUP(G94,'Lista consol SKR'!$P:$Q,2,FALSE)","v":10},3,"Hong Kong3",{"$f":"+VLOOKUP(R94,'Lista consol SKR'!C:D,2,FALSE)","v":"Hong Kong"},3,"Hong Kong3",{"$f":"+VLOOKUP(S94,'Lista consol SKR'!C:D,2,FALSE)","v":"Hong Kong"},{"$f":"+VLOOKUP(Q94,'Lista consol SKR'!A:B,2,FALSE)","v":"Genoa"},"Not required","ONE MANCHESTERITGOA",{"$f":"+IF(J94=\"\",\"\",IF(ISERROR(VLOOKUP(J94,'Vessel list'!A:J,10,FALSE)),\"\",VLOOKUP(J94,'Vessel list'!A:J,10,FALSE)))","v":""},{"$f":"+IF(J94=\"\",\"\",IF(ISERROR(VLOOKUP(J94,'Vessel list'!A:C,3,FALSE)),\"\",VLOOKUP(J94,'Vessel list'!A:C,3,FALSE)))","v":""},"ITMILHKHKG000559499",null,"false","ITMIL","ITGOA","HKHKG","HKHKG",null,null,"SGOCEANETW0001","ONE MANCHESTER","025E","2020-11-08","09:41:00","2020-12-04","17:41:00",null,null,null,null,null,null,null,null,null,null,null,null,"Tuesday","2020-11-03","17:00:00",44141,"09:41:00",44142,"09:41:00",null,null,"Sunday",27,null,"false","false","false"]
[{"$f":"+VLOOKUP(G95,'Lista consol SKR'!$P:$Q,2,FALSE)","v":10},4,"Hong Kong4",{"$f":"+VLOOKUP(R95,'Lista consol SKR'!C:D,2,FALSE)","v":"Hong Kong"},4,"Hong Kong4",{"$f":"+VLOOKUP(S95,'Lista consol SKR'!C:D,2,FALSE)","v":"Hong Kong"},{"$f":"+VLOOKUP(Q95,'Lista consol SKR'!A:B,2,FALSE)","v":"Genoa"},"Not required","LEVERKUSEN EXPRESSITGOA",{"$f":"+IF(J95=\"\",\"\",IF(ISERROR(VLOOKUP(J95,'Vessel list'!A:J,10,FALSE)),\"\",VLOOKUP(J95,'Vessel list'!A:J,10,FALSE)))","v":""},{"$f":"+IF(J95=\"\",\"\",IF(ISERROR(VLOOKUP(J95,'Vessel list'!A:C,3,FALSE)),\"\",VLOOKUP(J95,'Vessel list'!A:C,3,FALSE)))","v":""},"ITMILHKHKG000559500",null,"false","ITMIL","ITGOA","HKHKG","HKHKG",null,null,"SGOCEANETW0001","LEVERKUSEN EXPRESS","033E","2020-11-15","09:40:00","2020-12-11","17:40:00",null,null,null,null,null,null,null,null,null,null,null,null,"Tuesday","2020-11-10","17:00:00",44148,0.40277777778101154,44149,0.40277777778101154,null,null,"Sunday",27,null,"false","false","false"]
[{"$f":"+VLOOKUP(G96,'Lista consol SKR'!$P:$Q,2,FALSE)","v":10},5,"Hong Kong5",{"$f":"+VLOOKUP(R96,'Lista consol SKR'!C:D,2,FALSE)","v":"Hong Kong"},5,"Hong Kong5",{"$f":"+VLOOKUP(S96,'Lista consol SKR'!C:D,2,FALSE)","v":"Hong Kong"},{"$f":"+VLOOKUP(Q96,'Lista consol SKR'!A:B,2,FALSE)","v":"Genoa"},"Not required","UMM SALALITGOA",{"$f":"+IF(J96=\"\",\"\",IF(ISERROR(VLOOKUP(J96,'Vessel list'!A:J,10,FALSE)),\"\",VLOOKUP(J96,'Vessel list'!A:J,10,FALSE)))","v":""},{"$f":"+IF(J96=\"\",\"\",IF(ISERROR(VLOOKUP(J96,'Vessel list'!A:C,3,FALSE)),\"\",VLOOKUP(J96,'Vessel list'!A:C,3,FALSE)))","v":""},"ITMILHKHKG000559501",null,"false","ITMIL","ITGOA","HKHKG","HKHKG",null,null,"SGOCEANETW0001","UMM SALAL","022E","2020-11-29","09:42:00","2020-12-25","17:42:00",null,null,null,null,null,null,null,null,null,null,null,null,"Tuesday","2020-11-24","17:00:00","2020-11-27","09:42:00","2020-11-28","09:42:00",null,null,"Sunday",27,null,"false","false","false"]
[{"$f":"+VLOOKUP(G97,'Lista consol SKR'!$P:$Q,2,FALSE)","v":10},6,"Hong Kong6",{"$f":"+VLOOKUP(R97,'Lista consol SKR'!C:D,2,FALSE)","v":"Hong Kong"},6,"Hong Kong6",{"$f":"+VLOOKUP(S97,'Lista consol SKR'!C:D,2,FALSE)","v":"Hong Kong"},{"$f":"+VLOOKUP(Q97,'Lista consol SKR'!A:B,2,FALSE)","v":"Genoa"},"Not required","UNAYZAHITGOA",{"$f":"+IF(J97=\"\",\"\",IF(ISERROR(VLOOKUP(J97,'Vessel list'!A:J,10,FALSE)),\"\",VLOOKUP(J97,'Vessel list'!A:J,10,FALSE)))","v":"IT262102"},{"$f":"+IF(J97=\"\",\"\",IF(ISERROR(VLOOKUP(J97,'Vessel list'!A:C,3,FALSE)),\"\",VLOOKUP(J97,'Vessel list'!A:C,3,FALSE)))","v":"Genoa VTE"},"ITMILHKHKG000565873",null,"false","ITMIL","ITGOA","HKHKG","HKHKG",null,null,"SGOCEANETW0001","UNAYZAH","019E","2020-12-06","12:00:00","2021-01-01","00:30:00",null,null,null,null,null,null,null,null,null,null,null,null,"Tuesday","2020-12-01","17:00:00",44169,"12:00:00",44170,"12:00:00",null,null,"Sunday",26,null,"false","false","false"]
[{"$f":"+VLOOKUP(G98,'Lista consol SKR'!$P:$Q,2,FALSE)","v":10},7,"Hong Kong7",{"$f":"+VLOOKUP(R98,'Lista consol SKR'!C:D,2,FALSE)","v":"Hong Kong"},7,"Hong Kong7",{"$f":"+VLOOKUP(S98,'Lista consol SKR'!C:D,2,FALSE)","v":"Hong Kong"},{"$f":"+VLOOKUP(Q98,'Lista consol SKR'!A:B,2,FALSE)","v":"Genoa"},"Not required","HYUNDAI NEW YORKITGOA",{"$f":"+IF(J98=\"\",\"\",IF(ISERROR(VLOOKUP(J98,'Vessel list'!A:J,10,FALSE)),\"\",VLOOKUP(J98,'Vessel list'!A:J,10,FALSE)))","v":""},{"$f":"+IF(J98=\"\",\"\",IF(ISERROR(VLOOKUP(J98,'Vessel list'!A:C,3,FALSE)),\"\",VLOOKUP(J98,'Vessel list'!A:C,3,FALSE)))","v":""},"ITMILHKHKG000565876",null,"false","ITMIL","ITGOA","HKHKG","HKHKG",null,null,"SGOCEANETW0001","HYUNDAI NEW YORK","097E","2020-12-13","00:08:08","2021-01-08","08:08:08",null,null,null,null,null,null,null,null,null,null,null,null,"Tuesday","2020-12-08","17:00:00","2020-12-11","00:00:00","2020-12-12","00:00:00",null,null,"Sunday",27,null,"false","false","false"]
[{"$f":"+VLOOKUP(G99,'Lista consol SKR'!$P:$Q,2,FALSE)","v":10},8,"Hong Kong8",{"$f":"+VLOOKUP(R99,'Lista consol SKR'!C:D,2,FALSE)","v":"Hong Kong"},8,"Hong Kong8",{"$f":"+VLOOKUP(S99,'Lista consol SKR'!C:D,2,FALSE)","v":"Hong Kong"},{"$f":"+VLOOKUP(Q99,'Lista consol SKR'!A:B,2,FALSE)","v":"Genoa"},"Not required","NEW YORK EXPRESSITGOA",{"$f":"+IF(J99=\"\",\"\",IF(ISERROR(VLOOKUP(J99,'Vessel list'!A:J,10,FALSE)),\"\",VLOOKUP(J99,'Vessel list'!A:J,10,FALSE)))","v":""},{"$f":"+IF(J99=\"\",\"\",IF(ISERROR(VLOOKUP(J99,'Vessel list'!A:C,3,FALSE)),\"\",VLOOKUP(J99,'Vessel list'!A:C,3,FALSE)))","v":""},"ITMILHKHKG000565877",null,"false","ITMIL","ITGOA","HKHKG","HKHKG",null,null,"SGOCEANETW0001","NEW YORK EXPRESS","040E","2020-12-20","09:09:09","2021-01-15","08:08:08",null,null,null,null,null,null,null,null,null,null,null,null,"Tuesday","2020-12-15","17:00:00",44183,"00:00:00",44184,"00:00:00",null,null,"Sunday",26,null,"false","false","false"]
[{"$f":"+VLOOKUP(G100,'Lista consol SKR'!$P:$Q,2,FALSE)","v":10},9,"Hong Kong9",{"$f":"+VLOOKUP(R100,'Lista consol SKR'!C:D,2,FALSE)","v":"Hong Kong"},9,"Hong Kong9",{"$f":"+VLOOKUP(S100,'Lista consol SKR'!C:D,2,FALSE)","v":"Hong Kong"},{"$f":"+VLOOKUP(Q100,'Lista consol SKR'!A:B,2,FALSE)","v":"Genoa"},"Not required","SHANGHAI EXPRESSITGOA",{"$f":"+IF(J100=\"\",\"\",IF(ISERROR(VLOOKUP(J100,'Vessel list'!A:J,10,FALSE)),\"\",VLOOKUP(J100,'Vessel list'!A:J,10,FALSE)))","v":""},{"$f":"+IF(J100=\"\",\"\",IF(ISERROR(VLOOKUP(J100,'Vessel list'!A:C,3,FALSE)),\"\",VLOOKUP(J100,'Vessel list'!A:C,3,FALSE)))","v":""},"ITMILHKHKG000565878",null,"false","ITMIL","ITGOA","HKHKG","HKHKG",null,null,"SGOCEANETW0001","SHANGHAI EXPRESS","036E","2020-12-27","09:09:09","2021-01-27","08:08:00",null,null,null,null,null,null,null,null,null,null,null,null,"Tuesday","2020-12-22","17:00:00",44190,0,44191,0,null,null,"Sunday",31,null,"false","false","false"]
[{"$f":"+VLOOKUP(G101,'Lista consol SKR'!$P:$Q,2,FALSE)","v":11},1,"Itajai1",{"$f":"+VLOOKUP(R101,'Lista consol SKR'!C:D,2,FALSE)","v":"Itajai"},1,"Itajai1",{"$f":"+VLOOKUP(S101,'Lista consol SKR'!C:D,2,FALSE)","v":"Itajai"},{"$f":"+VLOOKUP(Q101,'Lista consol SKR'!A:B,2,FALSE)","v":"Genoa"},"Not required","TBNITGOA",{"$f":"+IF(J101=\"\",\"\",IF(ISERROR(VLOOKUP(J101,'Vessel list'!A:J,10,FALSE)),\"\",VLOOKUP(J101,'Vessel list'!A:J,10,FALSE)))","v":""},{"$f":"+IF(J101=\"\",\"\",IF(ISERROR(VLOOKUP(J101,'Vessel list'!A:C,3,FALSE)),\"\",VLOOKUP(J101,'Vessel list'!A:C,3,FALSE)))","v":""},"ITMILBRITJ000564418",null,"false","ITMIL","ITGOA","BRITJ","BRITJ",null,null,"DESACOSHIP0001","TBN","VYV9T1MA","2020-10-15","00:00:00","2020-11-14","00:00:00",null,null,null,null,null,null,null,null,null,null,null,null,"Wednesday","2020-10-07","00:00:00",44117,0,44118,0,null,null,"Thursday",31,"Gladys Chiccoli","true","false","false"]
[{"$f":"+VLOOKUP(G102,'Lista consol SKR'!$P:$Q,2,FALSE)","v":11},2,"Itajai2",{"$f":"+VLOOKUP(R102,'Lista consol SKR'!C:D,2,FALSE)","v":"Itajai"},2,"Itajai2",{"$f":"+VLOOKUP(S102,'Lista consol SKR'!C:D,2,FALSE)","v":"Itajai"},{"$f":"+VLOOKUP(Q102,'Lista consol SKR'!A:B,2,FALSE)","v":"Genoa"},"Not required","ATLANTIC MONACOITGOA",{"$f":"+IF(J102=\"\",\"\",IF(ISERROR(VLOOKUP(J102,'Vessel list'!A:J,10,FALSE)),\"\",VLOOKUP(J102,'Vessel list'!A:J,10,FALSE)))","v":""},{"$f":"+IF(J102=\"\",\"\",IF(ISERROR(VLOOKUP(J102,'Vessel list'!A:C,3,FALSE)),\"\",VLOOKUP(J102,'Vessel list'!A:C,3,FALSE)))","v":""},"ITMILBRITJ000564417",null,"false","ITMIL","ITGOA","BRITJ","BRITJ",null,null,"DESACOSHIP0001","ATLANTIC MONACO","VYV9U1MA","2020-10-22","00:00:00","2020-11-21","00:00:00",null,null,null,null,null,null,null,null,null,null,null,null,"Wednesday","2020-10-14","00:00:00","2020-10-20","00:00:00","2020-10-21","00:00:00",null,null,"Thursday",31,"Gladys Chiccoli","true","false","false"]
[{"$f":"+VLOOKUP(G103,'Lista consol SKR'!$P:$Q,2,FALSE)","v":12},1,"Jebel Ali1",{"$f":"+VLOOKUP(R103,'Lista consol SKR'!C:D,2,FALSE)","v":"Jebel Ali"},1,"Jebel Ali1",{"$f":"+VLOOKUP(S103,'Lista consol SKR'!C:D,2,FALSE)","v":"Jebel Ali"},{"$f":"+VLOOKUP(Q103,'Lista consol SKR'!A:B,2,FALSE)","v":"Genoa"},"Not required","OOCL MALAYSIAITGOA",{"$f":"+IF(J103=\"\",\"\",IF(ISERROR(VLOOKUP(J103,'Vessel list'!A:J,10,FALSE)),\"\",VLOOKUP(J103,'Vessel list'!A:J,10,FALSE)))","v":""},{"$f":"+IF(J103=\"\",\"\",IF(ISERROR(VLOOKUP(J103,'Vessel list'!A:C,3,FALSE)),\"\",VLOOKUP(J103,'Vessel list'!A:C,3,FALSE)))","v":""},"ITMILAEJEA000559391",null,"false","ITMIL","ITGOA","AEJEA","AEJEA",null,null,"FRCMACGM0001","OOCL MALAYSIA","0ME7AE1MA","2020-10-14","00:00:00","2020-10-30","11:00:00",null,null,null,null,null,null,null,null,null,null,null,null,"Thursday","2020-10-08","18:00:00",44116,"00:00:00",44117,"00:00:00",null,null,"Wednesday",17,null,"true","false","false"]
[{"$f":"+VLOOKUP(G104,'Lista consol SKR'!$P:$Q,2,FALSE)","v":12},2,"Jebel Ali2",{"$f":"+VLOOKUP(R104,'Lista consol SKR'!C:D,2,FALSE)","v":"Jebel Ali"},2,"Jebel Ali2",{"$f":"+VLOOKUP(S104,'Lista consol SKR'!C:D,2,FALSE)","v":"Jebel Ali"},{"$f":"+VLOOKUP(Q104,'Lista consol SKR'!A:B,2,FALSE)","v":{"$error":"#N/A"}},"Not required","MONTE VERDEITVDL",{"$f":"+IF(J104=\"\",\"\",IF(ISERROR(VLOOKUP(J104,'Vessel list'!A:J,10,FALSE)),\"\",VLOOKUP(J104,'Vessel list'!A:J,10,FALSE)))","v":""},{"$f":"+IF(J104=\"\",\"\",IF(ISERROR(VLOOKUP(J104,'Vessel list'!A:C,3,FALSE)),\"\",VLOOKUP(J104,'Vessel list'!A:C,3,FALSE)))","v":""},"ITMILAEJEA000552672",null,"false","ITMIL","ITVDL","AEJEA","AEJEA",null,null,"DKMAERLINE0001","MONTE VERDE","041E","2020-10-15","12:00:00","2020-10-28","19:00:00",null,null,null,null,null,null,null,null,null,null,null,null,"Thursday","2020-10-08","18:00:00","2020-10-13","12:00:00","2020-10-14","12:00:00",null,null,"Thursday",14,null,"true","false","false"]
[{"$f":"+VLOOKUP(G105,'Lista consol SKR'!$P:$Q,2,FALSE)","v":12},3,"Jebel Ali3",{"$f":"+VLOOKUP(R105,'Lista consol SKR'!C:D,2,FALSE)","v":"Jebel Ali"},3,"Jebel Ali3",{"$f":"+VLOOKUP(S105,'Lista consol SKR'!C:D,2,FALSE)","v":"Jebel Ali"},{"$f":"+VLOOKUP(Q105,'Lista consol SKR'!A:B,2,FALSE)","v":"Genoa"},"Not required","MAYSSANITGOA",{"$f":"+IF(J105=\"\",\"\",IF(ISERROR(VLOOKUP(J105,'Vessel list'!A:J,10,FALSE)),\"\",VLOOKUP(J105,'Vessel list'!A:J,10,FALSE)))","v":""},{"$f":"+IF(J105=\"\",\"\",IF(ISERROR(VLOOKUP(J105,'Vessel list'!A:C,3,FALSE)),\"\",VLOOKUP(J105,'Vessel list'!A:C,3,FALSE)))","v":""},"ITMILAEJEA000565832",null,"false","ITMIL","ITGOA","AEJEA","AEJEA",null,null,"DEHAPALLOY0001","MAYSSAN","2037E","2020-10-15","00:00:00","2020-11-07","00:00:00",null,null,null,null,null,null,null,null,null,null,null,null,"Tuesday","2020-10-13","00:00:00",44117,"00:00:00",44118,"00:00:00",null,null,"Thursday",23,null,"true","false","false"]
[{"$f":"+VLOOKUP(G106,'Lista consol SKR'!$P:$Q,2,FALSE)","v":12},4,"Jebel Ali4",{"$f":"+VLOOKUP(R106,'Lista consol SKR'!C:D,2,FALSE)","v":"Jebel Ali"},4,"Jebel Ali4",{"$f":"+VLOOKUP(S106,'Lista consol SKR'!C:D,2,FALSE)","v":"Jebel Ali"},{"$f":"+VLOOKUP(Q106,'Lista consol SKR'!A:B,2,FALSE)","v":"Genoa"},"Not required","CMA CGM RACINEITGOA",{"$f":"+IF(J106=\"\",\"\",IF(ISERROR(VLOOKUP(J106,'Vessel list'!A:J,10,FALSE)),\"\",VLOOKUP(J106,'Vessel list'!A:J,10,FALSE)))","v":""},{"$f":"+IF(J106=\"\",\"\",IF(ISERROR(VLOOKUP(J106,'Vessel list'!A:C,3,FALSE)),\"\",VLOOKUP(J106,'Vessel list'!A:C,3,FALSE)))","v":""},"ITMILAEJEA000565943",null,"false","ITMIL","ITGOA","AEJEA","AEJEA",null,null,"DEHAPALLOY0001","CMA CGM RACINE","0MX7AE1MA","2020-10-21","00:00:00","2020-11-13","00:00:00",null,null,null,null,null,null,null,null,null,null,null,null,"Thursday","2020-10-15","18:00:00",44123,"00:00:00",44124,"00:00:00",null,null,"Wednesday",23,null,"true","false","false"]
[{"$f":"+VLOOKUP(G107,'Lista consol SKR'!$P:$Q,2,FALSE)","v":12},5,"Jebel Ali5",{"$f":"+VLOOKUP(R107,'Lista consol SKR'!C:D,2,FALSE)","v":"Jebel Ali"},5,"Jebel Ali5",{"$f":"+VLOOKUP(S107,'Lista consol SKR'!C:D,2,FALSE)","v":"Jebel Ali"},{"$f":"+VLOOKUP(Q107,'Lista consol SKR'!A:B,2,FALSE)","v":"Genoa"},"Not required","CMA CGM COLUMBAITGOA",{"$f":"+IF(J107=\"\",\"\",IF(ISERROR(VLOOKUP(J107,'Vessel list'!A:J,10,FALSE)),\"\",VLOOKUP(J107,'Vessel list'!A:J,10,FALSE)))","v":"IT262102"},{"$f":"+IF(J107=\"\",\"\",IF(ISERROR(VLOOKUP(J107,'Vessel list'!A:C,3,FALSE)),\"\",VLOOKUP(J107,'Vessel list'!A:C,3,FALSE)))","v":"Genoa VTE"},"ITMILAEJEA000559477",null,"false","ITMIL","ITGOA","AEJEA","AEJEA",null,null,"FRCMACGM0001","CMA CGM COLUMBA","0ME7EE1MA","2020-10-22","00:00:00","2020-11-08","07:00:00",null,null,null,null,null,null,null,null,null,null,null,null,"Thursday","2020-10-15","18:00:00","2020-10-20","00:00:00","2020-10-21","00:00:00",null,null,"Thursday",18,null,"true","false","false"]
[{"$f":"+VLOOKUP(G108,'Lista consol SKR'!$P:$Q,2,FALSE)","v":12},6,"Jebel Ali6",{"$f":"+VLOOKUP(R108,'Lista consol SKR'!C:D,2,FALSE)","v":"Jebel Ali"},6,"Jebel Ali6",{"$f":"+VLOOKUP(S108,'Lista consol SKR'!C:D,2,FALSE)","v":"Jebel Ali"},{"$f":"+VLOOKUP(Q108,'Lista consol SKR'!A:B,2,FALSE)","v":{"$error":"#N/A"}},"Not required","SUSAN MAERSKITVDL",{"$f":"+IF(J108=\"\",\"\",IF(ISERROR(VLOOKUP(J108,'Vessel list'!A:J,10,FALSE)),\"\",VLOOKUP(J108,'Vessel list'!A:J,10,FALSE)))","v":""},{"$f":"+IF(J108=\"\",\"\",IF(ISERROR(VLOOKUP(J108,'Vessel list'!A:C,3,FALSE)),\"\",VLOOKUP(J108,'Vessel list'!A:C,3,FALSE)))","v":""},"ITMILAEJEA000552674",null,"false","ITMIL","ITVDL","AEJEA","AEJEA",null,null,"DKMAERLINE0001","SUSAN MAERSK","042E","2020-10-22","12:12:12","2020-11-04","08:08:08",null,null,null,null,null,null,null,null,null,null,null,null,"Thursday","2020-10-15","18:00:00","2020-10-20","00:00:00","2020-10-21","00:00:00",null,null,"Thursday",13,null,"true","false","false"]
[{"$f":"+VLOOKUP(G109,'Lista consol SKR'!$P:$Q,2,FALSE)","v":12},7,"Jebel Ali7",{"$f":"+VLOOKUP(R109,'Lista consol SKR'!C:D,2,FALSE)","v":"Jebel Ali"},7,"Jebel Ali7",{"$f":"+VLOOKUP(S109,'Lista consol SKR'!C:D,2,FALSE)","v":"Jebel Ali"},{"$f":"+VLOOKUP(Q109,'Lista consol SKR'!A:B,2,FALSE)","v":{"$error":"#N/A"}},"Not required","MAERSK KOTKAITVDL",{"$f":"+IF(J109=\"\",\"\",IF(ISERROR(VLOOKUP(J109,'Vessel list'!A:J,10,FALSE)),\"\",VLOOKUP(J109,'Vessel list'!A:J,10,FALSE)))","v":""},{"$f":"+IF(J109=\"\",\"\",IF(ISERROR(VLOOKUP(J109,'Vessel list'!A:C,3,FALSE)),\"\",VLOOKUP(J109,'Vessel list'!A:C,3,FALSE)))","v":""},"ITMILAEJEA000556427",null,"false","ITMIL","ITVDL","AEJEA","AEJEA",null,null,"DKMAERLINE0001","MAERSK KOTKA","043E","2020-10-29","12:12:12","2020-11-11","09:00:00",null,null,null,null,null,null,null,null,null,null,null,null,"Thursday","2020-10-22","18:00:00","2020-10-27","12:12:12","2020-10-28","12:12:12",null,null,"Thursday",13,null,"true","false","false"]
[{"$f":"+VLOOKUP(G110,'Lista consol SKR'!$P:$Q,2,FALSE)","v":12},8,"Jebel Ali8",{"$f":"+VLOOKUP(R110,'Lista consol SKR'!C:D,2,FALSE)","v":"Jebel Ali"},8,"Jebel Ali8",{"$f":"+VLOOKUP(S110,'Lista consol SKR'!C:D,2,FALSE)","v":"Jebel Ali"},{"$f":"+VLOOKUP(Q110,'Lista consol SKR'!A:B,2,FALSE)","v":"Genoa"},"Not required","CMA CGM CENTAURUSITGOA",{"$f":"+IF(J110=\"\",\"\",IF(ISERROR(VLOOKUP(J110,'Vessel list'!A:J,10,FALSE)),\"\",VLOOKUP(J110,'Vessel list'!A:J,10,FALSE)))","v":""},{"$f":"+IF(J110=\"\",\"\",IF(ISERROR(VLOOKUP(J110,'Vessel list'!A:C,3,FALSE)),\"\",VLOOKUP(J110,'Vessel list'!A:C,3,FALSE)))","v":""},"ITMILAEJEA000563302",null,"false","ITMIL","ITGOA","AEJEA","AEJEA",null,null,"FRCMACGM0001","CMA CGM CENTAURUS","0ME7GE1MA","2020-10-30","09:43:00","2020-11-16","16:48:00",null,null,null,null,null,null,null,null,null,null,null,null,"Tuesday","2020-10-27","18:00:00","2020-10-28","09:43:00","2020-10-29","09:43:00",null,null,"Friday",18,null,"true","false","false"]
[{"$f":"+VLOOKUP(G111,'Lista consol SKR'!$P:$Q,2,FALSE)","v":12},9,"Jebel Ali9",{"$f":"+VLOOKUP(R111,'Lista consol SKR'!C:D,2,FALSE)","v":"Jebel Ali"},9,"Jebel Ali9",{"$f":"+VLOOKUP(S111,'Lista consol SKR'!C:D,2,FALSE)","v":"Jebel Ali"},{"$f":"+VLOOKUP(Q111,'Lista consol SKR'!A:B,2,FALSE)","v":"Genoa"},"Not required","CMA CGM GEMINIITGOA",{"$f":"+IF(J111=\"\",\"\",IF(ISERROR(VLOOKUP(J111,'Vessel list'!A:J,10,FALSE)),\"\",VLOOKUP(J111,'Vessel list'!A:J,10,FALSE)))","v":"IT262102"},{"$f":"+IF(J111=\"\",\"\",IF(ISERROR(VLOOKUP(J111,'Vessel list'!A:C,3,FALSE)),\"\",VLOOKUP(J111,'Vessel list'!A:C,3,FALSE)))","v":"Genoa VTE"},"ITMILAEJEA000563303",null,"false","ITMIL","ITGOA","AEJEA","AEJEA",null,null,"FRCMACGM0001","CMA CGM GEMINI","0ME7IE1MA","2020-11-04","00:00:00","2020-11-22","07:00:00",null,null,null,null,null,null,null,null,null,null,null,null,"Thursday","2020-10-29","18:00:00",44137,"00:00:00",44138,"00:00:00",null,null,"Wednesday",19,null,"true","false","false"]
[{"$f":"+VLOOKUP(G112,'Lista consol SKR'!$P:$Q,2,FALSE)","v":12},10,"Jebel Ali10",{"$f":"+VLOOKUP(R112,'Lista consol SKR'!C:D,2,FALSE)","v":"Jebel Ali"},10,"Jebel Ali10",{"$f":"+VLOOKUP(S112,'Lista consol SKR'!C:D,2,FALSE)","v":"Jebel Ali"},{"$f":"+VLOOKUP(Q112,'Lista consol SKR'!A:B,2,FALSE)","v":"Genoa"},"Not required","CMA CGM TITANITGOA",{"$f":"+IF(J112=\"\",\"\",IF(ISERROR(VLOOKUP(J112,'Vessel list'!A:J,10,FALSE)),\"\",VLOOKUP(J112,'Vessel list'!A:J,10,FALSE)))","v":"IT262102"},{"$f":"+IF(J112=\"\",\"\",IF(ISERROR(VLOOKUP(J112,'Vessel list'!A:C,3,FALSE)),\"\",VLOOKUP(J112,'Vessel list'!A:C,3,FALSE)))","v":"Genoa VTE"},"ITMILAEJEA000563304",null,"false","ITMIL","ITGOA","AEJEA","AEJEA",null,null,"FRCMACGM0001","CMA CGM TITAN","0ME7KE1MA","2020-11-11","00:00:00","2020-11-27","11:00:00",null,null,null,null,null,null,null,null,null,null,null,null,"Thursday","2020-11-05","18:00:00",44144,"00:00:00",44145,"00:00:00",null,null,"Wednesday",17,null,"true","false","false"]
[{"$f":"+VLOOKUP(G113,'Lista consol SKR'!$P:$Q,2,FALSE)","v":12},11,"Jebel Ali11",{"$f":"+VLOOKUP(R113,'Lista consol SKR'!C:D,2,FALSE)","v":"Jebel Ali"},11,"Jebel Ali11",{"$f":"+VLOOKUP(S113,'Lista consol SKR'!C:D,2,FALSE)","v":"Jebel Ali"},{"$f":"+VLOOKUP(Q113,'Lista consol SKR'!A:B,2,FALSE)","v":{"$error":"#N/A"}},"Not required","MONTE VERDEITVDL",{"$f":"+IF(J113=\"\",\"\",IF(ISERROR(VLOOKUP(J113,'Vessel list'!A:J,10,FALSE)),\"\",VLOOKUP(J113,'Vessel list'!A:J,10,FALSE)))","v":""},{"$f":"+IF(J113=\"\",\"\",IF(ISERROR(VLOOKUP(J113,'Vessel list'!A:C,3,FALSE)),\"\",VLOOKUP(J113,'Vessel list'!A:C,3,FALSE)))","v":""},"ITMILAEJEA000559114",null,"false","ITMIL","ITVDL","AEJEA","AEJEA",null,null,"DKMAERLINE0001","MONTE VERDE","045E","2020-11-12","09:00:09","2020-11-25","08:00:08",null,null,null,null,null,null,null,null,null,null,null,null,"Thursday","2020-11-05","18:00:00","2020-11-10","00:00:00","2020-11-11","00:00:00",null,null,"Thursday",13,null,"true","false","false"]
[{"$f":"+VLOOKUP(G114,'Lista consol SKR'!$P:$Q,2,FALSE)","v":12},12,"Jebel Ali12",{"$f":"+VLOOKUP(R114,'Lista consol SKR'!C:D,2,FALSE)","v":"Jebel Ali"},12,"Jebel Ali12",{"$f":"+VLOOKUP(S114,'Lista consol SKR'!C:D,2,FALSE)","v":"Jebel Ali"},{"$f":"+VLOOKUP(Q114,'Lista consol SKR'!A:B,2,FALSE)","v":"Genoa"},"Not required","OOCL FRANCEITGOA",{"$f":"+IF(J114=\"\",\"\",IF(ISERROR(VLOOKUP(J114,'Vessel list'!A:J,10,FALSE)),\"\",VLOOKUP(J114,'Vessel list'!A:J,10,FALSE)))","v":"IT262102"},{"$f":"+IF(J114=\"\",\"\",IF(ISERROR(VLOOKUP(J114,'Vessel list'!A:C,3,FALSE)),\"\",VLOOKUP(J114,'Vessel list'!A:C,3,FALSE)))","v":"Genoa VTE"},"ITMILAEJEA000563305",null,"false","ITMIL","ITGOA","AEJEA","AEJEA",null,null,"FRCMACGM0001","OOCL FRANCE","0ME7OE1MA","2020-11-25","09:45:00","2020-12-11","16:50:00",null,null,null,null,null,null,null,null,null,null,null,null,"Thursday","2020-11-19","18:00:00","2020-11-23","09:45:00","2020-11-24","09:45:00",null,null,"Wednesday",17,null,"true","false","false"]
[{"$f":"+VLOOKUP(G115,'Lista consol SKR'!$P:$Q,2,FALSE)","v":12},13,"Jebel Ali13",{"$f":"+VLOOKUP(R115,'Lista consol SKR'!C:D,2,FALSE)","v":"Jebel Ali"},13,"Jebel Ali13",{"$f":"+VLOOKUP(S115,'Lista consol SKR'!C:D,2,FALSE)","v":"Jebel Ali"},{"$f":"+VLOOKUP(Q115,'Lista consol SKR'!A:B,2,FALSE)","v":"Genoa"},"Not required","CMA CGM PEGASUSITGOA",{"$f":"+IF(J115=\"\",\"\",IF(ISERROR(VLOOKUP(J115,'Vessel list'!A:J,10,FALSE)),\"\",VLOOKUP(J115,'Vessel list'!A:J,10,FALSE)))","v":"IT262102"},{"$f":"+IF(J115=\"\",\"\",IF(ISERROR(VLOOKUP(J115,'Vessel list'!A:C,3,FALSE)),\"\",VLOOKUP(J115,'Vessel list'!A:C,3,FALSE)))","v":"Genoa VTE"},"ITMILAEJEA000563306",null,"false","ITMIL","ITGOA","AEJEA","AEJEA",null,null,"FRCMACGM0001","CMA CGM PEGASUS","0ME7QE1MA","2020-12-02","09:46:00","2020-12-18","16:51:00",null,null,null,null,null,null,null,null,null,null,null,null,"Thursday","2020-11-26","18:00:00",44165,"09:46:00",44166,"09:46:00",null,null,"Wednesday",17,null,"true","false","false"]
[{"$f":"+VLOOKUP(G116,'Lista consol SKR'!$P:$Q,2,FALSE)","v":12},14,"Jebel Ali14",{"$f":"+VLOOKUP(R116,'Lista consol SKR'!C:D,2,FALSE)","v":"Jebel Ali"},14,"Jebel Ali14",{"$f":"+VLOOKUP(S116,'Lista consol SKR'!C:D,2,FALSE)","v":"Jebel Ali"},{"$f":"+VLOOKUP(Q116,'Lista consol SKR'!A:B,2,FALSE)","v":"Genoa"},"Not required","APL GWANGYANGITGOA",{"$f":"+IF(J116=\"\",\"\",IF(ISERROR(VLOOKUP(J116,'Vessel list'!A:J,10,FALSE)),\"\",VLOOKUP(J116,'Vessel list'!A:J,10,FALSE)))","v":"IT262102"},{"$f":"+IF(J116=\"\",\"\",IF(ISERROR(VLOOKUP(J116,'Vessel list'!A:C,3,FALSE)),\"\",VLOOKUP(J116,'Vessel list'!A:C,3,FALSE)))","v":"Genoa VTE"},"ITMILAEJEA000563307",null,"false","ITMIL","ITGOA","AEJEA","AEJEA",null,null,"FRCMACGM0001","APL GWANGYANG","0ME7SE1MA","2020-12-09","09:47:00","2020-12-25","16:52:00",null,null,null,null,null,null,null,null,null,null,null,null,"Thursday","2020-12-03","18:00:00",44172,"09:47:00",44173,"09:47:00",null,null,"Wednesday",17,null,"true","false","false"]
[{"$f":"+VLOOKUP(G117,'Lista consol SKR'!$P:$Q,2,FALSE)","v":12},15,"Jebel Ali15",{"$f":"+VLOOKUP(R117,'Lista consol SKR'!C:D,2,FALSE)","v":"Jebel Ali"},15,"Jebel Ali15",{"$f":"+VLOOKUP(S117,'Lista consol SKR'!C:D,2,FALSE)","v":"Jebel Ali"},{"$f":"+VLOOKUP(Q117,'Lista consol SKR'!A:B,2,FALSE)","v":"Genoa"},"Not required","CMA CGM CASSIOPEIAITGOA",{"$f":"+IF(J117=\"\",\"\",IF(ISERROR(VLOOKUP(J117,'Vessel list'!A:J,10,FALSE)),\"\",VLOOKUP(J117,'Vessel list'!A:J,10,FALSE)))","v":"IT262102"},{"$f":"+IF(J117=\"\",\"\",IF(ISERROR(VLOOKUP(J117,'Vessel list'!A:C,3,FALSE)),\"\",VLOOKUP(J117,'Vessel list'!A:C,3,FALSE)))","v":"Genoa VTE"},"ITMILAEJEA000563308",null,"false","ITMIL","ITGOA","AEJEA","AEJEA",null,null,"FRCMACGM0001","CMA CGM CASSIOPEIA","0ME7UE1MA","2020-12-16","09:48:00","2021-01-01","16:53:00",null,null,null,null,null,null,null,null,null,null,null,null,"Thursday","2020-12-10","18:00:00","2020-12-14","09:48:00","2020-12-15","09:48:00",null,null,"Wednesday",17,null,"true","false","false"]
[{"$f":"+VLOOKUP(G118,'Lista consol SKR'!$P:$Q,2,FALSE)","v":12},16,"Jebel Ali16",{"$f":"+VLOOKUP(R118,'Lista consol SKR'!C:D,2,FALSE)","v":"Jebel Ali"},16,"Jebel Ali16",{"$f":"+VLOOKUP(S118,'Lista consol SKR'!C:D,2,FALSE)","v":"Jebel Ali"},{"$f":"+VLOOKUP(Q118,'Lista consol SKR'!A:B,2,FALSE)","v":"Genoa"},"Not required","CMA CGM VELAITGOA",{"$f":"+IF(J118=\"\",\"\",IF(ISERROR(VLOOKUP(J118,'Vessel list'!A:J,10,FALSE)),\"\",VLOOKUP(J118,'Vessel list'!A:J,10,FALSE)))","v":"IT262102"},{"$f":"+IF(J118=\"\",\"\",IF(ISERROR(VLOOKUP(J118,'Vessel list'!A:C,3,FALSE)),\"\",VLOOKUP(J118,'Vessel list'!A:C,3,FALSE)))","v":"Genoa VTE"},"ITMILAEJEA000563309",null,"false","ITMIL","ITGOA","AEJEA","AEJEA",null,null,"FRCMACGM0001","CMA CGM VELA","0ME7WE1MA","2020-12-23","09:49:00","2021-01-08","16:54:00",null,null,null,null,null,null,null,null,null,null,null,null,"Thursday","2020-12-17","18:00:00","2020-12-21","09:49:00","2020-12-22","09:49:00",null,null,"Wednesday",17,null,"true","false","false"]
[{"$f":"+VLOOKUP(G119,'Lista consol SKR'!$P:$Q,2,FALSE)","v":13},1,"Jeddah1",{"$f":"+VLOOKUP(R119,'Lista consol SKR'!C:D,2,FALSE)","v":"Jeddah"},1,"Jeddah1",{"$f":"+VLOOKUP(S119,'Lista consol SKR'!C:D,2,FALSE)","v":"Jeddah"},{"$f":"+VLOOKUP(Q119,'Lista consol SKR'!A:B,2,FALSE)","v":"Genoa"},"Not required","MAYSSANITGOA",{"$f":"+IF(J119=\"\",\"\",IF(ISERROR(VLOOKUP(J119,'Vessel list'!A:J,10,FALSE)),\"\",VLOOKUP(J119,'Vessel list'!A:J,10,FALSE)))","v":""},{"$f":"+IF(J119=\"\",\"\",IF(ISERROR(VLOOKUP(J119,'Vessel list'!A:C,3,FALSE)),\"\",VLOOKUP(J119,'Vessel list'!A:C,3,FALSE)))","v":""},"ITMILSAJED000558702",null,"false","ITMIL","ITGOA","SAJED","SAJED",null,null,"DESACOSHIP0001","MAYSSAN","2037E","2020-10-14","00:00:00","2020-10-27","00:00:00",null,null,null,null,null,null,null,null,null,null,null,null,"Thursday","2020-10-08","18:00:00",44116,"00:00:00",44117,"00:00:00",null,null,"Wednesday",13,"Paolo Miglio","true","false","false"]
[{"$f":"+VLOOKUP(G120,'Lista consol SKR'!$P:$Q,2,FALSE)","v":13},2,"Jeddah2",{"$f":"+VLOOKUP(R120,'Lista consol SKR'!C:D,2,FALSE)","v":"Jeddah"},2,"Jeddah2",{"$f":"+VLOOKUP(S120,'Lista consol SKR'!C:D,2,FALSE)","v":"Jeddah"},{"$f":"+VLOOKUP(Q120,'Lista consol SKR'!A:B,2,FALSE)","v":"Genoa"},"Not required","CMA CGM RACINEITGOA",{"$f":"+IF(J120=\"\",\"\",IF(ISERROR(VLOOKUP(J120,'Vessel list'!A:J,10,FALSE)),\"\",VLOOKUP(J120,'Vessel list'!A:J,10,FALSE)))","v":""},{"$f":"+IF(J120=\"\",\"\",IF(ISERROR(VLOOKUP(J120,'Vessel list'!A:C,3,FALSE)),\"\",VLOOKUP(J120,'Vessel list'!A:C,3,FALSE)))","v":""},"ITMILSAJED000558703",null,"false","ITMIL","ITGOA","SAJED","SAJED",null,null,"DESACOSHIP0001","CMA CGM RACINE","OMX7AE1M","2020-10-21","00:00:00","2020-11-03","00:00:00",null,null,null,null,null,null,null,null,null,null,null,null,"Thursday","2020-10-15","18:00:00","2020-10-19","00:00:00","2020-10-20","00:00:00",null,null,"Wednesday",13,"Paolo Miglio","true","false","false"]
[{"$f":"+VLOOKUP(G121,'Lista consol SKR'!$P:$Q,2,FALSE)","v":13},3,"Jeddah3",{"$f":"+VLOOKUP(R121,'Lista consol SKR'!C:D,2,FALSE)","v":"Jeddah"},3,"Jeddah3",{"$f":"+VLOOKUP(S121,'Lista consol SKR'!C:D,2,FALSE)","v":"Jeddah"},{"$f":"+VLOOKUP(Q121,'Lista consol SKR'!A:B,2,FALSE)","v":"Genoa"},"Not required","CMA CGM MOLIEREITGOA",{"$f":"+IF(J121=\"\",\"\",IF(ISERROR(VLOOKUP(J121,'Vessel list'!A:J,10,FALSE)),\"\",VLOOKUP(J121,'Vessel list'!A:J,10,FALSE)))","v":""},{"$f":"+IF(J121=\"\",\"\",IF(ISERROR(VLOOKUP(J121,'Vessel list'!A:C,3,FALSE)),\"\",VLOOKUP(J121,'Vessel list'!A:C,3,FALSE)))","v":""},"ITMILSAJED000565798",null,"false","ITMIL","ITGOA","SAJED","SAJED",null,null,"DESACOSHIP0001","CMA CGM MOLIERE","0MX7CE1MA","2020-10-28","09:06:00","2020-11-10","17:06:00",null,null,null,null,null,null,null,null,null,null,null,null,"Thursday","2020-10-22","18:00:00",44130,"09:06:00",44131,"09:06:00",null,null,"Wednesday",14,"Paolo Miglio","true","false","false"]
[{"$f":"+VLOOKUP(G122,'Lista consol SKR'!$P:$Q,2,FALSE)","v":13},4,"Jeddah4",{"$f":"+VLOOKUP(R122,'Lista consol SKR'!C:D,2,FALSE)","v":"Jeddah"},4,"Jeddah4",{"$f":"+VLOOKUP(S122,'Lista consol SKR'!C:D,2,FALSE)","v":"Jeddah"},{"$f":"+VLOOKUP(Q122,'Lista consol SKR'!A:B,2,FALSE)","v":"Genoa"},"Not required","CMA CGM LAMARTINEITGOA",{"$f":"+IF(J122=\"\",\"\",IF(ISERROR(VLOOKUP(J122,'Vessel list'!A:J,10,FALSE)),\"\",VLOOKUP(J122,'Vessel list'!A:J,10,FALSE)))","v":""},{"$f":"+IF(J122=\"\",\"\",IF(ISERROR(VLOOKUP(J122,'Vessel list'!A:C,3,FALSE)),\"\",VLOOKUP(J122,'Vessel list'!A:C,3,FALSE)))","v":""},"ITMILSAJED000565800",null,"false","ITMIL","ITGOA","SAJED","SAJED",null,null,"DESACOSHIP0001","CMA CGM LAMARTINE","0MX7GE1MA","2020-11-11","09:08:00","2020-11-24","17:08:00",null,null,null,null,null,null,null,null,null,null,null,null,"Thursday","2020-11-05","18:00:00",44144,"09:08:00",44145,"09:08:00",null,null,"Wednesday",14,"Paolo Miglio","true","false","false"]
[{"$f":"+VLOOKUP(G123,'Lista consol SKR'!$P:$Q,2,FALSE)","v":13},5,"Jeddah5",{"$f":"+VLOOKUP(R123,'Lista consol SKR'!C:D,2,FALSE)","v":"Jeddah"},5,"Jeddah5",{"$f":"+VLOOKUP(S123,'Lista consol SKR'!C:D,2,FALSE)","v":"Jeddah"},{"$f":"+VLOOKUP(Q123,'Lista consol SKR'!A:B,2,FALSE)","v":"Genoa"},"Not required","BERLIN EXPRESSITGOA",{"$f":"+IF(J123=\"\",\"\",IF(ISERROR(VLOOKUP(J123,'Vessel list'!A:J,10,FALSE)),\"\",VLOOKUP(J123,'Vessel list'!A:J,10,FALSE)))","v":"IT261101"},{"$f":"+IF(J123=\"\",\"\",IF(ISERROR(VLOOKUP(J123,'Vessel list'!A:C,3,FALSE)),\"\",VLOOKUP(J123,'Vessel list'!A:C,3,FALSE)))","v":"Genoa SECH"},"ITMILSAJED000565801",null,"false","ITMIL","ITGOA","SAJED","SAJED",null,null,"DESACOSHIP0001","BERLIN EXPRESS","2042E","2020-11-18","09:09:00","2020-12-01","17:09:00",null,null,null,null,null,null,null,null,null,null,null,null,"Thursday","2020-11-12","18:00:00","2020-11-16","09:09:00","2020-11-17","09:09:00",null,null,"Wednesday",14,"Paolo Miglio","true","false","false"]
[{"$f":"+VLOOKUP(G124,'Lista consol SKR'!$P:$Q,2,FALSE)","v":13},6,"Jeddah6",{"$f":"+VLOOKUP(R124,'Lista consol SKR'!C:D,2,FALSE)","v":"Jeddah"},6,"Jeddah6",{"$f":"+VLOOKUP(S124,'Lista consol SKR'!C:D,2,FALSE)","v":"Jeddah"},{"$f":"+VLOOKUP(Q124,'Lista consol SKR'!A:B,2,FALSE)","v":"Genoa"},"Not required","CSAV TYNDALLITGOA",{"$f":"+IF(J124=\"\",\"\",IF(ISERROR(VLOOKUP(J124,'Vessel list'!A:J,10,FALSE)),\"\",VLOOKUP(J124,'Vessel list'!A:J,10,FALSE)))","v":""},{"$f":"+IF(J124=\"\",\"\",IF(ISERROR(VLOOKUP(J124,'Vessel list'!A:C,3,FALSE)),\"\",VLOOKUP(J124,'Vessel list'!A:C,3,FALSE)))","v":""},"ITMILSAJED000565804",null,"false","ITMIL","ITGOA","SAJED","SAJED",null,null,"DESACOSHIP0001","CSAV TYNDALL","2044E","2020-12-02","09:09:09","2020-12-15","00:08:00",null,null,null,null,null,null,null,null,null,null,null,null,"Thursday","2020-11-26","18:00:00",44165,"00:00:00",44166,"00:00:00",null,null,"Wednesday",13,"Paolo Miglio","true","false","false"]
[{"$f":"+VLOOKUP(G125,'Lista consol SKR'!$P:$Q,2,FALSE)","v":28},1,"Limassol1",{"$f":"+VLOOKUP(R125,'Lista consol SKR'!C:D,2,FALSE)","v":"Limassol"},1,"Limassol1",{"$f":"+VLOOKUP(S125,'Lista consol SKR'!C:D,2,FALSE)","v":"Limassol"},{"$f":"+VLOOKUP(Q125,'Lista consol SKR'!A:B,2,FALSE)","v":"Ravenna"},"Not required","LUCY BORCHARDITRAN",{"$f":"+IF(J125=\"\",\"\",IF(ISERROR(VLOOKUP(J125,'Vessel list'!A:J,10,FALSE)),\"\",VLOOKUP(J125,'Vessel list'!A:J,10,FALSE)))","v":"IT221100"},{"$f":"+IF(J125=\"\",\"\",IF(ISERROR(VLOOKUP(J125,'Vessel list'!A:C,3,FALSE)),\"\",VLOOKUP(J125,'Vessel list'!A:C,3,FALSE)))","v":"Ravenna TCR"},"ITBLQCYLMS000556701",null,"false","ITBLQ","ITRAN","CYLMS","CYLMS",null,null,"GBBORCLINE0001","LUCY BORCHARD","LUCY0458","2020-10-18","09:09:09","2020-10-23","08:00:08",null,null,null,null,null,null,null,null,null,null,null,null,"Thursday","2020-10-15","18:00:00",44120,"00:00:00",44121,"00:00:00",null,null,"Sunday",5,"Alessio Toninello","true","false","false"]
[{"$f":"+VLOOKUP(G126,'Lista consol SKR'!$P:$Q,2,FALSE)","v":28},2,"Limassol2",{"$f":"+VLOOKUP(R126,'Lista consol SKR'!C:D,2,FALSE)","v":"Limassol"},2,"Limassol2",{"$f":"+VLOOKUP(S126,'Lista consol SKR'!C:D,2,FALSE)","v":"Limassol"},{"$f":"+VLOOKUP(Q126,'Lista consol SKR'!A:B,2,FALSE)","v":"Ravenna"},"Not required","LOUISE BORCHARDITRAN",{"$f":"+IF(J126=\"\",\"\",IF(ISERROR(VLOOKUP(J126,'Vessel list'!A:J,10,FALSE)),\"\",VLOOKUP(J126,'Vessel list'!A:J,10,FALSE)))","v":"IT221100"},{"$f":"+IF(J126=\"\",\"\",IF(ISERROR(VLOOKUP(J126,'Vessel list'!A:C,3,FALSE)),\"\",VLOOKUP(J126,'Vessel list'!A:C,3,FALSE)))","v":"Ravenna TCR"},"ITBLQCYLMS000556702",null,"false","ITBLQ","ITRAN","CYLMS","CYLMS",null,null,"GBBORCLINE0001","LOUISE BORCHARD","LOUI1008","2020-10-25","09:09:09","2020-10-30","08:08:00",null,null,null,null,null,null,null,null,null,null,null,null,"Thursday","2020-10-22","18:00:00",44127,"00:00:00",44128,"00:00:00",null,null,"Sunday",5,"Alessio Toninello","true","false","false"]
[{"$f":"+VLOOKUP(G127,'Lista consol SKR'!$P:$Q,2,FALSE)","v":28},3,"Limassol3",{"$f":"+VLOOKUP(R127,'Lista consol SKR'!C:D,2,FALSE)","v":"Limassol"},3,"Limassol3",{"$f":"+VLOOKUP(S127,'Lista consol SKR'!C:D,2,FALSE)","v":"Limassol"},{"$f":"+VLOOKUP(Q127,'Lista consol SKR'!A:B,2,FALSE)","v":"Ravenna"},"Not required","LUCY BORCHARDITRAN",{"$f":"+IF(J127=\"\",\"\",IF(ISERROR(VLOOKUP(J127,'Vessel list'!A:J,10,FALSE)),\"\",VLOOKUP(J127,'Vessel list'!A:J,10,FALSE)))","v":"IT221100"},{"$f":"+IF(J127=\"\",\"\",IF(ISERROR(VLOOKUP(J127,'Vessel list'!A:C,3,FALSE)),\"\",VLOOKUP(J127,'Vessel list'!A:C,3,FALSE)))","v":"Ravenna TCR"},"ITBLQCYLMS000559117",null,"false","ITBLQ","ITRAN","CYLMS","CYLMS",null,null,"GBBORCLINE0001","LUCY BORCHARD","LUCY0460","2020-11-01","09:09:00","2020-11-06","09:09:00",null,null,null,null,null,null,null,null,null,null,null,null,"Thursday","2020-10-29","18:00:00",44134,"00:00:00",44135,"00:00:00",null,null,"Sunday",5,"Alessio Toninello","true","false","false"]
[{"$f":"+VLOOKUP(G128,'Lista consol SKR'!$P:$Q,2,FALSE)","v":28},4,"Limassol4",{"$f":"+VLOOKUP(R128,'Lista consol SKR'!C:D,2,FALSE)","v":"Limassol"},4,"Limassol4",{"$f":"+VLOOKUP(S128,'Lista consol SKR'!C:D,2,FALSE)","v":"Limassol"},{"$f":"+VLOOKUP(Q128,'Lista consol SKR'!A:B,2,FALSE)","v":"Ravenna"},"Not required","LOUISE BORCHARDITRAN",{"$f":"+IF(J128=\"\",\"\",IF(ISERROR(VLOOKUP(J128,'Vessel list'!A:J,10,FALSE)),\"\",VLOOKUP(J128,'Vessel list'!A:J,10,FALSE)))","v":"IT221100"},{"$f":"+IF(J128=\"\",\"\",IF(ISERROR(VLOOKUP(J128,'Vessel list'!A:C,3,FALSE)),\"\",VLOOKUP(J128,'Vessel list'!A:C,3,FALSE)))","v":"Ravenna TCR"},"ITBLQCYLMS000559118",null,"false","ITBLQ","ITRAN","CYLMS","CYLMS",null,null,"GBBORCLINE0001","LOUISE BORCHARD","LOUI1010","2020-11-08","09:09:09","2020-11-13","08:08:00",null,null,null,null,null,null,null,null,null,null,null,null,"Thursday","2020-11-05","18:00:00",44141,0,44142,0,null,null,"Sunday",5,"Alessio Toninello","true","false","false"]
[{"$f":"+VLOOKUP(G129,'Lista consol SKR'!$P:$Q,2,FALSE)","v":28},5,"Limassol5",{"$f":"+VLOOKUP(R129,'Lista consol SKR'!C:D,2,FALSE)","v":"Limassol"},5,"Limassol5",{"$f":"+VLOOKUP(S129,'Lista consol SKR'!C:D,2,FALSE)","v":"Limassol"},{"$f":"+VLOOKUP(Q129,'Lista consol SKR'!A:B,2,FALSE)","v":"Ravenna"},"Not required","LUCY BORCHARDITRAN",{"$f":"+IF(J129=\"\",\"\",IF(ISERROR(VLOOKUP(J129,'Vessel list'!A:J,10,FALSE)),\"\",VLOOKUP(J129,'Vessel list'!A:J,10,FALSE)))","v":"IT221100"},{"$f":"+IF(J129=\"\",\"\",IF(ISERROR(VLOOKUP(J129,'Vessel list'!A:C,3,FALSE)),\"\",VLOOKUP(J129,'Vessel list'!A:C,3,FALSE)))","v":"Ravenna TCR"},"ITBLQCYLMS000565820",null,"false","ITBLQ","ITRAN","CYLMS","CYLMS",null,null,"GBBORCLINE0001","LUCY BORCHARD","LUCY0462","2020-11-15","09:09:00","2020-11-20","08:08:00",null,null,null,null,null,null,null,null,null,null,null,null,"Thursday","2020-11-12","18:00:00","2020-11-13","00:00:00","2020-11-14","00:00:00",null,null,"Sunday",5,"Alessio Toninello","true","false","false"]
[{"$f":"+VLOOKUP(G130,'Lista consol SKR'!$P:$Q,2,FALSE)","v":28},6,"Limassol6",{"$f":"+VLOOKUP(R130,'Lista consol SKR'!C:D,2,FALSE)","v":"Limassol"},6,"Limassol6",{"$f":"+VLOOKUP(S130,'Lista consol SKR'!C:D,2,FALSE)","v":"Limassol"},{"$f":"+VLOOKUP(Q130,'Lista consol SKR'!A:B,2,FALSE)","v":"Ravenna"},"Not required","LOUISE BORCHARDITRAN",{"$f":"+IF(J130=\"\",\"\",IF(ISERROR(VLOOKUP(J130,'Vessel list'!A:J,10,FALSE)),\"\",VLOOKUP(J130,'Vessel list'!A:J,10,FALSE)))","v":"IT221100"},{"$f":"+IF(J130=\"\",\"\",IF(ISERROR(VLOOKUP(J130,'Vessel list'!A:C,3,FALSE)),\"\",VLOOKUP(J130,'Vessel list'!A:C,3,FALSE)))","v":"Ravenna TCR"},"ITBLQCYLMS000565821",null,"false","ITBLQ","ITRAN","CYLMS","CYLMS",null,null,"GBBORCLINE0001","LOUISE BORCHARD","LOUI1012","2020-11-22","09:09:09","2020-11-27","08:08:08",null,null,null,null,null,null,null,null,null,null,null,null,"Thursday","2020-11-19","18:00:00",44155,"00:00:00",44156,"00:00:00",null,null,"Sunday",5,"Alessio Toninello","true","false","false"]
[{"$f":"+VLOOKUP(G131,'Lista consol SKR'!$P:$Q,2,FALSE)","v":28},7,"Limassol7",{"$f":"+VLOOKUP(R131,'Lista consol SKR'!C:D,2,FALSE)","v":"Limassol"},7,"Limassol7",{"$f":"+VLOOKUP(S131,'Lista consol SKR'!C:D,2,FALSE)","v":"Limassol"},{"$f":"+VLOOKUP(Q131,'Lista consol SKR'!A:B,2,FALSE)","v":"Ravenna"},"Not required","LUCY BORCHARDITRAN",{"$f":"+IF(J131=\"\",\"\",IF(ISERROR(VLOOKUP(J131,'Vessel list'!A:J,10,FALSE)),\"\",VLOOKUP(J131,'Vessel list'!A:J,10,FALSE)))","v":"IT221100"},{"$f":"+IF(J131=\"\",\"\",IF(ISERROR(VLOOKUP(J131,'Vessel list'!A:C,3,FALSE)),\"\",VLOOKUP(J131,'Vessel list'!A:C,3,FALSE)))","v":"Ravenna TCR"},"ITBLQCYLMS000565822",null,"false","ITBLQ","ITRAN","CYLMS","CYLMS",null,null,"GBBORCLINE0001","LUCY BORCHARD","LUCY0464","2020-11-29","09:09:09","2020-12-04","08:08:08",null,null,null,null,null,null,null,null,null,null,null,null,"Thursday","2020-11-26","18:00:00","2020-11-27","00:00:00","2020-11-28","00:00:00",null,null,"Sunday",5,"Alessio Toninello","true","false","false"]
[{"$f":"+VLOOKUP(G132,'Lista consol SKR'!$P:$Q,2,FALSE)","v":14},1,"Melbourne1",{"$f":"+VLOOKUP(R132,'Lista consol SKR'!C:D,2,FALSE)","v":"Melbourne"},1,"Melbourne1",{"$f":"+VLOOKUP(S132,'Lista consol SKR'!C:D,2,FALSE)","v":"Melbourne"},{"$f":"+VLOOKUP(Q132,'Lista consol SKR'!A:B,2,FALSE)","v":"La Spezia"},"Not required","APL MEXICO CITYITSPE",{"$f":"+IF(J132=\"\",\"\",IF(ISERROR(VLOOKUP(J132,'Vessel list'!A:J,10,FALSE)),\"\",VLOOKUP(J132,'Vessel list'!A:J,10,FALSE)))","v":""},{"$f":"+IF(J132=\"\",\"\",IF(ISERROR(VLOOKUP(J132,'Vessel list'!A:C,3,FALSE)),\"\",VLOOKUP(J132,'Vessel list'!A:C,3,FALSE)))","v":""},"ITMILAUMEL000558722",null,"false","ITMIL","ITSPE","AUMEL","AUMEL",null,null,"USVANGLOGI0001","APL MEXICO CITY","0NN8FE","2020-10-16","00:00:00","2020-11-21","00:00:00",null,null,null,null,null,null,null,null,null,null,null,null,"Friday","2020-10-09","18:00:00",44118,"00:00:00",44119,"09:02:00",null,null,"Friday",36,"Gladys Chiccoli","true","false","false"]
[{"$f":"+VLOOKUP(G133,'Lista consol SKR'!$P:$Q,2,FALSE)","v":14},2,"Melbourne2",{"$f":"+VLOOKUP(R133,'Lista consol SKR'!C:D,2,FALSE)","v":"Melbourne"},2,"Melbourne2",{"$f":"+VLOOKUP(S133,'Lista consol SKR'!C:D,2,FALSE)","v":"Melbourne"},{"$f":"+VLOOKUP(Q133,'Lista consol SKR'!A:B,2,FALSE)","v":"La Spezia"},"Not required","APL MEXICO CITYITSPE",{"$f":"+IF(J133=\"\",\"\",IF(ISERROR(VLOOKUP(J133,'Vessel list'!A:J,10,FALSE)),\"\",VLOOKUP(J133,'Vessel list'!A:J,10,FALSE)))","v":""},{"$f":"+IF(J133=\"\",\"\",IF(ISERROR(VLOOKUP(J133,'Vessel list'!A:C,3,FALSE)),\"\",VLOOKUP(J133,'Vessel list'!A:C,3,FALSE)))","v":""},"ITMILAUMEL000559442",null,"false","ITMIL","ITSPE","AUMEL","AUMEL",null,null,"DESACOSHIP0001","APL MEXICO CITY","0NN8FE","2020-10-16","09:02:00","2020-11-21","16:07:00",null,null,null,null,null,null,null,null,null,null,null,null,"Friday","2020-10-09","18:00:00",44118,"09:02:00",44119,"09:02:00",null,null,"Friday",36,null,"true","false","false"]
[{"$f":"+VLOOKUP(G134,'Lista consol SKR'!$P:$Q,2,FALSE)","v":14},3,"Melbourne3",{"$f":"+VLOOKUP(R134,'Lista consol SKR'!C:D,2,FALSE)","v":"Melbourne"},3,"Melbourne3",{"$f":"+VLOOKUP(S134,'Lista consol SKR'!C:D,2,FALSE)","v":"Melbourne"},{"$f":"+VLOOKUP(Q134,'Lista consol SKR'!A:B,2,FALSE)","v":"La Spezia"},"Not required","MSC TIANJINITSPE",{"$f":"+IF(J134=\"\",\"\",IF(ISERROR(VLOOKUP(J134,'Vessel list'!A:J,10,FALSE)),\"\",VLOOKUP(J134,'Vessel list'!A:J,10,FALSE)))","v":""},{"$f":"+IF(J134=\"\",\"\",IF(ISERROR(VLOOKUP(J134,'Vessel list'!A:C,3,FALSE)),\"\",VLOOKUP(J134,'Vessel list'!A:C,3,FALSE)))","v":""},"ITMILAUMEL000564421",null,"false","ITMIL","ITSPE","AUMEL","AUMEL",null,null,"USVANGLOGI0001","MSC TIANJIN","MA041A","2020-10-23","00:00:00","2020-11-28","00:00:00",null,null,null,null,null,null,null,null,null,null,null,null,"Thursday","2020-10-15","18:00:00","2020-10-21","00:00:00","2020-10-22","00:00:00",null,null,"Friday",36,"Gladys Chiccoli","true","false","false"]
[{"$f":"+VLOOKUP(G135,'Lista consol SKR'!$P:$Q,2,FALSE)","v":14},4,"Melbourne4",{"$f":"+VLOOKUP(R135,'Lista consol SKR'!C:D,2,FALSE)","v":"Melbourne"},4,"Melbourne4",{"$f":"+VLOOKUP(S135,'Lista consol SKR'!C:D,2,FALSE)","v":"Melbourne"},{"$f":"+VLOOKUP(Q135,'Lista consol SKR'!A:B,2,FALSE)","v":"La Spezia"},"Not required","MSC TIANJINITSPE",{"$f":"+IF(J135=\"\",\"\",IF(ISERROR(VLOOKUP(J135,'Vessel list'!A:J,10,FALSE)),\"\",VLOOKUP(J135,'Vessel list'!A:J,10,FALSE)))","v":""},{"$f":"+IF(J135=\"\",\"\",IF(ISERROR(VLOOKUP(J135,'Vessel list'!A:C,3,FALSE)),\"\",VLOOKUP(J135,'Vessel list'!A:C,3,FALSE)))","v":""},"ITMILAUMEL000559445",null,"false","ITMIL","ITSPE","AUMEL","AUMEL",null,null,"DESACOSHIP0001","MSC TIANJIN","MA041A","2020-10-23","09:03:00","2020-11-28","16:08:00",null,null,null,null,null,null,null,null,null,null,null,null,"Friday","2020-10-16","18:00:00",44125,"09:03:00",44126,"09:03:00",null,null,"Friday",36,null,"true","false","false"]
[{"$f":"+VLOOKUP(G136,'Lista consol SKR'!$P:$Q,2,FALSE)","v":14},5,"Melbourne5",{"$f":"+VLOOKUP(R136,'Lista consol SKR'!C:D,2,FALSE)","v":"Melbourne"},5,"Melbourne5",{"$f":"+VLOOKUP(S136,'Lista consol SKR'!C:D,2,FALSE)","v":"Melbourne"},{"$f":"+VLOOKUP(Q136,'Lista consol SKR'!A:B,2,FALSE)","v":"La Spezia"},"Not required","MSC JOANNAITSPE",{"$f":"+IF(J136=\"\",\"\",IF(ISERROR(VLOOKUP(J136,'Vessel list'!A:J,10,FALSE)),\"\",VLOOKUP(J136,'Vessel list'!A:J,10,FALSE)))","v":""},{"$f":"+IF(J136=\"\",\"\",IF(ISERROR(VLOOKUP(J136,'Vessel list'!A:C,3,FALSE)),\"\",VLOOKUP(J136,'Vessel list'!A:C,3,FALSE)))","v":""},"ITMILAUMEL000564422",null,"false","ITMIL","ITSPE","AUMEL","AUMEL",null,null,"USVANGLOGI0001","MSC JOANNA","MA042A","2020-10-30","00:00:00","2020-12-05","00:00:00",null,null,null,null,null,null,null,null,null,null,null,null,"Thursday","2020-10-22","00:00:00","2020-10-28","00:00:00","2020-10-29","00:00:00",null,null,"Friday",36,"Gladys Chiccoli","true","false","false"]
[{"$f":"+VLOOKUP(G137,'Lista consol SKR'!$P:$Q,2,FALSE)","v":14},6,"Melbourne6",{"$f":"+VLOOKUP(R137,'Lista consol SKR'!C:D,2,FALSE)","v":"Melbourne"},6,"Melbourne6",{"$f":"+VLOOKUP(S137,'Lista consol SKR'!C:D,2,FALSE)","v":"Melbourne"},{"$f":"+VLOOKUP(Q137,'Lista consol SKR'!A:B,2,FALSE)","v":"La Spezia"},"Not required","MSC JOANNAITSPE",{"$f":"+IF(J137=\"\",\"\",IF(ISERROR(VLOOKUP(J137,'Vessel list'!A:J,10,FALSE)),\"\",VLOOKUP(J137,'Vessel list'!A:J,10,FALSE)))","v":""},{"$f":"+IF(J137=\"\",\"\",IF(ISERROR(VLOOKUP(J137,'Vessel list'!A:C,3,FALSE)),\"\",VLOOKUP(J137,'Vessel list'!A:C,3,FALSE)))","v":""},"ITMILAUMEL000559447",null,"false","ITMIL","ITSPE","AUMEL","AUMEL",null,null,"DESACOSHIP0001","MSC JOANNA","MA042A","2020-10-30","09:04:00","2020-12-05","16:09:00",null,null,null,null,null,null,null,null,null,null,null,null,"Friday","2020-10-23","18:00:00","2020-10-28","09:04:00","2020-10-29","09:04:00",null,null,"Friday",36,null,"true","false","false"]
[{"$f":"+VLOOKUP(G138,'Lista consol SKR'!$P:$Q,2,FALSE)","v":14},7,"Melbourne7",{"$f":"+VLOOKUP(R138,'Lista consol SKR'!C:D,2,FALSE)","v":"Melbourne"},7,"Melbourne7",{"$f":"+VLOOKUP(S138,'Lista consol SKR'!C:D,2,FALSE)","v":"Melbourne"},{"$f":"+VLOOKUP(Q138,'Lista consol SKR'!A:B,2,FALSE)","v":"La Spezia"},"Not required","APL DANUBEITSPE",{"$f":"+IF(J138=\"\",\"\",IF(ISERROR(VLOOKUP(J138,'Vessel list'!A:J,10,FALSE)),\"\",VLOOKUP(J138,'Vessel list'!A:J,10,FALSE)))","v":""},{"$f":"+IF(J138=\"\",\"\",IF(ISERROR(VLOOKUP(J138,'Vessel list'!A:C,3,FALSE)),\"\",VLOOKUP(J138,'Vessel list'!A:C,3,FALSE)))","v":""},"ITMILAUMEL000564423",null,"false","ITMIL","ITSPE","AUMEL","AUMEL",null,null,"USVANGLOGI0001","APL DANUBE","0NN8LE","2020-11-06","00:00:00","2020-12-12","00:00:00",null,null,null,null,null,null,null,null,null,null,null,null,"Thursday","2020-10-29","00:00:00",44139,"00:00:00",44140,"00:00:00",null,null,"Friday",36,"Gladys Chiccoli","true","false","false"]
[{"$f":"+VLOOKUP(G139,'Lista consol SKR'!$P:$Q,2,FALSE)","v":14},8,"Melbourne8",{"$f":"+VLOOKUP(R139,'Lista consol SKR'!C:D,2,FALSE)","v":"Melbourne"},8,"Melbourne8",{"$f":"+VLOOKUP(S139,'Lista consol SKR'!C:D,2,FALSE)","v":"Melbourne"},{"$f":"+VLOOKUP(Q139,'Lista consol SKR'!A:B,2,FALSE)","v":"La Spezia"},"Not required","APL DANUBEITSPE",{"$f":"+IF(J139=\"\",\"\",IF(ISERROR(VLOOKUP(J139,'Vessel list'!A:J,10,FALSE)),\"\",VLOOKUP(J139,'Vessel list'!A:J,10,FALSE)))","v":""},{"$f":"+IF(J139=\"\",\"\",IF(ISERROR(VLOOKUP(J139,'Vessel list'!A:C,3,FALSE)),\"\",VLOOKUP(J139,'Vessel list'!A:C,3,FALSE)))","v":""},"ITMILAUMEL000559448",null,"false","ITMIL","ITSPE","AUMEL","AUMEL",null,null,"DESACOSHIP0001","APL DANUBE","0NN8LE","2020-11-06","09:05:00","2020-12-12","16:10:00",null,null,null,null,null,null,null,null,null,null,null,null,"Friday","2020-10-30","18:00:00",44139,"09:05:00",44140,"09:05:00",null,null,"Friday",36,null,"true","false","false"]
[{"$f":"+VLOOKUP(G140,'Lista consol SKR'!$P:$Q,2,FALSE)","v":14},9,"Melbourne9",{"$f":"+VLOOKUP(R140,'Lista consol SKR'!C:D,2,FALSE)","v":"Melbourne"},9,"Melbourne9",{"$f":"+VLOOKUP(S140,'Lista consol SKR'!C:D,2,FALSE)","v":"Melbourne"},{"$f":"+VLOOKUP(Q140,'Lista consol SKR'!A:B,2,FALSE)","v":"La Spezia"},"Not required","MSC SUSANNAITSPE",{"$f":"+IF(J140=\"\",\"\",IF(ISERROR(VLOOKUP(J140,'Vessel list'!A:J,10,FALSE)),\"\",VLOOKUP(J140,'Vessel list'!A:J,10,FALSE)))","v":""},{"$f":"+IF(J140=\"\",\"\",IF(ISERROR(VLOOKUP(J140,'Vessel list'!A:C,3,FALSE)),\"\",VLOOKUP(J140,'Vessel list'!A:C,3,FALSE)))","v":""},"ITMILAUMEL000564424",null,"false","ITMIL","ITSPE","AUMEL","AUMEL",null,null,"USVANGLOGI0001","MSC SUSANNA","MA044A","2020-11-13","00:00:00","2020-12-19","00:00:00",null,null,null,null,null,null,null,null,null,null,null,null,"Thursday","2020-11-05","00:00:00",44146,"00:00:00",44147,"00:00:00",null,null,"Friday",36,"Gladys Chiccoli","true","false","false"]
[{"$f":"+VLOOKUP(G141,'Lista consol SKR'!$P:$Q,2,FALSE)","v":14},10,"Melbourne10",{"$f":"+VLOOKUP(R141,'Lista consol SKR'!C:D,2,FALSE)","v":"Melbourne"},10,"Melbourne10",{"$f":"+VLOOKUP(S141,'Lista consol SKR'!C:D,2,FALSE)","v":"Melbourne"},{"$f":"+VLOOKUP(Q141,'Lista consol SKR'!A:B,2,FALSE)","v":"La Spezia"},"Not required","PUSAN CITSPE",{"$f":"+IF(J141=\"\",\"\",IF(ISERROR(VLOOKUP(J141,'Vessel list'!A:J,10,FALSE)),\"\",VLOOKUP(J141,'Vessel list'!A:J,10,FALSE)))","v":""},{"$f":"+IF(J141=\"\",\"\",IF(ISERROR(VLOOKUP(J141,'Vessel list'!A:C,3,FALSE)),\"\",VLOOKUP(J141,'Vessel list'!A:C,3,FALSE)))","v":""},"ITMILAUMEL000564425",null,"false","ITMIL","ITSPE","AUMEL","AUMEL",null,null,"USVANGLOGI0001","PUSAN C","045A","2020-11-20","00:00:00","2020-12-26","00:00:00",null,null,null,null,null,null,null,null,null,null,null,null,"Thursday","2020-11-12","00:00:00",44153,0,44154,0,null,null,"Friday",36,"Gladys Chiccoli","true","false","false"]
[{"$f":"+VLOOKUP(G142,'Lista consol SKR'!$P:$Q,2,FALSE)","v":{"$error":"#N/A"}},1,"Montevideo1",{"$f":"+VLOOKUP(R142,'Lista consol SKR'!C:D,2,FALSE)","v":"Montevideo"},1,"Montevideo1",{"$f":"+VLOOKUP(S142,'Lista consol SKR'!C:D,2,FALSE)","v":"Montevideo"},{"$f":"+VLOOKUP(Q142,'Lista consol SKR'!A:B,2,FALSE)","v":"Genoa"},"Not required","MSC BRUNELLAITGOA",{"$f":"+IF(J142=\"\",\"\",IF(ISERROR(VLOOKUP(J142,'Vessel list'!A:J,10,FALSE)),\"\",VLOOKUP(J142,'Vessel list'!A:J,10,FALSE)))","v":""},{"$f":"+IF(J142=\"\",\"\",IF(ISERROR(VLOOKUP(J142,'Vessel list'!A:C,3,FALSE)),\"\",VLOOKUP(J142,'Vessel list'!A:C,3,FALSE)))","v":""},"ITMILUYMVD000565887",null,"false","ITMIL","ITGOA","UYMVD","UYMVD",null,null,"DESACOSHIP0001","MSC BRUNELLA","2S","2020-10-26","00:00:00","2020-11-25","00:00:00",null,null,null,null,null,null,null,null,null,null,null,null,"Tuesday","2020-10-20","18:00:00",44128,0,44129,0,null,null,"Monday",31,null,"true","false","false"]
[{"$f":"+VLOOKUP(G143,'Lista consol SKR'!$P:$Q,2,FALSE)","v":15},{"$f":"IF(D143=D142,B142+1,1)","v":1},{"$f":"+D143&B143","v":"Vancouver1"},{"$f":"+VLOOKUP(R143,'Lista consol SKR'!C:D,2,FALSE)","v":"Vancouver"},{"$f":"IF(G143=G142,E142+1,1)","v":1},{"$f":"+G143&E143","v":"Montreal1"},{"$f":"+VLOOKUP(S143,'Lista consol SKR'!C:D,2,FALSE)","v":"Montreal"},{"$f":"+VLOOKUP(Q143,'Lista consol SKR'!A:B,2,FALSE)","v":"Genoa"},{"$f":"IF(M143=\"\",\"\",IF(LEFT(S143,2)=\"CN\",\"x\",IF(LEFT(S143,2)=\"US\",\"x\",IF(LEFT(S143,2)=\"CA\",\"x\",IF(LEFT(S143,2)=\"JP\",\"x\",\"Not required\")))))","v":"x"},{"$f":"IF(W143=\"\",\"\",W143&Q143)","v":"GENOA EXPRESSITGOA"},{"$f":"+IF(J143=\"\",\"\",IF(ISERROR(VLOOKUP(J143,'Vessel list'!A:J,10,FALSE)),\"\",VLOOKUP(J143,'Vessel list'!A:J,10,FALSE)))","v":"IT262102"},{"$f":"+IF(J143=\"\",\"\",IF(ISERROR(VLOOKUP(J143,'Vessel list'!A:C,3,FALSE)),\"\",VLOOKUP(J143,'Vessel list'!A:C,3,FALSE)))","v":"Genoa Port Terminal"},"ITMILCAMTR000564999",null,"false","ITMIL","ITGOA","CAVAN","CAMTR",null,null,"BEECUWORLD0001","GENOA EXPRESS","44W42","2020-10-19","12:31:23","2020-11-12","13:21:31",null,null,null,null,null,null,null,null,null,null,null,null,"Tuesday","2020-10-13","18:00:00",44121,"00:00:00",44122,"00:00:00",null,null,"Monday",25,null,"true","false","false"]
[{"$f":"+VLOOKUP(G144,'Lista consol SKR'!$P:$Q,2,FALSE)","v":15},1,"Montreal1",{"$f":"+VLOOKUP(R144,'Lista consol SKR'!C:D,2,FALSE)","v":"Montreal"},2,"Montreal2",{"$f":"+VLOOKUP(S144,'Lista consol SKR'!C:D,2,FALSE)","v":"Montreal"},{"$f":"+VLOOKUP(Q144,'Lista consol SKR'!A:B,2,FALSE)","v":"Genoa"},"x","MSC BRIANNAITGOA",{"$f":"+IF(J144=\"\",\"\",IF(ISERROR(VLOOKUP(J144,'Vessel list'!A:J,10,FALSE)),\"\",VLOOKUP(J144,'Vessel list'!A:J,10,FALSE)))","v":""},{"$f":"+IF(J144=\"\",\"\",IF(ISERROR(VLOOKUP(J144,'Vessel list'!A:C,3,FALSE)),\"\",VLOOKUP(J144,'Vessel list'!A:C,3,FALSE)))","v":""},"ITMILCAMTR000556397",null,"false","ITMIL","ITGOA","CAMTR","CAMTR",null,null,"CHMEDISHIP0001","MSC BRIANNA","CX042A","2020-10-19","09:09:09","2020-11-02","08:08:08",null,null,null,null,null,null,null,null,null,null,null,null,"Tuesday","2020-10-13","18:00:00","2020-10-17","00:00:00","2020-10-18","00:00:00",null,null,"Monday",15,"Silvia Malabarba","true","false","false"]
[{"$f":"+VLOOKUP(G145,'Lista consol SKR'!$P:$Q,2,FALSE)","v":15},2,"Montreal2",{"$f":"+VLOOKUP(R145,'Lista consol SKR'!C:D,2,FALSE)","v":"Montreal"},3,"Montreal3",{"$f":"+VLOOKUP(S145,'Lista consol SKR'!C:D,2,FALSE)","v":"Montreal"},{"$f":"+VLOOKUP(Q145,'Lista consol SKR'!A:B,2,FALSE)","v":"Genoa"},"x","MSC ANIELLOITGOA",{"$f":"+IF(J145=\"\",\"\",IF(ISERROR(VLOOKUP(J145,'Vessel list'!A:J,10,FALSE)),\"\",VLOOKUP(J145,'Vessel list'!A:J,10,FALSE)))","v":""},{"$f":"+IF(J145=\"\",\"\",IF(ISERROR(VLOOKUP(J145,'Vessel list'!A:C,3,FALSE)),\"\",VLOOKUP(J145,'Vessel list'!A:C,3,FALSE)))","v":""},"ITMILCAMTR000556399",null,"false","ITMIL","ITGOA","CAMTR","CAMTR",null,null,"CHMEDISHIP0001","MSC ANIELLO","CX043A","2020-10-26","09:09:09","2020-11-09","08:08:08",null,null,null,null,null,null,null,null,null,null,null,null,"Tuesday","2020-10-20","18:00:00",44128,"00:00:00",44129,"00:00:00",null,null,"Monday",15,"Silvia Malabarba","true","false","false"]
[{"$f":"+VLOOKUP(G146,'Lista consol SKR'!$P:$Q,2,FALSE)","v":15},3,"Montreal3",{"$f":"+VLOOKUP(R146,'Lista consol SKR'!C:D,2,FALSE)","v":"Montreal"},4,"Montreal4",{"$f":"+VLOOKUP(S146,'Lista consol SKR'!C:D,2,FALSE)","v":"Montreal"},{"$f":"+VLOOKUP(Q146,'Lista consol SKR'!A:B,2,FALSE)","v":"Genoa"},"x","MSC SARISKAITGOA",{"$f":"+IF(J146=\"\",\"\",IF(ISERROR(VLOOKUP(J146,'Vessel list'!A:J,10,FALSE)),\"\",VLOOKUP(J146,'Vessel list'!A:J,10,FALSE)))","v":""},{"$f":"+IF(J146=\"\",\"\",IF(ISERROR(VLOOKUP(J146,'Vessel list'!A:C,3,FALSE)),\"\",VLOOKUP(J146,'Vessel list'!A:C,3,FALSE)))","v":""},"ITMILCAMTR000556400",null,"false","ITMIL","ITGOA","CAMTR","CAMTR",null,null,"CHMEDISHIP0001","MSC SARISKA","CX044A","2020-11-03","09:09:00","2020-11-17","08:08:08",null,null,null,null,null,null,null,null,null,null,null,null,"Tuesday","2020-10-27","18:00:00",44136,"00:00:00",44137,"00:00:00",null,null,"Tuesday",15,"Silvia Malabarba","true","false","false"]
[{"$f":"+VLOOKUP(G147,'Lista consol SKR'!$P:$Q,2,FALSE)","v":15},4,"Montreal4",{"$f":"+VLOOKUP(R147,'Lista consol SKR'!C:D,2,FALSE)","v":"Montreal"},5,"Montreal5",{"$f":"+VLOOKUP(S147,'Lista consol SKR'!C:D,2,FALSE)","v":"Montreal"},{"$f":"+VLOOKUP(Q147,'Lista consol SKR'!A:B,2,FALSE)","v":"Genoa"},"x","MSC VERONIQUEITGOA",{"$f":"+IF(J147=\"\",\"\",IF(ISERROR(VLOOKUP(J147,'Vessel list'!A:J,10,FALSE)),\"\",VLOOKUP(J147,'Vessel list'!A:J,10,FALSE)))","v":""},{"$f":"+IF(J147=\"\",\"\",IF(ISERROR(VLOOKUP(J147,'Vessel list'!A:C,3,FALSE)),\"\",VLOOKUP(J147,'Vessel list'!A:C,3,FALSE)))","v":""},"ITMILCAMTR000565744",null,"false","ITMIL","ITGOA","CAMTR","CAMTR",null,null,"CHMEDISHIP0001","MSC VERONIQUE","CX045A","2020-11-09","09:09:00","2020-11-23","08:08:00",null,null,null,null,null,null,null,null,null,null,null,null,"Tuesday","2020-11-03","18:00:00","2020-11-07","00:00:00","2020-11-08","00:00:00",null,null,"Monday",15,"Silvia Malabarba","true","false","false"]
[{"$f":"+VLOOKUP(G148,'Lista consol SKR'!$P:$Q,2,FALSE)","v":15},5,"Montreal5",{"$f":"+VLOOKUP(R148,'Lista consol SKR'!C:D,2,FALSE)","v":"Montreal"},6,"Montreal6",{"$f":"+VLOOKUP(S148,'Lista consol SKR'!C:D,2,FALSE)","v":"Montreal"},{"$f":"+VLOOKUP(Q148,'Lista consol SKR'!A:B,2,FALSE)","v":"Genoa"},"x","MSC MARTINAITGOA",{"$f":"+IF(J148=\"\",\"\",IF(ISERROR(VLOOKUP(J148,'Vessel list'!A:J,10,FALSE)),\"\",VLOOKUP(J148,'Vessel list'!A:J,10,FALSE)))","v":""},{"$f":"+IF(J148=\"\",\"\",IF(ISERROR(VLOOKUP(J148,'Vessel list'!A:C,3,FALSE)),\"\",VLOOKUP(J148,'Vessel list'!A:C,3,FALSE)))","v":""},"ITMILCAMTR000565746",null,"false","ITMIL","ITGOA","CAMTR","CAMTR",null,null,"CHMEDISHIP0001","MSC MARTINA","CX046A","2020-11-18","00:00:00","2020-12-02","00:00:00",null,null,null,null,null,null,null,null,null,null,null,null,"Tuesday","2020-11-10","18:00:00",44151,0,44152,0,null,null,"Monday",15,"Silvia Malabarba","true","false","false"]
[{"$f":"+VLOOKUP(G149,'Lista consol SKR'!$P:$Q,2,FALSE)","v":15},6,"Montreal6",{"$f":"+VLOOKUP(R149,'Lista consol SKR'!C:D,2,FALSE)","v":"Montreal"},7,"Montreal7",{"$f":"+VLOOKUP(S149,'Lista consol SKR'!C:D,2,FALSE)","v":"Montreal"},{"$f":"+VLOOKUP(Q149,'Lista consol SKR'!A:B,2,FALSE)","v":"Genoa"},"x","MSC BRIANNAITGOA",{"$f":"+IF(J149=\"\",\"\",IF(ISERROR(VLOOKUP(J149,'Vessel list'!A:J,10,FALSE)),\"\",VLOOKUP(J149,'Vessel list'!A:J,10,FALSE)))","v":""},{"$f":"+IF(J149=\"\",\"\",IF(ISERROR(VLOOKUP(J149,'Vessel list'!A:C,3,FALSE)),\"\",VLOOKUP(J149,'Vessel list'!A:C,3,FALSE)))","v":""},"ITMILCAMTR000565747",null,"false","ITMIL","ITGOA","CAMTR","CAMTR",null,null,"CHMEDISHIP0001","MSC BRIANNA","CX047A","2020-11-23","00:00:00","2020-12-07","00:00:00",null,null,null,null,null,null,null,null,null,null,null,null,"Tuesday","2020-11-17","18:00:00","2020-11-21","00:00:00","2020-11-22","00:00:00",null,null,"Monday",15,"Silvia Malabarba","true","false","false"]
[{"$f":"+VLOOKUP(G150,'Lista consol SKR'!$P:$Q,2,FALSE)","v":15},7,"Montreal7",{"$f":"+VLOOKUP(R150,'Lista consol SKR'!C:D,2,FALSE)","v":"Montreal"},8,"Montreal8",{"$f":"+VLOOKUP(S150,'Lista consol SKR'!C:D,2,FALSE)","v":"Montreal"},{"$f":"+VLOOKUP(Q150,'Lista consol SKR'!A:B,2,FALSE)","v":"Genoa"},"x","MSC ANIELLOITGOA",{"$f":"+IF(J150=\"\",\"\",IF(ISERROR(VLOOKUP(J150,'Vessel list'!A:J,10,FALSE)),\"\",VLOOKUP(J150,'Vessel list'!A:J,10,FALSE)))","v":""},{"$f":"+IF(J150=\"\",\"\",IF(ISERROR(VLOOKUP(J150,'Vessel list'!A:C,3,FALSE)),\"\",VLOOKUP(J150,'Vessel list'!A:C,3,FALSE)))","v":""},"ITMILCAMTR000565748",null,"false","ITMIL","ITGOA","CAMTR","CAMTR",null,null,"CHMEDISHIP0001","MSC ANIELLO","CX048A","2020-11-30","00:00:00","2020-12-14","00:00:00",null,null,null,null,null,null,null,null,null,null,null,null,"Tuesday","2020-11-24","18:00:00",44163,"00:00:00",44164,"00:00:00",null,null,"Monday",15,"Silvia Malabarba","true","false","false"]
[{"$f":"+VLOOKUP(G151,'Lista consol SKR'!$P:$Q,2,FALSE)","v":15},8,"Montreal8",{"$f":"+VLOOKUP(R151,'Lista consol SKR'!C:D,2,FALSE)","v":"Montreal"},9,"Montreal9",{"$f":"+VLOOKUP(S151,'Lista consol SKR'!C:D,2,FALSE)","v":"Montreal"},{"$f":"+VLOOKUP(Q151,'Lista consol SKR'!A:B,2,FALSE)","v":"Genoa"},"x","MSC SARISKAITGOA",{"$f":"+IF(J151=\"\",\"\",IF(ISERROR(VLOOKUP(J151,'Vessel list'!A:J,10,FALSE)),\"\",VLOOKUP(J151,'Vessel list'!A:J,10,FALSE)))","v":""},{"$f":"+IF(J151=\"\",\"\",IF(ISERROR(VLOOKUP(J151,'Vessel list'!A:C,3,FALSE)),\"\",VLOOKUP(J151,'Vessel list'!A:C,3,FALSE)))","v":""},"ITMILCAMTR000565750",null,"false","ITMIL","ITGOA","CAMTR","CAMTR",null,null,"CHMEDISHIP0001","MSC SARISKA","CX049A","2020-12-07","00:00:00","2020-12-21","00:00:00",null,null,null,null,null,null,null,null,null,null,null,null,"Tuesday","2020-12-01","18:00:00",44170,"00:00:00",44171,"00:00:00",null,null,"Monday",15,"Silvia Malabarba","true","false","false"]
[{"$f":"+VLOOKUP(G152,'Lista consol SKR'!$P:$Q,2,FALSE)","v":15},9,"Montreal9",{"$f":"+VLOOKUP(R152,'Lista consol SKR'!C:D,2,FALSE)","v":"Montreal"},10,"Montreal10",{"$f":"+VLOOKUP(S152,'Lista consol SKR'!C:D,2,FALSE)","v":"Montreal"},{"$f":"+VLOOKUP(Q152,'Lista consol SKR'!A:B,2,FALSE)","v":"Genoa"},"x","MSC VERONIQUEITGOA",{"$f":"+IF(J152=\"\",\"\",IF(ISERROR(VLOOKUP(J152,'Vessel list'!A:J,10,FALSE)),\"\",VLOOKUP(J152,'Vessel list'!A:J,10,FALSE)))","v":""},{"$f":"+IF(J152=\"\",\"\",IF(ISERROR(VLOOKUP(J152,'Vessel list'!A:C,3,FALSE)),\"\",VLOOKUP(J152,'Vessel list'!A:C,3,FALSE)))","v":""},"ITMILCAMTR000565752",null,"false","ITMIL","ITGOA","CAMTR","CAMTR",null,null,"CHMEDISHIP0001","MSC VERONIQUE","CX050A","2020-12-14","00:00:00","2020-12-28","00:00:00",null,null,null,null,null,null,null,null,null,null,null,null,"Tuesday","2020-12-08","18:00:00","2020-12-12","00:00:00","2020-12-13","00:00:00",null,null,"Monday",15,"Silvia Malabarba","true","false","false"]
[{"$f":"+VLOOKUP(G153,'Lista consol SKR'!$P:$Q,2,FALSE)","v":16},1,"New York1",{"$f":"+VLOOKUP(R153,'Lista consol SKR'!C:D,2,FALSE)","v":"New York"},1,"New York1",{"$f":"+VLOOKUP(S153,'Lista consol SKR'!C:D,2,FALSE)","v":"New York"},{"$f":"+VLOOKUP(Q153,'Lista consol SKR'!A:B,2,FALSE)","v":"Genoa"},"x","OOCL EUROPEITGOA",{"$f":"+IF(J153=\"\",\"\",IF(ISERROR(VLOOKUP(J153,'Vessel list'!A:J,10,FALSE)),\"\",VLOOKUP(J153,'Vessel list'!A:J,10,FALSE)))","v":""},{"$f":"+IF(J153=\"\",\"\",IF(ISERROR(VLOOKUP(J153,'Vessel list'!A:C,3,FALSE)),\"\",VLOOKUP(J153,'Vessel list'!A:C,3,FALSE)))","v":""},"ITMILUSNYC000556707",null,"false","ITMIL","ITGOA","USNYC","USNYC",null,null,"ILZIMINTEG0001","OOCL EUROPE","15","2020-10-16","09:09:00","2020-11-01","08:00:08",null,null,null,null,null,null,null,null,null,null,null,null,"Thursday","2020-10-08","18:00:00",44118,"00:00:00",44119,"00:00:00",null,null,"Friday",17,null,"true","false","false"]
[{"$f":"+VLOOKUP(G154,'Lista consol SKR'!$P:$Q,2,FALSE)","v":16},2,"New York2",{"$f":"+VLOOKUP(R154,'Lista consol SKR'!C:D,2,FALSE)","v":"New York"},2,"New York2",{"$f":"+VLOOKUP(S154,'Lista consol SKR'!C:D,2,FALSE)","v":"New York"},{"$f":"+VLOOKUP(Q154,'Lista consol SKR'!A:B,2,FALSE)","v":"Genoa"},"x","OOCL EUROPEITGOA",{"$f":"+IF(J154=\"\",\"\",IF(ISERROR(VLOOKUP(J154,'Vessel list'!A:J,10,FALSE)),\"\",VLOOKUP(J154,'Vessel list'!A:J,10,FALSE)))","v":""},{"$f":"+IF(J154=\"\",\"\",IF(ISERROR(VLOOKUP(J154,'Vessel list'!A:C,3,FALSE)),\"\",VLOOKUP(J154,'Vessel list'!A:C,3,FALSE)))","v":""},"ITMILUSNYC000565824",null,"false","ITMIL","ITGOA","USNYC","USNYC",null,null,"ILZIMINTEG0001","OOCL EUROPE","15","2020-10-16","09:09:00","2020-11-01","08:00:08",null,null,null,null,null,null,null,null,null,null,null,null,"Thursday","2020-10-08","18:00:00",44118,"00:00:00",44119,"00:00:00",null,null,"Friday",17,null,"true","false","false"]
[{"$f":"+VLOOKUP(G155,'Lista consol SKR'!$P:$Q,2,FALSE)","v":16},3,"New York3",{"$f":"+VLOOKUP(R155,'Lista consol SKR'!C:D,2,FALSE)","v":"New York"},3,"New York3",{"$f":"+VLOOKUP(S155,'Lista consol SKR'!C:D,2,FALSE)","v":"New York"},{"$f":"+VLOOKUP(Q155,'Lista consol SKR'!A:B,2,FALSE)","v":"Genoa"},"x","CSCL BRISBANEITGOA",{"$f":"+IF(J155=\"\",\"\",IF(ISERROR(VLOOKUP(J155,'Vessel list'!A:J,10,FALSE)),\"\",VLOOKUP(J155,'Vessel list'!A:J,10,FALSE)))","v":""},{"$f":"+IF(J155=\"\",\"\",IF(ISERROR(VLOOKUP(J155,'Vessel list'!A:C,3,FALSE)),\"\",VLOOKUP(J155,'Vessel list'!A:C,3,FALSE)))","v":""},"ITMILUSNYC000559508",null,"false","ITMIL","ITGOA","USNYC","USNYC",null,null,"SGOCEANETW0001","CSCL BRISBANE","187W","2020-10-20","09:51:00","2020-10-30","17:51:00",null,null,null,null,null,null,null,null,null,null,null,null,"Tuesday","2020-10-13","18:00:00",44122,"09:51:00",44123,"09:51:00",null,null,"Tuesday",11,"Silvia Malabarba","true","false","false"]
[{"$f":"+VLOOKUP(G156,'Lista consol SKR'!$P:$Q,2,FALSE)","v":16},4,"New York4",{"$f":"+VLOOKUP(R156,'Lista consol SKR'!C:D,2,FALSE)","v":"New York"},4,"New York4",{"$f":"+VLOOKUP(S156,'Lista consol SKR'!C:D,2,FALSE)","v":"New York"},{"$f":"+VLOOKUP(Q156,'Lista consol SKR'!A:B,2,FALSE)","v":"Genoa"},"x","CSCL BRISBANEITGOA",{"$f":"+IF(J156=\"\",\"\",IF(ISERROR(VLOOKUP(J156,'Vessel list'!A:J,10,FALSE)),\"\",VLOOKUP(J156,'Vessel list'!A:J,10,FALSE)))","v":""},{"$f":"+IF(J156=\"\",\"\",IF(ISERROR(VLOOKUP(J156,'Vessel list'!A:C,3,FALSE)),\"\",VLOOKUP(J156,'Vessel list'!A:C,3,FALSE)))","v":""},"ITMILUSNYC000565851",null,"false","ITMIL","ITGOA","USNYC","USNYC",null,null,"SGOCEANETW0001","CSCL BRISBANE","187W","2020-10-20","09:51:00","2020-10-30","17:51:00",null,null,null,null,null,null,null,null,null,null,null,null,"Tuesday","2020-10-13","18:00:00",44122,0.41041666666569654,44123,0.41041666666569654,null,null,"Tuesday",11,"Silvia Malabarba","true","false","false"]
[{"$f":"+VLOOKUP(G157,'Lista consol SKR'!$P:$Q,2,FALSE)","v":16},5,"New York5",{"$f":"+VLOOKUP(R157,'Lista consol SKR'!C:D,2,FALSE)","v":"New York"},5,"New York5",{"$f":"+VLOOKUP(S157,'Lista consol SKR'!C:D,2,FALSE)","v":"New York"},{"$f":"+VLOOKUP(Q157,'Lista consol SKR'!A:B,2,FALSE)","v":"Genoa"},"x","CHICAGO EXPRESSITGOA",{"$f":"+IF(J157=\"\",\"\",IF(ISERROR(VLOOKUP(J157,'Vessel list'!A:J,10,FALSE)),\"\",VLOOKUP(J157,'Vessel list'!A:J,10,FALSE)))","v":""},{"$f":"+IF(J157=\"\",\"\",IF(ISERROR(VLOOKUP(J157,'Vessel list'!A:C,3,FALSE)),\"\",VLOOKUP(J157,'Vessel list'!A:C,3,FALSE)))","v":""},"ITMILUSNYC000549612",null,"false","ITMIL","ITGOA","USNYC","USNYC",null,null,"ILZIMINTEG0001","CHICAGO EXPRESS","76","2020-10-23","09:09:00","2020-11-08","00:08:00",null,null,null,null,null,null,null,null,null,null,null,null,"Thursday","2020-10-15","18:00:00",44125,"00:00:00",44126,"00:00:00",null,null,"Friday",16,null,"true","false","false"]
[{"$f":"+VLOOKUP(G158,'Lista consol SKR'!$P:$Q,2,FALSE)","v":16},6,"New York6",{"$f":"+VLOOKUP(R158,'Lista consol SKR'!C:D,2,FALSE)","v":"New York"},6,"New York6",{"$f":"+VLOOKUP(S158,'Lista consol SKR'!C:D,2,FALSE)","v":"New York"},{"$f":"+VLOOKUP(Q158,'Lista consol SKR'!A:B,2,FALSE)","v":"Genoa"},"x","CHICAGO EXPRESSITGOA",{"$f":"+IF(J158=\"\",\"\",IF(ISERROR(VLOOKUP(J158,'Vessel list'!A:J,10,FALSE)),\"\",VLOOKUP(J158,'Vessel list'!A:J,10,FALSE)))","v":""},{"$f":"+IF(J158=\"\",\"\",IF(ISERROR(VLOOKUP(J158,'Vessel list'!A:C,3,FALSE)),\"\",VLOOKUP(J158,'Vessel list'!A:C,3,FALSE)))","v":""},"ITMILUSNYC000565826",null,"false","ITMIL","ITGOA","USNYC","USNYC",null,null,"ILZIMINTEG0001","CHICAGO EXPRESS","76","2020-10-23","09:09:00","2020-11-08","00:08:00",null,null,null,null,null,null,null,null,null,null,null,null,"Thursday","2020-10-15","18:00:00","2020-10-21","00:00:00","2020-10-22","00:00:00",null,null,"Friday",16,null,"true","false","false"]
[{"$f":"+VLOOKUP(G159,'Lista consol SKR'!$P:$Q,2,FALSE)","v":16},7,"New York7",{"$f":"+VLOOKUP(R159,'Lista consol SKR'!C:D,2,FALSE)","v":"New York"},7,"New York7",{"$f":"+VLOOKUP(S159,'Lista consol SKR'!C:D,2,FALSE)","v":"New York"},{"$f":"+VLOOKUP(Q159,'Lista consol SKR'!A:B,2,FALSE)","v":"Genoa"},"x","YM EXPRESSITGOA",{"$f":"+IF(J159=\"\",\"\",IF(ISERROR(VLOOKUP(J159,'Vessel list'!A:J,10,FALSE)),\"\",VLOOKUP(J159,'Vessel list'!A:J,10,FALSE)))","v":""},{"$f":"+IF(J159=\"\",\"\",IF(ISERROR(VLOOKUP(J159,'Vessel list'!A:C,3,FALSE)),\"\",VLOOKUP(J159,'Vessel list'!A:C,3,FALSE)))","v":""},"ITMILUSNYC000559509",null,"false","ITMIL","ITGOA","USNYC","USNYC",null,null,"SGOCEANETW0001","YM EXPRESS","053W","2020-10-27","09:54:00","2020-11-06","17:54:00",null,null,null,null,null,null,null,null,null,null,null,null,"Tuesday","2020-10-20","18:00:00",44129,"09:54:00",44130,"09:54:00",null,null,"Tuesday",11,"Silvia Malabarba","true","false","false"]
[{"$f":"+VLOOKUP(G160,'Lista consol SKR'!$P:$Q,2,FALSE)","v":16},8,"New York8",{"$f":"+VLOOKUP(R160,'Lista consol SKR'!C:D,2,FALSE)","v":"New York"},8,"New York8",{"$f":"+VLOOKUP(S160,'Lista consol SKR'!C:D,2,FALSE)","v":"New York"},{"$f":"+VLOOKUP(Q160,'Lista consol SKR'!A:B,2,FALSE)","v":"Genoa"},"x","YM EXPRESSITGOA",{"$f":"+IF(J160=\"\",\"\",IF(ISERROR(VLOOKUP(J160,'Vessel list'!A:J,10,FALSE)),\"\",VLOOKUP(J160,'Vessel list'!A:J,10,FALSE)))","v":""},{"$f":"+IF(J160=\"\",\"\",IF(ISERROR(VLOOKUP(J160,'Vessel list'!A:C,3,FALSE)),\"\",VLOOKUP(J160,'Vessel list'!A:C,3,FALSE)))","v":""},"ITMILUSNYC000565852",null,"false","ITMIL","ITGOA","USNYC","USNYC",null,null,"SGOCEANETW0001","YM EXPRESS","053W","2020-10-27","09:54:00","2020-11-06","17:54:00",null,null,null,null,null,null,null,null,null,null,null,null,"Tuesday","2020-10-20","18:00:00",44129,"09:54:00",44130,"09:54:00",null,null,"Tuesday",11,"Silvia Malabarba","true","false","false"]
[{"$f":"+VLOOKUP(G161,'Lista consol SKR'!$P:$Q,2,FALSE)","v":16},9,"New York9",{"$f":"+VLOOKUP(R161,'Lista consol SKR'!C:D,2,FALSE)","v":"New York"},9,"New York9",{"$f":"+VLOOKUP(S161,'Lista consol SKR'!C:D,2,FALSE)","v":"New York"},{"$f":"+VLOOKUP(Q161,'Lista consol SKR'!A:B,2,FALSE)","v":"Genoa"},"x","CMA CGM DALILAITGOA",{"$f":"+IF(J161=\"\",\"\",IF(ISERROR(VLOOKUP(J161,'Vessel list'!A:J,10,FALSE)),\"\",VLOOKUP(J161,'Vessel list'!A:J,10,FALSE)))","v":""},{"$f":"+IF(J161=\"\",\"\",IF(ISERROR(VLOOKUP(J161,'Vessel list'!A:C,3,FALSE)),\"\",VLOOKUP(J161,'Vessel list'!A:C,3,FALSE)))","v":""},"ITMILUSNYC000559479",null,"false","ITMIL","ITGOA","USNYC","USNYC",null,null,"ILZIMINTEG0001","CMA CGM DALILA","2","2020-10-30","09:25:00","2020-11-15","17:25:00",null,null,null,null,null,null,null,null,null,null,null,null,"Thursday","2020-10-22","18:00:00",44132,"09:25:00",44133,"09:25:00",null,null,"Friday",17,null,"true","false","false"]
[{"$f":"+VLOOKUP(G162,'Lista consol SKR'!$P:$Q,2,FALSE)","v":16},10,"New York10",{"$f":"+VLOOKUP(R162,'Lista consol SKR'!C:D,2,FALSE)","v":"New York"},10,"New York10",{"$f":"+VLOOKUP(S162,'Lista consol SKR'!C:D,2,FALSE)","v":"New York"},{"$f":"+VLOOKUP(Q162,'Lista consol SKR'!A:B,2,FALSE)","v":"Genoa"},"x","CMA CGM DALILAITGOA",{"$f":"+IF(J162=\"\",\"\",IF(ISERROR(VLOOKUP(J162,'Vessel list'!A:J,10,FALSE)),\"\",VLOOKUP(J162,'Vessel list'!A:J,10,FALSE)))","v":""},{"$f":"+IF(J162=\"\",\"\",IF(ISERROR(VLOOKUP(J162,'Vessel list'!A:C,3,FALSE)),\"\",VLOOKUP(J162,'Vessel list'!A:C,3,FALSE)))","v":""},"ITMILUSNYC000565827",null,"false","ITMIL","ITGOA","USNYC","USNYC",null,null,"ILZIMINTEG0001","CMA CGM DALILA","2","2020-10-30","09:25:00","2020-11-15","17:25:00",null,null,null,null,null,null,null,null,null,null,null,null,"Friday","2020-10-23","18:00:00","2020-10-28","09:25:00","2020-10-29","09:25:00",null,null,"Friday",17,null,"true","false","false"]
[{"$f":"+VLOOKUP(G163,'Lista consol SKR'!$P:$Q,2,FALSE)","v":16},11,"New York11",{"$f":"+VLOOKUP(R163,'Lista consol SKR'!C:D,2,FALSE)","v":"New York"},11,"New York11",{"$f":"+VLOOKUP(S163,'Lista consol SKR'!C:D,2,FALSE)","v":"New York"},{"$f":"+VLOOKUP(Q163,'Lista consol SKR'!A:B,2,FALSE)","v":"Genoa"},"x","BILBAO BRIDGEITGOA",{"$f":"+IF(J163=\"\",\"\",IF(ISERROR(VLOOKUP(J163,'Vessel list'!A:J,10,FALSE)),\"\",VLOOKUP(J163,'Vessel list'!A:J,10,FALSE)))","v":"IT261101"},{"$f":"+IF(J163=\"\",\"\",IF(ISERROR(VLOOKUP(J163,'Vessel list'!A:C,3,FALSE)),\"\",VLOOKUP(J163,'Vessel list'!A:C,3,FALSE)))","v":"Genoa SECH"},"ITMILUSNYC000559510",null,"false","ITMIL","ITGOA","USNYC","USNYC",null,null,"SGOCEANETW0001","BILBAO BRIDGE","204W","2020-11-03","09:50:00","2020-11-13","17:50:00",null,null,null,null,null,null,null,null,null,null,null,null,"Tuesday","2020-10-27","18:00:00","2020-11-01","09:50:00","2020-11-02","09:50:00",null,null,"Tuesday",11,"Silvia Malabarba","true","false","false"]
[{"$f":"+VLOOKUP(G164,'Lista consol SKR'!$P:$Q,2,FALSE)","v":16},12,"New York12",{"$f":"+VLOOKUP(R164,'Lista consol SKR'!C:D,2,FALSE)","v":"New York"},12,"New York12",{"$f":"+VLOOKUP(S164,'Lista consol SKR'!C:D,2,FALSE)","v":"New York"},{"$f":"+VLOOKUP(Q164,'Lista consol SKR'!A:B,2,FALSE)","v":"Genoa"},"x","BILBAO BRIDGEITGOA",{"$f":"+IF(J164=\"\",\"\",IF(ISERROR(VLOOKUP(J164,'Vessel list'!A:J,10,FALSE)),\"\",VLOOKUP(J164,'Vessel list'!A:J,10,FALSE)))","v":"IT261101"},{"$f":"+IF(J164=\"\",\"\",IF(ISERROR(VLOOKUP(J164,'Vessel list'!A:C,3,FALSE)),\"\",VLOOKUP(J164,'Vessel list'!A:C,3,FALSE)))","v":"Genoa SECH"},"ITMILUSNYC000565854",null,"false","ITMIL","ITGOA","USNYC","USNYC",null,null,"SGOCEANETW0001","BILBAO BRIDGE","204W","2020-11-03","09:50:00","2020-11-13","17:50:00",null,null,null,null,null,null,null,null,null,null,null,null,"Tuesday","2020-10-27","18:00:00","2020-11-01","09:50:00","2020-11-02","09:50:00",null,null,"Tuesday",11,"Silvia Malabarba","true","false","false"]
[{"$f":"+VLOOKUP(G165,'Lista consol SKR'!$P:$Q,2,FALSE)","v":16},13,"New York13",{"$f":"+VLOOKUP(R165,'Lista consol SKR'!C:D,2,FALSE)","v":"New York"},13,"New York13",{"$f":"+VLOOKUP(S165,'Lista consol SKR'!C:D,2,FALSE)","v":"New York"},{"$f":"+VLOOKUP(Q165,'Lista consol SKR'!A:B,2,FALSE)","v":"Genoa"},"x","BREMEN EXPRESSITGOA",{"$f":"+IF(J165=\"\",\"\",IF(ISERROR(VLOOKUP(J165,'Vessel list'!A:J,10,FALSE)),\"\",VLOOKUP(J165,'Vessel list'!A:J,10,FALSE)))","v":""},{"$f":"+IF(J165=\"\",\"\",IF(ISERROR(VLOOKUP(J165,'Vessel list'!A:C,3,FALSE)),\"\",VLOOKUP(J165,'Vessel list'!A:C,3,FALSE)))","v":""},"ITMILUSNYC000559480",null,"false","ITMIL","ITGOA","USNYC","USNYC",null,null,"ILZIMINTEG0001","BREMEN EXPRESS","66","2020-11-06","09:26:00","2020-11-22","17:26:00",null,null,null,null,null,null,null,null,null,null,null,null,"Thursday","2020-10-29","18:00:00",44139,"09:26:00",44140,"09:26:00",null,null,"Friday",17,null,"true","false","false"]
[{"$f":"+VLOOKUP(G166,'Lista consol SKR'!$P:$Q,2,FALSE)","v":16},14,"New York14",{"$f":"+VLOOKUP(R166,'Lista consol SKR'!C:D,2,FALSE)","v":"New York"},14,"New York14",{"$f":"+VLOOKUP(S166,'Lista consol SKR'!C:D,2,FALSE)","v":"New York"},{"$f":"+VLOOKUP(Q166,'Lista consol SKR'!A:B,2,FALSE)","v":"Genoa"},"x","BREMEN EXPRESSITGOA",{"$f":"+IF(J166=\"\",\"\",IF(ISERROR(VLOOKUP(J166,'Vessel list'!A:J,10,FALSE)),\"\",VLOOKUP(J166,'Vessel list'!A:J,10,FALSE)))","v":""},{"$f":"+IF(J166=\"\",\"\",IF(ISERROR(VLOOKUP(J166,'Vessel list'!A:C,3,FALSE)),\"\",VLOOKUP(J166,'Vessel list'!A:C,3,FALSE)))","v":""},"ITMILUSNYC000565828",null,"false","ITMIL","ITGOA","USNYC","USNYC",null,null,"ILZIMINTEG0001","BREMEN EXPRESS","66","2020-11-06","09:26:00","2020-11-22","17:26:00",null,null,null,null,null,null,null,null,null,null,null,null,"Friday","2020-10-30","18:00:00",44139,"09:26:00",44140,"09:26:00",null,null,"Friday",17,null,"true","false","false"]
[{"$f":"+VLOOKUP(G167,'Lista consol SKR'!$P:$Q,2,FALSE)","v":16},15,"New York15",{"$f":"+VLOOKUP(R167,'Lista consol SKR'!C:D,2,FALSE)","v":"New York"},15,"New York15",{"$f":"+VLOOKUP(S167,'Lista consol SKR'!C:D,2,FALSE)","v":"New York"},{"$f":"+VLOOKUP(Q167,'Lista consol SKR'!A:B,2,FALSE)","v":"Genoa"},"x","CSCL SYDNEYITGOA",{"$f":"+IF(J167=\"\",\"\",IF(ISERROR(VLOOKUP(J167,'Vessel list'!A:J,10,FALSE)),\"\",VLOOKUP(J167,'Vessel list'!A:J,10,FALSE)))","v":""},{"$f":"+IF(J167=\"\",\"\",IF(ISERROR(VLOOKUP(J167,'Vessel list'!A:C,3,FALSE)),\"\",VLOOKUP(J167,'Vessel list'!A:C,3,FALSE)))","v":""},"ITMILUSNYC000565855",null,"false","ITMIL","ITGOA","USNYC","USNYC",null,null,"SGOCEANETW0001","CSCL SYDNEY","044W","2020-11-10","09:52:00","2020-11-20","17:52:00",null,null,null,null,null,null,null,null,null,null,null,null,"Tuesday","2020-11-03","18:00:00",44143,"09:52:00",44144,"09:52:00",null,null,"Tuesday",11,"Silvia Malabarba","true","false","false"]
[{"$f":"+VLOOKUP(G168,'Lista consol SKR'!$P:$Q,2,FALSE)","v":16},16,"New York16",{"$f":"+VLOOKUP(R168,'Lista consol SKR'!C:D,2,FALSE)","v":"New York"},16,"New York16",{"$f":"+VLOOKUP(S168,'Lista consol SKR'!C:D,2,FALSE)","v":"New York"},{"$f":"+VLOOKUP(Q168,'Lista consol SKR'!A:B,2,FALSE)","v":"Genoa"},"x","CSCL SYDNEYITGOA",{"$f":"+IF(J168=\"\",\"\",IF(ISERROR(VLOOKUP(J168,'Vessel list'!A:J,10,FALSE)),\"\",VLOOKUP(J168,'Vessel list'!A:J,10,FALSE)))","v":""},{"$f":"+IF(J168=\"\",\"\",IF(ISERROR(VLOOKUP(J168,'Vessel list'!A:C,3,FALSE)),\"\",VLOOKUP(J168,'Vessel list'!A:C,3,FALSE)))","v":""},"ITMILUSNYC000559511",null,"false","ITMIL","ITGOA","USNYC","USNYC",null,null,"SGOCEANETW0001","CSCL SYDNEY","044W","2020-11-10","09:52:00","2020-11-20","17:52:00",null,null,null,null,null,null,null,null,null,null,null,null,"Tuesday","2020-11-03","18:00:00",44143,"09:52:00",44144,"09:52:00",null,null,"Tuesday",11,"Silvia Malabarba","true","false","false"]
[{"$f":"+VLOOKUP(G169,'Lista consol SKR'!$P:$Q,2,FALSE)","v":16},17,"New York17",{"$f":"+VLOOKUP(R169,'Lista consol SKR'!C:D,2,FALSE)","v":"New York"},17,"New York17",{"$f":"+VLOOKUP(S169,'Lista consol SKR'!C:D,2,FALSE)","v":"New York"},{"$f":"+VLOOKUP(Q169,'Lista consol SKR'!A:B,2,FALSE)","v":"Genoa"},"x","CMA CGM NABUCCOITGOA",{"$f":"+IF(J169=\"\",\"\",IF(ISERROR(VLOOKUP(J169,'Vessel list'!A:J,10,FALSE)),\"\",VLOOKUP(J169,'Vessel list'!A:J,10,FALSE)))","v":""},{"$f":"+IF(J169=\"\",\"\",IF(ISERROR(VLOOKUP(J169,'Vessel list'!A:C,3,FALSE)),\"\",VLOOKUP(J169,'Vessel list'!A:C,3,FALSE)))","v":""},"ITMILUSNYC000559483",null,"false","ITMIL","ITGOA","USNYC","USNYC",null,null,"ILZIMINTEG0001","CMA CGM NABUCCO","18","2020-11-13","09:27:00","2020-11-29","17:27:00",null,null,null,null,null,null,null,null,null,null,null,null,"Thursday","2020-11-05","18:00:00","2020-11-11","09:27:00","2020-11-12","09:27:00",null,null,"Friday",17,null,"true","false","false"]
[{"$f":"+VLOOKUP(G170,'Lista consol SKR'!$P:$Q,2,FALSE)","v":16},18,"New York18",{"$f":"+VLOOKUP(R170,'Lista consol SKR'!C:D,2,FALSE)","v":"New York"},18,"New York18",{"$f":"+VLOOKUP(S170,'Lista consol SKR'!C:D,2,FALSE)","v":"New York"},{"$f":"+VLOOKUP(Q170,'Lista consol SKR'!A:B,2,FALSE)","v":"Genoa"},"x","CMA CGM NABUCCOITGOA",{"$f":"+IF(J170=\"\",\"\",IF(ISERROR(VLOOKUP(J170,'Vessel list'!A:J,10,FALSE)),\"\",VLOOKUP(J170,'Vessel list'!A:J,10,FALSE)))","v":""},{"$f":"+IF(J170=\"\",\"\",IF(ISERROR(VLOOKUP(J170,'Vessel list'!A:C,3,FALSE)),\"\",VLOOKUP(J170,'Vessel list'!A:C,3,FALSE)))","v":""},"ITMILUSNYC000565829",null,"false","ITMIL","ITGOA","USNYC","USNYC",null,null,"ILZIMINTEG0001","CMA CGM NABUCCO","18","2020-11-13","09:27:00","2020-11-29","17:27:00",null,null,null,null,null,null,null,null,null,null,null,null,"Friday","2020-11-06","18:00:00",44146,"09:27:00",44147,"09:27:00",null,null,"Friday",17,null,"true","false","false"]
[{"$f":"+VLOOKUP(G171,'Lista consol SKR'!$P:$Q,2,FALSE)","v":16},19,"New York19",{"$f":"+VLOOKUP(R171,'Lista consol SKR'!C:D,2,FALSE)","v":"New York"},19,"New York19",{"$f":"+VLOOKUP(S171,'Lista consol SKR'!C:D,2,FALSE)","v":"New York"},{"$f":"+VLOOKUP(Q171,'Lista consol SKR'!A:B,2,FALSE)","v":"Genoa"},"x","SEAMELODYITGOA",{"$f":"+IF(J171=\"\",\"\",IF(ISERROR(VLOOKUP(J171,'Vessel list'!A:J,10,FALSE)),\"\",VLOOKUP(J171,'Vessel list'!A:J,10,FALSE)))","v":""},{"$f":"+IF(J171=\"\",\"\",IF(ISERROR(VLOOKUP(J171,'Vessel list'!A:C,3,FALSE)),\"\",VLOOKUP(J171,'Vessel list'!A:C,3,FALSE)))","v":""},"ITMILUSNYC000565856",null,"false","ITMIL","ITGOA","USNYC","USNYC",null,null,"SGOCEANETW0001","SEAMELODY","005W","2020-11-17","09:00:09","2020-11-27","08:00:08",null,null,null,null,null,null,null,null,null,null,null,null,"Tuesday","2020-11-10","18:00:00",44150,0.375104166669189,44151,0.375104166669189,null,null,"Tuesday",11,"Silvia Malabarba","true","false","false"]
[{"$f":"+VLOOKUP(G172,'Lista consol SKR'!$P:$Q,2,FALSE)","v":16},20,"New York20",{"$f":"+VLOOKUP(R172,'Lista consol SKR'!C:D,2,FALSE)","v":"New York"},20,"New York20",{"$f":"+VLOOKUP(S172,'Lista consol SKR'!C:D,2,FALSE)","v":"New York"},{"$f":"+VLOOKUP(Q172,'Lista consol SKR'!A:B,2,FALSE)","v":"Genoa"},"x","SEAMELODYITGOA",{"$f":"+IF(J172=\"\",\"\",IF(ISERROR(VLOOKUP(J172,'Vessel list'!A:J,10,FALSE)),\"\",VLOOKUP(J172,'Vessel list'!A:J,10,FALSE)))","v":""},{"$f":"+IF(J172=\"\",\"\",IF(ISERROR(VLOOKUP(J172,'Vessel list'!A:C,3,FALSE)),\"\",VLOOKUP(J172,'Vessel list'!A:C,3,FALSE)))","v":""},"ITMILUSNYC000559512",null,"false","ITMIL","ITGOA","USNYC","USNYC",null,null,"SGOCEANETW0001","SEAMELODY","005W","2020-11-17","09:00:09","2020-11-27","08:00:08",null,null,null,null,null,null,null,null,null,null,null,null,"Tuesday","2020-11-10","18:00:00",44150,"09:00:09",44151,"09:00:09",null,null,"Tuesday",11,"Silvia Malabarba","true","false","false"]
[{"$f":"+VLOOKUP(G173,'Lista consol SKR'!$P:$Q,2,FALSE)","v":16},21,"New York21",{"$f":"+VLOOKUP(R173,'Lista consol SKR'!C:D,2,FALSE)","v":"New York"},21,"New York21",{"$f":"+VLOOKUP(S173,'Lista consol SKR'!C:D,2,FALSE)","v":"New York"},{"$f":"+VLOOKUP(Q173,'Lista consol SKR'!A:B,2,FALSE)","v":"Genoa"},"x","VIENNA EXPRESSITGOA",{"$f":"+IF(J173=\"\",\"\",IF(ISERROR(VLOOKUP(J173,'Vessel list'!A:J,10,FALSE)),\"\",VLOOKUP(J173,'Vessel list'!A:J,10,FALSE)))","v":""},{"$f":"+IF(J173=\"\",\"\",IF(ISERROR(VLOOKUP(J173,'Vessel list'!A:C,3,FALSE)),\"\",VLOOKUP(J173,'Vessel list'!A:C,3,FALSE)))","v":""},"ITMILUSNYC000559481",null,"false","ITMIL","ITGOA","USNYC","USNYC",null,null,"ILZIMINTEG0001","VIENNA EXPRESS","71","2020-11-20","09:28:00","2020-12-06","17:28:00",null,null,null,null,null,null,null,null,null,null,null,null,"Thursday","2020-11-12","18:00:00","2020-11-18","09:28:00","2020-11-19","09:28:00",null,null,"Friday",17,null,"true","false","false"]
[{"$f":"+VLOOKUP(G174,'Lista consol SKR'!$P:$Q,2,FALSE)","v":16},22,"New York22",{"$f":"+VLOOKUP(R174,'Lista consol SKR'!C:D,2,FALSE)","v":"New York"},22,"New York22",{"$f":"+VLOOKUP(S174,'Lista consol SKR'!C:D,2,FALSE)","v":"New York"},{"$f":"+VLOOKUP(Q174,'Lista consol SKR'!A:B,2,FALSE)","v":"Genoa"},"x","VIENNA EXPRESSITGOA",{"$f":"+IF(J174=\"\",\"\",IF(ISERROR(VLOOKUP(J174,'Vessel list'!A:J,10,FALSE)),\"\",VLOOKUP(J174,'Vessel list'!A:J,10,FALSE)))","v":""},{"$f":"+IF(J174=\"\",\"\",IF(ISERROR(VLOOKUP(J174,'Vessel list'!A:C,3,FALSE)),\"\",VLOOKUP(J174,'Vessel list'!A:C,3,FALSE)))","v":""},"ITMILUSNYC000565830",null,"false","ITMIL","ITGOA","USNYC","USNYC",null,null,"ILZIMINTEG0001","VIENNA EXPRESS","71","2020-11-20","09:28:00","2020-12-06","17:28:00",null,null,null,null,null,null,null,null,null,null,null,null,"Friday","2020-11-13","18:00:00",44153,"09:28:00",44154,"09:28:00",null,null,"Friday",17,null,"true","false","false"]
[{"$f":"+VLOOKUP(G175,'Lista consol SKR'!$P:$Q,2,FALSE)","v":16},23,"New York23",{"$f":"+VLOOKUP(R175,'Lista consol SKR'!C:D,2,FALSE)","v":"New York"},23,"New York23",{"$f":"+VLOOKUP(S175,'Lista consol SKR'!C:D,2,FALSE)","v":"New York"},{"$f":"+VLOOKUP(Q175,'Lista consol SKR'!A:B,2,FALSE)","v":"Genoa"},"x","BERLIN BRIDGEITGOA",{"$f":"+IF(J175=\"\",\"\",IF(ISERROR(VLOOKUP(J175,'Vessel list'!A:J,10,FALSE)),\"\",VLOOKUP(J175,'Vessel list'!A:J,10,FALSE)))","v":"IT261101"},{"$f":"+IF(J175=\"\",\"\",IF(ISERROR(VLOOKUP(J175,'Vessel list'!A:C,3,FALSE)),\"\",VLOOKUP(J175,'Vessel list'!A:C,3,FALSE)))","v":"Genoa SECH"},"ITMILUSNYC000559513",null,"false","ITMIL","ITGOA","USNYC","USNYC",null,null,"SGOCEANETW0001","BERLIN BRIDGE","104W","2020-11-24","09:49:00","2020-12-04","17:49:00",null,null,null,null,null,null,null,null,null,null,null,null,"Tuesday","2020-11-17","18:00:00","2020-11-22","09:49:00","2020-11-23","09:49:00",null,null,"Tuesday",11,"Silvia Malabarba","true","false","false"]
[{"$f":"+VLOOKUP(G176,'Lista consol SKR'!$P:$Q,2,FALSE)","v":16},24,"New York24",{"$f":"+VLOOKUP(R176,'Lista consol SKR'!C:D,2,FALSE)","v":"New York"},24,"New York24",{"$f":"+VLOOKUP(S176,'Lista consol SKR'!C:D,2,FALSE)","v":"New York"},{"$f":"+VLOOKUP(Q176,'Lista consol SKR'!A:B,2,FALSE)","v":"Genoa"},"x","BERLIN BRIDGEITGOA",{"$f":"+IF(J176=\"\",\"\",IF(ISERROR(VLOOKUP(J176,'Vessel list'!A:J,10,FALSE)),\"\",VLOOKUP(J176,'Vessel list'!A:J,10,FALSE)))","v":"IT261101"},{"$f":"+IF(J176=\"\",\"\",IF(ISERROR(VLOOKUP(J176,'Vessel list'!A:C,3,FALSE)),\"\",VLOOKUP(J176,'Vessel list'!A:C,3,FALSE)))","v":"Genoa SECH"},"ITMILUSNYC000565857",null,"false","ITMIL","ITGOA","USNYC","USNYC",null,null,"SGOCEANETW0001","BERLIN BRIDGE","104W","2020-11-24","09:49:00","2020-12-04","17:49:00",null,null,null,null,null,null,null,null,null,null,null,null,"Tuesday","2020-11-17","18:00:00",44157,"09:49:00",44158,"09:49:00",null,null,"Tuesday",11,"Silvia Malabarba","true","false","false"]
[{"$f":"+VLOOKUP(G177,'Lista consol SKR'!$P:$Q,2,FALSE)","v":16},25,"New York25",{"$f":"+VLOOKUP(R177,'Lista consol SKR'!C:D,2,FALSE)","v":"New York"},25,"New York25",{"$f":"+VLOOKUP(S177,'Lista consol SKR'!C:D,2,FALSE)","v":"New York"},{"$f":"+VLOOKUP(Q177,'Lista consol SKR'!A:B,2,FALSE)","v":"Genoa"},"x","OOCL EUROPEITGOA",{"$f":"+IF(J177=\"\",\"\",IF(ISERROR(VLOOKUP(J177,'Vessel list'!A:J,10,FALSE)),\"\",VLOOKUP(J177,'Vessel list'!A:J,10,FALSE)))","v":""},{"$f":"+IF(J177=\"\",\"\",IF(ISERROR(VLOOKUP(J177,'Vessel list'!A:C,3,FALSE)),\"\",VLOOKUP(J177,'Vessel list'!A:C,3,FALSE)))","v":""},"ITMILUSNYC000559482",null,"false","ITMIL","ITGOA","USNYC","USNYC",null,null,"ILZIMINTEG0001","OOCL EUROPE","16","2020-11-27","09:29:00","2020-12-13","17:29:00",null,null,null,null,null,null,null,null,null,null,null,null,"Thursday","2020-11-19","18:00:00",44160,"09:29:00",44161,"09:29:00",null,null,"Friday",17,null,"true","false","false"]
[{"$f":"+VLOOKUP(G178,'Lista consol SKR'!$P:$Q,2,FALSE)","v":16},26,"New York26",{"$f":"+VLOOKUP(R178,'Lista consol SKR'!C:D,2,FALSE)","v":"New York"},26,"New York26",{"$f":"+VLOOKUP(S178,'Lista consol SKR'!C:D,2,FALSE)","v":"New York"},{"$f":"+VLOOKUP(Q178,'Lista consol SKR'!A:B,2,FALSE)","v":"Genoa"},"x","OOCL EUROPEITGOA",{"$f":"+IF(J178=\"\",\"\",IF(ISERROR(VLOOKUP(J178,'Vessel list'!A:J,10,FALSE)),\"\",VLOOKUP(J178,'Vessel list'!A:J,10,FALSE)))","v":""},{"$f":"+IF(J178=\"\",\"\",IF(ISERROR(VLOOKUP(J178,'Vessel list'!A:C,3,FALSE)),\"\",VLOOKUP(J178,'Vessel list'!A:C,3,FALSE)))","v":""},"ITMILUSNYC000565831",null,"false","ITMIL","ITGOA","USNYC","USNYC",null,null,"ILZIMINTEG0001","OOCL EUROPE","16","2020-11-27","09:29:00","2020-12-13","17:29:00",null,null,null,null,null,null,null,null,null,null,null,null,"Friday","2020-11-20","18:00:00",44160,"09:29:00",44161,"09:29:00",null,null,"Friday",17,null,"true","false","false"]
[{"$f":"+VLOOKUP(G179,'Lista consol SKR'!$P:$Q,2,FALSE)","v":16},27,"New York27",{"$f":"+VLOOKUP(R179,'Lista consol SKR'!C:D,2,FALSE)","v":"New York"},27,"New York27",{"$f":"+VLOOKUP(S179,'Lista consol SKR'!C:D,2,FALSE)","v":"New York"},{"$f":"+VLOOKUP(Q179,'Lista consol SKR'!A:B,2,FALSE)","v":"Genoa"},"x","CSCL BRISBANEITGOA",{"$f":"+IF(J179=\"\",\"\",IF(ISERROR(VLOOKUP(J179,'Vessel list'!A:J,10,FALSE)),\"\",VLOOKUP(J179,'Vessel list'!A:J,10,FALSE)))","v":""},{"$f":"+IF(J179=\"\",\"\",IF(ISERROR(VLOOKUP(J179,'Vessel list'!A:C,3,FALSE)),\"\",VLOOKUP(J179,'Vessel list'!A:C,3,FALSE)))","v":""},"ITMILUSNYC000565859",null,"false","ITMIL","ITGOA","USNYC","USNYC",null,null,"SGOCEANETW0001","CSCL BRISBANE","188W","2020-12-08","09:09:09","2020-12-18","08:08:08",null,null,null,null,null,null,null,null,null,null,null,null,"Tuesday","2020-12-01","18:00:00",44171,"09:09:09",44172,"09:09:09",null,null,"Tuesday",11,"Silvia Malabarba","true","false","false"]
[{"$f":"+VLOOKUP(G180,'Lista consol SKR'!$P:$Q,2,FALSE)","v":17},1,"Nhava Sheva1",{"$f":"+VLOOKUP(R180,'Lista consol SKR'!C:D,2,FALSE)","v":"Nhava Sheva"},1,"Nhava Sheva1",{"$f":"+VLOOKUP(S180,'Lista consol SKR'!C:D,2,FALSE)","v":"Nhava Sheva"},{"$f":"+VLOOKUP(Q180,'Lista consol SKR'!A:B,2,FALSE)","v":"Genoa"},"Not required","MAYSSANITGOA",{"$f":"+IF(J180=\"\",\"\",IF(ISERROR(VLOOKUP(J180,'Vessel list'!A:J,10,FALSE)),\"\",VLOOKUP(J180,'Vessel list'!A:J,10,FALSE)))","v":""},{"$f":"+IF(J180=\"\",\"\",IF(ISERROR(VLOOKUP(J180,'Vessel list'!A:C,3,FALSE)),\"\",VLOOKUP(J180,'Vessel list'!A:C,3,FALSE)))","v":""},"ITMILINNSA000552666",null,"false","ITMIL","ITGOA","INNSA","INNSA",null,null,"DEHAPALLOY0001","MAYSSAN","2037E","2020-10-14","09:09:09","2020-11-12","12:12:12",null,null,null,null,null,null,null,null,null,null,null,null,"Thursday","2020-10-08","18:00:00",44116,0,44117,0,null,null,"Wednesday",29,null,"true","false","false"]
[{"$f":"+VLOOKUP(G181,'Lista consol SKR'!$P:$Q,2,FALSE)","v":17},2,"Nhava Sheva2",{"$f":"+VLOOKUP(R181,'Lista consol SKR'!C:D,2,FALSE)","v":"Nhava Sheva"},2,"Nhava Sheva2",{"$f":"+VLOOKUP(S181,'Lista consol SKR'!C:D,2,FALSE)","v":"Nhava Sheva"},{"$f":"+VLOOKUP(Q181,'Lista consol SKR'!A:B,2,FALSE)","v":"Genoa"},"Not required","CMA CGM RACINEITGOA",{"$f":"+IF(J181=\"\",\"\",IF(ISERROR(VLOOKUP(J181,'Vessel list'!A:J,10,FALSE)),\"\",VLOOKUP(J181,'Vessel list'!A:J,10,FALSE)))","v":""},{"$f":"+IF(J181=\"\",\"\",IF(ISERROR(VLOOKUP(J181,'Vessel list'!A:C,3,FALSE)),\"\",VLOOKUP(J181,'Vessel list'!A:C,3,FALSE)))","v":""},"ITMILINNSA000552667",null,"false","ITMIL","ITGOA","INNSA","INNSA",null,null,"DEHAPALLOY0001","CMA CGM RACINE","0MX7AE1MA","2020-10-21","09:09:00","2020-11-19","08:00:08",null,null,null,null,null,null,null,null,null,null,null,null,"Wednesday","2020-10-14","18:00:00","2020-10-19","00:00:00","2020-10-20","00:00:00",null,null,"Wednesday",29,null,"true","false","false"]
[{"$f":"+VLOOKUP(G182,'Lista consol SKR'!$P:$Q,2,FALSE)","v":17},3,"Nhava Sheva3",{"$f":"+VLOOKUP(R182,'Lista consol SKR'!C:D,2,FALSE)","v":"Nhava Sheva"},3,"Nhava Sheva3",{"$f":"+VLOOKUP(S182,'Lista consol SKR'!C:D,2,FALSE)","v":"Nhava Sheva"},{"$f":"+VLOOKUP(Q182,'Lista consol SKR'!A:B,2,FALSE)","v":"Genoa"},"Not required","CMA CGM MOLIEREITGOA",{"$f":"+IF(J182=\"\",\"\",IF(ISERROR(VLOOKUP(J182,'Vessel list'!A:J,10,FALSE)),\"\",VLOOKUP(J182,'Vessel list'!A:J,10,FALSE)))","v":""},{"$f":"+IF(J182=\"\",\"\",IF(ISERROR(VLOOKUP(J182,'Vessel list'!A:C,3,FALSE)),\"\",VLOOKUP(J182,'Vessel list'!A:C,3,FALSE)))","v":""},"ITMILINNSA000552668",null,"false","ITMIL","ITGOA","INNSA","INNSA",null,null,"DEHAPALLOY0001","CMA CGM MOLIERE","0MX7CE1MA","2020-10-28","09:09:09","2020-11-26","08:08:00",null,null,null,null,null,null,null,null,null,null,null,null,"Wednesday","2020-10-21","18:00:00",44130,"00:00:00",44131,"00:00:00",null,null,"Wednesday",29,null,"true","false","false"]
[{"$f":"+VLOOKUP(G183,'Lista consol SKR'!$P:$Q,2,FALSE)","v":17},4,"Nhava Sheva4",{"$f":"+VLOOKUP(R183,'Lista consol SKR'!C:D,2,FALSE)","v":"Nhava Sheva"},4,"Nhava Sheva4",{"$f":"+VLOOKUP(S183,'Lista consol SKR'!C:D,2,FALSE)","v":"Nhava Sheva"},{"$f":"+VLOOKUP(Q183,'Lista consol SKR'!A:B,2,FALSE)","v":"Genoa"},"Not required","NINGBO EXPRESSITGOA",{"$f":"+IF(J183=\"\",\"\",IF(ISERROR(VLOOKUP(J183,'Vessel list'!A:J,10,FALSE)),\"\",VLOOKUP(J183,'Vessel list'!A:J,10,FALSE)))","v":"IT261101"},{"$f":"+IF(J183=\"\",\"\",IF(ISERROR(VLOOKUP(J183,'Vessel list'!A:C,3,FALSE)),\"\",VLOOKUP(J183,'Vessel list'!A:C,3,FALSE)))","v":"Genoa SECH"},"ITMILINNSA000558948",null,"false","ITMIL","ITGOA","INNSA","INNSA",null,null,"DEHAPALLOY0001","NINGBO EXPRESS","2040E","2020-11-04","00:00:00","2020-12-03","00:00:00",null,null,null,null,null,null,null,null,null,null,null,null,"Thursday","2020-10-29","18:00:00",44137,"00:00:00",44138,"00:00:00",null,null,"Wednesday",29,null,"true","false","false"]
[{"$f":"+VLOOKUP(G184,'Lista consol SKR'!$P:$Q,2,FALSE)","v":17},5,"Nhava Sheva5",{"$f":"+VLOOKUP(R184,'Lista consol SKR'!C:D,2,FALSE)","v":"Nhava Sheva"},5,"Nhava Sheva5",{"$f":"+VLOOKUP(S184,'Lista consol SKR'!C:D,2,FALSE)","v":"Nhava Sheva"},{"$f":"+VLOOKUP(Q184,'Lista consol SKR'!A:B,2,FALSE)","v":"Genoa"},"Not required","CMA CGM TITUSITGOA",{"$f":"+IF(J184=\"\",\"\",IF(ISERROR(VLOOKUP(J184,'Vessel list'!A:J,10,FALSE)),\"\",VLOOKUP(J184,'Vessel list'!A:J,10,FALSE)))","v":""},{"$f":"+IF(J184=\"\",\"\",IF(ISERROR(VLOOKUP(J184,'Vessel list'!A:C,3,FALSE)),\"\",VLOOKUP(J184,'Vessel list'!A:C,3,FALSE)))","v":""},"ITMILINNSA000565782",null,"false","ITMIL","ITGOA","INNSA","INNSA",null,null,"DEHAPALLOY0001","CMA CGM TITUS","0MX7GE1MA","2020-11-11","09:11:00","2020-12-10","16:16:00",null,null,null,null,null,null,null,null,null,null,null,null,"Thursday","2020-11-05","18:00:00","2020-11-09","09:11:00","2020-11-10","09:11:00",null,null,"Wednesday",30,null,"true","false","false"]
[{"$f":"+VLOOKUP(G185,'Lista consol SKR'!$P:$Q,2,FALSE)","v":17},6,"Nhava Sheva6",{"$f":"+VLOOKUP(R185,'Lista consol SKR'!C:D,2,FALSE)","v":"Nhava Sheva"},6,"Nhava Sheva6",{"$f":"+VLOOKUP(S185,'Lista consol SKR'!C:D,2,FALSE)","v":"Nhava Sheva"},{"$f":"+VLOOKUP(Q185,'Lista consol SKR'!A:B,2,FALSE)","v":"Genoa"},"Not required","BERLIN EXPRESSITGOA",{"$f":"+IF(J185=\"\",\"\",IF(ISERROR(VLOOKUP(J185,'Vessel list'!A:J,10,FALSE)),\"\",VLOOKUP(J185,'Vessel list'!A:J,10,FALSE)))","v":"IT261101"},{"$f":"+IF(J185=\"\",\"\",IF(ISERROR(VLOOKUP(J185,'Vessel list'!A:C,3,FALSE)),\"\",VLOOKUP(J185,'Vessel list'!A:C,3,FALSE)))","v":"Genoa SECH"},"ITMILINNSA000565783",null,"false","ITMIL","ITGOA","INNSA","INNSA",null,null,"DEHAPALLOY0001","BERLIN EXPRESS","2042E","2020-11-18","09:12:00","2020-12-17","16:17:00",null,null,null,null,null,null,null,null,null,null,null,null,"Thursday","2020-11-12","18:00:00",44151,"09:12:00",44152,"09:12:00",null,null,"Wednesday",30,null,"true","false","false"]
[{"$f":"+VLOOKUP(G186,'Lista consol SKR'!$P:$Q,2,FALSE)","v":17},7,"Nhava Sheva7",{"$f":"+VLOOKUP(R186,'Lista consol SKR'!C:D,2,FALSE)","v":"Nhava Sheva"},7,"Nhava Sheva7",{"$f":"+VLOOKUP(S186,'Lista consol SKR'!C:D,2,FALSE)","v":"Nhava Sheva"},{"$f":"+VLOOKUP(Q186,'Lista consol SKR'!A:B,2,FALSE)","v":"Genoa"},"Not required","XIN SHANGHAIITGOA",{"$f":"+IF(J186=\"\",\"\",IF(ISERROR(VLOOKUP(J186,'Vessel list'!A:J,10,FALSE)),\"\",VLOOKUP(J186,'Vessel list'!A:J,10,FALSE)))","v":""},{"$f":"+IF(J186=\"\",\"\",IF(ISERROR(VLOOKUP(J186,'Vessel list'!A:C,3,FALSE)),\"\",VLOOKUP(J186,'Vessel list'!A:C,3,FALSE)))","v":""},"ITMILINNSA000565784",null,"false","ITMIL","ITGOA","INNSA","INNSA",null,null,"DEHAPALLOY0001","XIN SHANGHAI","2043E","2020-11-25","09:13:00","2020-12-24","16:18:00",null,null,null,null,null,null,null,null,null,null,null,null,"Thursday","2020-11-19","18:00:00",44158,"09:13:00",44159,"09:13:00",null,null,"Wednesday",30,null,"true","false","false"]
[{"$f":"+VLOOKUP(G187,'Lista consol SKR'!$P:$Q,2,FALSE)","v":17},8,"Nhava Sheva8",{"$f":"+VLOOKUP(R187,'Lista consol SKR'!C:D,2,FALSE)","v":"Nhava Sheva"},8,"Nhava Sheva8",{"$f":"+VLOOKUP(S187,'Lista consol SKR'!C:D,2,FALSE)","v":"Nhava Sheva"},{"$f":"+VLOOKUP(Q187,'Lista consol SKR'!A:B,2,FALSE)","v":"Genoa"},"Not required","CSAV TYNDALLITGOA",{"$f":"+IF(J187=\"\",\"\",IF(ISERROR(VLOOKUP(J187,'Vessel list'!A:J,10,FALSE)),\"\",VLOOKUP(J187,'Vessel list'!A:J,10,FALSE)))","v":""},{"$f":"+IF(J187=\"\",\"\",IF(ISERROR(VLOOKUP(J187,'Vessel list'!A:C,3,FALSE)),\"\",VLOOKUP(J187,'Vessel list'!A:C,3,FALSE)))","v":""},"ITMILINNSA000565785",null,"false","ITMIL","ITGOA","INNSA","INNSA",null,null,"DEHAPALLOY0001","CSAV TYNDALL","2044E","2020-12-02","09:14:00","2020-12-31","16:19:00",null,null,null,null,null,null,null,null,null,null,null,null,"Thursday","2020-11-26","18:00:00","2020-11-30","09:14:00","2020-12-01","09:14:00",null,null,"Wednesday",30,null,"true","false","false"]
[{"$f":"+VLOOKUP(G188,'Lista consol SKR'!$P:$Q,2,FALSE)","v":18},1,"Osaka1",{"$f":"+VLOOKUP(R188,'Lista consol SKR'!C:D,2,FALSE)","v":"Osaka"},1,"Osaka1",{"$f":"+VLOOKUP(S188,'Lista consol SKR'!C:D,2,FALSE)","v":"Osaka"},{"$f":"+VLOOKUP(Q188,'Lista consol SKR'!A:B,2,FALSE)","v":"Genoa"},"x","MILANO BRIDGEITGOA",{"$f":"+IF(J188=\"\",\"\",IF(ISERROR(VLOOKUP(J188,'Vessel list'!A:J,10,FALSE)),\"\",VLOOKUP(J188,'Vessel list'!A:J,10,FALSE)))","v":""},{"$f":"+IF(J188=\"\",\"\",IF(ISERROR(VLOOKUP(J188,'Vessel list'!A:C,3,FALSE)),\"\",VLOOKUP(J188,'Vessel list'!A:C,3,FALSE)))","v":""},"ITMILJPOSA000558078",null,"false","ITMIL","ITGOA","JPOSA","JPOSA","CNSHA",null,"DEHAPALLOY0001","MILANO BRIDGE","012E","2020-10-19","11:00:00","2020-11-22","19:00:00","TEMPORARY VESSEL","SHAOSA",44160,"09:09:09",44166,"08:08:00",null,null,null,null,null,null,"Wednesday","2020-10-14","18:00:00",44121,"11:00:00",44122,"11:00:00",44121,"13:00:00","Monday",43,null,"true","false","false"]
[{"$f":"+VLOOKUP(G189,'Lista consol SKR'!$P:$Q,2,FALSE)","v":18},2,"Osaka2",{"$f":"+VLOOKUP(R189,'Lista consol SKR'!C:D,2,FALSE)","v":"Osaka"},2,"Osaka2",{"$f":"+VLOOKUP(S189,'Lista consol SKR'!C:D,2,FALSE)","v":"Osaka"},{"$f":"+VLOOKUP(Q189,'Lista consol SKR'!A:B,2,FALSE)","v":"Genoa"},"x","JEBEL ALIITGOA",{"$f":"+IF(J189=\"\",\"\",IF(ISERROR(VLOOKUP(J189,'Vessel list'!A:J,10,FALSE)),\"\",VLOOKUP(J189,'Vessel list'!A:J,10,FALSE)))","v":"IT262102"},{"$f":"+IF(J189=\"\",\"\",IF(ISERROR(VLOOKUP(J189,'Vessel list'!A:C,3,FALSE)),\"\",VLOOKUP(J189,'Vessel list'!A:C,3,FALSE)))","v":"Genoa VTE"},"ITMILJPOSA000558961",null,"false","ITMIL","ITGOA","JPOSA","JPOSA","CNSHA",null,"DEHAPALLOY0001","JEBEL ALI","015E","2020-11-03","09:30:00","2020-12-06","19:00:00","TEMPORARY VESSEL","SHAOSA",44174,"09:09:09",44180,"09:00:00",null,null,null,null,null,null,"Wednesday","2020-10-28","18:00:00",44136,"09:30:00",44137,"09:30:00",44135,"13:00:00","Tuesday",42,null,"true","false","false"]
[{"$f":"+VLOOKUP(G190,'Lista consol SKR'!$P:$Q,2,FALSE)","v":18},3,"Osaka3",{"$f":"+VLOOKUP(R190,'Lista consol SKR'!C:D,2,FALSE)","v":"Osaka"},3,"Osaka3",{"$f":"+VLOOKUP(S190,'Lista consol SKR'!C:D,2,FALSE)","v":"Osaka"},{"$f":"+VLOOKUP(Q190,'Lista consol SKR'!A:B,2,FALSE)","v":"Genoa"},"x","ONE MANCHESTERITGOA",{"$f":"+IF(J190=\"\",\"\",IF(ISERROR(VLOOKUP(J190,'Vessel list'!A:J,10,FALSE)),\"\",VLOOKUP(J190,'Vessel list'!A:J,10,FALSE)))","v":""},{"$f":"+IF(J190=\"\",\"\",IF(ISERROR(VLOOKUP(J190,'Vessel list'!A:C,3,FALSE)),\"\",VLOOKUP(J190,'Vessel list'!A:C,3,FALSE)))","v":""},"ITMILJPOSA000558962",null,"false","ITMIL","ITGOA","JPOSA","JPOSA","CNSHA",null,"DEHAPALLOY0001","ONE MANCHESTER","025E","2020-11-11","11:00:00","2020-12-12","19:00:00","TEMPORARY VESSEL","SHAOSA",44180,0.375104166669189,44186,0,null,null,null,null,null,null,"Wednesday","2020-11-04","18:00:00","2020-11-09","11:00:00","2020-11-10","11:00:00",null,null,"Wednesday",40,null,"true","false","false"]
[{"$f":"+VLOOKUP(G191,'Lista consol SKR'!$P:$Q,2,FALSE)","v":18},4,"Osaka4",{"$f":"+VLOOKUP(R191,'Lista consol SKR'!C:D,2,FALSE)","v":"Osaka"},4,"Osaka4",{"$f":"+VLOOKUP(S191,'Lista consol SKR'!C:D,2,FALSE)","v":"Osaka"},{"$f":"+VLOOKUP(Q191,'Lista consol SKR'!A:B,2,FALSE)","v":"Genoa"},"x","LEVERKUSEN EXPRESSITGOA",{"$f":"+IF(J191=\"\",\"\",IF(ISERROR(VLOOKUP(J191,'Vessel list'!A:J,10,FALSE)),\"\",VLOOKUP(J191,'Vessel list'!A:J,10,FALSE)))","v":""},{"$f":"+IF(J191=\"\",\"\",IF(ISERROR(VLOOKUP(J191,'Vessel list'!A:C,3,FALSE)),\"\",VLOOKUP(J191,'Vessel list'!A:C,3,FALSE)))","v":""},"ITMILJPOSA000558963",null,"false","ITMIL","ITGOA","JPOSA","JPOSA","CNSHA",null,"DEHAPALLOY0001","LEVERKUSEN EXPRESS","033E","2020-11-16","09:09:09","2020-12-19","12:12:12","TEMPORARY VESSEL","SHAOSA",44187,"08:08:08",44193,"08:08:08",null,null,null,null,null,null,"Wednesday","2020-11-11","18:00:00",44149,"09:09:09",44150,"09:09:09",null,null,"Monday",42,null,"true","false","false"]
[{"$f":"+VLOOKUP(G192,'Lista consol SKR'!$P:$Q,2,FALSE)","v":18},5,"Osaka5",{"$f":"+VLOOKUP(R192,'Lista consol SKR'!C:D,2,FALSE)","v":"Osaka"},5,"Osaka5",{"$f":"+VLOOKUP(S192,'Lista consol SKR'!C:D,2,FALSE)","v":"Osaka"},{"$f":"+VLOOKUP(Q192,'Lista consol SKR'!A:B,2,FALSE)","v":"Genoa"},"x","UMM SALALITGOA",{"$f":"+IF(J192=\"\",\"\",IF(ISERROR(VLOOKUP(J192,'Vessel list'!A:J,10,FALSE)),\"\",VLOOKUP(J192,'Vessel list'!A:J,10,FALSE)))","v":""},{"$f":"+IF(J192=\"\",\"\",IF(ISERROR(VLOOKUP(J192,'Vessel list'!A:C,3,FALSE)),\"\",VLOOKUP(J192,'Vessel list'!A:C,3,FALSE)))","v":""},"ITMILJPOSA000564496",null,"false","ITMIL","ITGOA","JPOSA","JPOSA","CNSHA",null,"DEHAPALLOY0001","UMM SALAL","022E","2020-11-30","09:09:00","2021-01-02","12:12:12","TEMPORARY VESSEL","SHAOSA",44201,0.375104166669189,44207,0.333425925928168,null,null,null,null,null,null,"Wednesday","2020-11-25","18:00:00",44163,0,44164,0,null,null,"Monday",null,null,"true","false","false"]
[{"$f":"+VLOOKUP(G193,'Lista consol SKR'!$P:$Q,2,FALSE)","v":18},6,"Osaka6",{"$f":"+VLOOKUP(R193,'Lista consol SKR'!C:D,2,FALSE)","v":"Osaka"},6,"Osaka6",{"$f":"+VLOOKUP(S193,'Lista consol SKR'!C:D,2,FALSE)","v":"Osaka"},{"$f":"+VLOOKUP(Q193,'Lista consol SKR'!A:B,2,FALSE)","v":"Genoa"},"x","UNAYZAHITGOA",{"$f":"+IF(J193=\"\",\"\",IF(ISERROR(VLOOKUP(J193,'Vessel list'!A:J,10,FALSE)),\"\",VLOOKUP(J193,'Vessel list'!A:J,10,FALSE)))","v":"IT262102"},{"$f":"+IF(J193=\"\",\"\",IF(ISERROR(VLOOKUP(J193,'Vessel list'!A:C,3,FALSE)),\"\",VLOOKUP(J193,'Vessel list'!A:C,3,FALSE)))","v":"Genoa VTE"},"ITMILJPOSA000564495",null,"false","ITMIL","ITGOA","JPOSA","JPOSA","CNSHA",null,"DEHAPALLOY0001","UNAYZAH","019E","2020-12-07","09:09:00","2021-01-09","08:00:08","TEMPORARY VESSEL","SHAOSA",44208,"09:09:00",44214,"12:12:12",null,null,null,null,null,null,"Wednesday","2020-12-02","18:00:00",44170,"00:00:00",44171,"00:00:00",null,null,"Monday",42,null,"true","false","false"]
[{"$f":"+VLOOKUP(G194,'Lista consol SKR'!$P:$Q,2,FALSE)","v":{"$error":"#N/A"}},1,"Panama City1",{"$f":"+VLOOKUP(R194,'Lista consol SKR'!C:D,2,FALSE)","v":"Panama City"},1,"Panama City1",{"$f":"+VLOOKUP(S194,'Lista consol SKR'!C:D,2,FALSE)","v":"Panama City"},{"$f":"+VLOOKUP(Q194,'Lista consol SKR'!A:B,2,FALSE)","v":"La Spezia"},"Not required","MSC ANTONELLAITSPE",{"$f":"+IF(J194=\"\",\"\",IF(ISERROR(VLOOKUP(J194,'Vessel list'!A:J,10,FALSE)),\"\",VLOOKUP(J194,'Vessel list'!A:J,10,FALSE)))","v":""},{"$f":"+IF(J194=\"\",\"\",IF(ISERROR(VLOOKUP(J194,'Vessel list'!A:C,3,FALSE)),\"\",VLOOKUP(J194,'Vessel list'!A:C,3,FALSE)))","v":""},"ITMILPAPTY000560885",null,"false","ITMIL","ITSPE","PAPTY","PAPTY",null,null,"DESACOSHIP0001","MSC ANTONELLA","MC041A","2020-10-15","00:00:00","2020-11-18","00:00:00",null,null,null,null,null,null,null,null,null,null,null,null,"Wednesday","2020-10-07","18:00:00",44117,"00:00:00",44118,"00:00:00",null,null,"Thursday",35,null,"true","false","false"]
[{"$f":"+VLOOKUP(G195,'Lista consol SKR'!$P:$Q,2,FALSE)","v":{"$error":"#N/A"}},1,"Paranagua1",{"$f":"+VLOOKUP(R195,'Lista consol SKR'!C:D,2,FALSE)","v":"Paranagua"},1,"Paranagua1",{"$f":"+VLOOKUP(S195,'Lista consol SKR'!C:D,2,FALSE)","v":"Paranagua"},{"$f":"+VLOOKUP(Q195,'Lista consol SKR'!A:B,2,FALSE)","v":"Genoa"},"Not required","MSC ADELAIDEITGOA",{"$f":"+IF(J195=\"\",\"\",IF(ISERROR(VLOOKUP(J195,'Vessel list'!A:J,10,FALSE)),\"\",VLOOKUP(J195,'Vessel list'!A:J,10,FALSE)))","v":"IT262102"},{"$f":"+IF(J195=\"\",\"\",IF(ISERROR(VLOOKUP(J195,'Vessel list'!A:C,3,FALSE)),\"\",VLOOKUP(J195,'Vessel list'!A:C,3,FALSE)))","v":"Genoa VTE"},"ITMILBRPNG000564419",null,"false","ITMIL","ITGOA","BRPNG","BRPNG",null,null,"DESACOSHIP0001","MSC ADELAIDE","MM042A","2020-10-19","00:00:00","2020-11-11","00:00:00",null,null,null,null,null,null,null,null,null,null,null,null,"Tuesday","2020-10-13","12:30:00",44121,"00:00:00",44122,"00:00:00",null,null,"Monday",24,"Gladys Chiccoli","true","false","false"]
[{"$f":"+VLOOKUP(G196,'Lista consol SKR'!$P:$Q,2,FALSE)","v":{"$error":"#N/A"}},2,"Paranagua2",{"$f":"+VLOOKUP(R196,'Lista consol SKR'!C:D,2,FALSE)","v":"Paranagua"},2,"Paranagua2",{"$f":"+VLOOKUP(S196,'Lista consol SKR'!C:D,2,FALSE)","v":"Paranagua"},{"$f":"+VLOOKUP(Q196,'Lista consol SKR'!A:B,2,FALSE)","v":"Genoa"},"Not required","MSC NITYA BITGOA",{"$f":"+IF(J196=\"\",\"\",IF(ISERROR(VLOOKUP(J196,'Vessel list'!A:J,10,FALSE)),\"\",VLOOKUP(J196,'Vessel list'!A:J,10,FALSE)))","v":""},{"$f":"+IF(J196=\"\",\"\",IF(ISERROR(VLOOKUP(J196,'Vessel list'!A:C,3,FALSE)),\"\",VLOOKUP(J196,'Vessel list'!A:C,3,FALSE)))","v":""},"ITMILBRPNG000565330",null,"false","ITMIL","ITGOA","BRPNG","BRPNG",null,null,"DESACOSHIP0001","MSC NITYA B","MM043A","2020-10-26","00:00:12","2020-11-19","00:00:00",null,null,null,null,null,null,null,null,null,null,null,null,"Tuesday","2020-10-20","18:00:00",44128,"00:00:00",44129,"00:00:00",null,null,"Monday",25,null,"true","false","false"]
[{"$f":"+VLOOKUP(G197,'Lista consol SKR'!$P:$Q,2,FALSE)","v":{"$error":"#N/A"}},1,"Port Elizabeth1",{"$f":"+VLOOKUP(R197,'Lista consol SKR'!C:D,2,FALSE)","v":"Port Elizabeth"},1,"Port Elizabeth1",{"$f":"+VLOOKUP(S197,'Lista consol SKR'!C:D,2,FALSE)","v":"Port Elizabeth"},{"$f":"+VLOOKUP(Q197,'Lista consol SKR'!A:B,2,FALSE)","v":"Genoa"},"Not required","CSCL BRISBANEITGOA",{"$f":"+IF(J197=\"\",\"\",IF(ISERROR(VLOOKUP(J197,'Vessel list'!A:J,10,FALSE)),\"\",VLOOKUP(J197,'Vessel list'!A:J,10,FALSE)))","v":""},{"$f":"+IF(J197=\"\",\"\",IF(ISERROR(VLOOKUP(J197,'Vessel list'!A:C,3,FALSE)),\"\",VLOOKUP(J197,'Vessel list'!A:C,3,FALSE)))","v":""},"ITMILZAPLZ000563808",null,"false","ITMIL","ITGOA","ZAPLZ","ZAPLZ",null,null,"DESACOSHIP0001","CSCL BRISBANE","187W","2020-10-20","00:00:00","2020-11-16","00:00:00",null,null,null,null,null,null,null,null,null,null,null,null,"Wednesday","2020-10-14","18:00:00",44122,"00:00:00",44123,"00:00:00",null,null,"Tuesday",27,null,"true","false","false"]
[{"$f":"+VLOOKUP(G198,'Lista consol SKR'!$P:$Q,2,FALSE)","v":{"$error":"#N/A"}},1,"Port Kelang (Pelabuhan Klang)1",{"$f":"+VLOOKUP(R198,'Lista consol SKR'!C:D,2,FALSE)","v":"Port Kelang (Pelabuhan Klang)"},1,"Port Kelang (Pelabuhan Klang)1",{"$f":"+VLOOKUP(S198,'Lista consol SKR'!C:D,2,FALSE)","v":"Port Kelang (Pelabuhan Klang)"},{"$f":"+VLOOKUP(Q198,'Lista consol SKR'!A:B,2,FALSE)","v":"Genoa"},"Not required","OOCL MALAYSIAITGOA",{"$f":"+IF(J198=\"\",\"\",IF(ISERROR(VLOOKUP(J198,'Vessel list'!A:J,10,FALSE)),\"\",VLOOKUP(J198,'Vessel list'!A:J,10,FALSE)))","v":""},{"$f":"+IF(J198=\"\",\"\",IF(ISERROR(VLOOKUP(J198,'Vessel list'!A:C,3,FALSE)),\"\",VLOOKUP(J198,'Vessel list'!A:C,3,FALSE)))","v":""},"ITMILMYPKG000563264",null,"false","ITMIL","ITGOA","MYPKG","MYPKG",null,null,"CNCHINOCEA0001","OOCL MALAYSIA","028E","2020-10-14","03:12:13","2020-11-08","03:32:12",null,null,null,null,null,null,null,null,null,null,null,null,"Monday","2020-10-12","00:00:00",44116,"00:00:00",44117,"00:00:00",null,null,"Wednesday",25,null,"true","false","false"]
[{"$f":"+VLOOKUP(G199,'Lista consol SKR'!$P:$Q,2,FALSE)","v":{"$error":"#N/A"}},2,"Port Kelang (Pelabuhan Klang)2",{"$f":"+VLOOKUP(R199,'Lista consol SKR'!C:D,2,FALSE)","v":"Port Kelang (Pelabuhan Klang)"},2,"Port Kelang (Pelabuhan Klang)2",{"$f":"+VLOOKUP(S199,'Lista consol SKR'!C:D,2,FALSE)","v":"Port Kelang (Pelabuhan Klang)"},{"$f":"+VLOOKUP(Q199,'Lista consol SKR'!A:B,2,FALSE)","v":"Genoa"},"Not required","CMA CGM COLUMBAITGOA",{"$f":"+IF(J199=\"\",\"\",IF(ISERROR(VLOOKUP(J199,'Vessel list'!A:J,10,FALSE)),\"\",VLOOKUP(J199,'Vessel list'!A:J,10,FALSE)))","v":"IT262102"},{"$f":"+IF(J199=\"\",\"\",IF(ISERROR(VLOOKUP(J199,'Vessel list'!A:C,3,FALSE)),\"\",VLOOKUP(J199,'Vessel list'!A:C,3,FALSE)))","v":"Genoa VTE"},"ITMILMYPKG000565773",null,"false","ITMIL","ITGOA","MYPKG","MYPKG",null,null,"CNCHINOCEA0001","CMA CGM COLUMBA","0ME7EE1MA","2020-10-22","12:31:23","2020-11-15","13:21:23",null,null,null,null,null,null,null,null,null,null,null,null,"Wednesday","2020-10-14","18:00:00","2020-10-20","00:00:00","2020-10-21","00:00:00",null,null,"Thursday",24,null,"true","false","false"]
[{"$f":"+VLOOKUP(G200,'Lista consol SKR'!$P:$Q,2,FALSE)","v":{"$error":"#N/A"}},3,"Port Kelang (Pelabuhan Klang)3",{"$f":"+VLOOKUP(R200,'Lista consol SKR'!C:D,2,FALSE)","v":"Port Kelang (Pelabuhan Klang)"},3,"Port Kelang (Pelabuhan Klang)3",{"$f":"+VLOOKUP(S200,'Lista consol SKR'!C:D,2,FALSE)","v":"Port Kelang (Pelabuhan Klang)"},{"$f":"+VLOOKUP(Q200,'Lista consol SKR'!A:B,2,FALSE)","v":"Genoa"},"Not required","CMA CGM CENTAURUSITGOA",{"$f":"+IF(J200=\"\",\"\",IF(ISERROR(VLOOKUP(J200,'Vessel list'!A:J,10,FALSE)),\"\",VLOOKUP(J200,'Vessel list'!A:J,10,FALSE)))","v":""},{"$f":"+IF(J200=\"\",\"\",IF(ISERROR(VLOOKUP(J200,'Vessel list'!A:C,3,FALSE)),\"\",VLOOKUP(J200,'Vessel list'!A:C,3,FALSE)))","v":""},"ITMILMYPKG000565776",null,"false","ITMIL","ITGOA","MYPKG","MYPKG",null,null,"CNCHINOCEA0001","CMA CGM CENTAURUS","0ME7GE1MA","2020-11-03","00:00:00","2020-11-29","00:00:00",null,null,null,null,null,null,null,null,null,null,null,null,"Wednesday","2020-10-28","18:00:00",44136,"00:00:00",44137,"00:00:00",null,null,"Tuesday",26,null,"true","false","false"]
[{"$f":"+VLOOKUP(G201,'Lista consol SKR'!$P:$Q,2,FALSE)","v":{"$error":"#N/A"}},4,"Port Kelang (Pelabuhan Klang)4",{"$f":"+VLOOKUP(R201,'Lista consol SKR'!C:D,2,FALSE)","v":"Port Kelang (Pelabuhan Klang)"},4,"Port Kelang (Pelabuhan Klang)4",{"$f":"+VLOOKUP(S201,'Lista consol SKR'!C:D,2,FALSE)","v":"Port Kelang (Pelabuhan Klang)"},{"$f":"+VLOOKUP(Q201,'Lista consol SKR'!A:B,2,FALSE)","v":"Genoa"},"Not required","CMA CGM GEMINIITGOA",{"$f":"+IF(J201=\"\",\"\",IF(ISERROR(VLOOKUP(J201,'Vessel list'!A:J,10,FALSE)),\"\",VLOOKUP(J201,'Vessel list'!A:J,10,FALSE)))","v":"IT262102"},{"$f":"+IF(J201=\"\",\"\",IF(ISERROR(VLOOKUP(J201,'Vessel list'!A:C,3,FALSE)),\"\",VLOOKUP(J201,'Vessel list'!A:C,3,FALSE)))","v":"Genoa VTE"},"ITMILMYPKG000565775",null,"false","ITMIL","ITGOA","MYPKG","MYPKG",null,null,"CNCHINOCEA0001","CMA CGM GEMINI","0ME7IE1MA","2020-11-06","00:00:00","2020-12-04","00:00:00",null,null,null,null,null,null,null,null,null,null,null,null,"Wednesday","2020-10-28","18:00:00",44139,"00:00:00",44140,"00:00:00",null,null,"Wednesday",25,null,"true","false","false"]
[{"$f":"+VLOOKUP(G202,'Lista consol SKR'!$P:$Q,2,FALSE)","v":{"$error":"#N/A"}},5,"Port Kelang (Pelabuhan Klang)5",{"$f":"+VLOOKUP(R202,'Lista consol SKR'!C:D,2,FALSE)","v":"Port Kelang (Pelabuhan Klang)"},5,"Port Kelang (Pelabuhan Klang)5",{"$f":"+VLOOKUP(S202,'Lista consol SKR'!C:D,2,FALSE)","v":"Port Kelang (Pelabuhan Klang)"},{"$f":"+VLOOKUP(Q202,'Lista consol SKR'!A:B,2,FALSE)","v":"Genoa"},"Not required","CMA CGM TITANITGOA",{"$f":"+IF(J202=\"\",\"\",IF(ISERROR(VLOOKUP(J202,'Vessel list'!A:J,10,FALSE)),\"\",VLOOKUP(J202,'Vessel list'!A:J,10,FALSE)))","v":"IT262102"},{"$f":"+IF(J202=\"\",\"\",IF(ISERROR(VLOOKUP(J202,'Vessel list'!A:C,3,FALSE)),\"\",VLOOKUP(J202,'Vessel list'!A:C,3,FALSE)))","v":"Genoa VTE"},"ITMILMYPKG000565777",null,"false","ITMIL","ITGOA","MYPKG","MYPKG",null,null,"CNCHINOCEA0001","CMA CGM TITAN","0ME7KE1MA","2020-11-12","00:00:00","2020-12-07","00:00:00",null,null,null,null,null,null,null,null,null,null,null,null,"Wednesday","2020-11-04","00:00:00",44145,"00:00:00",44146,"00:00:00",null,null,"Thursday",25,null,"true","false","false"]
[{"$f":"+VLOOKUP(G203,'Lista consol SKR'!$P:$Q,2,FALSE)","v":{"$error":"#N/A"}},6,"Port Kelang (Pelabuhan Klang)6",{"$f":"+VLOOKUP(R203,'Lista consol SKR'!C:D,2,FALSE)","v":"Port Kelang (Pelabuhan Klang)"},6,"Port Kelang (Pelabuhan Klang)6",{"$f":"+VLOOKUP(S203,'Lista consol SKR'!C:D,2,FALSE)","v":"Port Kelang (Pelabuhan Klang)"},{"$f":"+VLOOKUP(Q203,'Lista consol SKR'!A:B,2,FALSE)","v":"Genoa"},"Not required","OOCL FRANCEITGOA",{"$f":"+IF(J203=\"\",\"\",IF(ISERROR(VLOOKUP(J203,'Vessel list'!A:J,10,FALSE)),\"\",VLOOKUP(J203,'Vessel list'!A:J,10,FALSE)))","v":"IT262102"},{"$f":"+IF(J203=\"\",\"\",IF(ISERROR(VLOOKUP(J203,'Vessel list'!A:C,3,FALSE)),\"\",VLOOKUP(J203,'Vessel list'!A:C,3,FALSE)))","v":"Genoa VTE"},"ITMILMYPKG000565778",null,"false","ITMIL","ITGOA","MYPKG","MYPKG",null,null,"CNCHINOCEA0001","OOCL FRANCE","033E","2020-11-25","12:12:21","2020-12-20","01:01:01",null,null,null,null,null,null,null,null,null,null,null,null,"Wednesday","2020-11-18","00:00:00",44158,"00:00:00",44159,"00:00:00",null,null,"Wednesday",25,null,"true","false","false"]
[{"$f":"+VLOOKUP(G204,'Lista consol SKR'!$P:$Q,2,FALSE)","v":{"$error":"#N/A"}},7,"Port Kelang (Pelabuhan Klang)7",{"$f":"+VLOOKUP(R204,'Lista consol SKR'!C:D,2,FALSE)","v":"Port Kelang (Pelabuhan Klang)"},7,"Port Kelang (Pelabuhan Klang)7",{"$f":"+VLOOKUP(S204,'Lista consol SKR'!C:D,2,FALSE)","v":"Port Kelang (Pelabuhan Klang)"},{"$f":"+VLOOKUP(Q204,'Lista consol SKR'!A:B,2,FALSE)","v":"Genoa"},"Not required","CMA CGM PEGASUSITGOA",{"$f":"+IF(J204=\"\",\"\",IF(ISERROR(VLOOKUP(J204,'Vessel list'!A:J,10,FALSE)),\"\",VLOOKUP(J204,'Vessel list'!A:J,10,FALSE)))","v":"IT262102"},{"$f":"+IF(J204=\"\",\"\",IF(ISERROR(VLOOKUP(J204,'Vessel list'!A:C,3,FALSE)),\"\",VLOOKUP(J204,'Vessel list'!A:C,3,FALSE)))","v":"Genoa VTE"},"ITMILMYPKG000565779",null,"false","ITMIL","ITGOA","MYPKG","MYPKG",null,null,"CNCHINOCEA0001","CMA CGM PEGASUS","0ME7QE1MA","2020-12-01","00:00:00","2020-12-26","00:00:00",null,null,null,null,null,null,null,null,null,null,null,null,"Wednesday","2020-11-25","00:00:00",44164,"00:00:00",44165,"00:00:00",null,null,"Tuesday",25,null,"true","false","false"]
[{"$f":"+VLOOKUP(G205,'Lista consol SKR'!$P:$Q,2,FALSE)","v":{"$error":"#N/A"}},1,"Rades1",{"$f":"+VLOOKUP(R205,'Lista consol SKR'!C:D,2,FALSE)","v":"Rades"},1,"Rades1",{"$f":"+VLOOKUP(S205,'Lista consol SKR'!C:D,2,FALSE)","v":"Rades"},{"$f":"+VLOOKUP(Q205,'Lista consol SKR'!A:B,2,FALSE)","v":"Genoa"},"Not required","LEEVSTENITGOA",{"$f":"+IF(J205=\"\",\"\",IF(ISERROR(VLOOKUP(J205,'Vessel list'!A:J,10,FALSE)),\"\",VLOOKUP(J205,'Vessel list'!A:J,10,FALSE)))","v":""},{"$f":"+IF(J205=\"\",\"\",IF(ISERROR(VLOOKUP(J205,'Vessel list'!A:C,3,FALSE)),\"\",VLOOKUP(J205,'Vessel list'!A:C,3,FALSE)))","v":""},"ITMILTNRDS000565017",null,"false","ITMIL","ITGOA","TNRDS","TNRDS",null,null,"DEHAPALLOY0001","LEEVSTEN","151020","2020-10-15","18:00:00","2020-10-16","18:00:00",null,null,null,null,null,null,null,null,null,null,null,null,"Monday","2020-10-12","18:00:00","2020-10-13","18:00:00","2020-10-14","18:00:00",44118,0.79166666666424135,"Thursday",2,null,"true","false","false"]
[{"$f":"+VLOOKUP(G206,'Lista consol SKR'!$P:$Q,2,FALSE)","v":{"$error":"#N/A"}},2,"Rades2",{"$f":"+VLOOKUP(R206,'Lista consol SKR'!C:D,2,FALSE)","v":"Rades"},2,"Rades2",{"$f":"+VLOOKUP(S206,'Lista consol SKR'!C:D,2,FALSE)","v":"Rades"},{"$f":"+VLOOKUP(Q206,'Lista consol SKR'!A:B,2,FALSE)","v":"Genoa"},"Not required","LEEVSTENITGOA",{"$f":"+IF(J206=\"\",\"\",IF(ISERROR(VLOOKUP(J206,'Vessel list'!A:J,10,FALSE)),\"\",VLOOKUP(J206,'Vessel list'!A:J,10,FALSE)))","v":""},{"$f":"+IF(J206=\"\",\"\",IF(ISERROR(VLOOKUP(J206,'Vessel list'!A:C,3,FALSE)),\"\",VLOOKUP(J206,'Vessel list'!A:C,3,FALSE)))","v":""},"ITMILTNRDS000565418",null,"false","ITMIL","ITGOA","TNRDS","TNRDS",null,null,"DESACOSHIP0001","LEEVSTEN","221020E","2020-10-22","00:00:00","2020-10-23","00:00:00",null,null,null,null,null,null,null,null,null,null,null,null,"Friday","2020-10-16","00:00:00",44124,"00:00:00",44125,"00:00:00",null,null,"Thursday",2,null,"true","false","false"]
[{"$f":"+VLOOKUP(G207,'Lista consol SKR'!$P:$Q,2,FALSE)","v":20},{"$f":"IF(D207=D206,B206+1,1)","v":1},{"$f":"+D207&B207","v":"San Antonio1"},{"$f":"+VLOOKUP(R207,'Lista consol SKR'!C:D,2,FALSE)","v":"San Antonio"},{"$f":"IF(G207=G206,E206+1,1)","v":1},{"$f":"+G207&E207","v":"San Antonio1"},{"$f":"+VLOOKUP(S207,'Lista consol SKR'!C:D,2,FALSE)","v":"San Antonio"},{"$f":"+VLOOKUP(Q207,'Lista consol SKR'!A:B,2,FALSE)","v":"Genoa"},{"$f":"IF(M207=\"\",\"\",IF(LEFT(S207,2)=\"CN\",\"x\",IF(LEFT(S207,2)=\"US\",\"x\",IF(LEFT(S207,2)=\"CA\",\"x\",IF(LEFT(S207,2)=\"JP\",\"x\",\"Not required\")))))","v":"Not required"},{"$f":"IF(W207=\"\",\"\",W207&Q207)","v":"ALEXANDRAITGOA"},{"$f":"+IF(J207=\"\",\"\",IF(ISERROR(VLOOKUP(J207,'Vessel list'!A:J,10,FALSE)),\"\",VLOOKUP(J207,'Vessel list'!A:J,10,FALSE)))","v":""},{"$f":"+IF(J207=\"\",\"\",IF(ISERROR(VLOOKUP(J207,'Vessel list'!A:C,3,FALSE)),\"\",VLOOKUP(J207,'Vessel list'!A:C,3,FALSE)))","v":""},"ITMILCLSAI000563794",null,"false","ITMIL","ITGOA","CLSAI","CLSAI",null,null,"DESACOSHIP0001","ALEXANDRA","DV79S1MA","2020-10-14","00:00:00","2020-11-19","00:00:00",null,null,null,null,null,null,null,null,null,null,null,null,"Thursday","2020-10-08","18:00:00",44116,"00:00:00",44117,"00:00:00",null,null,"Wednesday",37,null,"true","false","false"]
[{"$f":"+VLOOKUP(G208,'Lista consol SKR'!$P:$Q,2,FALSE)","v":20},2,"San Antonio2",{"$f":"+VLOOKUP(R208,'Lista consol SKR'!C:D,2,FALSE)","v":"San Antonio"},2,"San Antonio2",{"$f":"+VLOOKUP(S208,'Lista consol SKR'!C:D,2,FALSE)","v":"San Antonio"},{"$f":"+VLOOKUP(Q208,'Lista consol SKR'!A:B,2,FALSE)","v":"Genoa"},"Not required","ALEXANDRAITGOA",{"$f":"+IF(J208=\"\",\"\",IF(ISERROR(VLOOKUP(J208,'Vessel list'!A:J,10,FALSE)),\"\",VLOOKUP(J208,'Vessel list'!A:J,10,FALSE)))","v":""},{"$f":"+IF(J208=\"\",\"\",IF(ISERROR(VLOOKUP(J208,'Vessel list'!A:C,3,FALSE)),\"\",VLOOKUP(J208,'Vessel list'!A:C,3,FALSE)))","v":""},"ITMILCLSAI000558668",null,"false","ITMIL","ITGOA","CLSAI","CLSAI",null,null,"BEECUWORLD0001","ALEXANDRA","0DV79S1MA","2020-10-14","00:00:00","2020-11-23","00:00:00",null,null,null,null,null,null,null,null,null,null,null,null,"Thursday","2020-10-08","18:00:00",44116,0,44117,0,null,null,"Wednesday",41,"Davide Astori","true","false","false"]
[{"$f":"+VLOOKUP(G209,'Lista consol SKR'!$P:$Q,2,FALSE)","v":20},3,"San Antonio3",{"$f":"+VLOOKUP(R209,'Lista consol SKR'!C:D,2,FALSE)","v":"San Antonio"},3,"San Antonio3",{"$f":"+VLOOKUP(S209,'Lista consol SKR'!C:D,2,FALSE)","v":"San Antonio"},{"$f":"+VLOOKUP(Q209,'Lista consol SKR'!A:B,2,FALSE)","v":"Genoa"},"Not required","ROTTERDAM EXPRESSITGOA",{"$f":"+IF(J209=\"\",\"\",IF(ISERROR(VLOOKUP(J209,'Vessel list'!A:J,10,FALSE)),\"\",VLOOKUP(J209,'Vessel list'!A:J,10,FALSE)))","v":""},{"$f":"+IF(J209=\"\",\"\",IF(ISERROR(VLOOKUP(J209,'Vessel list'!A:C,3,FALSE)),\"\",VLOOKUP(J209,'Vessel list'!A:C,3,FALSE)))","v":""},"ITMILCLSAI000561212",null,"false","ITMIL","ITGOA","CLSAI","CLSAI",null,null,"BEECUWORLD0001","ROTTERDAM EXPRESS","23W42","2020-10-18","00:00:00","2020-11-27","00:00:00",null,null,null,null,null,null,null,null,null,null,null,null,"Tuesday","2020-10-13","18:00:00","2020-10-16","00:00:00","2020-10-17","00:00:00",null,null,"Sunday",41,null,"true","false","false"]
[{"$f":"+VLOOKUP(G210,'Lista consol SKR'!$P:$Q,2,FALSE)","v":20},4,"San Antonio4",{"$f":"+VLOOKUP(R210,'Lista consol SKR'!C:D,2,FALSE)","v":"San Antonio"},4,"San Antonio4",{"$f":"+VLOOKUP(S210,'Lista consol SKR'!C:D,2,FALSE)","v":"San Antonio"},{"$f":"+VLOOKUP(Q210,'Lista consol SKR'!A:B,2,FALSE)","v":"Genoa"},"Not required","MARYITGOA",{"$f":"+IF(J210=\"\",\"\",IF(ISERROR(VLOOKUP(J210,'Vessel list'!A:J,10,FALSE)),\"\",VLOOKUP(J210,'Vessel list'!A:J,10,FALSE)))","v":""},{"$f":"+IF(J210=\"\",\"\",IF(ISERROR(VLOOKUP(J210,'Vessel list'!A:C,3,FALSE)),\"\",VLOOKUP(J210,'Vessel list'!A:C,3,FALSE)))","v":""},"ITMILCLSAI000558671",null,"false","ITMIL","ITGOA","CLSAI","CLSAI",null,null,"BEECUWORLD0001","MARY","0DV79S1MA","2020-10-21","00:00:00","2020-11-30","00:00:00",null,null,null,null,null,null,null,null,null,null,null,null,"Thursday","2020-10-15","18:00:00","2020-10-19","00:00:00","2020-10-20","00:00:00",null,null,"Wednesday",41,"Davide Astori","true","false","false"]
[{"$f":"+VLOOKUP(G211,'Lista consol SKR'!$P:$Q,2,FALSE)","v":20},5,"San Antonio5",{"$f":"+VLOOKUP(R211,'Lista consol SKR'!C:D,2,FALSE)","v":"San Antonio"},5,"San Antonio5",{"$f":"+VLOOKUP(S211,'Lista consol SKR'!C:D,2,FALSE)","v":"San Antonio"},{"$f":"+VLOOKUP(Q211,'Lista consol SKR'!A:B,2,FALSE)","v":"Genoa"},"Not required","HOBBY HUNTERITGOA",{"$f":"+IF(J211=\"\",\"\",IF(ISERROR(VLOOKUP(J211,'Vessel list'!A:J,10,FALSE)),\"\",VLOOKUP(J211,'Vessel list'!A:J,10,FALSE)))","v":""},{"$f":"+IF(J211=\"\",\"\",IF(ISERROR(VLOOKUP(J211,'Vessel list'!A:C,3,FALSE)),\"\",VLOOKUP(J211,'Vessel list'!A:C,3,FALSE)))","v":""},"ITMILCLSAI000561213",null,"false","ITMIL","ITGOA","CLSAI","CLSAI",null,null,"BEECUWORLD0001","HOBBY HUNTER","02W43","2020-10-25","00:00:00","2020-12-04","00:00:00",null,null,null,null,null,null,null,null,null,null,null,null,"Tuesday","2020-10-20","18:00:00",44127,"00:00:00",44128,"00:00:00",null,null,"Sunday",41,null,"true","false","false"]
[{"$f":"+VLOOKUP(G212,'Lista consol SKR'!$P:$Q,2,FALSE)","v":20},6,"San Antonio6",{"$f":"+VLOOKUP(R212,'Lista consol SKR'!C:D,2,FALSE)","v":"San Antonio"},6,"San Antonio6",{"$f":"+VLOOKUP(S212,'Lista consol SKR'!C:D,2,FALSE)","v":"San Antonio"},{"$f":"+VLOOKUP(Q212,'Lista consol SKR'!A:B,2,FALSE)","v":"Genoa"},"Not required","KATHERINEITGOA",{"$f":"+IF(J212=\"\",\"\",IF(ISERROR(VLOOKUP(J212,'Vessel list'!A:J,10,FALSE)),\"\",VLOOKUP(J212,'Vessel list'!A:J,10,FALSE)))","v":""},{"$f":"+IF(J212=\"\",\"\",IF(ISERROR(VLOOKUP(J212,'Vessel list'!A:C,3,FALSE)),\"\",VLOOKUP(J212,'Vessel list'!A:C,3,FALSE)))","v":""},"ITMILCLSAI000562628",null,"false","ITMIL","ITGOA","CLSAI","CLSAI",null,null,"BEECUWORLD0001","KATHERINE","ODV7DS1MA","2020-10-28","00:00:00","2020-12-07","00:00:00",null,null,null,null,null,null,null,null,null,null,null,null,"Thursday","2020-10-22","18:00:00",44130,0,44131,0,null,null,"Wednesday",41,null,"true","false","false"]
[{"$f":"+VLOOKUP(G213,'Lista consol SKR'!$P:$Q,2,FALSE)","v":20},7,"San Antonio7",{"$f":"+VLOOKUP(R213,'Lista consol SKR'!C:D,2,FALSE)","v":"San Antonio"},7,"San Antonio7",{"$f":"+VLOOKUP(S213,'Lista consol SKR'!C:D,2,FALSE)","v":"San Antonio"},{"$f":"+VLOOKUP(Q213,'Lista consol SKR'!A:B,2,FALSE)","v":"Genoa"},"Not required","DUESSELDORF EXPRESSITGOA",{"$f":"+IF(J213=\"\",\"\",IF(ISERROR(VLOOKUP(J213,'Vessel list'!A:J,10,FALSE)),\"\",VLOOKUP(J213,'Vessel list'!A:J,10,FALSE)))","v":""},{"$f":"+IF(J213=\"\",\"\",IF(ISERROR(VLOOKUP(J213,'Vessel list'!A:C,3,FALSE)),\"\",VLOOKUP(J213,'Vessel list'!A:C,3,FALSE)))","v":""},"ITMILCLSAI000559417",null,"false","ITMIL","ITGOA","CLSAI","CLSAI",null,null,"BEECUWORLD0001","DUESSELDORF EXPRESS","24W44","2020-11-01","09:01:00","2020-12-11","17:01:00",null,null,null,null,null,null,null,null,null,null,null,null,"Tuesday","2020-10-27","18:00:00",44134,"09:01:00",44135,"09:01:00",null,null,"Sunday",41,null,"true","false","false"]
[{"$f":"+VLOOKUP(G214,'Lista consol SKR'!$P:$Q,2,FALSE)","v":20},8,"San Antonio8",{"$f":"+VLOOKUP(R214,'Lista consol SKR'!C:D,2,FALSE)","v":"San Antonio"},8,"San Antonio8",{"$f":"+VLOOKUP(S214,'Lista consol SKR'!C:D,2,FALSE)","v":"San Antonio"},{"$f":"+VLOOKUP(Q214,'Lista consol SKR'!A:B,2,FALSE)","v":"Genoa"},"Not required","RHODOSITGOA",{"$f":"+IF(J214=\"\",\"\",IF(ISERROR(VLOOKUP(J214,'Vessel list'!A:J,10,FALSE)),\"\",VLOOKUP(J214,'Vessel list'!A:J,10,FALSE)))","v":"IT262102"},{"$f":"+IF(J214=\"\",\"\",IF(ISERROR(VLOOKUP(J214,'Vessel list'!A:C,3,FALSE)),\"\",VLOOKUP(J214,'Vessel list'!A:C,3,FALSE)))","v":"Genoa VTE"},"ITMILCLSAI000562629",null,"false","ITMIL","ITGOA","CLSAI","CLSAI",null,null,"BEECUWORLD0001","RHODOS","0DV7FS1MA","2020-11-04","00:00:00","2020-12-14","00:00:00",null,null,null,null,null,null,null,null,null,null,null,null,"Thursday","2020-10-29","18:00:00",44137,"00:00:00",44138,"00:00:00",null,null,"Wednesday",41,null,"true","false","false"]
[{"$f":"+VLOOKUP(G215,'Lista consol SKR'!$P:$Q,2,FALSE)","v":20},9,"San Antonio9",{"$f":"+VLOOKUP(R215,'Lista consol SKR'!C:D,2,FALSE)","v":"San Antonio"},9,"San Antonio9",{"$f":"+VLOOKUP(S215,'Lista consol SKR'!C:D,2,FALSE)","v":"San Antonio"},{"$f":"+VLOOKUP(Q215,'Lista consol SKR'!A:B,2,FALSE)","v":"Genoa"},"Not required","NORTHERN PRELUDEITGOA",{"$f":"+IF(J215=\"\",\"\",IF(ISERROR(VLOOKUP(J215,'Vessel list'!A:J,10,FALSE)),\"\",VLOOKUP(J215,'Vessel list'!A:J,10,FALSE)))","v":""},{"$f":"+IF(J215=\"\",\"\",IF(ISERROR(VLOOKUP(J215,'Vessel list'!A:C,3,FALSE)),\"\",VLOOKUP(J215,'Vessel list'!A:C,3,FALSE)))","v":""},"ITMILCLSAI000559418",null,"false","ITMIL","ITGOA","CLSAI","CLSAI",null,null,"BEECUWORLD0001","NORTHERN PRELUDE","31W46","2020-11-15","09:02:00","2020-12-25","17:02:00",null,null,null,null,null,null,null,null,null,null,null,null,"Tuesday","2020-11-10","18:00:00",44148,"09:02:00",44149,"09:02:00",null,null,"Sunday",41,null,"true","false","false"]
[{"$f":"+VLOOKUP(G216,'Lista consol SKR'!$P:$Q,2,FALSE)","v":{"$error":"#N/A"}},1,"San Salvador1",{"$f":"+VLOOKUP(R216,'Lista consol SKR'!C:D,2,FALSE)","v":"San Salvador"},1,"San Salvador1",{"$f":"+VLOOKUP(S216,'Lista consol SKR'!C:D,2,FALSE)","v":"San Salvador"},{"$f":"+VLOOKUP(Q216,'Lista consol SKR'!A:B,2,FALSE)","v":"Genoa"},"Not required","BREMEN EXPRESSITGOA",{"$f":"+IF(J216=\"\",\"\",IF(ISERROR(VLOOKUP(J216,'Vessel list'!A:J,10,FALSE)),\"\",VLOOKUP(J216,'Vessel list'!A:J,10,FALSE)))","v":""},{"$f":"+IF(J216=\"\",\"\",IF(ISERROR(VLOOKUP(J216,'Vessel list'!A:C,3,FALSE)),\"\",VLOOKUP(J216,'Vessel list'!A:C,3,FALSE)))","v":""},"ITMILSVSAL000566252",null,"false","ITMIL","ITGOA","SVSAL","SVSAL",null,null,"BEECUWORLD0001","BREMEN EXPRESS","078W","2020-11-06","00:00:00","2020-12-21","00:00:00",null,null,null,null,null,null,null,null,null,null,null,null,"Thursday","2020-10-29","18:00:00",44139,"00:00:00",44140,"00:00:00",null,null,"Friday",46,null,"true","false","false"]
[{"$f":"+VLOOKUP(G217,'Lista consol SKR'!$P:$Q,2,FALSE)","v":21},1,"Santos1",{"$f":"+VLOOKUP(R217,'Lista consol SKR'!C:D,2,FALSE)","v":"Santos"},1,"Santos1",{"$f":"+VLOOKUP(S217,'Lista consol SKR'!C:D,2,FALSE)","v":"Santos"},{"$f":"+VLOOKUP(Q217,'Lista consol SKR'!A:B,2,FALSE)","v":"Genoa"},"Not required","NICOLAITGOA",{"$f":"+IF(J217=\"\",\"\",IF(ISERROR(VLOOKUP(J217,'Vessel list'!A:J,10,FALSE)),\"\",VLOOKUP(J217,'Vessel list'!A:J,10,FALSE)))","v":""},{"$f":"+IF(J217=\"\",\"\",IF(ISERROR(VLOOKUP(J217,'Vessel list'!A:C,3,FALSE)),\"\",VLOOKUP(J217,'Vessel list'!A:C,3,FALSE)))","v":""},"ITMILBRSSZ000556696",null,"false","ITMIL","ITGOA","BRSSZ","BRSSZ","MATNG",null,"FRCMACGM0001","NICOLA","0VYWFS1MA","2020-10-15","09:09:00","2020-10-20","08:08:08","SAN CLEMENTE","0NS7FS1MA",44127,0.38135416666773381,44141,0.33888888888759539,null,null,null,null,null,null,"Wednesday","2020-10-07","18:00:00","2020-10-13","00:00:00","2020-10-14","00:00:00",null,null,"Thursday",23,null,"true","false","false"]
[{"$f":"+VLOOKUP(G218,'Lista consol SKR'!$P:$Q,2,FALSE)","v":21},2,"Santos2",{"$f":"+VLOOKUP(R218,'Lista consol SKR'!C:D,2,FALSE)","v":"Santos"},2,"Santos2",{"$f":"+VLOOKUP(S218,'Lista consol SKR'!C:D,2,FALSE)","v":"Santos"},{"$f":"+VLOOKUP(Q218,'Lista consol SKR'!A:B,2,FALSE)","v":"Genoa"},"Not required","OPS HAMBURGITGOA",{"$f":"+IF(J218=\"\",\"\",IF(ISERROR(VLOOKUP(J218,'Vessel list'!A:J,10,FALSE)),\"\",VLOOKUP(J218,'Vessel list'!A:J,10,FALSE)))","v":""},{"$f":"+IF(J218=\"\",\"\",IF(ISERROR(VLOOKUP(J218,'Vessel list'!A:C,3,FALSE)),\"\",VLOOKUP(J218,'Vessel list'!A:C,3,FALSE)))","v":""},"ITMILBRSSZ000556698",null,"false","ITMIL","ITGOA","BRSSZ","BRSSZ","MATNG",null,"FRCMACGM0001","OPS HAMBURG","0VYWLS1MA","2020-10-22","09:09:00","2020-10-27","08:08:08","MAERSK LAMANAI","0NS7HS1MA",44134,0.375104166669189,44148,0.333425925928168,null,null,null,null,null,null,"Wednesday","2020-10-14","18:00:00",44124,0,44125,0,null,null,"Thursday",23,null,"true","false","false"]
[{"$f":"+VLOOKUP(G219,'Lista consol SKR'!$P:$Q,2,FALSE)","v":21},3,"Santos3",{"$f":"+VLOOKUP(R219,'Lista consol SKR'!C:D,2,FALSE)","v":"Santos"},3,"Santos3",{"$f":"+VLOOKUP(S219,'Lista consol SKR'!C:D,2,FALSE)","v":"Santos"},{"$f":"+VLOOKUP(Q219,'Lista consol SKR'!A:B,2,FALSE)","v":"Genoa"},"Not required","CMA CGM AGADIRITGOA",{"$f":"+IF(J219=\"\",\"\",IF(ISERROR(VLOOKUP(J219,'Vessel list'!A:J,10,FALSE)),\"\",VLOOKUP(J219,'Vessel list'!A:J,10,FALSE)))","v":""},{"$f":"+IF(J219=\"\",\"\",IF(ISERROR(VLOOKUP(J219,'Vessel list'!A:C,3,FALSE)),\"\",VLOOKUP(J219,'Vessel list'!A:C,3,FALSE)))","v":""},"ITMILBRSSZ000559468",null,"false","ITMIL","ITGOA","BRSSZ","BRSSZ","MATNG",null,"FRCMACGM0001","CMA CGM AGADIR","0VYWRS1MA","2020-10-29","09:23:00","2020-11-03","17:23:00","CMA CGM RIO GRANDE","0NS7JS1MA",44141,"09:09:00",44155,"08:08:08",null,null,null,null,null,null,"Wednesday","2020-10-21","18:00:00",44131,"09:23:00",44132,"09:23:00",null,null,"Thursday",23,null,"true","false","false"]
[{"$f":"+VLOOKUP(G220,'Lista consol SKR'!$P:$Q,2,FALSE)","v":21},4,"Santos4",{"$f":"+VLOOKUP(R220,'Lista consol SKR'!C:D,2,FALSE)","v":"Santos"},4,"Santos4",{"$f":"+VLOOKUP(S220,'Lista consol SKR'!C:D,2,FALSE)","v":"Santos"},{"$f":"+VLOOKUP(Q220,'Lista consol SKR'!A:B,2,FALSE)","v":"Genoa"},"Not required","ATLANTIC MONACOITGOA",{"$f":"+IF(J220=\"\",\"\",IF(ISERROR(VLOOKUP(J220,'Vessel list'!A:J,10,FALSE)),\"\",VLOOKUP(J220,'Vessel list'!A:J,10,FALSE)))","v":""},{"$f":"+IF(J220=\"\",\"\",IF(ISERROR(VLOOKUP(J220,'Vessel list'!A:C,3,FALSE)),\"\",VLOOKUP(J220,'Vessel list'!A:C,3,FALSE)))","v":""},"ITMILBRSSZ000563296",null,"false","ITMIL","ITGOA","BRSSZ","BRSSZ","MATNG",null,"FRCMACGM0001","ATLANTIC MONACO","0VYWXS1MA","2020-11-05","09:24:00","2020-11-10","17:24:00","SAN CLEMENTE","0NS7RS1MA",44169,0.42222222222335404,44183,0.67916666666860692,null,null,null,null,null,null,"Wednesday","2020-10-28","18:00:00","2020-11-03","09:24:00","2020-11-04","09:24:00",null,null,"Thursday",null,null,"true","false","false"]
[{"$f":"+VLOOKUP(G221,'Lista consol SKR'!$P:$Q,2,FALSE)","v":21},5,"Santos5",{"$f":"+VLOOKUP(R221,'Lista consol SKR'!C:D,2,FALSE)","v":"Santos"},5,"Santos5",{"$f":"+VLOOKUP(S221,'Lista consol SKR'!C:D,2,FALSE)","v":"Santos"},{"$f":"+VLOOKUP(Q221,'Lista consol SKR'!A:B,2,FALSE)","v":"Genoa"},"Not required","ATLANTIC MONACOITGOA",{"$f":"+IF(J221=\"\",\"\",IF(ISERROR(VLOOKUP(J221,'Vessel list'!A:J,10,FALSE)),\"\",VLOOKUP(J221,'Vessel list'!A:J,10,FALSE)))","v":""},{"$f":"+IF(J221=\"\",\"\",IF(ISERROR(VLOOKUP(J221,'Vessel list'!A:C,3,FALSE)),\"\",VLOOKUP(J221,'Vessel list'!A:C,3,FALSE)))","v":""},"ITMILBRSSZ000559470",null,"false","ITMIL","ITGOA","BRSSZ","BRSSZ","MATNG",null,"FRCMACGM0001","ATLANTIC MONACO","0VYWXS1MA","2020-11-05","09:24:00","2020-11-10","17:24:00","MAERSK LABERINTO","0NS7LS1MA",44148,0.38135416666773381,44162,0.33888888888759539,null,null,null,null,null,null,"Wednesday","2020-10-28","18:00:00","2020-11-03","09:24:00","2020-11-04","09:24:00",null,null,"Thursday",23,null,"true","false","false"]
[{"$f":"+VLOOKUP(G222,'Lista consol SKR'!$P:$Q,2,FALSE)","v":21},6,"Santos6",{"$f":"+VLOOKUP(R222,'Lista consol SKR'!C:D,2,FALSE)","v":"Santos"},6,"Santos6",{"$f":"+VLOOKUP(S222,'Lista consol SKR'!C:D,2,FALSE)","v":"Santos"},{"$f":"+VLOOKUP(Q222,'Lista consol SKR'!A:B,2,FALSE)","v":"Genoa"},"Not required","OKEE LILOITGOA",{"$f":"+IF(J222=\"\",\"\",IF(ISERROR(VLOOKUP(J222,'Vessel list'!A:J,10,FALSE)),\"\",VLOOKUP(J222,'Vessel list'!A:J,10,FALSE)))","v":""},{"$f":"+IF(J222=\"\",\"\",IF(ISERROR(VLOOKUP(J222,'Vessel list'!A:C,3,FALSE)),\"\",VLOOKUP(J222,'Vessel list'!A:C,3,FALSE)))","v":""},"ITMILBRSSZ000563293",null,"false","ITMIL","ITGOA","BRSSZ","BRSSZ","MATNG",null,"FRCMACGM0001","OKEE LILO","0VYX3S1MA","2020-11-11","09:52:00","2020-11-16","16:57:00","MAERSK LOTA","0NS7NS1MA",44155,"10:06:00",44169,"16:16:00",null,null,null,null,null,null,"Wednesday","2020-11-04","18:00:00",44144,"09:52:00",44145,"09:52:00",null,null,"Wednesday",24,null,"true","false","false"]
[{"$f":"+VLOOKUP(G223,'Lista consol SKR'!$P:$Q,2,FALSE)","v":21},7,"Santos7",{"$f":"+VLOOKUP(R223,'Lista consol SKR'!C:D,2,FALSE)","v":"Santos"},7,"Santos7",{"$f":"+VLOOKUP(S223,'Lista consol SKR'!C:D,2,FALSE)","v":"Santos"},{"$f":"+VLOOKUP(Q223,'Lista consol SKR'!A:B,2,FALSE)","v":"Genoa"},"Not required","TEMPORARY VESSELITGOA",{"$f":"+IF(J223=\"\",\"\",IF(ISERROR(VLOOKUP(J223,'Vessel list'!A:J,10,FALSE)),\"\",VLOOKUP(J223,'Vessel list'!A:J,10,FALSE)))","v":""},{"$f":"+IF(J223=\"\",\"\",IF(ISERROR(VLOOKUP(J223,'Vessel list'!A:C,3,FALSE)),\"\",VLOOKUP(J223,'Vessel list'!A:C,3,FALSE)))","v":""},"ITMILBRSSZ000563294",null,"false","ITMIL","ITGOA","BRSSZ","BRSSZ","MATNG",null,"FRCMACGM0001","TEMPORARY VESSEL","0VYX9S1MA","2020-11-19","09:56:00","2020-11-24","16:06:00","CMA CGM MAGDALENA","0NS7PS1MA",44162,"10:07:00",44176,"16:17:00",null,null,null,null,null,null,"Wednesday","2020-11-11","18:00:00",44152,"09:56:00",44153,"09:56:00",null,null,"Thursday",23,null,"true","false","false"]
[{"$f":"+VLOOKUP(G224,'Lista consol SKR'!$P:$Q,2,FALSE)","v":21},8,"Santos8",{"$f":"+VLOOKUP(R224,'Lista consol SKR'!C:D,2,FALSE)","v":"Santos"},8,"Santos8",{"$f":"+VLOOKUP(S224,'Lista consol SKR'!C:D,2,FALSE)","v":"Santos"},{"$f":"+VLOOKUP(Q224,'Lista consol SKR'!A:B,2,FALSE)","v":"Genoa"},"Not required","ATLANTIC MONACOITGOA",{"$f":"+IF(J224=\"\",\"\",IF(ISERROR(VLOOKUP(J224,'Vessel list'!A:J,10,FALSE)),\"\",VLOOKUP(J224,'Vessel list'!A:J,10,FALSE)))","v":""},{"$f":"+IF(J224=\"\",\"\",IF(ISERROR(VLOOKUP(J224,'Vessel list'!A:C,3,FALSE)),\"\",VLOOKUP(J224,'Vessel list'!A:C,3,FALSE)))","v":""},"ITMILBRSSZ000563295",null,"false","ITMIL","ITGOA","BRSSZ","BRSSZ","MATNG",null,"FRCMACGM0001","ATLANTIC MONACO","0VYXFS1MA","2020-11-26","09:50:00","2020-12-01","16:55:00","SAN CLEMENTE","0NS7RS1MA",44169,"10:08:00",44183,"16:18:00",null,null,null,null,null,null,"Wednesday","2020-11-18","18:00:00",44159,"09:50:00",44160,"09:50:00",null,null,"Thursday",23,null,"true","false","false"]
[{"$f":"+VLOOKUP(G225,'Lista consol SKR'!$P:$Q,2,FALSE)","v":21},9,"Santos9",{"$f":"+VLOOKUP(R225,'Lista consol SKR'!C:D,2,FALSE)","v":"Santos"},9,"Santos9",{"$f":"+VLOOKUP(S225,'Lista consol SKR'!C:D,2,FALSE)","v":"Santos"},{"$f":"+VLOOKUP(Q225,'Lista consol SKR'!A:B,2,FALSE)","v":"Genoa"},"Not required","OKEE LILOITGOA",{"$f":"+IF(J225=\"\",\"\",IF(ISERROR(VLOOKUP(J225,'Vessel list'!A:J,10,FALSE)),\"\",VLOOKUP(J225,'Vessel list'!A:J,10,FALSE)))","v":""},{"$f":"+IF(J225=\"\",\"\",IF(ISERROR(VLOOKUP(J225,'Vessel list'!A:C,3,FALSE)),\"\",VLOOKUP(J225,'Vessel list'!A:C,3,FALSE)))","v":""},"ITMILBRSSZ000563297",null,"false","ITMIL","ITGOA","BRSSZ","BRSSZ","MATNG",null,"FRCMACGM0001","OKEE LILO","0VYXLS1MA","2020-12-02","09:53:00","2020-12-07","16:58:00","MAERSK LAMANAI","0NS7TS1MA",44176,"10:09:00",44190,"16:19:00",null,null,null,null,null,null,"Wednesday","2020-11-25","18:00:00",44165,"09:53:00",44166,"09:53:00",null,null,"Wednesday",24,null,"true","false","false"]
[{"$f":"+VLOOKUP(G226,'Lista consol SKR'!$P:$Q,2,FALSE)","v":21},10,"Santos10",{"$f":"+VLOOKUP(R226,'Lista consol SKR'!C:D,2,FALSE)","v":"Santos"},10,"Santos10",{"$f":"+VLOOKUP(S226,'Lista consol SKR'!C:D,2,FALSE)","v":"Santos"},{"$f":"+VLOOKUP(Q226,'Lista consol SKR'!A:B,2,FALSE)","v":"Genoa"},"Not required","TEMPORARY VESSELITGOA",{"$f":"+IF(J226=\"\",\"\",IF(ISERROR(VLOOKUP(J226,'Vessel list'!A:J,10,FALSE)),\"\",VLOOKUP(J226,'Vessel list'!A:J,10,FALSE)))","v":""},{"$f":"+IF(J226=\"\",\"\",IF(ISERROR(VLOOKUP(J226,'Vessel list'!A:C,3,FALSE)),\"\",VLOOKUP(J226,'Vessel list'!A:C,3,FALSE)))","v":""},"ITMILBRSSZ000563298",null,"false","ITMIL","ITGOA","BRSSZ","BRSSZ","MATNG",null,"FRCMACGM0001","TEMPORARY VESSEL","0VYXRS1MA","2020-12-10","09:57:00","2020-12-15","16:07:00","CMA CGM RIO GRANDE","0NS7VS1MA",44183,0.42361111110949423,44197,0.68055555555474712,null,null,null,null,null,null,"Wednesday","2020-12-02","18:00:00",44173,0.41458333333139308,44174,0.41458333333139308,null,null,"Thursday",23,null,"true","false","false"]
[{"$f":"+VLOOKUP(G227,'Lista consol SKR'!$P:$Q,2,FALSE)","v":21},11,"Santos11",{"$f":"+VLOOKUP(R227,'Lista consol SKR'!C:D,2,FALSE)","v":"Santos"},11,"Santos11",{"$f":"+VLOOKUP(S227,'Lista consol SKR'!C:D,2,FALSE)","v":"Santos"},{"$f":"+VLOOKUP(Q227,'Lista consol SKR'!A:B,2,FALSE)","v":"Genoa"},"Not required","ATLANTIC MONACOITGOA",{"$f":"+IF(J227=\"\",\"\",IF(ISERROR(VLOOKUP(J227,'Vessel list'!A:J,10,FALSE)),\"\",VLOOKUP(J227,'Vessel list'!A:J,10,FALSE)))","v":""},{"$f":"+IF(J227=\"\",\"\",IF(ISERROR(VLOOKUP(J227,'Vessel list'!A:C,3,FALSE)),\"\",VLOOKUP(J227,'Vessel list'!A:C,3,FALSE)))","v":""},"ITMILBRSSZ000563299",null,"false","ITMIL","ITGOA","BRSSZ","BRSSZ","MATNG",null,"FRCMACGM0001","ATLANTIC MONACO","0VYXXS1MA","2020-12-17","09:51:00","2020-12-22","16:56:00","MAERSK LABERINTO","0NS7XS1MA",44190,"10:11:00",44204,"16:21:00",null,null,null,null,null,null,"Wednesday","2020-12-09","18:00:00",44180,"09:51:00",44181,"09:51:00",null,null,"Thursday",23,null,"true","false","false"]
[{"$f":"+VLOOKUP(G228,'Lista consol SKR'!$P:$Q,2,FALSE)","v":21},12,"Santos12",{"$f":"+VLOOKUP(R228,'Lista consol SKR'!C:D,2,FALSE)","v":"Santos"},12,"Santos12",{"$f":"+VLOOKUP(S228,'Lista consol SKR'!C:D,2,FALSE)","v":"Santos"},{"$f":"+VLOOKUP(Q228,'Lista consol SKR'!A:B,2,FALSE)","v":"Genoa"},"Not required","OKEE LILOITGOA",{"$f":"+IF(J228=\"\",\"\",IF(ISERROR(VLOOKUP(J228,'Vessel list'!A:J,10,FALSE)),\"\",VLOOKUP(J228,'Vessel list'!A:J,10,FALSE)))","v":""},{"$f":"+IF(J228=\"\",\"\",IF(ISERROR(VLOOKUP(J228,'Vessel list'!A:C,3,FALSE)),\"\",VLOOKUP(J228,'Vessel list'!A:C,3,FALSE)))","v":""},"ITMILBRSSZ000563300",null,"false","ITMIL","ITGOA","BRSSZ","BRSSZ","MATNG",null,"FRCMACGM0001","OKEE LILO","0VYY3S1MA","2020-12-23","09:54:00","2020-12-28","16:59:00","MAERSK LOTA","0NS7ZS1MA",44197,0.42013888889050577,44211,0.67708333333575865,null,null,null,null,null,null,"Wednesday","2020-12-16","18:00:00",44186,0.41249999999854481,44187,0.41249999999854481,null,null,"Wednesday",24,null,"true","false","false"]
[{"$f":"+VLOOKUP(G229,'Lista consol SKR'!$P:$Q,2,FALSE)","v":22},1,"Shanghai1",{"$f":"+VLOOKUP(R229,'Lista consol SKR'!C:D,2,FALSE)","v":"Shanghai"},1,"Shanghai1",{"$f":"+VLOOKUP(S229,'Lista consol SKR'!C:D,2,FALSE)","v":"Shanghai"},{"$f":"+VLOOKUP(Q229,'Lista consol SKR'!A:B,2,FALSE)","v":"Genoa"},"x","MILANO BRIDGEITGOA",{"$f":"+IF(J229=\"\",\"\",IF(ISERROR(VLOOKUP(J229,'Vessel list'!A:J,10,FALSE)),\"\",VLOOKUP(J229,'Vessel list'!A:J,10,FALSE)))","v":""},{"$f":"+IF(J229=\"\",\"\",IF(ISERROR(VLOOKUP(J229,'Vessel list'!A:C,3,FALSE)),\"\",VLOOKUP(J229,'Vessel list'!A:C,3,FALSE)))","v":""},"ITMILCNSHA000559491",null,"false","ITMIL","ITGOA","CNSHA","CNSHA",null,null,"SGOCEANETW0001","MILANO BRIDGE","012E","2020-10-18","12:00:00","2020-11-21","17:00:00",null,null,null,null,null,null,null,null,null,null,null,null,"Tuesday","2020-10-13","18:00:00","2020-10-16","12:00:00","2020-10-17","12:00:00",null,null,"Sunday",34,null,"true","false","false"]
[{"$f":"+VLOOKUP(G230,'Lista consol SKR'!$P:$Q,2,FALSE)","v":22},2,"Shanghai2",{"$f":"+VLOOKUP(R230,'Lista consol SKR'!C:D,2,FALSE)","v":"Shanghai"},2,"Shanghai2",{"$f":"+VLOOKUP(S230,'Lista consol SKR'!C:D,2,FALSE)","v":"Shanghai"},{"$f":"+VLOOKUP(Q230,'Lista consol SKR'!A:B,2,FALSE)","v":"Genoa"},"x","ONE MILLAUITGOA",{"$f":"+IF(J230=\"\",\"\",IF(ISERROR(VLOOKUP(J230,'Vessel list'!A:J,10,FALSE)),\"\",VLOOKUP(J230,'Vessel list'!A:J,10,FALSE)))","v":""},{"$f":"+IF(J230=\"\",\"\",IF(ISERROR(VLOOKUP(J230,'Vessel list'!A:C,3,FALSE)),\"\",VLOOKUP(J230,'Vessel list'!A:C,3,FALSE)))","v":""},"ITMILCNSHA000566453",null,"true","ITMIL","ITGOA","CNSHA","CNSHA",null,null,"SGOCEANETW0001","ONE MILLAU","027E","2020-10-25","00:00:00","2020-11-27","00:00:00",null,null,null,null,null,null,null,null,null,null,null,null,"Monday","2020-10-19","00:00:00",null,null,null,null,null,null,"Sunday",33,null,"true","false","false"]
[{"$f":"+VLOOKUP(G231,'Lista consol SKR'!$P:$Q,2,FALSE)","v":22},3,"Shanghai3",{"$f":"+VLOOKUP(R231,'Lista consol SKR'!C:D,2,FALSE)","v":"Shanghai"},3,"Shanghai3",{"$f":"+VLOOKUP(S231,'Lista consol SKR'!C:D,2,FALSE)","v":"Shanghai"},{"$f":"+VLOOKUP(Q231,'Lista consol SKR'!A:B,2,FALSE)","v":"Genoa"},"x","JEBEL ALIITGOA",{"$f":"+IF(J231=\"\",\"\",IF(ISERROR(VLOOKUP(J231,'Vessel list'!A:J,10,FALSE)),\"\",VLOOKUP(J231,'Vessel list'!A:J,10,FALSE)))","v":"IT262102"},{"$f":"+IF(J231=\"\",\"\",IF(ISERROR(VLOOKUP(J231,'Vessel list'!A:C,3,FALSE)),\"\",VLOOKUP(J231,'Vessel list'!A:C,3,FALSE)))","v":"Genoa VTE"},"ITMILCNSHA000565862",null,"false","ITMIL","ITGOA","CNSHA","CNSHA",null,null,"SGOCEANETW0001","JEBEL ALI","015E","2020-11-03","09:09:00","2020-12-05","08:08:00",null,null,null,null,null,null,null,null,null,null,null,null,"Tuesday","2020-10-27","18:00:00","2020-11-01","09:09:00","2020-11-02","09:09:00",null,null,"Tuesday",32,null,"true","false","false"]
[{"$f":"+VLOOKUP(G232,'Lista consol SKR'!$P:$Q,2,FALSE)","v":22},4,"Shanghai4",{"$f":"+VLOOKUP(R232,'Lista consol SKR'!C:D,2,FALSE)","v":"Shanghai"},4,"Shanghai4",{"$f":"+VLOOKUP(S232,'Lista consol SKR'!C:D,2,FALSE)","v":"Shanghai"},{"$f":"+VLOOKUP(Q232,'Lista consol SKR'!A:B,2,FALSE)","v":"Genoa"},"x","ONE MANCHESTERITGOA",{"$f":"+IF(J232=\"\",\"\",IF(ISERROR(VLOOKUP(J232,'Vessel list'!A:J,10,FALSE)),\"\",VLOOKUP(J232,'Vessel list'!A:J,10,FALSE)))","v":""},{"$f":"+IF(J232=\"\",\"\",IF(ISERROR(VLOOKUP(J232,'Vessel list'!A:C,3,FALSE)),\"\",VLOOKUP(J232,'Vessel list'!A:C,3,FALSE)))","v":""},"ITMILCNSHA000559492",null,"false","ITMIL","ITGOA","CNSHA","CNSHA",null,null,"SGOCEANETW0001","ONE MANCHESTER","025E","2020-11-13","12:00:00","2020-12-17","17:00:00",null,null,null,null,null,null,null,null,null,null,null,null,"Tuesday","2020-11-10","18:00:00",44146,"12:00:00",44147,"12:00:00",null,null,"Friday",34,null,"true","false","false"]
[{"$f":"+VLOOKUP(G233,'Lista consol SKR'!$P:$Q,2,FALSE)","v":22},5,"Shanghai5",{"$f":"+VLOOKUP(R233,'Lista consol SKR'!C:D,2,FALSE)","v":"Shanghai"},5,"Shanghai5",{"$f":"+VLOOKUP(S233,'Lista consol SKR'!C:D,2,FALSE)","v":"Shanghai"},{"$f":"+VLOOKUP(Q233,'Lista consol SKR'!A:B,2,FALSE)","v":"Genoa"},"x","LEVERKUSEN EXPRESSITGOA",{"$f":"+IF(J233=\"\",\"\",IF(ISERROR(VLOOKUP(J233,'Vessel list'!A:J,10,FALSE)),\"\",VLOOKUP(J233,'Vessel list'!A:J,10,FALSE)))","v":""},{"$f":"+IF(J233=\"\",\"\",IF(ISERROR(VLOOKUP(J233,'Vessel list'!A:C,3,FALSE)),\"\",VLOOKUP(J233,'Vessel list'!A:C,3,FALSE)))","v":""},"ITMILCNSHA000565863",null,"false","ITMIL","ITGOA","CNSHA","CNSHA",null,null,"SGOCEANETW0001","LEVERKUSEN EXPRESS","033E","2020-11-16","12:00:00","2020-12-19","17:00:00",null,null,null,null,null,null,null,null,null,null,null,null,"Tuesday","2020-11-10","18:00:00",44149,"12:00:00",44150,"12:00:00",null,null,"Monday",33,null,"true","false","false"]
[{"$f":"+VLOOKUP(G234,'Lista consol SKR'!$P:$Q,2,FALSE)","v":22},6,"Shanghai6",{"$f":"+VLOOKUP(R234,'Lista consol SKR'!C:D,2,FALSE)","v":"Shanghai"},6,"Shanghai6",{"$f":"+VLOOKUP(S234,'Lista consol SKR'!C:D,2,FALSE)","v":"Shanghai"},{"$f":"+VLOOKUP(Q234,'Lista consol SKR'!A:B,2,FALSE)","v":"Genoa"},"x","UMM SALALITGOA",{"$f":"+IF(J234=\"\",\"\",IF(ISERROR(VLOOKUP(J234,'Vessel list'!A:J,10,FALSE)),\"\",VLOOKUP(J234,'Vessel list'!A:J,10,FALSE)))","v":""},{"$f":"+IF(J234=\"\",\"\",IF(ISERROR(VLOOKUP(J234,'Vessel list'!A:C,3,FALSE)),\"\",VLOOKUP(J234,'Vessel list'!A:C,3,FALSE)))","v":""},"ITMILCNSHA000565864",null,"false","ITMIL","ITGOA","CNSHA","CNSHA",null,null,"SGOCEANETW0001","UMM SALAL","022E","2020-11-29","09:37:00","2021-01-02","17:37:00",null,null,null,null,null,null,null,null,null,null,null,null,"Tuesday","2020-11-24","18:00:00","2020-11-27","09:37:00","2020-11-28","09:37:00",null,null,"Sunday",35,null,"true","false","false"]
[{"$f":"+VLOOKUP(G235,'Lista consol SKR'!$P:$Q,2,FALSE)","v":22},7,"Shanghai7",{"$f":"+VLOOKUP(R235,'Lista consol SKR'!C:D,2,FALSE)","v":"Shanghai"},7,"Shanghai7",{"$f":"+VLOOKUP(S235,'Lista consol SKR'!C:D,2,FALSE)","v":"Shanghai"},{"$f":"+VLOOKUP(Q235,'Lista consol SKR'!A:B,2,FALSE)","v":"Genoa"},"x","UNAYZAHITGOA",{"$f":"+IF(J235=\"\",\"\",IF(ISERROR(VLOOKUP(J235,'Vessel list'!A:J,10,FALSE)),\"\",VLOOKUP(J235,'Vessel list'!A:J,10,FALSE)))","v":"IT262102"},{"$f":"+IF(J235=\"\",\"\",IF(ISERROR(VLOOKUP(J235,'Vessel list'!A:C,3,FALSE)),\"\",VLOOKUP(J235,'Vessel list'!A:C,3,FALSE)))","v":"Genoa VTE"},"ITMILCNSHA000565866",null,"false","ITMIL","ITGOA","CNSHA","CNSHA",null,null,"SGOCEANETW0001","UNAYZAH","019E","2020-12-06","12:00:00","2021-01-09","17:00:00",null,null,null,null,null,null,null,null,null,null,null,null,"Tuesday","2020-12-01","18:00:00",44169,"12:00:00",44170,"12:00:00",null,null,"Sunday",34,null,"true","false","false"]
[{"$f":"+VLOOKUP(G236,'Lista consol SKR'!$P:$Q,2,FALSE)","v":22},8,"Shanghai8",{"$f":"+VLOOKUP(R236,'Lista consol SKR'!C:D,2,FALSE)","v":"Shanghai"},8,"Shanghai8",{"$f":"+VLOOKUP(S236,'Lista consol SKR'!C:D,2,FALSE)","v":"Shanghai"},{"$f":"+VLOOKUP(Q236,'Lista consol SKR'!A:B,2,FALSE)","v":"Genoa"},"x","NEW YORK EXPRESSITGOA",{"$f":"+IF(J236=\"\",\"\",IF(ISERROR(VLOOKUP(J236,'Vessel list'!A:J,10,FALSE)),\"\",VLOOKUP(J236,'Vessel list'!A:J,10,FALSE)))","v":""},{"$f":"+IF(J236=\"\",\"\",IF(ISERROR(VLOOKUP(J236,'Vessel list'!A:C,3,FALSE)),\"\",VLOOKUP(J236,'Vessel list'!A:C,3,FALSE)))","v":""},"ITMILCNSHA000565868",null,"false","ITMIL","ITGOA","CNSHA","CNSHA",null,null,"SGOCEANETW0001","NEW YORK EXPRESS","040E","2020-12-20","09:09:00","2021-01-23","08:08:00",null,null,null,null,null,null,null,null,null,null,null,null,"Tuesday","2020-12-15","18:00:00","2020-12-18","00:00:00","2020-12-19","00:00:00",null,null,"Sunday",34,null,"true","false","false"]
[{"$f":"+VLOOKUP(G237,'Lista consol SKR'!$P:$Q,2,FALSE)","v":22},9,"Shanghai9",{"$f":"+VLOOKUP(R237,'Lista consol SKR'!C:D,2,FALSE)","v":"Shanghai"},9,"Shanghai9",{"$f":"+VLOOKUP(S237,'Lista consol SKR'!C:D,2,FALSE)","v":"Shanghai"},{"$f":"+VLOOKUP(Q237,'Lista consol SKR'!A:B,2,FALSE)","v":"Genoa"},"x","SHANGHAI EXPRESSITGOA",{"$f":"+IF(J237=\"\",\"\",IF(ISERROR(VLOOKUP(J237,'Vessel list'!A:J,10,FALSE)),\"\",VLOOKUP(J237,'Vessel list'!A:J,10,FALSE)))","v":""},{"$f":"+IF(J237=\"\",\"\",IF(ISERROR(VLOOKUP(J237,'Vessel list'!A:C,3,FALSE)),\"\",VLOOKUP(J237,'Vessel list'!A:C,3,FALSE)))","v":""},"ITMILCNSHA000565870",null,"false","ITMIL","ITGOA","CNSHA","CNSHA",null,null,"SGOCEANETW0001","SHANGHAI EXPRESS","036E","2020-12-27","09:00:09","2021-01-30","08:08:08",null,null,null,null,null,null,null,null,null,null,null,null,"Tuesday","2020-12-22","18:00:00",44190,"00:00:00",44191,"00:00:00",null,null,"Sunday",34,null,"true","false","false"]
[{"$f":"+VLOOKUP(G238,'Lista consol SKR'!$P:$Q,2,FALSE)","v":23},1,"Singapore1",{"$f":"+VLOOKUP(R238,'Lista consol SKR'!C:D,2,FALSE)","v":"Singapore"},1,"Singapore1",{"$f":"+VLOOKUP(S238,'Lista consol SKR'!C:D,2,FALSE)","v":"Singapore"},{"$f":"+VLOOKUP(Q238,'Lista consol SKR'!A:B,2,FALSE)","v":"Genoa"},"Not required","MILANO BRIDGEITGOA",{"$f":"+IF(J238=\"\",\"\",IF(ISERROR(VLOOKUP(J238,'Vessel list'!A:J,10,FALSE)),\"\",VLOOKUP(J238,'Vessel list'!A:J,10,FALSE)))","v":""},{"$f":"+IF(J238=\"\",\"\",IF(ISERROR(VLOOKUP(J238,'Vessel list'!A:C,3,FALSE)),\"\",VLOOKUP(J238,'Vessel list'!A:C,3,FALSE)))","v":""},"ITMILSGSIN000552706",null,"false","ITMIL","ITGOA","SGSIN","SGSIN",null,null,"SGOCEANETW0001","MILANO BRIDGE","012E","2020-10-18","12:00:00","2020-11-07","21:00:00",null,null,null,null,null,null,null,null,null,null,null,null,"Tuesday","2020-10-13","18:00:00",44120,"12:00:00",44121,"12:00:00",null,null,"Sunday",21,null,"false","false","false"]
[{"$f":"+VLOOKUP(G239,'Lista consol SKR'!$P:$Q,2,FALSE)","v":23},2,"Singapore2",{"$f":"+VLOOKUP(R239,'Lista consol SKR'!C:D,2,FALSE)","v":"Singapore"},2,"Singapore2",{"$f":"+VLOOKUP(S239,'Lista consol SKR'!C:D,2,FALSE)","v":"Singapore"},{"$f":"+VLOOKUP(Q239,'Lista consol SKR'!A:B,2,FALSE)","v":"Genoa"},"Not required","ONE MILLAUITGOA",{"$f":"+IF(J239=\"\",\"\",IF(ISERROR(VLOOKUP(J239,'Vessel list'!A:J,10,FALSE)),\"\",VLOOKUP(J239,'Vessel list'!A:J,10,FALSE)))","v":""},{"$f":"+IF(J239=\"\",\"\",IF(ISERROR(VLOOKUP(J239,'Vessel list'!A:C,3,FALSE)),\"\",VLOOKUP(J239,'Vessel list'!A:C,3,FALSE)))","v":""},"ITMILSGSIN000565290",null,"false","ITMIL","ITGOA","SGSIN","SGSIN",null,null,"SGOCEANETW0001","ONE MILLAU","027E","2020-10-25","12:00:00","2020-11-13","07:00:00",null,null,null,null,null,null,null,null,null,null,null,null,"Tuesday","2020-10-20","00:00:00",44127,0.5,44128,0.5,null,null,"Sunday",19,null,"true","false","false"]
[{"$f":"+VLOOKUP(G240,'Lista consol SKR'!$P:$Q,2,FALSE)","v":23},3,"Singapore3",{"$f":"+VLOOKUP(R240,'Lista consol SKR'!C:D,2,FALSE)","v":"Singapore"},3,"Singapore3",{"$f":"+VLOOKUP(S240,'Lista consol SKR'!C:D,2,FALSE)","v":"Singapore"},{"$f":"+VLOOKUP(Q240,'Lista consol SKR'!A:B,2,FALSE)","v":"Genoa"},"Not required","JEBEL ALIITGOA",{"$f":"+IF(J240=\"\",\"\",IF(ISERROR(VLOOKUP(J240,'Vessel list'!A:J,10,FALSE)),\"\",VLOOKUP(J240,'Vessel list'!A:J,10,FALSE)))","v":"IT262102"},{"$f":"+IF(J240=\"\",\"\",IF(ISERROR(VLOOKUP(J240,'Vessel list'!A:C,3,FALSE)),\"\",VLOOKUP(J240,'Vessel list'!A:C,3,FALSE)))","v":"Genoa VTE"},"ITMILSGSIN000556817",null,"false","ITMIL","ITGOA","SGSIN","SGSIN",null,null,"SGOCEANETW0001","JEBEL ALI","015E","2020-11-06","12:00:00","2020-11-27","10:30:00",null,null,null,null,null,null,null,null,null,null,null,null,"Tuesday","2020-10-27","18:00:00","2020-10-30","12:00:00","2020-10-30","12:00:00",null,null,"Friday",21,null,"false","false","false"]
[{"$f":"+VLOOKUP(G241,'Lista consol SKR'!$P:$Q,2,FALSE)","v":23},4,"Singapore4",{"$f":"+VLOOKUP(R241,'Lista consol SKR'!C:D,2,FALSE)","v":"Singapore"},4,"Singapore4",{"$f":"+VLOOKUP(S241,'Lista consol SKR'!C:D,2,FALSE)","v":"Singapore"},{"$f":"+VLOOKUP(Q241,'Lista consol SKR'!A:B,2,FALSE)","v":"Genoa"},"Not required","ONE MANCHESTERITGOA",{"$f":"+IF(J241=\"\",\"\",IF(ISERROR(VLOOKUP(J241,'Vessel list'!A:J,10,FALSE)),\"\",VLOOKUP(J241,'Vessel list'!A:J,10,FALSE)))","v":""},{"$f":"+IF(J241=\"\",\"\",IF(ISERROR(VLOOKUP(J241,'Vessel list'!A:C,3,FALSE)),\"\",VLOOKUP(J241,'Vessel list'!A:C,3,FALSE)))","v":""},"ITMILSGSIN000559487",null,"false","ITMIL","ITGOA","SGSIN","SGSIN",null,null,"SGOCEANETW0001","ONE MANCHESTER","025E","2020-11-08","09:32:00","2020-11-29","17:32:00",null,null,null,null,null,null,null,null,null,null,null,null,"Tuesday","2020-11-03","18:00:00",44141,0.39722222222189885,44142,0.39722222222189885,null,null,"Sunday",22,null,"false","false","false"]
[{"$f":"+VLOOKUP(G242,'Lista consol SKR'!$P:$Q,2,FALSE)","v":23},5,"Singapore5",{"$f":"+VLOOKUP(R242,'Lista consol SKR'!C:D,2,FALSE)","v":"Singapore"},5,"Singapore5",{"$f":"+VLOOKUP(S242,'Lista consol SKR'!C:D,2,FALSE)","v":"Singapore"},{"$f":"+VLOOKUP(Q242,'Lista consol SKR'!A:B,2,FALSE)","v":"Genoa"},"Not required","LEVERKUSEN EXPRESSITGOA",{"$f":"+IF(J242=\"\",\"\",IF(ISERROR(VLOOKUP(J242,'Vessel list'!A:J,10,FALSE)),\"\",VLOOKUP(J242,'Vessel list'!A:J,10,FALSE)))","v":""},{"$f":"+IF(J242=\"\",\"\",IF(ISERROR(VLOOKUP(J242,'Vessel list'!A:C,3,FALSE)),\"\",VLOOKUP(J242,'Vessel list'!A:C,3,FALSE)))","v":""},"ITMILSGSIN000559488",null,"false","ITMIL","ITGOA","SGSIN","SGSIN",null,null,"SGOCEANETW0001","LEVERKUSEN EXPRESS","033E","2020-11-15","09:33:00","2020-12-06","17:33:00",null,null,null,null,null,null,null,null,null,null,null,null,"Tuesday","2020-11-10","18:00:00","2020-11-13","09:33:00","2020-11-14","09:33:00",null,null,"Sunday",22,null,"false","false","false"]
[{"$f":"+VLOOKUP(G243,'Lista consol SKR'!$P:$Q,2,FALSE)","v":23},6,"Singapore6",{"$f":"+VLOOKUP(R243,'Lista consol SKR'!C:D,2,FALSE)","v":"Singapore"},6,"Singapore6",{"$f":"+VLOOKUP(S243,'Lista consol SKR'!C:D,2,FALSE)","v":"Singapore"},{"$f":"+VLOOKUP(Q243,'Lista consol SKR'!A:B,2,FALSE)","v":"Genoa"},"Not required","UMM SALALITGOA",{"$f":"+IF(J243=\"\",\"\",IF(ISERROR(VLOOKUP(J243,'Vessel list'!A:J,10,FALSE)),\"\",VLOOKUP(J243,'Vessel list'!A:J,10,FALSE)))","v":""},{"$f":"+IF(J243=\"\",\"\",IF(ISERROR(VLOOKUP(J243,'Vessel list'!A:C,3,FALSE)),\"\",VLOOKUP(J243,'Vessel list'!A:C,3,FALSE)))","v":""},"ITMILSGSIN000565894",null,"false","ITMIL","ITGOA","SGSIN","SGSIN",null,null,"SGOCEANETW0001","UMM SALAL","022E","2020-11-29","09:34:00","2020-12-20","17:34:00",null,null,null,null,null,null,null,null,null,null,null,null,"Tuesday","2020-11-24","18:00:00","2020-11-27","09:34:00","2020-11-28","09:34:00",null,null,"Sunday",22,null,"false","false","false"]
[{"$f":"+VLOOKUP(G244,'Lista consol SKR'!$P:$Q,2,FALSE)","v":23},7,"Singapore7",{"$f":"+VLOOKUP(R244,'Lista consol SKR'!C:D,2,FALSE)","v":"Singapore"},7,"Singapore7",{"$f":"+VLOOKUP(S244,'Lista consol SKR'!C:D,2,FALSE)","v":"Singapore"},{"$f":"+VLOOKUP(Q244,'Lista consol SKR'!A:B,2,FALSE)","v":"Genoa"},"Not required","UNAYZAHITGOA",{"$f":"+IF(J244=\"\",\"\",IF(ISERROR(VLOOKUP(J244,'Vessel list'!A:J,10,FALSE)),\"\",VLOOKUP(J244,'Vessel list'!A:J,10,FALSE)))","v":"IT262102"},{"$f":"+IF(J244=\"\",\"\",IF(ISERROR(VLOOKUP(J244,'Vessel list'!A:C,3,FALSE)),\"\",VLOOKUP(J244,'Vessel list'!A:C,3,FALSE)))","v":"Genoa VTE"},"ITMILSGSIN000565895",null,"false","ITMIL","ITGOA","SGSIN","SGSIN",null,null,"SGOCEANETW0001","UNAYZAH","019E","2020-12-06","12:00:00","2020-12-27","06:00:00",null,null,null,null,null,null,null,null,null,null,null,null,"Tuesday","2020-12-01","18:00:00","2020-12-04","12:00:00","2020-12-05","12:00:00",null,null,"Sunday",21,null,"false","false","false"]
[{"$f":"+VLOOKUP(G245,'Lista consol SKR'!$P:$Q,2,FALSE)","v":23},8,"Singapore8",{"$f":"+VLOOKUP(R245,'Lista consol SKR'!C:D,2,FALSE)","v":"Singapore"},8,"Singapore8",{"$f":"+VLOOKUP(S245,'Lista consol SKR'!C:D,2,FALSE)","v":"Singapore"},{"$f":"+VLOOKUP(Q245,'Lista consol SKR'!A:B,2,FALSE)","v":"Genoa"},"Not required","HYUNDAI NEW YORKITGOA",{"$f":"+IF(J245=\"\",\"\",IF(ISERROR(VLOOKUP(J245,'Vessel list'!A:J,10,FALSE)),\"\",VLOOKUP(J245,'Vessel list'!A:J,10,FALSE)))","v":""},{"$f":"+IF(J245=\"\",\"\",IF(ISERROR(VLOOKUP(J245,'Vessel list'!A:C,3,FALSE)),\"\",VLOOKUP(J245,'Vessel list'!A:C,3,FALSE)))","v":""},"ITMILSGSIN000565896",null,"false","ITMIL","ITGOA","SGSIN","SGSIN",null,null,"SGOCEANETW0001","HYUNDAI NEW YORK","097E","2020-12-13","08:08:00","2021-01-03","00:08:00",null,null,null,null,null,null,null,null,null,null,null,null,"Tuesday","2020-12-08","18:00:00",44176,"23:00:00",44177,"00:00:00",null,null,"Sunday",21,null,"false","false","false"]
[{"$f":"+VLOOKUP(G246,'Lista consol SKR'!$P:$Q,2,FALSE)","v":24},1,"Sydney1",{"$f":"+VLOOKUP(R246,'Lista consol SKR'!C:D,2,FALSE)","v":"Sydney"},1,"Sydney1",{"$f":"+VLOOKUP(S246,'Lista consol SKR'!C:D,2,FALSE)","v":"Sydney"},{"$f":"+VLOOKUP(Q246,'Lista consol SKR'!A:B,2,FALSE)","v":"La Spezia"},"Not required","APL MEXICO CITYITSPE",{"$f":"+IF(J246=\"\",\"\",IF(ISERROR(VLOOKUP(J246,'Vessel list'!A:J,10,FALSE)),\"\",VLOOKUP(J246,'Vessel list'!A:J,10,FALSE)))","v":""},{"$f":"+IF(J246=\"\",\"\",IF(ISERROR(VLOOKUP(J246,'Vessel list'!A:C,3,FALSE)),\"\",VLOOKUP(J246,'Vessel list'!A:C,3,FALSE)))","v":""},"ITMILAUSYD000559460",null,"false","ITMIL","ITSPE","AUSYD","AUSYD",null,null,"DESACOSHIP0001","APL MEXICO CITY","0NN8FE","2020-10-16","09:08:00","2020-11-17","16:13:00",null,null,null,null,null,null,null,null,null,null,null,null,"Friday","2020-10-09","18:00:00",44118,0.38055555555911269,44119,0.38055555555911269,null,null,"Friday",32,null,"true","false","false"]
[{"$f":"+VLOOKUP(G247,'Lista consol SKR'!$P:$Q,2,FALSE)","v":24},2,"Sydney2",{"$f":"+VLOOKUP(R247,'Lista consol SKR'!C:D,2,FALSE)","v":"Sydney"},2,"Sydney2",{"$f":"+VLOOKUP(S247,'Lista consol SKR'!C:D,2,FALSE)","v":"Sydney"},{"$f":"+VLOOKUP(Q247,'Lista consol SKR'!A:B,2,FALSE)","v":"La Spezia"},"Not required","APL MEXICO CITYITSPE",{"$f":"+IF(J247=\"\",\"\",IF(ISERROR(VLOOKUP(J247,'Vessel list'!A:J,10,FALSE)),\"\",VLOOKUP(J247,'Vessel list'!A:J,10,FALSE)))","v":""},{"$f":"+IF(J247=\"\",\"\",IF(ISERROR(VLOOKUP(J247,'Vessel list'!A:C,3,FALSE)),\"\",VLOOKUP(J247,'Vessel list'!A:C,3,FALSE)))","v":""},"ITMILAUSYD000558725",null,"false","ITMIL","ITSPE","AUSYD","AUSYD",null,null,"USVANGLOGI0001","APL MEXICO CITY","0NN8FE","2020-10-16","09:08:00","2020-10-17","00:00:00",null,null,null,null,null,null,null,null,null,null,null,null,"Monday","2020-10-12","18:00:00",44118,"09:08:00",44119,"09:08:00",null,null,"Friday",32,"Gladys Chiccoli","true","false","false"]
[{"$f":"+VLOOKUP(G248,'Lista consol SKR'!$P:$Q,2,FALSE)","v":24},3,"Sydney3",{"$f":"+VLOOKUP(R248,'Lista consol SKR'!C:D,2,FALSE)","v":"Sydney"},3,"Sydney3",{"$f":"+VLOOKUP(S248,'Lista consol SKR'!C:D,2,FALSE)","v":"Sydney"},{"$f":"+VLOOKUP(Q248,'Lista consol SKR'!A:B,2,FALSE)","v":"La Spezia"},"Not required","MSC TIANJINITSPE",{"$f":"+IF(J248=\"\",\"\",IF(ISERROR(VLOOKUP(J248,'Vessel list'!A:J,10,FALSE)),\"\",VLOOKUP(J248,'Vessel list'!A:J,10,FALSE)))","v":""},{"$f":"+IF(J248=\"\",\"\",IF(ISERROR(VLOOKUP(J248,'Vessel list'!A:C,3,FALSE)),\"\",VLOOKUP(J248,'Vessel list'!A:C,3,FALSE)))","v":""},"ITMILAUSYD000564434",null,"false","ITMIL","ITSPE","AUSYD","AUSYD",null,null,"USVANGLOGI0001","MSC TIANJIN","MA041A","2020-10-23","00:00:00","2020-11-24","00:00:00",null,null,null,null,null,null,null,null,null,null,null,null,"Thursday","2020-10-15","00:00:00",44125,"00:00:00",44126,"00:00:00",null,null,"Friday",32,"Gladys Chiccoli","true","false","false"]
[{"$f":"+VLOOKUP(G249,'Lista consol SKR'!$P:$Q,2,FALSE)","v":24},4,"Sydney4",{"$f":"+VLOOKUP(R249,'Lista consol SKR'!C:D,2,FALSE)","v":"Sydney"},4,"Sydney4",{"$f":"+VLOOKUP(S249,'Lista consol SKR'!C:D,2,FALSE)","v":"Sydney"},{"$f":"+VLOOKUP(Q249,'Lista consol SKR'!A:B,2,FALSE)","v":"La Spezia"},"Not required","MSC TIANJINITSPE",{"$f":"+IF(J249=\"\",\"\",IF(ISERROR(VLOOKUP(J249,'Vessel list'!A:J,10,FALSE)),\"\",VLOOKUP(J249,'Vessel list'!A:J,10,FALSE)))","v":""},{"$f":"+IF(J249=\"\",\"\",IF(ISERROR(VLOOKUP(J249,'Vessel list'!A:C,3,FALSE)),\"\",VLOOKUP(J249,'Vessel list'!A:C,3,FALSE)))","v":""},"ITMILAUSYD000559461",null,"false","ITMIL","ITSPE","AUSYD","AUSYD",null,null,"DESACOSHIP0001","MSC TIANJIN","MA041A","2020-10-23","09:09:00","2020-11-24","16:14:00",null,null,null,null,null,null,null,null,null,null,null,null,"Friday","2020-10-16","18:00:00","2020-10-21","09:09:00","2020-10-22","09:09:00",null,null,"Friday",32,null,"true","false","false"]
[{"$f":"+VLOOKUP(G250,'Lista consol SKR'!$P:$Q,2,FALSE)","v":24},5,"Sydney5",{"$f":"+VLOOKUP(R250,'Lista consol SKR'!C:D,2,FALSE)","v":"Sydney"},5,"Sydney5",{"$f":"+VLOOKUP(S250,'Lista consol SKR'!C:D,2,FALSE)","v":"Sydney"},{"$f":"+VLOOKUP(Q250,'Lista consol SKR'!A:B,2,FALSE)","v":"La Spezia"},"Not required","MSC JOANNAITSPE",{"$f":"+IF(J250=\"\",\"\",IF(ISERROR(VLOOKUP(J250,'Vessel list'!A:J,10,FALSE)),\"\",VLOOKUP(J250,'Vessel list'!A:J,10,FALSE)))","v":""},{"$f":"+IF(J250=\"\",\"\",IF(ISERROR(VLOOKUP(J250,'Vessel list'!A:C,3,FALSE)),\"\",VLOOKUP(J250,'Vessel list'!A:C,3,FALSE)))","v":""},"ITMILAUSYD000564435",null,"false","ITMIL","ITSPE","AUSYD","AUSYD",null,null,"USVANGLOGI0001","MSC JOANNA","MA042A","2020-10-30","00:00:00","2020-12-01","00:00:00",null,null,null,null,null,null,null,null,null,null,null,null,"Thursday","2020-10-22","00:00:00",44132,0,44133,0,null,null,"Friday",32,"Gladys Chiccoli","true","false","false"]
[{"$f":"+VLOOKUP(G251,'Lista consol SKR'!$P:$Q,2,FALSE)","v":24},6,"Sydney6",{"$f":"+VLOOKUP(R251,'Lista consol SKR'!C:D,2,FALSE)","v":"Sydney"},6,"Sydney6",{"$f":"+VLOOKUP(S251,'Lista consol SKR'!C:D,2,FALSE)","v":"Sydney"},{"$f":"+VLOOKUP(Q251,'Lista consol SKR'!A:B,2,FALSE)","v":"La Spezia"},"Not required","MSC JOANNAITSPE",{"$f":"+IF(J251=\"\",\"\",IF(ISERROR(VLOOKUP(J251,'Vessel list'!A:J,10,FALSE)),\"\",VLOOKUP(J251,'Vessel list'!A:J,10,FALSE)))","v":""},{"$f":"+IF(J251=\"\",\"\",IF(ISERROR(VLOOKUP(J251,'Vessel list'!A:C,3,FALSE)),\"\",VLOOKUP(J251,'Vessel list'!A:C,3,FALSE)))","v":""},"ITMILAUSYD000559462",null,"false","ITMIL","ITSPE","AUSYD","AUSYD",null,null,"DESACOSHIP0001","MSC JOANNA","MA042A","2020-10-30","09:10:00","2020-12-01","16:15:00",null,null,null,null,null,null,null,null,null,null,null,null,"Friday","2020-10-23","18:00:00",44132,0.38194444444525288,44133,0.38194444444525288,null,null,"Friday",32,null,"true","false","false"]
[{"$f":"+VLOOKUP(G252,'Lista consol SKR'!$P:$Q,2,FALSE)","v":24},7,"Sydney7",{"$f":"+VLOOKUP(R252,'Lista consol SKR'!C:D,2,FALSE)","v":"Sydney"},7,"Sydney7",{"$f":"+VLOOKUP(S252,'Lista consol SKR'!C:D,2,FALSE)","v":"Sydney"},{"$f":"+VLOOKUP(Q252,'Lista consol SKR'!A:B,2,FALSE)","v":"La Spezia"},"Not required","APL DANUBEITSPE",{"$f":"+IF(J252=\"\",\"\",IF(ISERROR(VLOOKUP(J252,'Vessel list'!A:J,10,FALSE)),\"\",VLOOKUP(J252,'Vessel list'!A:J,10,FALSE)))","v":""},{"$f":"+IF(J252=\"\",\"\",IF(ISERROR(VLOOKUP(J252,'Vessel list'!A:C,3,FALSE)),\"\",VLOOKUP(J252,'Vessel list'!A:C,3,FALSE)))","v":""},"ITMILAUSYD000564436",null,"false","ITMIL","ITSPE","AUSYD","AUSYD",null,null,"USVANGLOGI0001","APL DANUBE","0NN8LE1","2020-11-06","00:00:00","2020-12-08","00:00:00",null,null,null,null,null,null,null,null,null,null,null,null,"Thursday","2020-10-29","00:00:00","2020-11-04","00:00:00","2020-11-05","00:00:00",null,null,"Friday",32,"Gladys Chiccoli","true","false","false"]
[{"$f":"+VLOOKUP(G253,'Lista consol SKR'!$P:$Q,2,FALSE)","v":24},8,"Sydney8",{"$f":"+VLOOKUP(R253,'Lista consol SKR'!C:D,2,FALSE)","v":"Sydney"},8,"Sydney8",{"$f":"+VLOOKUP(S253,'Lista consol SKR'!C:D,2,FALSE)","v":"Sydney"},{"$f":"+VLOOKUP(Q253,'Lista consol SKR'!A:B,2,FALSE)","v":"La Spezia"},"Not required","APL DANUBEITSPE",{"$f":"+IF(J253=\"\",\"\",IF(ISERROR(VLOOKUP(J253,'Vessel list'!A:J,10,FALSE)),\"\",VLOOKUP(J253,'Vessel list'!A:J,10,FALSE)))","v":""},{"$f":"+IF(J253=\"\",\"\",IF(ISERROR(VLOOKUP(J253,'Vessel list'!A:C,3,FALSE)),\"\",VLOOKUP(J253,'Vessel list'!A:C,3,FALSE)))","v":""},"ITMILAUSYD000559463",null,"false","ITMIL","ITSPE","AUSYD","AUSYD",null,null,"DESACOSHIP0001","APL DANUBE","0NN8LE","2020-11-06","09:11:00","2020-12-08","16:16:00",null,null,null,null,null,null,null,null,null,null,null,null,"Friday","2020-10-30","18:00:00",44139,0.38263888889196096,44140,0.38263888889196096,null,null,"Friday",32,null,"true","false","false"]
[{"$f":"+VLOOKUP(G254,'Lista consol SKR'!$P:$Q,2,FALSE)","v":24},9,"Sydney9",{"$f":"+VLOOKUP(R254,'Lista consol SKR'!C:D,2,FALSE)","v":"Sydney"},9,"Sydney9",{"$f":"+VLOOKUP(S254,'Lista consol SKR'!C:D,2,FALSE)","v":"Sydney"},{"$f":"+VLOOKUP(Q254,'Lista consol SKR'!A:B,2,FALSE)","v":"La Spezia"},"Not required","MSC SUSANNAITSPE",{"$f":"+IF(J254=\"\",\"\",IF(ISERROR(VLOOKUP(J254,'Vessel list'!A:J,10,FALSE)),\"\",VLOOKUP(J254,'Vessel list'!A:J,10,FALSE)))","v":""},{"$f":"+IF(J254=\"\",\"\",IF(ISERROR(VLOOKUP(J254,'Vessel list'!A:C,3,FALSE)),\"\",VLOOKUP(J254,'Vessel list'!A:C,3,FALSE)))","v":""},"ITMILAUSYD000564437",null,"false","ITMIL","ITSPE","AUSYD","AUSYD",null,null,"USVANGLOGI0001","MSC SUSANNA","MA044A","2020-11-13","00:00:00","2020-12-15","00:00:00",null,null,null,null,null,null,null,null,null,null,null,null,"Thursday","2020-11-05","00:00:00","2020-11-11","00:00:00","2020-11-12","00:00:00",null,null,"Friday",32,"Gladys Chiccoli","true","false","false"]
[{"$f":"+VLOOKUP(G255,'Lista consol SKR'!$P:$Q,2,FALSE)","v":24},10,"Sydney10",{"$f":"+VLOOKUP(R255,'Lista consol SKR'!C:D,2,FALSE)","v":"Sydney"},10,"Sydney10",{"$f":"+VLOOKUP(S255,'Lista consol SKR'!C:D,2,FALSE)","v":"Sydney"},{"$f":"+VLOOKUP(Q255,'Lista consol SKR'!A:B,2,FALSE)","v":"La Spezia"},"Not required","PUSAN CITSPE",{"$f":"+IF(J255=\"\",\"\",IF(ISERROR(VLOOKUP(J255,'Vessel list'!A:J,10,FALSE)),\"\",VLOOKUP(J255,'Vessel list'!A:J,10,FALSE)))","v":""},{"$f":"+IF(J255=\"\",\"\",IF(ISERROR(VLOOKUP(J255,'Vessel list'!A:C,3,FALSE)),\"\",VLOOKUP(J255,'Vessel list'!A:C,3,FALSE)))","v":""},"ITMILAUSYD000564438",null,"false","ITMIL","ITSPE","AUSYD","AUSYD",null,null,"USVANGLOGI0001","PUSAN C","045A","2020-11-20","00:00:00","2020-12-22","00:00:00",null,null,null,null,null,null,null,null,null,null,null,null,"Thursday","2020-11-12","00:00:00",44153,"00:00:00",44154,"00:00:00",null,null,"Friday",32,null,"true","false","false"]
[{"$f":"+VLOOKUP(G256,'Lista consol SKR'!$P:$Q,2,FALSE)","v":25},1,"Tokyo1",{"$f":"+VLOOKUP(R256,'Lista consol SKR'!C:D,2,FALSE)","v":"Tokyo"},1,"Tokyo1",{"$f":"+VLOOKUP(S256,'Lista consol SKR'!C:D,2,FALSE)","v":"Tokyo"},{"$f":"+VLOOKUP(Q256,'Lista consol SKR'!A:B,2,FALSE)","v":"Genoa"},"x","MILANO BRIDGEITGOA",{"$f":"+IF(J256=\"\",\"\",IF(ISERROR(VLOOKUP(J256,'Vessel list'!A:J,10,FALSE)),\"\",VLOOKUP(J256,'Vessel list'!A:J,10,FALSE)))","v":""},{"$f":"+IF(J256=\"\",\"\",IF(ISERROR(VLOOKUP(J256,'Vessel list'!A:C,3,FALSE)),\"\",VLOOKUP(J256,'Vessel list'!A:C,3,FALSE)))","v":""},"ITMILJPTYO000558062",null,"false","ITMIL","ITGOA","JPTYO","JPTYO","SGSIN",null,"SGOCEANETW0001","MILANO BRIDGE","012E","2020-10-18","12:00:00","2020-11-08","10:30:00","ONE OLYMPUS","062E",44145,0.70833333333575865,44155,0.66666666666424135,null,null,null,null,null,null,"Wednesday","2020-10-14","18:00:00","2020-10-16","12:00:00","2020-10-17","12:00:00",null,null,"Sunday",33,null,"true","false","false"]
[{"$f":"+VLOOKUP(G257,'Lista consol SKR'!$P:$Q,2,FALSE)","v":25},2,"Tokyo2",{"$f":"+VLOOKUP(R257,'Lista consol SKR'!C:D,2,FALSE)","v":"Tokyo"},2,"Tokyo2",{"$f":"+VLOOKUP(S257,'Lista consol SKR'!C:D,2,FALSE)","v":"Tokyo"},{"$f":"+VLOOKUP(Q257,'Lista consol SKR'!A:B,2,FALSE)","v":"Genoa"},"x","JEBEL ALIITGOA",{"$f":"+IF(J257=\"\",\"\",IF(ISERROR(VLOOKUP(J257,'Vessel list'!A:J,10,FALSE)),\"\",VLOOKUP(J257,'Vessel list'!A:J,10,FALSE)))","v":"IT262102"},{"$f":"+IF(J257=\"\",\"\",IF(ISERROR(VLOOKUP(J257,'Vessel list'!A:C,3,FALSE)),\"\",VLOOKUP(J257,'Vessel list'!A:C,3,FALSE)))","v":"Genoa VTE"},"ITMILJPTYO000559504",null,"false","ITMIL","ITGOA","JPTYO","JPTYO","SGSIN",null,"SGOCEANETW0001","JEBEL ALI","015E","2020-11-01","09:09:00","2020-11-22","08:08:08","NYK ORPHEUS","060E",44159,0.375104166669189,44169,0.33888888888759539,null,null,null,null,null,null,"Wednesday","2020-10-28","18:00:00","2020-10-30","00:00:00","2020-10-31","00:00:00",null,null,"Sunday",33,null,"true","false","false"]
[{"$f":"+VLOOKUP(G258,'Lista consol SKR'!$P:$Q,2,FALSE)","v":25},3,"Tokyo3",{"$f":"+VLOOKUP(R258,'Lista consol SKR'!C:D,2,FALSE)","v":"Tokyo"},3,"Tokyo3",{"$f":"+VLOOKUP(S258,'Lista consol SKR'!C:D,2,FALSE)","v":"Tokyo"},{"$f":"+VLOOKUP(Q258,'Lista consol SKR'!A:B,2,FALSE)","v":"Genoa"},"x","ONE MANCHESTERITGOA",{"$f":"+IF(J258=\"\",\"\",IF(ISERROR(VLOOKUP(J258,'Vessel list'!A:J,10,FALSE)),\"\",VLOOKUP(J258,'Vessel list'!A:J,10,FALSE)))","v":""},{"$f":"+IF(J258=\"\",\"\",IF(ISERROR(VLOOKUP(J258,'Vessel list'!A:C,3,FALSE)),\"\",VLOOKUP(J258,'Vessel list'!A:C,3,FALSE)))","v":""},"ITMILJPTYO000559505",null,"false","ITMIL","ITGOA","JPTYO","JPTYO","SGSIN",null,"SGOCEANETW0001","ONE MANCHESTER","025E","2020-11-13","12:00:00","2020-12-03","10:30:00","ONE HAMBURG","067E",44173,0.38135416666773381,44183,0.33898148148000473,null,null,null,null,null,null,"Wednesday","2020-11-11","18:00:00","2020-11-11","12:00:00","2020-11-12","12:00:00",null,null,"Friday",35,null,"true","false","false"]
[{"$f":"+VLOOKUP(G259,'Lista consol SKR'!$P:$Q,2,FALSE)","v":25},4,"Tokyo4",{"$f":"+VLOOKUP(R259,'Lista consol SKR'!C:D,2,FALSE)","v":"Tokyo"},4,"Tokyo4",{"$f":"+VLOOKUP(S259,'Lista consol SKR'!C:D,2,FALSE)","v":"Tokyo"},{"$f":"+VLOOKUP(Q259,'Lista consol SKR'!A:B,2,FALSE)","v":"Genoa"},"x","LEVERKUSEN EXPRESSITGOA",{"$f":"+IF(J259=\"\",\"\",IF(ISERROR(VLOOKUP(J259,'Vessel list'!A:J,10,FALSE)),\"\",VLOOKUP(J259,'Vessel list'!A:J,10,FALSE)))","v":""},{"$f":"+IF(J259=\"\",\"\",IF(ISERROR(VLOOKUP(J259,'Vessel list'!A:C,3,FALSE)),\"\",VLOOKUP(J259,'Vessel list'!A:C,3,FALSE)))","v":""},"ITMILJPTYO000559506",null,"false","ITMIL","ITGOA","JPTYO","JPTYO","SGSIN",null,"SGOCEANETW0001","LEVERKUSEN EXPRESS","033E","2020-11-15","09:33:00","2020-12-06","17:33:00","ONE HAMBURG","067E",44173,"09:09:09",44183,"08:08:08",null,null,null,null,null,null,"Wednesday","2020-11-11","18:00:00",44148,"09:33:00",44149,"09:33:00",null,null,"Sunday",33,null,"true","false","false"]
[{"$f":"+VLOOKUP(G260,'Lista consol SKR'!$P:$Q,2,FALSE)","v":25},5,"Tokyo5",{"$f":"+VLOOKUP(R260,'Lista consol SKR'!C:D,2,FALSE)","v":"Tokyo"},5,"Tokyo5",{"$f":"+VLOOKUP(S260,'Lista consol SKR'!C:D,2,FALSE)","v":"Tokyo"},{"$f":"+VLOOKUP(Q260,'Lista consol SKR'!A:B,2,FALSE)","v":"Genoa"},"x","UMM SALALITGOA",{"$f":"+IF(J260=\"\",\"\",IF(ISERROR(VLOOKUP(J260,'Vessel list'!A:J,10,FALSE)),\"\",VLOOKUP(J260,'Vessel list'!A:J,10,FALSE)))","v":""},{"$f":"+IF(J260=\"\",\"\",IF(ISERROR(VLOOKUP(J260,'Vessel list'!A:C,3,FALSE)),\"\",VLOOKUP(J260,'Vessel list'!A:C,3,FALSE)))","v":""},"ITMILJPTYO000565882",null,"false","ITMIL","ITGOA","JPTYO","JPTYO","SGSIN",null,"SGOCEANETW0001","UMM SALAL","022E","2020-11-29","09:34:00","2020-12-20","17:34:00","HENRY HUDSON BRIDGE","073E",44187,"09:09:00",44197,"08:08:08",null,null,null,null,null,null,"Wednesday","2020-11-25","18:00:00",44162,"09:34:00",44163,"09:34:00",null,null,"Sunday",33,null,"true","false","false"]
[{"$f":"+VLOOKUP(G261,'Lista consol SKR'!$P:$Q,2,FALSE)","v":25},6,"Tokyo6",{"$f":"+VLOOKUP(R261,'Lista consol SKR'!C:D,2,FALSE)","v":"Tokyo"},6,"Tokyo6",{"$f":"+VLOOKUP(S261,'Lista consol SKR'!C:D,2,FALSE)","v":"Tokyo"},{"$f":"+VLOOKUP(Q261,'Lista consol SKR'!A:B,2,FALSE)","v":"Genoa"},"x","UNAYZAHITGOA",{"$f":"+IF(J261=\"\",\"\",IF(ISERROR(VLOOKUP(J261,'Vessel list'!A:J,10,FALSE)),\"\",VLOOKUP(J261,'Vessel list'!A:J,10,FALSE)))","v":"IT262102"},{"$f":"+IF(J261=\"\",\"\",IF(ISERROR(VLOOKUP(J261,'Vessel list'!A:C,3,FALSE)),\"\",VLOOKUP(J261,'Vessel list'!A:C,3,FALSE)))","v":"Genoa VTE"},"ITMILJPTYO000565884",null,"false","ITMIL","ITGOA","JPTYO","JPTYO","SGSIN",null,"SGOCEANETW0001","UNAYZAH","019E","2020-12-06","12:00:00","2020-12-27","06:00:00","NYK VEGA","070E",44194,"09:09:00",44204,"08:08:00",null,null,null,null,null,null,"Wednesday","2020-12-02","18:00:00",44169,"12:00:00",44170,"12:00:00",null,null,"Sunday",33,null,"true","false","false"]
[{"$f":"+VLOOKUP(G262,'Lista consol SKR'!$P:$Q,2,FALSE)","v":25},7,"Tokyo7",{"$f":"+VLOOKUP(R262,'Lista consol SKR'!C:D,2,FALSE)","v":"Tokyo"},7,"Tokyo7",{"$f":"+VLOOKUP(S262,'Lista consol SKR'!C:D,2,FALSE)","v":"Tokyo"},{"$f":"+VLOOKUP(Q262,'Lista consol SKR'!A:B,2,FALSE)","v":"Genoa"},"x","HYUNDAI NEW YORKITGOA",{"$f":"+IF(J262=\"\",\"\",IF(ISERROR(VLOOKUP(J262,'Vessel list'!A:J,10,FALSE)),\"\",VLOOKUP(J262,'Vessel list'!A:J,10,FALSE)))","v":""},{"$f":"+IF(J262=\"\",\"\",IF(ISERROR(VLOOKUP(J262,'Vessel list'!A:C,3,FALSE)),\"\",VLOOKUP(J262,'Vessel list'!A:C,3,FALSE)))","v":""},"ITMILJPTYO000565885",null,"false","ITMIL","ITGOA","JPTYO","JPTYO","SGSIN",null,"SGOCEANETW0001","HYUNDAI NEW YORK","097E","2020-12-13","08:08:00","2021-01-03","00:08:00","NYK VENUS","067E",44201,"12:12:12",44211,"08:08:08",null,null,null,null,null,null,"Wednesday","2020-12-09","18:00:00",44176,"23:00:00",44177,"00:00:00",null,null,"Sunday",33,null,"true","false","false"]
[{"$f":"+VLOOKUP(G263,'Lista consol SKR'!$P:$Q,2,FALSE)","v":26},1,"Montreal1",{"$f":"+VLOOKUP(R263,'Lista consol SKR'!C:D,2,FALSE)","v":"Montreal"},1,"Toronto1",{"$f":"+VLOOKUP(S263,'Lista consol SKR'!C:D,2,FALSE)","v":"Toronto"},{"$f":"+VLOOKUP(Q263,'Lista consol SKR'!A:B,2,FALSE)","v":"Genoa"},"x","MSC MARTINAITGOA",{"$f":"+IF(J263=\"\",\"\",IF(ISERROR(VLOOKUP(J263,'Vessel list'!A:J,10,FALSE)),\"\",VLOOKUP(J263,'Vessel list'!A:J,10,FALSE)))","v":""},{"$f":"+IF(J263=\"\",\"\",IF(ISERROR(VLOOKUP(J263,'Vessel list'!A:C,3,FALSE)),\"\",VLOOKUP(J263,'Vessel list'!A:C,3,FALSE)))","v":""},"ITMILCATOR000545968",null,"false","ITMIL","ITGOA","CAMTR","CATOR",null,null,"CHMEDISHIP0001","MSC MARTINA","CX041A","2020-10-14","12:12:00","2020-10-26","12:12:12",null,null,null,null,null,null,null,null,null,null,null,null,"Wednesday","2020-10-07","18:00:00",44116,"00:00:00",44117,"00:00:00",null,null,"Monday",15,"Silvia Malabarba","true","false","false"]
[{"$f":"+VLOOKUP(G264,'Lista consol SKR'!$P:$Q,2,FALSE)","v":26},2,"Montreal2",{"$f":"+VLOOKUP(R264,'Lista consol SKR'!C:D,2,FALSE)","v":"Montreal"},2,"Toronto2",{"$f":"+VLOOKUP(S264,'Lista consol SKR'!C:D,2,FALSE)","v":"Toronto"},{"$f":"+VLOOKUP(Q264,'Lista consol SKR'!A:B,2,FALSE)","v":"Genoa"},"x","MSC BRIANNAITGOA",{"$f":"+IF(J264=\"\",\"\",IF(ISERROR(VLOOKUP(J264,'Vessel list'!A:J,10,FALSE)),\"\",VLOOKUP(J264,'Vessel list'!A:J,10,FALSE)))","v":""},{"$f":"+IF(J264=\"\",\"\",IF(ISERROR(VLOOKUP(J264,'Vessel list'!A:C,3,FALSE)),\"\",VLOOKUP(J264,'Vessel list'!A:C,3,FALSE)))","v":""},"ITMILCATOR000556402",null,"false","ITMIL","ITGOA","CAMTR","CATOR",null,null,"CHMEDISHIP0001","MSC BRIANNA","CX042A","2020-10-19","09:09:09","2020-11-02","08:08:08",null,null,null,null,null,null,null,null,null,null,null,null,"Tuesday","2020-10-13","18:00:00",44121,"00:00:00",44122,"00:00:00",null,null,"Monday",15,"Silvia Malabarba","true","false","false"]
[{"$f":"+VLOOKUP(G265,'Lista consol SKR'!$P:$Q,2,FALSE)","v":26},3,"Montreal3",{"$f":"+VLOOKUP(R265,'Lista consol SKR'!C:D,2,FALSE)","v":"Montreal"},3,"Toronto3",{"$f":"+VLOOKUP(S265,'Lista consol SKR'!C:D,2,FALSE)","v":"Toronto"},{"$f":"+VLOOKUP(Q265,'Lista consol SKR'!A:B,2,FALSE)","v":"Genoa"},"x","MSC ANIELLOITGOA",{"$f":"+IF(J265=\"\",\"\",IF(ISERROR(VLOOKUP(J265,'Vessel list'!A:J,10,FALSE)),\"\",VLOOKUP(J265,'Vessel list'!A:J,10,FALSE)))","v":""},{"$f":"+IF(J265=\"\",\"\",IF(ISERROR(VLOOKUP(J265,'Vessel list'!A:C,3,FALSE)),\"\",VLOOKUP(J265,'Vessel list'!A:C,3,FALSE)))","v":""},"ITMILCATOR000556403",null,"false","ITMIL","ITGOA","CAMTR","CATOR",null,null,"CHMEDISHIP0001","MSC ANIELLO","CX043A","2020-10-26","09:09:09","2020-11-09","08:08:08",null,null,null,null,null,null,null,null,null,null,null,null,"Tuesday","2020-10-20","18:00:00",44128,"00:00:00",44129,"00:00:00",null,null,"Monday",15,"Silvia Malabarba","true","false","false"]
[{"$f":"+VLOOKUP(G266,'Lista consol SKR'!$P:$Q,2,FALSE)","v":26},4,"Montreal4",{"$f":"+VLOOKUP(R266,'Lista consol SKR'!C:D,2,FALSE)","v":"Montreal"},4,"Toronto4",{"$f":"+VLOOKUP(S266,'Lista consol SKR'!C:D,2,FALSE)","v":"Toronto"},{"$f":"+VLOOKUP(Q266,'Lista consol SKR'!A:B,2,FALSE)","v":"Genoa"},"x","MSC SARISKAITGOA",{"$f":"+IF(J266=\"\",\"\",IF(ISERROR(VLOOKUP(J266,'Vessel list'!A:J,10,FALSE)),\"\",VLOOKUP(J266,'Vessel list'!A:J,10,FALSE)))","v":""},{"$f":"+IF(J266=\"\",\"\",IF(ISERROR(VLOOKUP(J266,'Vessel list'!A:C,3,FALSE)),\"\",VLOOKUP(J266,'Vessel list'!A:C,3,FALSE)))","v":""},"ITMILCATOR000556404",null,"false","ITMIL","ITGOA","CAMTR","CATOR",null,null,"CHMEDISHIP0001","MSC SARISKA","CX044A","2020-11-03","09:09:00","2020-11-17","08:08:08",null,null,null,null,null,null,null,null,null,null,null,null,"Tuesday","2020-10-27","18:00:00",44136,0,44137,0,null,null,"Tuesday",15,"Silvia Malabarba","true","false","false"]
[{"$f":"+VLOOKUP(G267,'Lista consol SKR'!$P:$Q,2,FALSE)","v":26},5,"Montreal5",{"$f":"+VLOOKUP(R267,'Lista consol SKR'!C:D,2,FALSE)","v":"Montreal"},5,"Toronto5",{"$f":"+VLOOKUP(S267,'Lista consol SKR'!C:D,2,FALSE)","v":"Toronto"},{"$f":"+VLOOKUP(Q267,'Lista consol SKR'!A:B,2,FALSE)","v":"Genoa"},"x","MSC VERONIQUEITGOA",{"$f":"+IF(J267=\"\",\"\",IF(ISERROR(VLOOKUP(J267,'Vessel list'!A:J,10,FALSE)),\"\",VLOOKUP(J267,'Vessel list'!A:J,10,FALSE)))","v":""},{"$f":"+IF(J267=\"\",\"\",IF(ISERROR(VLOOKUP(J267,'Vessel list'!A:C,3,FALSE)),\"\",VLOOKUP(J267,'Vessel list'!A:C,3,FALSE)))","v":""},"ITMILCATOR000565754",null,"false","ITMIL","ITGOA","CAMTR","CATOR",null,null,"CHMEDISHIP0001","MSC VERONIQUE","CX045A","2020-11-09","09:09:00","2020-11-23","08:08:00",null,null,null,null,null,null,null,null,null,null,null,null,"Tuesday","2020-11-03","18:00:00",44142,"00:00:00",44143,"00:00:00",null,null,"Monday",15,"Silvia Malabarba","true","false","false"]
[{"$f":"+VLOOKUP(G268,'Lista consol SKR'!$P:$Q,2,FALSE)","v":26},6,"Montreal6",{"$f":"+VLOOKUP(R268,'Lista consol SKR'!C:D,2,FALSE)","v":"Montreal"},6,"Toronto6",{"$f":"+VLOOKUP(S268,'Lista consol SKR'!C:D,2,FALSE)","v":"Toronto"},{"$f":"+VLOOKUP(Q268,'Lista consol SKR'!A:B,2,FALSE)","v":"Genoa"},"x","MSC MARTINAITGOA",{"$f":"+IF(J268=\"\",\"\",IF(ISERROR(VLOOKUP(J268,'Vessel list'!A:J,10,FALSE)),\"\",VLOOKUP(J268,'Vessel list'!A:J,10,FALSE)))","v":""},{"$f":"+IF(J268=\"\",\"\",IF(ISERROR(VLOOKUP(J268,'Vessel list'!A:C,3,FALSE)),\"\",VLOOKUP(J268,'Vessel list'!A:C,3,FALSE)))","v":""},"ITMILCATOR000565755",null,"false","ITMIL","ITGOA","CAMTR","CATOR",null,null,"CHMEDISHIP0001","MSC MARTINA","CX046A","2020-11-18","00:00:00","2020-12-02","00:00:00",null,null,null,null,null,null,null,null,null,null,null,null,"Tuesday","2020-11-10","18:00:00","2020-11-16","00:00:00","2020-11-17","00:00:00",null,null,"Wednesday",15,"Silvia Malabarba","true","false","false"]
[{"$f":"+VLOOKUP(G269,'Lista consol SKR'!$P:$Q,2,FALSE)","v":26},7,"Montreal7",{"$f":"+VLOOKUP(R269,'Lista consol SKR'!C:D,2,FALSE)","v":"Montreal"},7,"Toronto7",{"$f":"+VLOOKUP(S269,'Lista consol SKR'!C:D,2,FALSE)","v":"Toronto"},{"$f":"+VLOOKUP(Q269,'Lista consol SKR'!A:B,2,FALSE)","v":"Genoa"},"x","MSC BRIANNAITGOA",{"$f":"+IF(J269=\"\",\"\",IF(ISERROR(VLOOKUP(J269,'Vessel list'!A:J,10,FALSE)),\"\",VLOOKUP(J269,'Vessel list'!A:J,10,FALSE)))","v":""},{"$f":"+IF(J269=\"\",\"\",IF(ISERROR(VLOOKUP(J269,'Vessel list'!A:C,3,FALSE)),\"\",VLOOKUP(J269,'Vessel list'!A:C,3,FALSE)))","v":""},"ITMILCATOR000565756",null,"false","ITMIL","ITGOA","CAMTR","CATOR",null,null,"CHMEDISHIP0001","MSC BRIANNA","CX047A","2020-11-23","00:00:00","2020-12-07","00:00:00",null,null,null,null,null,null,null,null,null,null,null,null,"Tuesday","2020-11-17","18:00:00","2020-11-21","00:00:00","2020-11-22","00:00:00",null,null,"Monday",15,"Silvia Malabarba","true","false","false"]
[{"$f":"+VLOOKUP(G270,'Lista consol SKR'!$P:$Q,2,FALSE)","v":26},8,"Montreal8",{"$f":"+VLOOKUP(R270,'Lista consol SKR'!C:D,2,FALSE)","v":"Montreal"},8,"Toronto8",{"$f":"+VLOOKUP(S270,'Lista consol SKR'!C:D,2,FALSE)","v":"Toronto"},{"$f":"+VLOOKUP(Q270,'Lista consol SKR'!A:B,2,FALSE)","v":"Genoa"},"x","MSC ANIELLOITGOA",{"$f":"+IF(J270=\"\",\"\",IF(ISERROR(VLOOKUP(J270,'Vessel list'!A:J,10,FALSE)),\"\",VLOOKUP(J270,'Vessel list'!A:J,10,FALSE)))","v":""},{"$f":"+IF(J270=\"\",\"\",IF(ISERROR(VLOOKUP(J270,'Vessel list'!A:C,3,FALSE)),\"\",VLOOKUP(J270,'Vessel list'!A:C,3,FALSE)))","v":""},"ITMILCATOR000565757",null,"false","ITMIL","ITGOA","CAMTR","CATOR",null,null,"CHMEDISHIP0001","MSC ANIELLO","CX048A","2020-11-30","00:00:00","2020-12-14","00:00:00",null,null,null,null,null,null,null,null,null,null,null,null,"Tuesday","2020-11-24","18:00:00",44163,"00:00:00",44164,"00:00:00",null,null,"Monday",15,"Silvia Malabarba","true","false","false"]
[{"$f":"+VLOOKUP(G271,'Lista consol SKR'!$P:$Q,2,FALSE)","v":26},{"$f":"IF(D271=D270,B270+1,1)","v":9},{"$f":"+D271&B271","v":"Montreal9"},{"$f":"+VLOOKUP(R271,'Lista consol SKR'!C:D,2,FALSE)","v":"Montreal"},{"$f":"IF(G271=G270,E270+1,1)","v":9},{"$f":"+G271&E271","v":"Toronto9"},{"$f":"+VLOOKUP(S271,'Lista consol SKR'!C:D,2,FALSE)","v":"Toronto"},{"$f":"+VLOOKUP(Q271,'Lista consol SKR'!A:B,2,FALSE)","v":"Genoa"},{"$f":"IF(M271=\"\",\"\",IF(LEFT(S271,2)=\"CN\",\"x\",IF(LEFT(S271,2)=\"US\",\"x\",IF(LEFT(S271,2)=\"CA\",\"x\",IF(LEFT(S271,2)=\"JP\",\"x\",\"Not required\")))))","v":"x"},{"$f":"IF(W271=\"\",\"\",W271&Q271)","v":"MSC SARISKAITGOA"},{"$f":"+IF(J271=\"\",\"\",IF(ISERROR(VLOOKUP(J271,'Vessel list'!A:J,10,FALSE)),\"\",VLOOKUP(J271,'Vessel list'!A:J,10,FALSE)))","v":""},{"$f":"+IF(J271=\"\",\"\",IF(ISERROR(VLOOKUP(J271,'Vessel list'!A:C,3,FALSE)),\"\",VLOOKUP(J271,'Vessel list'!A:C,3,FALSE)))","v":""},"ITMILCATOR000565759",null,"false","ITMIL","ITGOA","CAMTR","CATOR",null,null,"CHMEDISHIP0001","MSC SARISKA","CX049A","2020-12-07","00:00:00","2020-12-21","00:00:00",null,null,null,null,null,null,null,null,null,null,null,null,"Tuesday","2020-12-01","18:00:00",44170,0,44171,0,null,null,"Monday",15,"Silvia Malabarba","true","false","false"]
[{"$f":"+VLOOKUP(G272,'Lista consol SKR'!$P:$Q,2,FALSE)","v":26},10,"Montreal10",{"$f":"+VLOOKUP(R272,'Lista consol SKR'!C:D,2,FALSE)","v":"Montreal"},10,"Toronto10",{"$f":"+VLOOKUP(S272,'Lista consol SKR'!C:D,2,FALSE)","v":"Toronto"},{"$f":"+VLOOKUP(Q272,'Lista consol SKR'!A:B,2,FALSE)","v":"Genoa"},"x","MSC VERONIQUEITGOA",{"$f":"+IF(J272=\"\",\"\",IF(ISERROR(VLOOKUP(J272,'Vessel list'!A:J,10,FALSE)),\"\",VLOOKUP(J272,'Vessel list'!A:J,10,FALSE)))","v":""},{"$f":"+IF(J272=\"\",\"\",IF(ISERROR(VLOOKUP(J272,'Vessel list'!A:C,3,FALSE)),\"\",VLOOKUP(J272,'Vessel list'!A:C,3,FALSE)))","v":""},"ITMILCATOR000565761",null,"false","ITMIL","ITGOA","CAMTR","CATOR",null,null,"CHMEDISHIP0001","MSC VERONIQUE","CX050A","2020-12-14","00:00:00","2020-12-28","00:00:00",null,null,null,null,null,null,null,null,null,null,null,null,"Tuesday","2020-12-08","18:00:00",44177,0,44178,0,null,null,"Monday",15,"Silvia Malabarba","true","false","false"]
[{"$f":"+VLOOKUP(G273,'Lista consol SKR'!$P:$Q,2,FALSE)","v":{"$error":"#N/A"}},1,"Valparaiso1",{"$f":"+VLOOKUP(R273,'Lista consol SKR'!C:D,2,FALSE)","v":"Valparaiso"},1,"Valparaiso1",{"$f":"+VLOOKUP(S273,'Lista consol SKR'!C:D,2,FALSE)","v":"Valparaiso"},{"$f":"+VLOOKUP(Q273,'Lista consol SKR'!A:B,2,FALSE)","v":"Genoa"},"Not required","MARYITGOA",{"$f":"+IF(J273=\"\",\"\",IF(ISERROR(VLOOKUP(J273,'Vessel list'!A:J,10,FALSE)),\"\",VLOOKUP(J273,'Vessel list'!A:J,10,FALSE)))","v":""},{"$f":"+IF(J273=\"\",\"\",IF(ISERROR(VLOOKUP(J273,'Vessel list'!A:C,3,FALSE)),\"\",VLOOKUP(J273,'Vessel list'!A:C,3,FALSE)))","v":""},"ITMILCLVAP000564642",null,"false","ITMIL","ITGOA","CLVAP","CLVAP",null,null,"BEECUWORLD0001","MARY","0DV7BS1MA","2020-10-21","00:00:00","2020-12-05","00:00:00",null,null,null,null,null,null,null,null,null,null,null,null,"Thursday","2020-10-15","18:00:00",44123,"00:00:00",44124,"00:00:00",null,null,"Wednesday",46,null,"true","false","false"]
[{"$f":"+VLOOKUP(G274,'Lista consol SKR'!$P:$Q,2,FALSE)","v":27},1,"Veracruz1",{"$f":"+VLOOKUP(R274,'Lista consol SKR'!C:D,2,FALSE)","v":"Veracruz"},1,"Veracruz1",{"$f":"+VLOOKUP(S274,'Lista consol SKR'!C:D,2,FALSE)","v":"Veracruz"},{"$f":"+VLOOKUP(Q274,'Lista consol SKR'!A:B,2,FALSE)","v":"Genoa"},"Not required","ALDEBARANITGOA",{"$f":"+IF(J274=\"\",\"\",IF(ISERROR(VLOOKUP(J274,'Vessel list'!A:J,10,FALSE)),\"\",VLOOKUP(J274,'Vessel list'!A:J,10,FALSE)))","v":""},{"$f":"+IF(J274=\"\",\"\",IF(ISERROR(VLOOKUP(J274,'Vessel list'!A:C,3,FALSE)),\"\",VLOOKUP(J274,'Vessel list'!A:C,3,FALSE)))","v":""},"ITMILMXVER000546936",null,"false","ITMIL","ITGOA","MXVER","MXVER",null,null,"ILZIMINTEG0001","ALDEBARAN","17","2020-10-16","09:09:00","2020-11-07","08:08:00",null,null,null,null,null,null,null,null,null,null,null,null,"Thursday","2020-10-08","18:00:00","2020-10-14","09:09:00","2020-10-15","09:09:00",null,null,"Friday",23,null,"true","false","false"]
[{"$f":"+VLOOKUP(G275,'Lista consol SKR'!$P:$Q,2,FALSE)","v":27},2,"Veracruz2",{"$f":"+VLOOKUP(R275,'Lista consol SKR'!C:D,2,FALSE)","v":"Veracruz"},2,"Veracruz2",{"$f":"+VLOOKUP(S275,'Lista consol SKR'!C:D,2,FALSE)","v":"Veracruz"},{"$f":"+VLOOKUP(Q275,'Lista consol SKR'!A:B,2,FALSE)","v":"Genoa"},"Not required","MY NYITGOA",{"$f":"+IF(J275=\"\",\"\",IF(ISERROR(VLOOKUP(J275,'Vessel list'!A:J,10,FALSE)),\"\",VLOOKUP(J275,'Vessel list'!A:J,10,FALSE)))","v":""},{"$f":"+IF(J275=\"\",\"\",IF(ISERROR(VLOOKUP(J275,'Vessel list'!A:C,3,FALSE)),\"\",VLOOKUP(J275,'Vessel list'!A:C,3,FALSE)))","v":""},"ITMILMXVER000542516",null,"false","ITMIL","ITGOA","MXVER","MXVER",null,null,"ILZIMINTEG0001","MY NY","6","2020-10-23","09:09:00","2020-11-14","08:08:00",null,null,null,null,null,null,null,null,null,null,null,null,"Thursday","2020-10-15","18:00:00",44125,"09:09:00",44126,"09:09:00",null,null,"Friday",23,null,"true","false","false"]
[{"$f":"+VLOOKUP(G276,'Lista consol SKR'!$P:$Q,2,FALSE)","v":27},3,"Veracruz3",{"$f":"+VLOOKUP(R276,'Lista consol SKR'!C:D,2,FALSE)","v":"Veracruz"},3,"Veracruz3",{"$f":"+VLOOKUP(S276,'Lista consol SKR'!C:D,2,FALSE)","v":"Veracruz"},{"$f":"+VLOOKUP(Q276,'Lista consol SKR'!A:B,2,FALSE)","v":"Genoa"},"Not required","AGIOS MINASITGOA",{"$f":"+IF(J276=\"\",\"\",IF(ISERROR(VLOOKUP(J276,'Vessel list'!A:J,10,FALSE)),\"\",VLOOKUP(J276,'Vessel list'!A:J,10,FALSE)))","v":""},{"$f":"+IF(J276=\"\",\"\",IF(ISERROR(VLOOKUP(J276,'Vessel list'!A:C,3,FALSE)),\"\",VLOOKUP(J276,'Vessel list'!A:C,3,FALSE)))","v":""},"ITMILMXVER000552687",null,"false","ITMIL","ITGOA","MXVER","MXVER",null,null,"ILZIMINTEG0001","AGIOS MINAS","08","2020-11-06","00:00:00","2020-11-28","00:00:00",null,null,null,null,null,null,null,null,null,null,null,null,"Thursday","2020-10-22","18:00:00","2020-11-04","00:00:00","2020-11-05","00:00:00",null,null,"Friday",23,null,"true","false","false"]
[{"$f":"+VLOOKUP(G277,'Lista consol SKR'!$P:$Q,2,FALSE)","v":27},4,"Veracruz4",{"$f":"+VLOOKUP(R277,'Lista consol SKR'!C:D,2,FALSE)","v":"Veracruz"},4,"Veracruz4",{"$f":"+VLOOKUP(S277,'Lista consol SKR'!C:D,2,FALSE)","v":"Veracruz"},{"$f":"+VLOOKUP(Q277,'Lista consol SKR'!A:B,2,FALSE)","v":"Genoa"},"Not required","NORTHERN PRACTISEITGOA",{"$f":"+IF(J277=\"\",\"\",IF(ISERROR(VLOOKUP(J277,'Vessel list'!A:J,10,FALSE)),\"\",VLOOKUP(J277,'Vessel list'!A:J,10,FALSE)))","v":""},{"$f":"+IF(J277=\"\",\"\",IF(ISERROR(VLOOKUP(J277,'Vessel list'!A:C,3,FALSE)),\"\",VLOOKUP(J277,'Vessel list'!A:C,3,FALSE)))","v":""},"ITMILMXVER000564635",null,"false","ITMIL","ITGOA","MXVER","MXVER",null,null,"ILZIMINTEG0001","NORTHERN PRACTISE","34","2020-11-13","00:00:00","2020-12-05","00:00:00",null,null,null,null,null,null,null,null,null,null,null,null,"Thursday","2020-11-05","18:00:00",44146,"00:00:00",44147,"00:00:00",null,null,"Friday",23,null,"true","false","false"]
[{"$f":"+VLOOKUP(G278,'Lista consol SKR'!$P:$Q,2,FALSE)","v":27},5,"Veracruz5",{"$f":"+VLOOKUP(R278,'Lista consol SKR'!C:D,2,FALSE)","v":"Veracruz"},5,"Veracruz5",{"$f":"+VLOOKUP(S278,'Lista consol SKR'!C:D,2,FALSE)","v":"Veracruz"},{"$f":"+VLOOKUP(Q278,'Lista consol SKR'!A:B,2,FALSE)","v":"Genoa"},"Not required","SANTA VIOLAITGOA",{"$f":"+IF(J278=\"\",\"\",IF(ISERROR(VLOOKUP(J278,'Vessel list'!A:J,10,FALSE)),\"\",VLOOKUP(J278,'Vessel list'!A:J,10,FALSE)))","v":""},{"$f":"+IF(J278=\"\",\"\",IF(ISERROR(VLOOKUP(J278,'Vessel list'!A:C,3,FALSE)),\"\",VLOOKUP(J278,'Vessel list'!A:C,3,FALSE)))","v":""},"ITMILMXVER000556705",null,"false","ITMIL","ITGOA","MXVER","MXVER",null,null,"ILZIMINTEG0001","SANTA VIOLA","24","2020-11-20","09:00:09","2020-12-12","08:08:00",null,null,null,null,null,null,null,null,null,null,null,null,"Thursday","2020-11-12","18:00:00",44153,"00:00:00",44154,"00:00:00",null,null,"Friday",23,null,"true","false","false"]
[{"$f":"+VLOOKUP(G279,'Lista consol SKR'!$P:$Q,2,FALSE)","v":27},6,"Veracruz6",{"$f":"+VLOOKUP(R279,'Lista consol SKR'!C:D,2,FALSE)","v":"Veracruz"},6,"Veracruz6",{"$f":"+VLOOKUP(S279,'Lista consol SKR'!C:D,2,FALSE)","v":"Veracruz"},{"$f":"+VLOOKUP(Q279,'Lista consol SKR'!A:B,2,FALSE)","v":"Genoa"},"Not required","DIMITRA CITGOA",{"$f":"+IF(J279=\"\",\"\",IF(ISERROR(VLOOKUP(J279,'Vessel list'!A:J,10,FALSE)),\"\",VLOOKUP(J279,'Vessel list'!A:J,10,FALSE)))","v":""},{"$f":"+IF(J279=\"\",\"\",IF(ISERROR(VLOOKUP(J279,'Vessel list'!A:C,3,FALSE)),\"\",VLOOKUP(J279,'Vessel list'!A:C,3,FALSE)))","v":""},"ITMILMXVER000565839",null,"false","ITMIL","ITGOA","MXVER","MXVER",null,null,"ILZIMINTEG0001","DIMITRA C","5","2020-12-04","09:09:09","2020-12-26","08:08:08",null,null,null,null,null,null,null,null,null,null,null,null,"Friday","2020-11-27","18:00:00",44167,"00:00:00",44168,"00:00:00",null,null,"Friday",23,null,"true","false","false"]
[{"$f":"+VLOOKUP(G280,'Lista consol SKR'!$P:$Q,2,FALSE)","v":27},7,"Veracruz7",{"$f":"+VLOOKUP(R280,'Lista consol SKR'!C:D,2,FALSE)","v":"Veracruz"},7,"Veracruz7",{"$f":"+VLOOKUP(S280,'Lista consol SKR'!C:D,2,FALSE)","v":"Veracruz"},{"$f":"+VLOOKUP(Q280,'Lista consol SKR'!A:B,2,FALSE)","v":"Genoa"},"Not required","SEASPAN LAHOREITGOA",{"$f":"+IF(J280=\"\",\"\",IF(ISERROR(VLOOKUP(J280,'Vessel list'!A:J,10,FALSE)),\"\",VLOOKUP(J280,'Vessel list'!A:J,10,FALSE)))","v":""},{"$f":"+IF(J280=\"\",\"\",IF(ISERROR(VLOOKUP(J280,'Vessel list'!A:C,3,FALSE)),\"\",VLOOKUP(J280,'Vessel list'!A:C,3,FALSE)))","v":""},"ITMILMXVER000565840",null,"false","ITMIL","ITGOA","MXVER","MXVER",null,null,"ILZIMINTEG0001","SEASPAN LAHORE","2","2020-12-11","09:09:09","2021-01-02","00:08:00",null,null,null,null,null,null,null,null,null,null,null,null,"Friday","2020-12-04","18:00:00","2020-12-09","00:00:00","2020-12-10","00:00:00",null,null,"Friday",22,null,"true","false","false"]
[{"$f":"+VLOOKUP(G281,'Lista consol SKR'!$P:$Q,2,FALSE)","v":27},8,"Veracruz8",{"$f":"+VLOOKUP(R281,'Lista consol SKR'!C:D,2,FALSE)","v":"Veracruz"},8,"Veracruz8",{"$f":"+VLOOKUP(S281,'Lista consol SKR'!C:D,2,FALSE)","v":"Veracruz"},{"$f":"+VLOOKUP(Q281,'Lista consol SKR'!A:B,2,FALSE)","v":"Genoa"},"Not required","MY NYITGOA",{"$f":"+IF(J281=\"\",\"\",IF(ISERROR(VLOOKUP(J281,'Vessel list'!A:J,10,FALSE)),\"\",VLOOKUP(J281,'Vessel list'!A:J,10,FALSE)))","v":""},{"$f":"+IF(J281=\"\",\"\",IF(ISERROR(VLOOKUP(J281,'Vessel list'!A:C,3,FALSE)),\"\",VLOOKUP(J281,'Vessel list'!A:C,3,FALSE)))","v":""},"ITMILMXVER000565841",null,"false","ITMIL","ITGOA","MXVER","MXVER",null,null,"ILZIMINTEG0001","MY NY","10","2020-12-18","09:09:00","2021-01-09","08:08:08",null,null,null,null,null,null,null,null,null,null,null,null,"Friday","2020-12-11","18:00:00",44181,"00:00:00",44182,"00:00:00",null,null,"Friday",23,null,"true","false","false"]
[{"$f":"+VLOOKUP(G282,'Lista consol SKR'!$P:$Q,2,FALSE)","v":{"$error":"#N/A"}},1,"Xingang1",{"$f":"+VLOOKUP(R282,'Lista consol SKR'!C:D,2,FALSE)","v":"Xingang"},1,"Xingang1",{"$f":"+VLOOKUP(S282,'Lista consol SKR'!C:D,2,FALSE)","v":"Xingang"},{"$f":"+VLOOKUP(Q282,'Lista consol SKR'!A:B,2,FALSE)","v":"Genoa"},"x","MILANO BRIDGEITGOA",{"$f":"+IF(J282=\"\",\"\",IF(ISERROR(VLOOKUP(J282,'Vessel list'!A:J,10,FALSE)),\"\",VLOOKUP(J282,'Vessel list'!A:J,10,FALSE)))","v":""},{"$f":"+IF(J282=\"\",\"\",IF(ISERROR(VLOOKUP(J282,'Vessel list'!A:C,3,FALSE)),\"\",VLOOKUP(J282,'Vessel list'!A:C,3,FALSE)))","v":""},"ITMILCNTXG000558716",null,"false","ITMIL","ITGOA","CNTXG","CNTXG",null,null,"BEECUWORLD0001","MILANO BRIDGE","012E","2020-10-18","00:00:00","2020-11-20","00:00:00",null,null,null,null,null,null,null,null,null,null,null,null,"Tuesday","2020-10-13","18:00:00",44121,"00:00:00",44121,"09:11:00",null,null,"Sunday",40,"Liala Salvadeni","false","false","false"]
[{"$f":"+VLOOKUP(G283,'Lista consol SKR'!$P:$Q,2,FALSE)","v":{"$error":"#N/A"}},2,"Xingang2",{"$f":"+VLOOKUP(R283,'Lista consol SKR'!C:D,2,FALSE)","v":"Xingang"},2,"Xingang2",{"$f":"+VLOOKUP(S283,'Lista consol SKR'!C:D,2,FALSE)","v":"Xingang"},{"$f":"+VLOOKUP(Q283,'Lista consol SKR'!A:B,2,FALSE)","v":"Genoa"},"x","MILANO BRIDGEITGOA",{"$f":"+IF(J283=\"\",\"\",IF(ISERROR(VLOOKUP(J283,'Vessel list'!A:J,10,FALSE)),\"\",VLOOKUP(J283,'Vessel list'!A:J,10,FALSE)))","v":""},{"$f":"+IF(J283=\"\",\"\",IF(ISERROR(VLOOKUP(J283,'Vessel list'!A:C,3,FALSE)),\"\",VLOOKUP(J283,'Vessel list'!A:C,3,FALSE)))","v":""},"ITMILCNTXG000565737",null,"false","ITMIL","ITGOA","CNTXG","CNTXG",null,null,"BEECUWORLD0001","MILANO BRIDGE","012E","2020-10-18","00:00:00","2020-11-20","00:00:00",null,null,null,null,null,null,null,null,null,null,null,null,"Thursday","2020-10-15","00:00:00",44121,"00:00:00",44122,"00:00:00",null,null,"Sunday",33,null,"false","false","false"]
[{"$f":"+VLOOKUP(G284,'Lista consol SKR'!$P:$Q,2,FALSE)","v":{"$error":"#N/A"}},3,"Xingang3",{"$f":"+VLOOKUP(R284,'Lista consol SKR'!C:D,2,FALSE)","v":"Xingang"},3,"Xingang3",{"$f":"+VLOOKUP(S284,'Lista consol SKR'!C:D,2,FALSE)","v":"Xingang"},{"$f":"+VLOOKUP(Q284,'Lista consol SKR'!A:B,2,FALSE)","v":"Genoa"},"x","ONE MILLAUITGOA",{"$f":"+IF(J284=\"\",\"\",IF(ISERROR(VLOOKUP(J284,'Vessel list'!A:J,10,FALSE)),\"\",VLOOKUP(J284,'Vessel list'!A:J,10,FALSE)))","v":""},{"$f":"+IF(J284=\"\",\"\",IF(ISERROR(VLOOKUP(J284,'Vessel list'!A:C,3,FALSE)),\"\",VLOOKUP(J284,'Vessel list'!A:C,3,FALSE)))","v":""},"ITMILCNTXG000564022",null,"false","ITMIL","ITGOA","CNTXG","CNTXG",null,null,"BEECUWORLD0001","ONE MILLAU","027E","2020-10-23","00:00:00","2020-11-30","00:00:01",null,null,null,null,null,null,null,null,null,null,null,null,"Friday","2020-10-16","00:00:00",44125,"00:00:00",44126,"00:00:00",null,null,"Friday",38,"Liala Salvadeni","true","false","false"]
[{"$f":"+VLOOKUP(G285,'Lista consol SKR'!$P:$Q,2,FALSE)","v":{"$error":"#N/A"}},4,"Xingang4",{"$f":"+VLOOKUP(R285,'Lista consol SKR'!C:D,2,FALSE)","v":"Xingang"},4,"Xingang4",{"$f":"+VLOOKUP(S285,'Lista consol SKR'!C:D,2,FALSE)","v":"Xingang"},{"$f":"+VLOOKUP(Q285,'Lista consol SKR'!A:B,2,FALSE)","v":"Genoa"},"x","JEBEL ALIITGOA",{"$f":"+IF(J285=\"\",\"\",IF(ISERROR(VLOOKUP(J285,'Vessel list'!A:J,10,FALSE)),\"\",VLOOKUP(J285,'Vessel list'!A:J,10,FALSE)))","v":"IT262102"},{"$f":"+IF(J285=\"\",\"\",IF(ISERROR(VLOOKUP(J285,'Vessel list'!A:C,3,FALSE)),\"\",VLOOKUP(J285,'Vessel list'!A:C,3,FALSE)))","v":"Genoa VTE"},"ITMILCNTXG000559431",null,"false","ITMIL","ITGOA","CNTXG","CNTXG",null,null,"DESACOSHIP0001","JEBEL ALI","015E","2020-11-01","09:12:00","2020-12-10","17:12:00",null,null,null,null,null,null,null,null,null,null,null,null,"Thursday","2020-10-29","18:00:00",44134,"09:12:00",44135,"09:12:00",null,null,"Sunday",40,null,"true","false","false"]
[{"$f":"+VLOOKUP(G286,'Lista consol SKR'!$P:$Q,2,FALSE)","v":{"$error":"#N/A"}},5,"Xingang5",{"$f":"+VLOOKUP(R286,'Lista consol SKR'!C:D,2,FALSE)","v":"Xingang"},5,"Xingang5",{"$f":"+VLOOKUP(S286,'Lista consol SKR'!C:D,2,FALSE)","v":"Xingang"},{"$f":"+VLOOKUP(Q286,'Lista consol SKR'!A:B,2,FALSE)","v":"Genoa"},"x","JEBEL ALIITGOA",{"$f":"+IF(J286=\"\",\"\",IF(ISERROR(VLOOKUP(J286,'Vessel list'!A:J,10,FALSE)),\"\",VLOOKUP(J286,'Vessel list'!A:J,10,FALSE)))","v":"IT262102"},{"$f":"+IF(J286=\"\",\"\",IF(ISERROR(VLOOKUP(J286,'Vessel list'!A:C,3,FALSE)),\"\",VLOOKUP(J286,'Vessel list'!A:C,3,FALSE)))","v":"Genoa VTE"},"ITMILCNTXG000565738",null,"false","ITMIL","ITGOA","CNTXG","CNTXG",null,null,"BEECUWORLD0001","JEBEL ALI","015E","2020-11-06","09:09:09","2020-12-08","08:08:00",null,null,null,null,null,null,null,null,null,null,null,null,"Thursday","2020-10-29","00:00:00","2020-11-04","00:00:00","2020-11-05","00:00:00",null,null,"Friday",32,null,"false","false","false"]
[{"$f":"+VLOOKUP(G287,'Lista consol SKR'!$P:$Q,2,FALSE)","v":{"$error":"#N/A"}},6,"Xingang6",{"$f":"+VLOOKUP(R287,'Lista consol SKR'!C:D,2,FALSE)","v":"Xingang"},6,"Xingang6",{"$f":"+VLOOKUP(S287,'Lista consol SKR'!C:D,2,FALSE)","v":"Xingang"},{"$f":"+VLOOKUP(Q287,'Lista consol SKR'!A:B,2,FALSE)","v":"Genoa"},"x","JEBEL ALIITGOA",{"$f":"+IF(J287=\"\",\"\",IF(ISERROR(VLOOKUP(J287,'Vessel list'!A:J,10,FALSE)),\"\",VLOOKUP(J287,'Vessel list'!A:J,10,FALSE)))","v":"IT262102"},{"$f":"+IF(J287=\"\",\"\",IF(ISERROR(VLOOKUP(J287,'Vessel list'!A:C,3,FALSE)),\"\",VLOOKUP(J287,'Vessel list'!A:C,3,FALSE)))","v":"Genoa VTE"},"ITMILCNTXG000558718",null,"false","ITMIL","ITGOA","CNTXG","CNTXG",null,null,"BEECUWORLD0001","JEBEL ALI","015E","2020-11-06","09:09:09","2020-12-08","08:08:00",null,null,null,null,null,null,null,null,null,null,null,null,"Monday","2020-11-02","18:00:00",44134,"00:00:00",44140,"00:00:00",null,null,"Sunday",32,"Liala Salvadeni","false","false","false"]
[{"$f":"+VLOOKUP(G288,'Lista consol SKR'!$P:$Q,2,FALSE)","v":{"$error":"#N/A"}},7,"Xingang7",{"$f":"+VLOOKUP(R288,'Lista consol SKR'!C:D,2,FALSE)","v":"Xingang"},7,"Xingang7",{"$f":"+VLOOKUP(S288,'Lista consol SKR'!C:D,2,FALSE)","v":"Xingang"},{"$f":"+VLOOKUP(Q288,'Lista consol SKR'!A:B,2,FALSE)","v":"Genoa"},"x","ONE MANCHESTERITGOA",{"$f":"+IF(J288=\"\",\"\",IF(ISERROR(VLOOKUP(J288,'Vessel list'!A:J,10,FALSE)),\"\",VLOOKUP(J288,'Vessel list'!A:J,10,FALSE)))","v":""},{"$f":"+IF(J288=\"\",\"\",IF(ISERROR(VLOOKUP(J288,'Vessel list'!A:C,3,FALSE)),\"\",VLOOKUP(J288,'Vessel list'!A:C,3,FALSE)))","v":""},"ITMILCNTXG000559433",null,"false","ITMIL","ITGOA","CNTXG","CNTXG",null,null,"DESACOSHIP0001","ONE MANCHESTER","025E","2020-11-08","09:13:00","2020-12-17","17:13:00",null,null,null,null,null,null,null,null,null,null,null,null,"Thursday","2020-11-05","18:00:00",44141,"09:13:00",44142,"09:13:00",null,null,"Sunday",40,null,"true","false","false"]
[{"$f":"+VLOOKUP(G289,'Lista consol SKR'!$P:$Q,2,FALSE)","v":{"$error":"#N/A"}},8,"Xingang8",{"$f":"+VLOOKUP(R289,'Lista consol SKR'!C:D,2,FALSE)","v":"Xingang"},8,"Xingang8",{"$f":"+VLOOKUP(S289,'Lista consol SKR'!C:D,2,FALSE)","v":"Xingang"},{"$f":"+VLOOKUP(Q289,'Lista consol SKR'!A:B,2,FALSE)","v":"Genoa"},"x","ONE MANCHESTERITGOA",{"$f":"+IF(J289=\"\",\"\",IF(ISERROR(VLOOKUP(J289,'Vessel list'!A:J,10,FALSE)),\"\",VLOOKUP(J289,'Vessel list'!A:J,10,FALSE)))","v":""},{"$f":"+IF(J289=\"\",\"\",IF(ISERROR(VLOOKUP(J289,'Vessel list'!A:C,3,FALSE)),\"\",VLOOKUP(J289,'Vessel list'!A:C,3,FALSE)))","v":""},"ITMILCNTXG000565740",null,"false","ITMIL","ITGOA","CNTXG","CNTXG",null,null,"BEECUWORLD0001","ONE MANCHESTER","025E","2020-11-12","09:09:09","2020-12-22","08:08:00",null,null,null,null,null,null,null,null,null,null,null,null,"Thursday","2020-11-05","00:00:00","2020-11-10","00:00:00","2020-11-11","00:00:00",null,null,"Thursday",40,null,"false","false","false"]
[{"$f":"+VLOOKUP(G290,'Lista consol SKR'!$P:$Q,2,FALSE)","v":{"$error":"#N/A"}},9,"Xingang9",{"$f":"+VLOOKUP(R290,'Lista consol SKR'!C:D,2,FALSE)","v":"Xingang"},9,"Xingang9",{"$f":"+VLOOKUP(S290,'Lista consol SKR'!C:D,2,FALSE)","v":"Xingang"},{"$f":"+VLOOKUP(Q290,'Lista consol SKR'!A:B,2,FALSE)","v":"Genoa"},"x","LEVERKUSEN EXPRESSITGOA",{"$f":"+IF(J290=\"\",\"\",IF(ISERROR(VLOOKUP(J290,'Vessel list'!A:J,10,FALSE)),\"\",VLOOKUP(J290,'Vessel list'!A:J,10,FALSE)))","v":""},{"$f":"+IF(J290=\"\",\"\",IF(ISERROR(VLOOKUP(J290,'Vessel list'!A:C,3,FALSE)),\"\",VLOOKUP(J290,'Vessel list'!A:C,3,FALSE)))","v":""},"ITMILCNTXG000559434",null,"false","ITMIL","ITGOA","CNTXG","CNTXG",null,null,"DESACOSHIP0001","LEVERKUSEN EXPRESS","033E","2020-11-15","09:14:00","2020-12-24","17:14:00",null,null,null,null,null,null,null,null,null,null,null,null,"Thursday","2020-11-12","18:00:00","2020-11-13","09:14:00","2020-11-14","09:14:00",null,null,"Sunday",40,null,"true","false","false"]
[{"$f":"+VLOOKUP(G291,'Lista consol SKR'!$P:$Q,2,FALSE)","v":{"$error":"#N/A"}},10,"Xingang10",{"$f":"+VLOOKUP(R291,'Lista consol SKR'!C:D,2,FALSE)","v":"Xingang"},10,"Xingang10",{"$f":"+VLOOKUP(S291,'Lista consol SKR'!C:D,2,FALSE)","v":"Xingang"},{"$f":"+VLOOKUP(Q291,'Lista consol SKR'!A:B,2,FALSE)","v":"Genoa"},"x","UMM SALALITGOA",{"$f":"+IF(J291=\"\",\"\",IF(ISERROR(VLOOKUP(J291,'Vessel list'!A:J,10,FALSE)),\"\",VLOOKUP(J291,'Vessel list'!A:J,10,FALSE)))","v":""},{"$f":"+IF(J291=\"\",\"\",IF(ISERROR(VLOOKUP(J291,'Vessel list'!A:C,3,FALSE)),\"\",VLOOKUP(J291,'Vessel list'!A:C,3,FALSE)))","v":""},"ITMILCNTXG000559432",null,"false","ITMIL","ITGOA","CNTXG","CNTXG",null,null,"DESACOSHIP0001","UMM SALAL","022E","2020-11-29","09:15:00","2021-01-01","17:15:00",null,null,null,null,null,null,null,null,null,null,null,null,"Thursday","2020-11-26","18:00:00","2020-11-27","09:15:00","2020-11-28","09:15:00",null,null,"Sunday",34,null,"true","false","false"]
[{"$f":"+VLOOKUP(G292,'Lista consol SKR'!$P:$Q,2,FALSE)","v":{"$error":"#N/A"}},11,"Xingang11",{"$f":"+VLOOKUP(R292,'Lista consol SKR'!C:D,2,FALSE)","v":"Xingang"},11,"Xingang11",{"$f":"+VLOOKUP(S292,'Lista consol SKR'!C:D,2,FALSE)","v":"Xingang"},{"$f":"+VLOOKUP(Q292,'Lista consol SKR'!A:B,2,FALSE)","v":"Genoa"},"x","UMM SALALITGOA",{"$f":"+IF(J292=\"\",\"\",IF(ISERROR(VLOOKUP(J292,'Vessel list'!A:J,10,FALSE)),\"\",VLOOKUP(J292,'Vessel list'!A:J,10,FALSE)))","v":""},{"$f":"+IF(J292=\"\",\"\",IF(ISERROR(VLOOKUP(J292,'Vessel list'!A:C,3,FALSE)),\"\",VLOOKUP(J292,'Vessel list'!A:C,3,FALSE)))","v":""},"ITMILCNTXG000565741",null,"false","ITMIL","ITGOA","CNTXG","CNTXG",null,null,"BEECUWORLD0001","UMM SALAL","022E","2020-11-29","09:00:09","2020-12-31","08:08:00",null,null,null,null,null,null,null,null,null,null,null,null,"Thursday","2020-11-26","00:00:00",44162,"00:00:00",44163,"00:00:00",null,null,"Sunday",32,null,"false","false","false"]
[{"$f":"+VLOOKUP(G293,'Lista consol SKR'!$P:$Q,2,FALSE)","v":{"$error":"#N/A"}},12,"Xingang12",{"$f":"+VLOOKUP(R293,'Lista consol SKR'!C:D,2,FALSE)","v":"Xingang"},12,"Xingang12",{"$f":"+VLOOKUP(S293,'Lista consol SKR'!C:D,2,FALSE)","v":"Xingang"},{"$f":"+VLOOKUP(Q293,'Lista consol SKR'!A:B,2,FALSE)","v":"Genoa"},"x","UNAYZAHITGOA",{"$f":"+IF(J293=\"\",\"\",IF(ISERROR(VLOOKUP(J293,'Vessel list'!A:J,10,FALSE)),\"\",VLOOKUP(J293,'Vessel list'!A:J,10,FALSE)))","v":"IT262102"},{"$f":"+IF(J293=\"\",\"\",IF(ISERROR(VLOOKUP(J293,'Vessel list'!A:C,3,FALSE)),\"\",VLOOKUP(J293,'Vessel list'!A:C,3,FALSE)))","v":"Genoa VTE"},"ITMILCNTXG000565743",null,"false","ITMIL","ITGOA","CNTXG","CNTXG",null,null,"BEECUWORLD0001","UNAYZAH","019E","2020-12-06","09:09:00","2021-01-07","00:08:00",null,null,null,null,null,null,null,null,null,null,null,null,"Thursday","2020-12-03","00:00:00",44169,"00:00:00",44170,"00:00:00",null,null,"Sunday",32,null,"false","false","false"]
[{"$f":"+VLOOKUP(G294,'Lista consol SKR'!$P:$Q,2,FALSE)","v":{"$error":"#N/A"}},{"$error":"#N/A"},{"$error":"#N/A"},{"$f":"+VLOOKUP(R294,'Lista consol SKR'!C:D,2,FALSE)","v":{"$error":"#N/A"}},{"$error":"#N/A"},{"$error":"#N/A"},{"$f":"+VLOOKUP(S294,'Lista consol SKR'!C:D,2,FALSE)","v":{"$error":"#N/A"}},{"$f":"+VLOOKUP(Q294,'Lista consol SKR'!A:B,2,FALSE)","v":"Genoa"},"Not required","MAYSSANITGOA",{"$f":"+IF(J294=\"\",\"\",IF(ISERROR(VLOOKUP(J294,'Vessel list'!A:J,10,FALSE)),\"\",VLOOKUP(J294,'Vessel list'!A:J,10,FALSE)))","v":""},{"$f":"+IF(J294=\"\",\"\",IF(ISERROR(VLOOKUP(J294,'Vessel list'!A:C,3,FALSE)),\"\",VLOOKUP(J294,'Vessel list'!A:C,3,FALSE)))","v":""},"ITMILJOAQB000561156",null,"false","ITMIL","ITGOA","JOAQB","JOAQB",null,null,"BEECUWORLD0001","MAYSSAN","2037E","2020-10-14","00:00:00","2020-10-23","00:00:00",null,null,null,null,null,null,null,null,null,null,null,null,"Thursday","2020-10-08","18:00:00",44116,"00:00:00",44117,"00:00:00",null,null,"Wednesday",9,"Silvia Bagnalasta","true","false","false"]
[{"$f":"+VLOOKUP(G295,'Lista consol SKR'!$P:$Q,2,FALSE)","v":{"$error":"#N/A"}},{"$error":"#N/A"},{"$error":"#N/A"},{"$f":"+VLOOKUP(R295,'Lista consol SKR'!C:D,2,FALSE)","v":{"$error":"#N/A"}},{"$error":"#N/A"},{"$error":"#N/A"},{"$f":"+VLOOKUP(S295,'Lista consol SKR'!C:D,2,FALSE)","v":{"$error":"#N/A"}},{"$f":"+VLOOKUP(Q295,'Lista consol SKR'!A:B,2,FALSE)","v":"Genoa"},"Not required","CMA CGM RACINEITGOA",{"$f":"+IF(J295=\"\",\"\",IF(ISERROR(VLOOKUP(J295,'Vessel list'!A:J,10,FALSE)),\"\",VLOOKUP(J295,'Vessel list'!A:J,10,FALSE)))","v":""},{"$f":"+IF(J295=\"\",\"\",IF(ISERROR(VLOOKUP(J295,'Vessel list'!A:C,3,FALSE)),\"\",VLOOKUP(J295,'Vessel list'!A:C,3,FALSE)))","v":""},"ITMILJOAQB000565967",null,"false","ITMIL","ITGOA","JOAQB","JOAQB",null,null,"BEECUWORLD0001","CMA CGM RACINE","0MX7AE1MA","2020-10-21","00:00:00","2020-10-30","00:00:00",null,null,null,null,null,null,null,null,null,null,null,null,"Thursday","2020-10-15","18:00:00",44123,0,44124,0,null,null,"Wednesday",9,null,"true","false","false"]
[{"$f":"+VLOOKUP(G296,'Lista consol SKR'!$P:$Q,2,FALSE)","v":{"$error":"#N/A"}},{"$error":"#N/A"},{"$error":"#N/A"},{"$f":"+VLOOKUP(R296,'Lista consol SKR'!C:D,2,FALSE)","v":{"$error":"#N/A"}},{"$error":"#N/A"},{"$error":"#N/A"},{"$f":"+VLOOKUP(S296,'Lista consol SKR'!C:D,2,FALSE)","v":{"$error":"#N/A"}},{"$f":"+VLOOKUP(Q296,'Lista consol SKR'!A:B,2,FALSE)","v":"Genoa"},"Not required","CMA CGM RACINEITGOA",{"$f":"+IF(J296=\"\",\"\",IF(ISERROR(VLOOKUP(J296,'Vessel list'!A:J,10,FALSE)),\"\",VLOOKUP(J296,'Vessel list'!A:J,10,FALSE)))","v":""},{"$f":"+IF(J296=\"\",\"\",IF(ISERROR(VLOOKUP(J296,'Vessel list'!A:C,3,FALSE)),\"\",VLOOKUP(J296,'Vessel list'!A:C,3,FALSE)))","v":""},"ITMILJOAQB000566164",null,"false","ITMIL","ITGOA","JOAQB","JOAQB",null,null,"BEECUWORLD0001","CMA CGM RACINE","0MX7AE1MA","2020-10-21","00:00:00","2020-10-30","00:00:00",null,null,null,null,null,null,null,null,null,null,null,null,"Thursday","2020-10-15","18:00:00",44123,0,44124,0,null,null,"Wednesday",9,null,"true","false","false"]
[{"$f":"+VLOOKUP(G297,'Lista consol SKR'!$P:$Q,2,FALSE)","v":{"$error":"#N/A"}},{"$error":"#N/A"},{"$error":"#N/A"},{"$f":"+VLOOKUP(R297,'Lista consol SKR'!C:D,2,FALSE)","v":{"$error":"#N/A"}},{"$error":"#N/A"},{"$error":"#N/A"},{"$f":"+VLOOKUP(S297,'Lista consol SKR'!C:D,2,FALSE)","v":{"$error":"#N/A"}},{"$f":"+VLOOKUP(Q297,'Lista consol SKR'!A:B,2,FALSE)","v":{"$error":"#N/A"}},"","",{"$f":"+IF(J297=\"\",\"\",IF(ISERROR(VLOOKUP(J297,'Vessel list'!A:J,10,FALSE)),\"\",VLOOKUP(J297,'Vessel list'!A:J,10,FALSE)))","v":""},{"$f":"+IF(J297=\"\",\"\",IF(ISERROR(VLOOKUP(J297,'Vessel list'!A:C,3,FALSE)),\"\",VLOOKUP(J297,'Vessel list'!A:C,3,FALSE)))","v":""}]
[{"$f":"+VLOOKUP(G298,'Lista consol SKR'!$P:$Q,2,FALSE)","v":{"$error":"#N/A"}},{"$error":"#N/A"},{"$error":"#N/A"},{"$f":"+VLOOKUP(R298,'Lista consol SKR'!C:D,2,FALSE)","v":{"$error":"#N/A"}},{"$error":"#N/A"},{"$error":"#N/A"},{"$f":"+VLOOKUP(S298,'Lista consol SKR'!C:D,2,FALSE)","v":{"$error":"#N/A"}},{"$f":"+VLOOKUP(Q298,'Lista consol SKR'!A:B,2,FALSE)","v":{"$error":"#N/A"}},"","",{"$f":"+IF(J298=\"\",\"\",IF(ISERROR(VLOOKUP(J298,'Vessel list'!A:J,10,FALSE)),\"\",VLOOKUP(J298,'Vessel list'!A:J,10,FALSE)))","v":""},{"$f":"+IF(J298=\"\",\"\",IF(ISERROR(VLOOKUP(J298,'Vessel list'!A:C,3,FALSE)),\"\",VLOOKUP(J298,'Vessel list'!A:C,3,FALSE)))","v":""}]
[{"$f":"+VLOOKUP(G299,'Lista consol SKR'!$P:$Q,2,FALSE)","v":{"$error":"#N/A"}},{"$error":"#N/A"},{"$error":"#N/A"},{"$f":"+VLOOKUP(R299,'Lista consol SKR'!C:D,2,FALSE)","v":{"$error":"#N/A"}},{"$error":"#N/A"},{"$error":"#N/A"},{"$f":"+VLOOKUP(S299,'Lista consol SKR'!C:D,2,FALSE)","v":{"$error":"#N/A"}},{"$f":"+VLOOKUP(Q299,'Lista consol SKR'!A:B,2,FALSE)","v":{"$error":"#N/A"}},"","",{"$f":"+IF(J299=\"\",\"\",IF(ISERROR(VLOOKUP(J299,'Vessel list'!A:J,10,FALSE)),\"\",VLOOKUP(J299,'Vessel list'!A:J,10,FALSE)))","v":""},{"$f":"+IF(J299=\"\",\"\",IF(ISERROR(VLOOKUP(J299,'Vessel list'!A:C,3,FALSE)),\"\",VLOOKUP(J299,'Vessel list'!A:C,3,FALSE)))","v":""}]
[{"$f":"+VLOOKUP(G300,'Lista consol SKR'!$P:$Q,2,FALSE)","v":{"$error":"#N/A"}},{"$error":"#N/A"},{"$error":"#N/A"},{"$f":"+VLOOKUP(R300,'Lista consol SKR'!C:D,2,FALSE)","v":{"$error":"#N/A"}},{"$error":"#N/A"},{"$error":"#N/A"},{"$f":"+VLOOKUP(S300,'Lista consol SKR'!C:D,2,FALSE)","v":{"$error":"#N/A"}},{"$f":"+VLOOKUP(Q300,'Lista consol SKR'!A:B,2,FALSE)","v":{"$error":"#N/A"}},"","",{"$f":"+IF(J300=\"\",\"\",IF(ISERROR(VLOOKUP(J300,'Vessel list'!A:J,10,FALSE)),\"\",VLOOKUP(J300,'Vessel list'!A:J,10,FALSE)))","v":""},{"$f":"+IF(J300=\"\",\"\",IF(ISERROR(VLOOKUP(J300,'Vessel list'!A:C,3,FALSE)),\"\",VLOOKUP(J300,'Vessel list'!A:C,3,FALSE)))","v":""}]
[{"$f":"+VLOOKUP(G301,'Lista consol SKR'!$P:$Q,2,FALSE)","v":{"$error":"#N/A"}},{"$error":"#N/A"},{"$error":"#N/A"},{"$f":"+VLOOKUP(R301,'Lista consol SKR'!C:D,2,FALSE)","v":{"$error":"#N/A"}},{"$error":"#N/A"},{"$error":"#N/A"},{"$f":"+VLOOKUP(S301,'Lista consol SKR'!C:D,2,FALSE)","v":{"$error":"#N/A"}},{"$f":"+VLOOKUP(Q301,'Lista consol SKR'!A:B,2,FALSE)","v":{"$error":"#N/A"}},"","",{"$f":"+IF(J301=\"\",\"\",IF(ISERROR(VLOOKUP(J301,'Vessel list'!A:J,10,FALSE)),\"\",VLOOKUP(J301,'Vessel list'!A:J,10,FALSE)))","v":""},{"$f":"+IF(J301=\"\",\"\",IF(ISERROR(VLOOKUP(J301,'Vessel list'!A:C,3,FALSE)),\"\",VLOOKUP(J301,'Vessel list'!A:C,3,FALSE)))","v":""}]
[{"$f":"+VLOOKUP(G302,'Lista consol SKR'!$P:$Q,2,FALSE)","v":{"$error":"#N/A"}},{"$error":"#N/A"},{"$error":"#N/A"},{"$f":"+VLOOKUP(R302,'Lista consol SKR'!C:D,2,FALSE)","v":{"$error":"#N/A"}},{"$error":"#N/A"},{"$error":"#N/A"},{"$f":"+VLOOKUP(S302,'Lista consol SKR'!C:D,2,FALSE)","v":{"$error":"#N/A"}},{"$f":"+VLOOKUP(Q302,'Lista consol SKR'!A:B,2,FALSE)","v":{"$error":"#N/A"}},"","",{"$f":"+IF(J302=\"\",\"\",IF(ISERROR(VLOOKUP(J302,'Vessel list'!A:J,10,FALSE)),\"\",VLOOKUP(J302,'Vessel list'!A:J,10,FALSE)))","v":""},{"$f":"+IF(J302=\"\",\"\",IF(ISERROR(VLOOKUP(J302,'Vessel list'!A:C,3,FALSE)),\"\",VLOOKUP(J302,'Vessel list'!A:C,3,FALSE)))","v":""}]
[{"$f":"+VLOOKUP(G303,'Lista consol SKR'!$P:$Q,2,FALSE)","v":{"$error":"#N/A"}},{"$error":"#N/A"},{"$error":"#N/A"},{"$f":"+VLOOKUP(R303,'Lista consol SKR'!C:D,2,FALSE)","v":{"$error":"#N/A"}},{"$error":"#N/A"},{"$error":"#N/A"},{"$f":"+VLOOKUP(S303,'Lista consol SKR'!C:D,2,FALSE)","v":{"$error":"#N/A"}},{"$f":"+VLOOKUP(Q303,'Lista consol SKR'!A:B,2,FALSE)","v":{"$error":"#N/A"}},"","",{"$f":"+IF(J303=\"\",\"\",IF(ISERROR(VLOOKUP(J303,'Vessel list'!A:J,10,FALSE)),\"\",VLOOKUP(J303,'Vessel list'!A:J,10,FALSE)))","v":""},{"$f":"+IF(J303=\"\",\"\",IF(ISERROR(VLOOKUP(J303,'Vessel list'!A:C,3,FALSE)),\"\",VLOOKUP(J303,'Vessel list'!A:C,3,FALSE)))","v":""}]
[{"$f":"+VLOOKUP(G304,'Lista consol SKR'!$P:$Q,2,FALSE)","v":{"$error":"#N/A"}},{"$error":"#N/A"},{"$error":"#N/A"},{"$f":"+VLOOKUP(R304,'Lista consol SKR'!C:D,2,FALSE)","v":{"$error":"#N/A"}},{"$error":"#N/A"},{"$error":"#N/A"},{"$f":"+VLOOKUP(S304,'Lista consol SKR'!C:D,2,FALSE)","v":{"$error":"#N/A"}},{"$f":"+VLOOKUP(Q304,'Lista consol SKR'!A:B,2,FALSE)","v":{"$error":"#N/A"}},"","",{"$f":"+IF(J304=\"\",\"\",IF(ISERROR(VLOOKUP(J304,'Vessel list'!A:J,10,FALSE)),\"\",VLOOKUP(J304,'Vessel list'!A:J,10,FALSE)))","v":""},{"$f":"+IF(J304=\"\",\"\",IF(ISERROR(VLOOKUP(J304,'Vessel list'!A:C,3,FALSE)),\"\",VLOOKUP(J304,'Vessel list'!A:C,3,FALSE)))","v":""}]
[{"$f":"+VLOOKUP(G305,'Lista consol SKR'!$P:$Q,2,FALSE)","v":{"$error":"#N/A"}},{"$error":"#N/A"},{"$error":"#N/A"},{"$f":"+VLOOKUP(R305,'Lista consol SKR'!C:D,2,FALSE)","v":{"$error":"#N/A"}},{"$error":"#N/A"},{"$error":"#N/A"},{"$f":"+VLOOKUP(S305,'Lista consol SKR'!C:D,2,FALSE)","v":{"$error":"#N/A"}},{"$f":"+VLOOKUP(Q305,'Lista consol SKR'!A:B,2,FALSE)","v":{"$error":"#N/A"}},"","",{"$f":"+IF(J305=\"\",\"\",IF(ISERROR(VLOOKUP(J305,'Vessel list'!A:J,10,FALSE)),\"\",VLOOKUP(J305,'Vessel list'!A:J,10,FALSE)))","v":""},{"$f":"+IF(J305=\"\",\"\",IF(ISERROR(VLOOKUP(J305,'Vessel list'!A:C,3,FALSE)),\"\",VLOOKUP(J305,'Vessel list'!A:C,3,FALSE)))","v":""}]
[{"$f":"+VLOOKUP(G306,'Lista consol SKR'!$P:$Q,2,FALSE)","v":{"$error":"#N/A"}},{"$error":"#N/A"},{"$error":"#N/A"},{"$f":"+VLOOKUP(R306,'Lista consol SKR'!C:D,2,FALSE)","v":{"$error":"#N/A"}},{"$error":"#N/A"},{"$error":"#N/A"},{"$f":"+VLOOKUP(S306,'Lista consol SKR'!C:D,2,FALSE)","v":{"$error":"#N/A"}},{"$f":"+VLOOKUP(Q306,'Lista consol SKR'!A:B,2,FALSE)","v":{"$error":"#N/A"}},"","",{"$f":"+IF(J306=\"\",\"\",IF(ISERROR(VLOOKUP(J306,'Vessel list'!A:J,10,FALSE)),\"\",VLOOKUP(J306,'Vessel list'!A:J,10,FALSE)))","v":""},{"$f":"+IF(J306=\"\",\"\",IF(ISERROR(VLOOKUP(J306,'Vessel list'!A:C,3,FALSE)),\"\",VLOOKUP(J306,'Vessel list'!A:C,3,FALSE)))","v":""}]
[{"$f":"+VLOOKUP(G307,'Lista consol SKR'!$P:$Q,2,FALSE)","v":{"$error":"#N/A"}},{"$error":"#N/A"},{"$error":"#N/A"},{"$f":"+VLOOKUP(R307,'Lista consol SKR'!C:D,2,FALSE)","v":{"$error":"#N/A"}},{"$error":"#N/A"},{"$error":"#N/A"},{"$f":"+VLOOKUP(S307,'Lista consol SKR'!C:D,2,FALSE)","v":{"$error":"#N/A"}},{"$f":"+VLOOKUP(Q307,'Lista consol SKR'!A:B,2,FALSE)","v":{"$error":"#N/A"}},"","",{"$f":"+IF(J307=\"\",\"\",IF(ISERROR(VLOOKUP(J307,'Vessel list'!A:J,10,FALSE)),\"\",VLOOKUP(J307,'Vessel list'!A:J,10,FALSE)))","v":""},{"$f":"+IF(J307=\"\",\"\",IF(ISERROR(VLOOKUP(J307,'Vessel list'!A:C,3,FALSE)),\"\",VLOOKUP(J307,'Vessel list'!A:C,3,FALSE)))","v":""}]
[{"$f":"+VLOOKUP(G308,'Lista consol SKR'!$P:$Q,2,FALSE)","v":{"$error":"#N/A"}},{"$error":"#N/A"},{"$error":"#N/A"},{"$f":"+VLOOKUP(R308,'Lista consol SKR'!C:D,2,FALSE)","v":{"$error":"#N/A"}},{"$error":"#N/A"},{"$error":"#N/A"},{"$f":"+VLOOKUP(S308,'Lista consol SKR'!C:D,2,FALSE)","v":{"$error":"#N/A"}},{"$f":"+VLOOKUP(Q308,'Lista consol SKR'!A:B,2,FALSE)","v":{"$error":"#N/A"}},"","",{"$f":"+IF(J308=\"\",\"\",IF(ISERROR(VLOOKUP(J308,'Vessel list'!A:J,10,FALSE)),\"\",VLOOKUP(J308,'Vessel list'!A:J,10,FALSE)))","v":""},{"$f":"+IF(J308=\"\",\"\",IF(ISERROR(VLOOKUP(J308,'Vessel list'!A:C,3,FALSE)),\"\",VLOOKUP(J308,'Vessel list'!A:C,3,FALSE)))","v":""}]
[{"$f":"+VLOOKUP(G309,'Lista consol SKR'!$P:$Q,2,FALSE)","v":{"$error":"#N/A"}},{"$error":"#N/A"},{"$error":"#N/A"},{"$f":"+VLOOKUP(R309,'Lista consol SKR'!C:D,2,FALSE)","v":{"$error":"#N/A"}},{"$error":"#N/A"},{"$error":"#N/A"},{"$f":"+VLOOKUP(S309,'Lista consol SKR'!C:D,2,FALSE)","v":{"$error":"#N/A"}},{"$f":"+VLOOKUP(Q309,'Lista consol SKR'!A:B,2,FALSE)","v":{"$error":"#N/A"}},"","",{"$f":"+IF(J309=\"\",\"\",IF(ISERROR(VLOOKUP(J309,'Vessel list'!A:J,10,FALSE)),\"\",VLOOKUP(J309,'Vessel list'!A:J,10,FALSE)))","v":""},{"$f":"+IF(J309=\"\",\"\",IF(ISERROR(VLOOKUP(J309,'Vessel list'!A:C,3,FALSE)),\"\",VLOOKUP(J309,'Vessel list'!A:C,3,FALSE)))","v":""}]
[{"$f":"+VLOOKUP(G310,'Lista consol SKR'!$P:$Q,2,FALSE)","v":{"$error":"#N/A"}},{"$error":"#N/A"},{"$error":"#N/A"},{"$f":"+VLOOKUP(R310,'Lista consol SKR'!C:D,2,FALSE)","v":{"$error":"#N/A"}},{"$error":"#N/A"},{"$error":"#N/A"},{"$f":"+VLOOKUP(S310,'Lista consol SKR'!C:D,2,FALSE)","v":{"$error":"#N/A"}},{"$f":"+VLOOKUP(Q310,'Lista consol SKR'!A:B,2,FALSE)","v":{"$error":"#N/A"}},"","",{"$f":"+IF(J310=\"\",\"\",IF(ISERROR(VLOOKUP(J310,'Vessel list'!A:J,10,FALSE)),\"\",VLOOKUP(J310,'Vessel list'!A:J,10,FALSE)))","v":""},{"$f":"+IF(J310=\"\",\"\",IF(ISERROR(VLOOKUP(J310,'Vessel list'!A:C,3,FALSE)),\"\",VLOOKUP(J310,'Vessel list'!A:C,3,FALSE)))","v":""}]
[{"$f":"+VLOOKUP(G311,'Lista consol SKR'!$P:$Q,2,FALSE)","v":{"$error":"#N/A"}},{"$error":"#N/A"},{"$error":"#N/A"},{"$f":"+VLOOKUP(R311,'Lista consol SKR'!C:D,2,FALSE)","v":{"$error":"#N/A"}},{"$error":"#N/A"},{"$error":"#N/A"},{"$f":"+VLOOKUP(S311,'Lista consol SKR'!C:D,2,FALSE)","v":{"$error":"#N/A"}},{"$f":"+VLOOKUP(Q311,'Lista consol SKR'!A:B,2,FALSE)","v":{"$error":"#N/A"}},"","",{"$f":"+IF(J311=\"\",\"\",IF(ISERROR(VLOOKUP(J311,'Vessel list'!A:J,10,FALSE)),\"\",VLOOKUP(J311,'Vessel list'!A:J,10,FALSE)))","v":""},{"$f":"+IF(J311=\"\",\"\",IF(ISERROR(VLOOKUP(J311,'Vessel list'!A:C,3,FALSE)),\"\",VLOOKUP(J311,'Vessel list'!A:C,3,FALSE)))","v":""}]
[{"$f":"+VLOOKUP(G312,'Lista consol SKR'!$P:$Q,2,FALSE)","v":{"$error":"#N/A"}},{"$error":"#N/A"},{"$error":"#N/A"},{"$f":"+VLOOKUP(R312,'Lista consol SKR'!C:D,2,FALSE)","v":{"$error":"#N/A"}},{"$error":"#N/A"},{"$error":"#N/A"},{"$f":"+VLOOKUP(S312,'Lista consol SKR'!C:D,2,FALSE)","v":{"$error":"#N/A"}},{"$f":"+VLOOKUP(Q312,'Lista consol SKR'!A:B,2,FALSE)","v":{"$error":"#N/A"}},"","",{"$f":"+IF(J312=\"\",\"\",IF(ISERROR(VLOOKUP(J312,'Vessel list'!A:J,10,FALSE)),\"\",VLOOKUP(J312,'Vessel list'!A:J,10,FALSE)))","v":""},{"$f":"+IF(J312=\"\",\"\",IF(ISERROR(VLOOKUP(J312,'Vessel list'!A:C,3,FALSE)),\"\",VLOOKUP(J312,'Vessel list'!A:C,3,FALSE)))","v":""}]
[{"$f":"+VLOOKUP(G313,'Lista consol SKR'!$P:$Q,2,FALSE)","v":{"$error":"#N/A"}},{"$error":"#N/A"},{"$error":"#N/A"},{"$f":"+VLOOKUP(R313,'Lista consol SKR'!C:D,2,FALSE)","v":{"$error":"#N/A"}},{"$error":"#N/A"},{"$error":"#N/A"},{"$f":"+VLOOKUP(S313,'Lista consol SKR'!C:D,2,FALSE)","v":{"$error":"#N/A"}},{"$f":"+VLOOKUP(Q313,'Lista consol SKR'!A:B,2,FALSE)","v":{"$error":"#N/A"}},"","",{"$f":"+IF(J313=\"\",\"\",IF(ISERROR(VLOOKUP(J313,'Vessel list'!A:J,10,FALSE)),\"\",VLOOKUP(J313,'Vessel list'!A:J,10,FALSE)))","v":""},{"$f":"+IF(J313=\"\",\"\",IF(ISERROR(VLOOKUP(J313,'Vessel list'!A:C,3,FALSE)),\"\",VLOOKUP(J313,'Vessel list'!A:C,3,FALSE)))","v":""}]
[{"$f":"+VLOOKUP(G314,'Lista consol SKR'!$P:$Q,2,FALSE)","v":{"$error":"#N/A"}},{"$error":"#N/A"},{"$error":"#N/A"},{"$f":"+VLOOKUP(R314,'Lista consol SKR'!C:D,2,FALSE)","v":{"$error":"#N/A"}},{"$error":"#N/A"},{"$error":"#N/A"},{"$f":"+VLOOKUP(S314,'Lista consol SKR'!C:D,2,FALSE)","v":{"$error":"#N/A"}},{"$f":"+VLOOKUP(Q314,'Lista consol SKR'!A:B,2,FALSE)","v":{"$error":"#N/A"}},"","",{"$f":"+IF(J314=\"\",\"\",IF(ISERROR(VLOOKUP(J314,'Vessel list'!A:J,10,FALSE)),\"\",VLOOKUP(J314,'Vessel list'!A:J,10,FALSE)))","v":""},{"$f":"+IF(J314=\"\",\"\",IF(ISERROR(VLOOKUP(J314,'Vessel list'!A:C,3,FALSE)),\"\",VLOOKUP(J314,'Vessel list'!A:C,3,FALSE)))","v":""}]
[{"$f":"+VLOOKUP(G315,'Lista consol SKR'!$P:$Q,2,FALSE)","v":{"$error":"#N/A"}},{"$error":"#N/A"},{"$error":"#N/A"},{"$f":"+VLOOKUP(R315,'Lista consol SKR'!C:D,2,FALSE)","v":{"$error":"#N/A"}},{"$error":"#N/A"},{"$error":"#N/A"},{"$f":"+VLOOKUP(S315,'Lista consol SKR'!C:D,2,FALSE)","v":{"$error":"#N/A"}},{"$f":"+VLOOKUP(Q315,'Lista consol SKR'!A:B,2,FALSE)","v":{"$error":"#N/A"}},"","",{"$f":"+IF(J315=\"\",\"\",IF(ISERROR(VLOOKUP(J315,'Vessel list'!A:J,10,FALSE)),\"\",VLOOKUP(J315,'Vessel list'!A:J,10,FALSE)))","v":""},{"$f":"+IF(J315=\"\",\"\",IF(ISERROR(VLOOKUP(J315,'Vessel list'!A:C,3,FALSE)),\"\",VLOOKUP(J315,'Vessel list'!A:C,3,FALSE)))","v":""}]
[{"$f":"+VLOOKUP(G316,'Lista consol SKR'!$P:$Q,2,FALSE)","v":{"$error":"#N/A"}},{"$error":"#N/A"},{"$error":"#N/A"},{"$f":"+VLOOKUP(R316,'Lista consol SKR'!C:D,2,FALSE)","v":{"$error":"#N/A"}},{"$error":"#N/A"},{"$error":"#N/A"},{"$f":"+VLOOKUP(S316,'Lista consol SKR'!C:D,2,FALSE)","v":{"$error":"#N/A"}},{"$f":"+VLOOKUP(Q316,'Lista consol SKR'!A:B,2,FALSE)","v":{"$error":"#N/A"}},"","",{"$f":"+IF(J316=\"\",\"\",IF(ISERROR(VLOOKUP(J316,'Vessel list'!A:J,10,FALSE)),\"\",VLOOKUP(J316,'Vessel list'!A:J,10,FALSE)))","v":""},{"$f":"+IF(J316=\"\",\"\",IF(ISERROR(VLOOKUP(J316,'Vessel list'!A:C,3,FALSE)),\"\",VLOOKUP(J316,'Vessel list'!A:C,3,FALSE)))","v":""}]
[{"$f":"+VLOOKUP(G317,'Lista consol SKR'!$P:$Q,2,FALSE)","v":{"$error":"#N/A"}},{"$error":"#N/A"},{"$error":"#N/A"},{"$f":"+VLOOKUP(R317,'Lista consol SKR'!C:D,2,FALSE)","v":{"$error":"#N/A"}},{"$error":"#N/A"},{"$error":"#N/A"},{"$f":"+VLOOKUP(S317,'Lista consol SKR'!C:D,2,FALSE)","v":{"$error":"#N/A"}},{"$f":"+VLOOKUP(Q317,'Lista consol SKR'!A:B,2,FALSE)","v":{"$error":"#N/A"}},"","",{"$f":"+IF(J317=\"\",\"\",IF(ISERROR(VLOOKUP(J317,'Vessel list'!A:J,10,FALSE)),\"\",VLOOKUP(J317,'Vessel list'!A:J,10,FALSE)))","v":""},{"$f":"+IF(J317=\"\",\"\",IF(ISERROR(VLOOKUP(J317,'Vessel list'!A:C,3,FALSE)),\"\",VLOOKUP(J317,'Vessel list'!A:C,3,FALSE)))","v":""}]
[{"$f":"+VLOOKUP(G318,'Lista consol SKR'!$P:$Q,2,FALSE)","v":{"$error":"#N/A"}},{"$error":"#N/A"},{"$error":"#N/A"},{"$f":"+VLOOKUP(R318,'Lista consol SKR'!C:D,2,FALSE)","v":{"$error":"#N/A"}},{"$error":"#N/A"},{"$error":"#N/A"},{"$f":"+VLOOKUP(S318,'Lista consol SKR'!C:D,2,FALSE)","v":{"$error":"#N/A"}},{"$f":"+VLOOKUP(Q318,'Lista consol SKR'!A:B,2,FALSE)","v":{"$error":"#N/A"}},"","",{"$f":"+IF(J318=\"\",\"\",IF(ISERROR(VLOOKUP(J318,'Vessel list'!A:J,10,FALSE)),\"\",VLOOKUP(J318,'Vessel list'!A:J,10,FALSE)))","v":""},{"$f":"+IF(J318=\"\",\"\",IF(ISERROR(VLOOKUP(J318,'Vessel list'!A:C,3,FALSE)),\"\",VLOOKUP(J318,'Vessel list'!A:C,3,FALSE)))","v":""}]
[{"$f":"+VLOOKUP(G319,'Lista consol SKR'!$P:$Q,2,FALSE)","v":{"$error":"#N/A"}},{"$error":"#N/A"},{"$error":"#N/A"},{"$f":"+VLOOKUP(R319,'Lista consol SKR'!C:D,2,FALSE)","v":{"$error":"#N/A"}},{"$error":"#N/A"},{"$error":"#N/A"},{"$f":"+VLOOKUP(S319,'Lista consol SKR'!C:D,2,FALSE)","v":{"$error":"#N/A"}},{"$f":"+VLOOKUP(Q319,'Lista consol SKR'!A:B,2,FALSE)","v":{"$error":"#N/A"}},"","",{"$f":"+IF(J319=\"\",\"\",IF(ISERROR(VLOOKUP(J319,'Vessel list'!A:J,10,FALSE)),\"\",VLOOKUP(J319,'Vessel list'!A:J,10,FALSE)))","v":""},{"$f":"+IF(J319=\"\",\"\",IF(ISERROR(VLOOKUP(J319,'Vessel list'!A:C,3,FALSE)),\"\",VLOOKUP(J319,'Vessel list'!A:C,3,FALSE)))","v":""}]
[{"$f":"+VLOOKUP(G320,'Lista consol SKR'!$P:$Q,2,FALSE)","v":{"$error":"#N/A"}},{"$error":"#N/A"},{"$error":"#N/A"},{"$f":"+VLOOKUP(R320,'Lista consol SKR'!C:D,2,FALSE)","v":{"$error":"#N/A"}},{"$error":"#N/A"},{"$error":"#N/A"},{"$f":"+VLOOKUP(S320,'Lista consol SKR'!C:D,2,FALSE)","v":{"$error":"#N/A"}},{"$f":"+VLOOKUP(Q320,'Lista consol SKR'!A:B,2,FALSE)","v":{"$error":"#N/A"}},"","",{"$f":"+IF(J320=\"\",\"\",IF(ISERROR(VLOOKUP(J320,'Vessel list'!A:J,10,FALSE)),\"\",VLOOKUP(J320,'Vessel list'!A:J,10,FALSE)))","v":""},{"$f":"+IF(J320=\"\",\"\",IF(ISERROR(VLOOKUP(J320,'Vessel list'!A:C,3,FALSE)),\"\",VLOOKUP(J320,'Vessel list'!A:C,3,FALSE)))","v":""}]
[{"$f":"+VLOOKUP(G321,'Lista consol SKR'!$P:$Q,2,FALSE)","v":{"$error":"#N/A"}},{"$error":"#N/A"},{"$error":"#N/A"},{"$f":"+VLOOKUP(R321,'Lista consol SKR'!C:D,2,FALSE)","v":{"$error":"#N/A"}},{"$error":"#N/A"},{"$error":"#N/A"},{"$f":"+VLOOKUP(S321,'Lista consol SKR'!C:D,2,FALSE)","v":{"$error":"#N/A"}},{"$f":"+VLOOKUP(Q321,'Lista consol SKR'!A:B,2,FALSE)","v":{"$error":"#N/A"}},"","",{"$f":"+IF(J321=\"\",\"\",IF(ISERROR(VLOOKUP(J321,'Vessel list'!A:J,10,FALSE)),\"\",VLOOKUP(J321,'Vessel list'!A:J,10,FALSE)))","v":""},{"$f":"+IF(J321=\"\",\"\",IF(ISERROR(VLOOKUP(J321,'Vessel list'!A:C,3,FALSE)),\"\",VLOOKUP(J321,'Vessel list'!A:C,3,FALSE)))","v":""}]
[{"$f":"+VLOOKUP(G322,'Lista consol SKR'!$P:$Q,2,FALSE)","v":{"$error":"#N/A"}},{"$error":"#N/A"},{"$error":"#N/A"},{"$f":"+VLOOKUP(R322,'Lista consol SKR'!C:D,2,FALSE)","v":{"$error":"#N/A"}},{"$error":"#N/A"},{"$error":"#N/A"},{"$f":"+VLOOKUP(S322,'Lista consol SKR'!C:D,2,FALSE)","v":{"$error":"#N/A"}},{"$f":"+VLOOKUP(Q322,'Lista consol SKR'!A:B,2,FALSE)","v":{"$error":"#N/A"}},"","",{"$f":"+IF(J322=\"\",\"\",IF(ISERROR(VLOOKUP(J322,'Vessel list'!A:J,10,FALSE)),\"\",VLOOKUP(J322,'Vessel list'!A:J,10,FALSE)))","v":""},{"$f":"+IF(J322=\"\",\"\",IF(ISERROR(VLOOKUP(J322,'Vessel list'!A:C,3,FALSE)),\"\",VLOOKUP(J322,'Vessel list'!A:C,3,FALSE)))","v":""}]
[{"$f":"+VLOOKUP(G323,'Lista consol SKR'!$P:$Q,2,FALSE)","v":{"$error":"#N/A"}},{"$error":"#N/A"},{"$error":"#N/A"},{"$f":"+VLOOKUP(R323,'Lista consol SKR'!C:D,2,FALSE)","v":{"$error":"#N/A"}},{"$error":"#N/A"},{"$error":"#N/A"},{"$f":"+VLOOKUP(S323,'Lista consol SKR'!C:D,2,FALSE)","v":{"$error":"#N/A"}},{"$f":"+VLOOKUP(Q323,'Lista consol SKR'!A:B,2,FALSE)","v":{"$error":"#N/A"}},"","",{"$f":"+IF(J323=\"\",\"\",IF(ISERROR(VLOOKUP(J323,'Vessel list'!A:J,10,FALSE)),\"\",VLOOKUP(J323,'Vessel list'!A:J,10,FALSE)))","v":""},{"$f":"+IF(J323=\"\",\"\",IF(ISERROR(VLOOKUP(J323,'Vessel list'!A:C,3,FALSE)),\"\",VLOOKUP(J323,'Vessel list'!A:C,3,FALSE)))","v":""}]
[{"$f":"+VLOOKUP(G324,'Lista consol SKR'!$P:$Q,2,FALSE)","v":{"$error":"#N/A"}},{"$error":"#N/A"},{"$error":"#N/A"},{"$f":"+VLOOKUP(R324,'Lista consol SKR'!C:D,2,FALSE)","v":{"$error":"#N/A"}},{"$error":"#N/A"},{"$error":"#N/A"},{"$f":"+VLOOKUP(S324,'Lista consol SKR'!C:D,2,FALSE)","v":{"$error":"#N/A"}},{"$f":"+VLOOKUP(Q324,'Lista consol SKR'!A:B,2,FALSE)","v":{"$error":"#N/A"}},"","",{"$f":"+IF(J324=\"\",\"\",IF(ISERROR(VLOOKUP(J324,'Vessel list'!A:J,10,FALSE)),\"\",VLOOKUP(J324,'Vessel list'!A:J,10,FALSE)))","v":""},{"$f":"+IF(J324=\"\",\"\",IF(ISERROR(VLOOKUP(J324,'Vessel list'!A:C,3,FALSE)),\"\",VLOOKUP(J324,'Vessel list'!A:C,3,FALSE)))","v":""}]
[{"$f":"+VLOOKUP(G325,'Lista consol SKR'!$P:$Q,2,FALSE)","v":{"$error":"#N/A"}},{"$error":"#N/A"},{"$error":"#N/A"},{"$f":"+VLOOKUP(R325,'Lista consol SKR'!C:D,2,FALSE)","v":{"$error":"#N/A"}},{"$error":"#N/A"},{"$error":"#N/A"},{"$f":"+VLOOKUP(S325,'Lista consol SKR'!C:D,2,FALSE)","v":{"$error":"#N/A"}},{"$f":"+VLOOKUP(Q325,'Lista consol SKR'!A:B,2,FALSE)","v":{"$error":"#N/A"}},"","",{"$f":"+IF(J325=\"\",\"\",IF(ISERROR(VLOOKUP(J325,'Vessel list'!A:J,10,FALSE)),\"\",VLOOKUP(J325,'Vessel list'!A:J,10,FALSE)))","v":""},{"$f":"+IF(J325=\"\",\"\",IF(ISERROR(VLOOKUP(J325,'Vessel list'!A:C,3,FALSE)),\"\",VLOOKUP(J325,'Vessel list'!A:C,3,FALSE)))","v":""}]
[{"$f":"+VLOOKUP(G326,'Lista consol SKR'!$P:$Q,2,FALSE)","v":{"$error":"#N/A"}},{"$error":"#N/A"},{"$error":"#N/A"},{"$f":"+VLOOKUP(R326,'Lista consol SKR'!C:D,2,FALSE)","v":{"$error":"#N/A"}},{"$error":"#N/A"},{"$error":"#N/A"},{"$f":"+VLOOKUP(S326,'Lista consol SKR'!C:D,2,FALSE)","v":{"$error":"#N/A"}},{"$f":"+VLOOKUP(Q326,'Lista consol SKR'!A:B,2,FALSE)","v":{"$error":"#N/A"}},"","",{"$f":"+IF(J326=\"\",\"\",IF(ISERROR(VLOOKUP(J326,'Vessel list'!A:J,10,FALSE)),\"\",VLOOKUP(J326,'Vessel list'!A:J,10,FALSE)))","v":""},{"$f":"+IF(J326=\"\",\"\",IF(ISERROR(VLOOKUP(J326,'Vessel list'!A:C,3,FALSE)),\"\",VLOOKUP(J326,'Vessel list'!A:C,3,FALSE)))","v":""}]
[{"$f":"+VLOOKUP(G327,'Lista consol SKR'!$P:$Q,2,FALSE)","v":{"$error":"#N/A"}},{"$error":"#N/A"},{"$error":"#N/A"},{"$f":"+VLOOKUP(R327,'Lista consol SKR'!C:D,2,FALSE)","v":{"$error":"#N/A"}},{"$error":"#N/A"},{"$error":"#N/A"},{"$f":"+VLOOKUP(S327,'Lista consol SKR'!C:D,2,FALSE)","v":{"$error":"#N/A"}},{"$f":"+VLOOKUP(Q327,'Lista consol SKR'!A:B,2,FALSE)","v":{"$error":"#N/A"}},"","",{"$f":"+IF(J327=\"\",\"\",IF(ISERROR(VLOOKUP(J327,'Vessel list'!A:J,10,FALSE)),\"\",VLOOKUP(J327,'Vessel list'!A:J,10,FALSE)))","v":""},{"$f":"+IF(J327=\"\",\"\",IF(ISERROR(VLOOKUP(J327,'Vessel list'!A:C,3,FALSE)),\"\",VLOOKUP(J327,'Vessel list'!A:C,3,FALSE)))","v":""}]
[{"$f":"+VLOOKUP(G328,'Lista consol SKR'!$P:$Q,2,FALSE)","v":{"$error":"#N/A"}},{"$error":"#N/A"},{"$error":"#N/A"},{"$f":"+VLOOKUP(R328,'Lista consol SKR'!C:D,2,FALSE)","v":{"$error":"#N/A"}},{"$error":"#N/A"},{"$error":"#N/A"},{"$f":"+VLOOKUP(S328,'Lista consol SKR'!C:D,2,FALSE)","v":{"$error":"#N/A"}},{"$f":"+VLOOKUP(Q328,'Lista consol SKR'!A:B,2,FALSE)","v":{"$error":"#N/A"}},"","",{"$f":"+IF(J328=\"\",\"\",IF(ISERROR(VLOOKUP(J328,'Vessel list'!A:J,10,FALSE)),\"\",VLOOKUP(J328,'Vessel list'!A:J,10,FALSE)))","v":""},{"$f":"+IF(J328=\"\",\"\",IF(ISERROR(VLOOKUP(J328,'Vessel list'!A:C,3,FALSE)),\"\",VLOOKUP(J328,'Vessel list'!A:C,3,FALSE)))","v":""}]
[{"$f":"+VLOOKUP(G329,'Lista consol SKR'!$P:$Q,2,FALSE)","v":{"$error":"#N/A"}},{"$error":"#N/A"},{"$error":"#N/A"},{"$f":"+VLOOKUP(R329,'Lista consol SKR'!C:D,2,FALSE)","v":{"$error":"#N/A"}},{"$error":"#N/A"},{"$error":"#N/A"},{"$f":"+VLOOKUP(S329,'Lista consol SKR'!C:D,2,FALSE)","v":{"$error":"#N/A"}},{"$f":"+VLOOKUP(Q329,'Lista consol SKR'!A:B,2,FALSE)","v":{"$error":"#N/A"}},"","",{"$f":"+IF(J329=\"\",\"\",IF(ISERROR(VLOOKUP(J329,'Vessel list'!A:J,10,FALSE)),\"\",VLOOKUP(J329,'Vessel list'!A:J,10,FALSE)))","v":""},{"$f":"+IF(J329=\"\",\"\",IF(ISERROR(VLOOKUP(J329,'Vessel list'!A:C,3,FALSE)),\"\",VLOOKUP(J329,'Vessel list'!A:C,3,FALSE)))","v":""}]
[{"$f":"+VLOOKUP(G330,'Lista consol SKR'!$P:$Q,2,FALSE)","v":{"$error":"#N/A"}},{"$error":"#N/A"},{"$error":"#N/A"},{"$f":"+VLOOKUP(R330,'Lista consol SKR'!C:D,2,FALSE)","v":{"$error":"#N/A"}},{"$error":"#N/A"},{"$error":"#N/A"},{"$f":"+VLOOKUP(S330,'Lista consol SKR'!C:D,2,FALSE)","v":{"$error":"#N/A"}},{"$f":"+VLOOKUP(Q330,'Lista consol SKR'!A:B,2,FALSE)","v":{"$error":"#N/A"}},"","",{"$f":"+IF(J330=\"\",\"\",IF(ISERROR(VLOOKUP(J330,'Vessel list'!A:J,10,FALSE)),\"\",VLOOKUP(J330,'Vessel list'!A:J,10,FALSE)))","v":""},{"$f":"+IF(J330=\"\",\"\",IF(ISERROR(VLOOKUP(J330,'Vessel list'!A:C,3,FALSE)),\"\",VLOOKUP(J330,'Vessel list'!A:C,3,FALSE)))","v":""}]
[{"$f":"+VLOOKUP(G331,'Lista consol SKR'!$P:$Q,2,FALSE)","v":{"$error":"#N/A"}},{"$error":"#N/A"},{"$error":"#N/A"},{"$f":"+VLOOKUP(R331,'Lista consol SKR'!C:D,2,FALSE)","v":{"$error":"#N/A"}},{"$error":"#N/A"},{"$error":"#N/A"},{"$f":"+VLOOKUP(S331,'Lista consol SKR'!C:D,2,FALSE)","v":{"$error":"#N/A"}},{"$f":"+VLOOKUP(Q331,'Lista consol SKR'!A:B,2,FALSE)","v":{"$error":"#N/A"}},"","",{"$f":"+IF(J331=\"\",\"\",IF(ISERROR(VLOOKUP(J331,'Vessel list'!A:J,10,FALSE)),\"\",VLOOKUP(J331,'Vessel list'!A:J,10,FALSE)))","v":""},{"$f":"+IF(J331=\"\",\"\",IF(ISERROR(VLOOKUP(J331,'Vessel list'!A:C,3,FALSE)),\"\",VLOOKUP(J331,'Vessel list'!A:C,3,FALSE)))","v":""}]
[{"$f":"+VLOOKUP(G332,'Lista consol SKR'!$P:$Q,2,FALSE)","v":{"$error":"#N/A"}},{"$error":"#N/A"},{"$error":"#N/A"},{"$f":"+VLOOKUP(R332,'Lista consol SKR'!C:D,2,FALSE)","v":{"$error":"#N/A"}},{"$error":"#N/A"},{"$error":"#N/A"},{"$f":"+VLOOKUP(S332,'Lista consol SKR'!C:D,2,FALSE)","v":{"$error":"#N/A"}},{"$f":"+VLOOKUP(Q332,'Lista consol SKR'!A:B,2,FALSE)","v":{"$error":"#N/A"}},"","",{"$f":"+IF(J332=\"\",\"\",IF(ISERROR(VLOOKUP(J332,'Vessel list'!A:J,10,FALSE)),\"\",VLOOKUP(J332,'Vessel list'!A:J,10,FALSE)))","v":""},{"$f":"+IF(J332=\"\",\"\",IF(ISERROR(VLOOKUP(J332,'Vessel list'!A:C,3,FALSE)),\"\",VLOOKUP(J332,'Vessel list'!A:C,3,FALSE)))","v":""}]
[{"$f":"+VLOOKUP(G333,'Lista consol SKR'!$P:$Q,2,FALSE)","v":{"$error":"#N/A"}},{"$error":"#N/A"},{"$error":"#N/A"},{"$f":"+VLOOKUP(R333,'Lista consol SKR'!C:D,2,FALSE)","v":{"$error":"#N/A"}},{"$error":"#N/A"},{"$error":"#N/A"},{"$f":"+VLOOKUP(S333,'Lista consol SKR'!C:D,2,FALSE)","v":{"$error":"#N/A"}},{"$f":"+VLOOKUP(Q333,'Lista consol SKR'!A:B,2,FALSE)","v":{"$error":"#N/A"}},"","",{"$f":"+IF(J333=\"\",\"\",IF(ISERROR(VLOOKUP(J333,'Vessel list'!A:J,10,FALSE)),\"\",VLOOKUP(J333,'Vessel list'!A:J,10,FALSE)))","v":""},{"$f":"+IF(J333=\"\",\"\",IF(ISERROR(VLOOKUP(J333,'Vessel list'!A:C,3,FALSE)),\"\",VLOOKUP(J333,'Vessel list'!A:C,3,FALSE)))","v":""}]
[{"$f":"+VLOOKUP(G334,'Lista consol SKR'!$P:$Q,2,FALSE)","v":{"$error":"#N/A"}},{"$error":"#N/A"},{"$error":"#N/A"},{"$f":"+VLOOKUP(R334,'Lista consol SKR'!C:D,2,FALSE)","v":{"$error":"#N/A"}},{"$error":"#N/A"},{"$error":"#N/A"},{"$f":"+VLOOKUP(S334,'Lista consol SKR'!C:D,2,FALSE)","v":{"$error":"#N/A"}},{"$f":"+VLOOKUP(Q334,'Lista consol SKR'!A:B,2,FALSE)","v":{"$error":"#N/A"}},"","",{"$f":"+IF(J334=\"\",\"\",IF(ISERROR(VLOOKUP(J334,'Vessel list'!A:J,10,FALSE)),\"\",VLOOKUP(J334,'Vessel list'!A:J,10,FALSE)))","v":""},{"$f":"+IF(J334=\"\",\"\",IF(ISERROR(VLOOKUP(J334,'Vessel list'!A:C,3,FALSE)),\"\",VLOOKUP(J334,'Vessel list'!A:C,3,FALSE)))","v":""}]
[{"$f":"+VLOOKUP(G335,'Lista consol SKR'!$P:$Q,2,FALSE)","v":{"$error":"#N/A"}},{"$f":"IF(D335=D334,B334+1,1)","v":{"$error":"#N/A"}},{"$f":"+D335&B335","v":{"$error":"#N/A"}},{"$f":"+VLOOKUP(R335,'Lista consol SKR'!C:D,2,FALSE)","v":{"$error":"#N/A"}},{"$f":"IF(G335=G334,E334+1,1)","v":{"$error":"#N/A"}},{"$f":"+G335&E335","v":{"$error":"#N/A"}},{"$f":"+VLOOKUP(S335,'Lista consol SKR'!C:D,2,FALSE)","v":{"$error":"#N/A"}},{"$f":"+VLOOKUP(Q335,'Lista consol SKR'!A:B,2,FALSE)","v":{"$error":"#N/A"}},{"$f":"IF(M335=\"\",\"\",IF(LEFT(S335,2)=\"CN\",\"x\",IF(LEFT(S335,2)=\"US\",\"x\",IF(LEFT(S335,2)=\"CA\",\"x\",IF(LEFT(S335,2)=\"JP\",\"x\",\"Not required\")))))","v":""},{"$f":"IF(W335=\"\",\"\",W335&Q335)","v":""},{"$f":"+IF(J335=\"\",\"\",IF(ISERROR(VLOOKUP(J335,'Vessel list'!A:J,10,FALSE)),\"\",VLOOKUP(J335,'Vessel list'!A:J,10,FALSE)))","v":""},{"$f":"+IF(J335=\"\",\"\",IF(ISERROR(VLOOKUP(J335,'Vessel list'!A:C,3,FALSE)),\"\",VLOOKUP(J335,'Vessel list'!A:C,3,FALSE)))","v":""}]
[{"$f":"+VLOOKUP(G336,'Lista consol SKR'!$P:$Q,2,FALSE)","v":{"$error":"#N/A"}},{"$error":"#N/A"},{"$error":"#N/A"},{"$f":"+VLOOKUP(R336,'Lista consol SKR'!C:D,2,FALSE)","v":{"$error":"#N/A"}},{"$error":"#N/A"},{"$error":"#N/A"},{"$f":"+VLOOKUP(S336,'Lista consol SKR'!C:D,2,FALSE)","v":{"$error":"#N/A"}},{"$f":"+VLOOKUP(Q336,'Lista consol SKR'!A:B,2,FALSE)","v":{"$error":"#N/A"}},"","",{"$f":"+IF(J336=\"\",\"\",IF(ISERROR(VLOOKUP(J336,'Vessel list'!A:J,10,FALSE)),\"\",VLOOKUP(J336,'Vessel list'!A:J,10,FALSE)))","v":""},{"$f":"+IF(J336=\"\",\"\",IF(ISERROR(VLOOKUP(J336,'Vessel list'!A:C,3,FALSE)),\"\",VLOOKUP(J336,'Vessel list'!A:C,3,FALSE)))","v":""}]
[{"$f":"+VLOOKUP(G337,'Lista consol SKR'!$P:$Q,2,FALSE)","v":{"$error":"#N/A"}},{"$error":"#N/A"},{"$error":"#N/A"},{"$f":"+VLOOKUP(R337,'Lista consol SKR'!C:D,2,FALSE)","v":{"$error":"#N/A"}},{"$error":"#N/A"},{"$error":"#N/A"},{"$f":"+VLOOKUP(S337,'Lista consol SKR'!C:D,2,FALSE)","v":{"$error":"#N/A"}},{"$f":"+VLOOKUP(Q337,'Lista consol SKR'!A:B,2,FALSE)","v":{"$error":"#N/A"}},"","",{"$f":"+IF(J337=\"\",\"\",IF(ISERROR(VLOOKUP(J337,'Vessel list'!A:J,10,FALSE)),\"\",VLOOKUP(J337,'Vessel list'!A:J,10,FALSE)))","v":""},{"$f":"+IF(J337=\"\",\"\",IF(ISERROR(VLOOKUP(J337,'Vessel list'!A:C,3,FALSE)),\"\",VLOOKUP(J337,'Vessel list'!A:C,3,FALSE)))","v":""}]
[{"$f":"+VLOOKUP(G338,'Lista consol SKR'!$P:$Q,2,FALSE)","v":{"$error":"#N/A"}},{"$error":"#N/A"},{"$error":"#N/A"},{"$f":"+VLOOKUP(R338,'Lista consol SKR'!C:D,2,FALSE)","v":{"$error":"#N/A"}},{"$error":"#N/A"},{"$error":"#N/A"},{"$f":"+VLOOKUP(S338,'Lista consol SKR'!C:D,2,FALSE)","v":{"$error":"#N/A"}},{"$f":"+VLOOKUP(Q338,'Lista consol SKR'!A:B,2,FALSE)","v":{"$error":"#N/A"}},"","",{"$f":"+IF(J338=\"\",\"\",IF(ISERROR(VLOOKUP(J338,'Vessel list'!A:J,10,FALSE)),\"\",VLOOKUP(J338,'Vessel list'!A:J,10,FALSE)))","v":""},{"$f":"+IF(J338=\"\",\"\",IF(ISERROR(VLOOKUP(J338,'Vessel list'!A:C,3,FALSE)),\"\",VLOOKUP(J338,'Vessel list'!A:C,3,FALSE)))","v":""}]
[{"$f":"+VLOOKUP(G339,'Lista consol SKR'!$P:$Q,2,FALSE)","v":{"$error":"#N/A"}},{"$error":"#N/A"},{"$error":"#N/A"},{"$f":"+VLOOKUP(R339,'Lista consol SKR'!C:D,2,FALSE)","v":{"$error":"#N/A"}},{"$error":"#N/A"},{"$error":"#N/A"},{"$f":"+VLOOKUP(S339,'Lista consol SKR'!C:D,2,FALSE)","v":{"$error":"#N/A"}},{"$f":"+VLOOKUP(Q339,'Lista consol SKR'!A:B,2,FALSE)","v":{"$error":"#N/A"}},"","",{"$f":"+IF(J339=\"\",\"\",IF(ISERROR(VLOOKUP(J339,'Vessel list'!A:J,10,FALSE)),\"\",VLOOKUP(J339,'Vessel list'!A:J,10,FALSE)))","v":""},{"$f":"+IF(J339=\"\",\"\",IF(ISERROR(VLOOKUP(J339,'Vessel list'!A:C,3,FALSE)),\"\",VLOOKUP(J339,'Vessel list'!A:C,3,FALSE)))","v":""}]
[{"$f":"+VLOOKUP(G340,'Lista consol SKR'!$P:$Q,2,FALSE)","v":{"$error":"#N/A"}},{"$error":"#N/A"},{"$error":"#N/A"},{"$f":"+VLOOKUP(R340,'Lista consol SKR'!C:D,2,FALSE)","v":{"$error":"#N/A"}},{"$error":"#N/A"},{"$error":"#N/A"},{"$f":"+VLOOKUP(S340,'Lista consol SKR'!C:D,2,FALSE)","v":{"$error":"#N/A"}},{"$f":"+VLOOKUP(Q340,'Lista consol SKR'!A:B,2,FALSE)","v":{"$error":"#N/A"}},"","",{"$f":"+IF(J340=\"\",\"\",IF(ISERROR(VLOOKUP(J340,'Vessel list'!A:J,10,FALSE)),\"\",VLOOKUP(J340,'Vessel list'!A:J,10,FALSE)))","v":""},{"$f":"+IF(J340=\"\",\"\",IF(ISERROR(VLOOKUP(J340,'Vessel list'!A:C,3,FALSE)),\"\",VLOOKUP(J340,'Vessel list'!A:C,3,FALSE)))","v":""}]
[{"$f":"+VLOOKUP(G341,'Lista consol SKR'!$P:$Q,2,FALSE)","v":{"$error":"#N/A"}},{"$error":"#N/A"},{"$error":"#N/A"},{"$f":"+VLOOKUP(R341,'Lista consol SKR'!C:D,2,FALSE)","v":{"$error":"#N/A"}},{"$error":"#N/A"},{"$error":"#N/A"},{"$f":"+VLOOKUP(S341,'Lista consol SKR'!C:D,2,FALSE)","v":{"$error":"#N/A"}},{"$f":"+VLOOKUP(Q341,'Lista consol SKR'!A:B,2,FALSE)","v":{"$error":"#N/A"}},"","",{"$f":"+IF(J341=\"\",\"\",IF(ISERROR(VLOOKUP(J341,'Vessel list'!A:J,10,FALSE)),\"\",VLOOKUP(J341,'Vessel list'!A:J,10,FALSE)))","v":""},{"$f":"+IF(J341=\"\",\"\",IF(ISERROR(VLOOKUP(J341,'Vessel list'!A:C,3,FALSE)),\"\",VLOOKUP(J341,'Vessel list'!A:C,3,FALSE)))","v":""}]
[{"$f":"+VLOOKUP(G342,'Lista consol SKR'!$P:$Q,2,FALSE)","v":{"$error":"#N/A"}},{"$error":"#N/A"},{"$error":"#N/A"},{"$f":"+VLOOKUP(R342,'Lista consol SKR'!C:D,2,FALSE)","v":{"$error":"#N/A"}},{"$error":"#N/A"},{"$error":"#N/A"},{"$f":"+VLOOKUP(S342,'Lista consol SKR'!C:D,2,FALSE)","v":{"$error":"#N/A"}},{"$f":"+VLOOKUP(Q342,'Lista consol SKR'!A:B,2,FALSE)","v":{"$error":"#N/A"}},"","",{"$f":"+IF(J342=\"\",\"\",IF(ISERROR(VLOOKUP(J342,'Vessel list'!A:J,10,FALSE)),\"\",VLOOKUP(J342,'Vessel list'!A:J,10,FALSE)))","v":""},{"$f":"+IF(J342=\"\",\"\",IF(ISERROR(VLOOKUP(J342,'Vessel list'!A:C,3,FALSE)),\"\",VLOOKUP(J342,'Vessel list'!A:C,3,FALSE)))","v":""}]
[{"$f":"+VLOOKUP(G343,'Lista consol SKR'!$P:$Q,2,FALSE)","v":{"$error":"#N/A"}},{"$error":"#N/A"},{"$error":"#N/A"},{"$f":"+VLOOKUP(R343,'Lista consol SKR'!C:D,2,FALSE)","v":{"$error":"#N/A"}},{"$error":"#N/A"},{"$error":"#N/A"},{"$f":"+VLOOKUP(S343,'Lista consol SKR'!C:D,2,FALSE)","v":{"$error":"#N/A"}},{"$f":"+VLOOKUP(Q343,'Lista consol SKR'!A:B,2,FALSE)","v":{"$error":"#N/A"}},"","",{"$f":"+IF(J343=\"\",\"\",IF(ISERROR(VLOOKUP(J343,'Vessel list'!A:J,10,FALSE)),\"\",VLOOKUP(J343,'Vessel list'!A:J,10,FALSE)))","v":""},{"$f":"+IF(J343=\"\",\"\",IF(ISERROR(VLOOKUP(J343,'Vessel list'!A:C,3,FALSE)),\"\",VLOOKUP(J343,'Vessel list'!A:C,3,FALSE)))","v":""}]
[{"$f":"+VLOOKUP(G344,'Lista consol SKR'!$P:$Q,2,FALSE)","v":{"$error":"#N/A"}},{"$error":"#N/A"},{"$error":"#N/A"},{"$f":"+VLOOKUP(R344,'Lista consol SKR'!C:D,2,FALSE)","v":{"$error":"#N/A"}},{"$error":"#N/A"},{"$error":"#N/A"},{"$f":"+VLOOKUP(S344,'Lista consol SKR'!C:D,2,FALSE)","v":{"$error":"#N/A"}},{"$f":"+VLOOKUP(Q344,'Lista consol SKR'!A:B,2,FALSE)","v":{"$error":"#N/A"}},"","",{"$f":"+IF(J344=\"\",\"\",IF(ISERROR(VLOOKUP(J344,'Vessel list'!A:J,10,FALSE)),\"\",VLOOKUP(J344,'Vessel list'!A:J,10,FALSE)))","v":""},{"$f":"+IF(J344=\"\",\"\",IF(ISERROR(VLOOKUP(J344,'Vessel list'!A:C,3,FALSE)),\"\",VLOOKUP(J344,'Vessel list'!A:C,3,FALSE)))","v":""}]
[{"$f":"+VLOOKUP(G345,'Lista consol SKR'!$P:$Q,2,FALSE)","v":{"$error":"#N/A"}},{"$error":"#N/A"},{"$error":"#N/A"},{"$f":"+VLOOKUP(R345,'Lista consol SKR'!C:D,2,FALSE)","v":{"$error":"#N/A"}},{"$error":"#N/A"},{"$error":"#N/A"},{"$f":"+VLOOKUP(S345,'Lista consol SKR'!C:D,2,FALSE)","v":{"$error":"#N/A"}},{"$f":"+VLOOKUP(Q345,'Lista consol SKR'!A:B,2,FALSE)","v":{"$error":"#N/A"}},"","",{"$f":"+IF(J345=\"\",\"\",IF(ISERROR(VLOOKUP(J345,'Vessel list'!A:J,10,FALSE)),\"\",VLOOKUP(J345,'Vessel list'!A:J,10,FALSE)))","v":""},{"$f":"+IF(J345=\"\",\"\",IF(ISERROR(VLOOKUP(J345,'Vessel list'!A:C,3,FALSE)),\"\",VLOOKUP(J345,'Vessel list'!A:C,3,FALSE)))","v":""}]
[{"$f":"+VLOOKUP(G346,'Lista consol SKR'!$P:$Q,2,FALSE)","v":{"$error":"#N/A"}},{"$error":"#N/A"},{"$error":"#N/A"},{"$f":"+VLOOKUP(R346,'Lista consol SKR'!C:D,2,FALSE)","v":{"$error":"#N/A"}},{"$error":"#N/A"},{"$error":"#N/A"},{"$f":"+VLOOKUP(S346,'Lista consol SKR'!C:D,2,FALSE)","v":{"$error":"#N/A"}},{"$f":"+VLOOKUP(Q346,'Lista consol SKR'!A:B,2,FALSE)","v":{"$error":"#N/A"}},"","",{"$f":"+IF(J346=\"\",\"\",IF(ISERROR(VLOOKUP(J346,'Vessel list'!A:J,10,FALSE)),\"\",VLOOKUP(J346,'Vessel list'!A:J,10,FALSE)))","v":""},{"$f":"+IF(J346=\"\",\"\",IF(ISERROR(VLOOKUP(J346,'Vessel list'!A:C,3,FALSE)),\"\",VLOOKUP(J346,'Vessel list'!A:C,3,FALSE)))","v":""}]
[{"$f":"+VLOOKUP(G347,'Lista consol SKR'!$P:$Q,2,FALSE)","v":{"$error":"#N/A"}},{"$error":"#N/A"},{"$error":"#N/A"},{"$f":"+VLOOKUP(R347,'Lista consol SKR'!C:D,2,FALSE)","v":{"$error":"#N/A"}},{"$error":"#N/A"},{"$error":"#N/A"},{"$f":"+VLOOKUP(S347,'Lista consol SKR'!C:D,2,FALSE)","v":{"$error":"#N/A"}},{"$f":"+VLOOKUP(Q347,'Lista consol SKR'!A:B,2,FALSE)","v":{"$error":"#N/A"}},"","",{"$f":"+IF(J347=\"\",\"\",IF(ISERROR(VLOOKUP(J347,'Vessel list'!A:J,10,FALSE)),\"\",VLOOKUP(J347,'Vessel list'!A:J,10,FALSE)))","v":""},{"$f":"+IF(J347=\"\",\"\",IF(ISERROR(VLOOKUP(J347,'Vessel list'!A:C,3,FALSE)),\"\",VLOOKUP(J347,'Vessel list'!A:C,3,FALSE)))","v":""}]
[{"$f":"+VLOOKUP(G348,'Lista consol SKR'!$P:$Q,2,FALSE)","v":{"$error":"#N/A"}},{"$error":"#N/A"},{"$error":"#N/A"},{"$f":"+VLOOKUP(R348,'Lista consol SKR'!C:D,2,FALSE)","v":{"$error":"#N/A"}},{"$error":"#N/A"},{"$error":"#N/A"},{"$f":"+VLOOKUP(S348,'Lista consol SKR'!C:D,2,FALSE)","v":{"$error":"#N/A"}},{"$f":"+VLOOKUP(Q348,'Lista consol SKR'!A:B,2,FALSE)","v":{"$error":"#N/A"}},"","",{"$f":"+IF(J348=\"\",\"\",IF(ISERROR(VLOOKUP(J348,'Vessel list'!A:J,10,FALSE)),\"\",VLOOKUP(J348,'Vessel list'!A:J,10,FALSE)))","v":""},{"$f":"+IF(J348=\"\",\"\",IF(ISERROR(VLOOKUP(J348,'Vessel list'!A:C,3,FALSE)),\"\",VLOOKUP(J348,'Vessel list'!A:C,3,FALSE)))","v":""}]
[{"$f":"+VLOOKUP(G349,'Lista consol SKR'!$P:$Q,2,FALSE)","v":{"$error":"#N/A"}},{"$error":"#N/A"},{"$error":"#N/A"},{"$f":"+VLOOKUP(R349,'Lista consol SKR'!C:D,2,FALSE)","v":{"$error":"#N/A"}},{"$error":"#N/A"},{"$error":"#N/A"},{"$f":"+VLOOKUP(S349,'Lista consol SKR'!C:D,2,FALSE)","v":{"$error":"#N/A"}},{"$f":"+VLOOKUP(Q349,'Lista consol SKR'!A:B,2,FALSE)","v":{"$error":"#N/A"}},"","",{"$f":"+IF(J349=\"\",\"\",IF(ISERROR(VLOOKUP(J349,'Vessel list'!A:J,10,FALSE)),\"\",VLOOKUP(J349,'Vessel list'!A:J,10,FALSE)))","v":""},{"$f":"+IF(J349=\"\",\"\",IF(ISERROR(VLOOKUP(J349,'Vessel list'!A:C,3,FALSE)),\"\",VLOOKUP(J349,'Vessel list'!A:C,3,FALSE)))","v":""}]
[{"$f":"+VLOOKUP(G350,'Lista consol SKR'!$P:$Q,2,FALSE)","v":{"$error":"#N/A"}},{"$error":"#N/A"},{"$error":"#N/A"},{"$f":"+VLOOKUP(R350,'Lista consol SKR'!C:D,2,FALSE)","v":{"$error":"#N/A"}},{"$error":"#N/A"},{"$error":"#N/A"},{"$f":"+VLOOKUP(S350,'Lista consol SKR'!C:D,2,FALSE)","v":{"$error":"#N/A"}},{"$f":"+VLOOKUP(Q350,'Lista consol SKR'!A:B,2,FALSE)","v":{"$error":"#N/A"}},"","",{"$f":"+IF(J350=\"\",\"\",IF(ISERROR(VLOOKUP(J350,'Vessel list'!A:J,10,FALSE)),\"\",VLOOKUP(J350,'Vessel list'!A:J,10,FALSE)))","v":""},{"$f":"+IF(J350=\"\",\"\",IF(ISERROR(VLOOKUP(J350,'Vessel list'!A:C,3,FALSE)),\"\",VLOOKUP(J350,'Vessel list'!A:C,3,FALSE)))","v":""}]
[{"$f":"+VLOOKUP(G351,'Lista consol SKR'!$P:$Q,2,FALSE)","v":{"$error":"#N/A"}},{"$error":"#N/A"},{"$error":"#N/A"},{"$f":"+VLOOKUP(R351,'Lista consol SKR'!C:D,2,FALSE)","v":{"$error":"#N/A"}},{"$error":"#N/A"},{"$error":"#N/A"},{"$f":"+VLOOKUP(S351,'Lista consol SKR'!C:D,2,FALSE)","v":{"$error":"#N/A"}},{"$f":"+VLOOKUP(Q351,'Lista consol SKR'!A:B,2,FALSE)","v":{"$error":"#N/A"}},"","",{"$f":"+IF(J351=\"\",\"\",IF(ISERROR(VLOOKUP(J351,'Vessel list'!A:J,10,FALSE)),\"\",VLOOKUP(J351,'Vessel list'!A:J,10,FALSE)))","v":""},{"$f":"+IF(J351=\"\",\"\",IF(ISERROR(VLOOKUP(J351,'Vessel list'!A:C,3,FALSE)),\"\",VLOOKUP(J351,'Vessel list'!A:C,3,FALSE)))","v":""}]
[{"$f":"+VLOOKUP(G352,'Lista consol SKR'!$P:$Q,2,FALSE)","v":{"$error":"#N/A"}},{"$error":"#N/A"},{"$error":"#N/A"},{"$f":"+VLOOKUP(R352,'Lista consol SKR'!C:D,2,FALSE)","v":{"$error":"#N/A"}},{"$error":"#N/A"},{"$error":"#N/A"},{"$f":"+VLOOKUP(S352,'Lista consol SKR'!C:D,2,FALSE)","v":{"$error":"#N/A"}},{"$f":"+VLOOKUP(Q352,'Lista consol SKR'!A:B,2,FALSE)","v":{"$error":"#N/A"}},"","",{"$f":"+IF(J352=\"\",\"\",IF(ISERROR(VLOOKUP(J352,'Vessel list'!A:J,10,FALSE)),\"\",VLOOKUP(J352,'Vessel list'!A:J,10,FALSE)))","v":""},{"$f":"+IF(J352=\"\",\"\",IF(ISERROR(VLOOKUP(J352,'Vessel list'!A:C,3,FALSE)),\"\",VLOOKUP(J352,'Vessel list'!A:C,3,FALSE)))","v":""}]
[{"$f":"+VLOOKUP(G353,'Lista consol SKR'!$P:$Q,2,FALSE)","v":{"$error":"#N/A"}},{"$error":"#N/A"},{"$error":"#N/A"},{"$f":"+VLOOKUP(R353,'Lista consol SKR'!C:D,2,FALSE)","v":{"$error":"#N/A"}},{"$error":"#N/A"},{"$error":"#N/A"},{"$f":"+VLOOKUP(S353,'Lista consol SKR'!C:D,2,FALSE)","v":{"$error":"#N/A"}},{"$f":"+VLOOKUP(Q353,'Lista consol SKR'!A:B,2,FALSE)","v":{"$error":"#N/A"}},"","",{"$f":"+IF(J353=\"\",\"\",IF(ISERROR(VLOOKUP(J353,'Vessel list'!A:J,10,FALSE)),\"\",VLOOKUP(J353,'Vessel list'!A:J,10,FALSE)))","v":""},{"$f":"+IF(J353=\"\",\"\",IF(ISERROR(VLOOKUP(J353,'Vessel list'!A:C,3,FALSE)),\"\",VLOOKUP(J353,'Vessel list'!A:C,3,FALSE)))","v":""}]
[{"$f":"+VLOOKUP(G354,'Lista consol SKR'!$P:$Q,2,FALSE)","v":{"$error":"#N/A"}},{"$error":"#N/A"},{"$error":"#N/A"},{"$f":"+VLOOKUP(R354,'Lista consol SKR'!C:D,2,FALSE)","v":{"$error":"#N/A"}},{"$error":"#N/A"},{"$error":"#N/A"},{"$f":"+VLOOKUP(S354,'Lista consol SKR'!C:D,2,FALSE)","v":{"$error":"#N/A"}},{"$f":"+VLOOKUP(Q354,'Lista consol SKR'!A:B,2,FALSE)","v":{"$error":"#N/A"}},"","",{"$f":"+IF(J354=\"\",\"\",IF(ISERROR(VLOOKUP(J354,'Vessel list'!A:J,10,FALSE)),\"\",VLOOKUP(J354,'Vessel list'!A:J,10,FALSE)))","v":""},{"$f":"+IF(J354=\"\",\"\",IF(ISERROR(VLOOKUP(J354,'Vessel list'!A:C,3,FALSE)),\"\",VLOOKUP(J354,'Vessel list'!A:C,3,FALSE)))","v":""}]
[{"$f":"+VLOOKUP(G355,'Lista consol SKR'!$P:$Q,2,FALSE)","v":{"$error":"#N/A"}},{"$error":"#N/A"},{"$error":"#N/A"},{"$f":"+VLOOKUP(R355,'Lista consol SKR'!C:D,2,FALSE)","v":{"$error":"#N/A"}},{"$error":"#N/A"},{"$error":"#N/A"},{"$f":"+VLOOKUP(S355,'Lista consol SKR'!C:D,2,FALSE)","v":{"$error":"#N/A"}},{"$f":"+VLOOKUP(Q355,'Lista consol SKR'!A:B,2,FALSE)","v":{"$error":"#N/A"}},"","",{"$f":"+IF(J355=\"\",\"\",IF(ISERROR(VLOOKUP(J355,'Vessel list'!A:J,10,FALSE)),\"\",VLOOKUP(J355,'Vessel list'!A:J,10,FALSE)))","v":""},{"$f":"+IF(J355=\"\",\"\",IF(ISERROR(VLOOKUP(J355,'Vessel list'!A:C,3,FALSE)),\"\",VLOOKUP(J355,'Vessel list'!A:C,3,FALSE)))","v":""}]
[{"$f":"+VLOOKUP(G356,'Lista consol SKR'!$P:$Q,2,FALSE)","v":{"$error":"#N/A"}},{"$error":"#N/A"},{"$error":"#N/A"},{"$f":"+VLOOKUP(R356,'Lista consol SKR'!C:D,2,FALSE)","v":{"$error":"#N/A"}},{"$error":"#N/A"},{"$error":"#N/A"},{"$f":"+VLOOKUP(S356,'Lista consol SKR'!C:D,2,FALSE)","v":{"$error":"#N/A"}},{"$f":"+VLOOKUP(Q356,'Lista consol SKR'!A:B,2,FALSE)","v":{"$error":"#N/A"}},"","",{"$f":"+IF(J356=\"\",\"\",IF(ISERROR(VLOOKUP(J356,'Vessel list'!A:J,10,FALSE)),\"\",VLOOKUP(J356,'Vessel list'!A:J,10,FALSE)))","v":""},{"$f":"+IF(J356=\"\",\"\",IF(ISERROR(VLOOKUP(J356,'Vessel list'!A:C,3,FALSE)),\"\",VLOOKUP(J356,'Vessel list'!A:C,3,FALSE)))","v":""}]
[{"$f":"+VLOOKUP(G357,'Lista consol SKR'!$P:$Q,2,FALSE)","v":{"$error":"#N/A"}},{"$error":"#N/A"},{"$error":"#N/A"},{"$f":"+VLOOKUP(R357,'Lista consol SKR'!C:D,2,FALSE)","v":{"$error":"#N/A"}},{"$error":"#N/A"},{"$error":"#N/A"},{"$f":"+VLOOKUP(S357,'Lista consol SKR'!C:D,2,FALSE)","v":{"$error":"#N/A"}},{"$f":"+VLOOKUP(Q357,'Lista consol SKR'!A:B,2,FALSE)","v":{"$error":"#N/A"}},"","",{"$f":"+IF(J357=\"\",\"\",IF(ISERROR(VLOOKUP(J357,'Vessel list'!A:J,10,FALSE)),\"\",VLOOKUP(J357,'Vessel list'!A:J,10,FALSE)))","v":""},{"$f":"+IF(J357=\"\",\"\",IF(ISERROR(VLOOKUP(J357,'Vessel list'!A:C,3,FALSE)),\"\",VLOOKUP(J357,'Vessel list'!A:C,3,FALSE)))","v":""}]
[{"$f":"+VLOOKUP(G358,'Lista consol SKR'!$P:$Q,2,FALSE)","v":{"$error":"#N/A"}},{"$error":"#N/A"},{"$error":"#N/A"},{"$f":"+VLOOKUP(R358,'Lista consol SKR'!C:D,2,FALSE)","v":{"$error":"#N/A"}},{"$error":"#N/A"},{"$error":"#N/A"},{"$f":"+VLOOKUP(S358,'Lista consol SKR'!C:D,2,FALSE)","v":{"$error":"#N/A"}},{"$f":"+VLOOKUP(Q358,'Lista consol SKR'!A:B,2,FALSE)","v":{"$error":"#N/A"}},"","",{"$f":"+IF(J358=\"\",\"\",IF(ISERROR(VLOOKUP(J358,'Vessel list'!A:J,10,FALSE)),\"\",VLOOKUP(J358,'Vessel list'!A:J,10,FALSE)))","v":""},{"$f":"+IF(J358=\"\",\"\",IF(ISERROR(VLOOKUP(J358,'Vessel list'!A:C,3,FALSE)),\"\",VLOOKUP(J358,'Vessel list'!A:C,3,FALSE)))","v":""}]
[{"$f":"+VLOOKUP(G359,'Lista consol SKR'!$P:$Q,2,FALSE)","v":{"$error":"#N/A"}},{"$error":"#N/A"},{"$error":"#N/A"},{"$f":"+VLOOKUP(R359,'Lista consol SKR'!C:D,2,FALSE)","v":{"$error":"#N/A"}},{"$error":"#N/A"},{"$error":"#N/A"},{"$f":"+VLOOKUP(S359,'Lista consol SKR'!C:D,2,FALSE)","v":{"$error":"#N/A"}},{"$f":"+VLOOKUP(Q359,'Lista consol SKR'!A:B,2,FALSE)","v":{"$error":"#N/A"}},"","",{"$f":"+IF(J359=\"\",\"\",IF(ISERROR(VLOOKUP(J359,'Vessel list'!A:J,10,FALSE)),\"\",VLOOKUP(J359,'Vessel list'!A:J,10,FALSE)))","v":""},{"$f":"+IF(J359=\"\",\"\",IF(ISERROR(VLOOKUP(J359,'Vessel list'!A:C,3,FALSE)),\"\",VLOOKUP(J359,'Vessel list'!A:C,3,FALSE)))","v":""}]
[{"$f":"+VLOOKUP(G360,'Lista consol SKR'!$P:$Q,2,FALSE)","v":{"$error":"#N/A"}},{"$error":"#N/A"},{"$error":"#N/A"},{"$f":"+VLOOKUP(R360,'Lista consol SKR'!C:D,2,FALSE)","v":{"$error":"#N/A"}},{"$error":"#N/A"},{"$error":"#N/A"},{"$f":"+VLOOKUP(S360,'Lista consol SKR'!C:D,2,FALSE)","v":{"$error":"#N/A"}},{"$f":"+VLOOKUP(Q360,'Lista consol SKR'!A:B,2,FALSE)","v":{"$error":"#N/A"}},"","",{"$f":"+IF(J360=\"\",\"\",IF(ISERROR(VLOOKUP(J360,'Vessel list'!A:J,10,FALSE)),\"\",VLOOKUP(J360,'Vessel list'!A:J,10,FALSE)))","v":""},{"$f":"+IF(J360=\"\",\"\",IF(ISERROR(VLOOKUP(J360,'Vessel list'!A:C,3,FALSE)),\"\",VLOOKUP(J360,'Vessel list'!A:C,3,FALSE)))","v":""}]
[{"$f":"+VLOOKUP(G361,'Lista consol SKR'!$P:$Q,2,FALSE)","v":{"$error":"#N/A"}},{"$error":"#N/A"},{"$error":"#N/A"},{"$f":"+VLOOKUP(R361,'Lista consol SKR'!C:D,2,FALSE)","v":{"$error":"#N/A"}},{"$error":"#N/A"},{"$error":"#N/A"},{"$f":"+VLOOKUP(S361,'Lista consol SKR'!C:D,2,FALSE)","v":{"$error":"#N/A"}},{"$f":"+VLOOKUP(Q361,'Lista consol SKR'!A:B,2,FALSE)","v":{"$error":"#N/A"}},"","",{"$f":"+IF(J361=\"\",\"\",IF(ISERROR(VLOOKUP(J361,'Vessel list'!A:J,10,FALSE)),\"\",VLOOKUP(J361,'Vessel list'!A:J,10,FALSE)))","v":""},{"$f":"+IF(J361=\"\",\"\",IF(ISERROR(VLOOKUP(J361,'Vessel list'!A:C,3,FALSE)),\"\",VLOOKUP(J361,'Vessel list'!A:C,3,FALSE)))","v":""}]
[{"$f":"+VLOOKUP(G362,'Lista consol SKR'!$P:$Q,2,FALSE)","v":{"$error":"#N/A"}},{"$error":"#N/A"},{"$error":"#N/A"},{"$f":"+VLOOKUP(R362,'Lista consol SKR'!C:D,2,FALSE)","v":{"$error":"#N/A"}},{"$error":"#N/A"},{"$error":"#N/A"},{"$f":"+VLOOKUP(S362,'Lista consol SKR'!C:D,2,FALSE)","v":{"$error":"#N/A"}},{"$f":"+VLOOKUP(Q362,'Lista consol SKR'!A:B,2,FALSE)","v":{"$error":"#N/A"}},"","",{"$f":"+IF(J362=\"\",\"\",IF(ISERROR(VLOOKUP(J362,'Vessel list'!A:J,10,FALSE)),\"\",VLOOKUP(J362,'Vessel list'!A:J,10,FALSE)))","v":""},{"$f":"+IF(J362=\"\",\"\",IF(ISERROR(VLOOKUP(J362,'Vessel list'!A:C,3,FALSE)),\"\",VLOOKUP(J362,'Vessel list'!A:C,3,FALSE)))","v":""}]
[{"$f":"+VLOOKUP(G363,'Lista consol SKR'!$P:$Q,2,FALSE)","v":{"$error":"#N/A"}},{"$error":"#N/A"},{"$error":"#N/A"},{"$f":"+VLOOKUP(R363,'Lista consol SKR'!C:D,2,FALSE)","v":{"$error":"#N/A"}},{"$error":"#N/A"},{"$error":"#N/A"},{"$f":"+VLOOKUP(S363,'Lista consol SKR'!C:D,2,FALSE)","v":{"$error":"#N/A"}},{"$f":"+VLOOKUP(Q363,'Lista consol SKR'!A:B,2,FALSE)","v":{"$error":"#N/A"}},"","",{"$f":"+IF(J363=\"\",\"\",IF(ISERROR(VLOOKUP(J363,'Vessel list'!A:J,10,FALSE)),\"\",VLOOKUP(J363,'Vessel list'!A:J,10,FALSE)))","v":""},{"$f":"+IF(J363=\"\",\"\",IF(ISERROR(VLOOKUP(J363,'Vessel list'!A:C,3,FALSE)),\"\",VLOOKUP(J363,'Vessel list'!A:C,3,FALSE)))","v":""}]
[{"$f":"+VLOOKUP(G364,'Lista consol SKR'!$P:$Q,2,FALSE)","v":{"$error":"#N/A"}},{"$error":"#N/A"},{"$error":"#N/A"},{"$f":"+VLOOKUP(R364,'Lista consol SKR'!C:D,2,FALSE)","v":{"$error":"#N/A"}},{"$error":"#N/A"},{"$error":"#N/A"},{"$f":"+VLOOKUP(S364,'Lista consol SKR'!C:D,2,FALSE)","v":{"$error":"#N/A"}},{"$f":"+VLOOKUP(Q364,'Lista consol SKR'!A:B,2,FALSE)","v":{"$error":"#N/A"}},"","",{"$f":"+IF(J364=\"\",\"\",IF(ISERROR(VLOOKUP(J364,'Vessel list'!A:J,10,FALSE)),\"\",VLOOKUP(J364,'Vessel list'!A:J,10,FALSE)))","v":""},{"$f":"+IF(J364=\"\",\"\",IF(ISERROR(VLOOKUP(J364,'Vessel list'!A:C,3,FALSE)),\"\",VLOOKUP(J364,'Vessel list'!A:C,3,FALSE)))","v":""}]
[{"$f":"+VLOOKUP(G365,'Lista consol SKR'!$P:$Q,2,FALSE)","v":{"$error":"#N/A"}},{"$error":"#N/A"},{"$error":"#N/A"},{"$f":"+VLOOKUP(R365,'Lista consol SKR'!C:D,2,FALSE)","v":{"$error":"#N/A"}},{"$error":"#N/A"},{"$error":"#N/A"},{"$f":"+VLOOKUP(S365,'Lista consol SKR'!C:D,2,FALSE)","v":{"$error":"#N/A"}},{"$f":"+VLOOKUP(Q365,'Lista consol SKR'!A:B,2,FALSE)","v":{"$error":"#N/A"}},"","",{"$f":"+IF(J365=\"\",\"\",IF(ISERROR(VLOOKUP(J365,'Vessel list'!A:J,10,FALSE)),\"\",VLOOKUP(J365,'Vessel list'!A:J,10,FALSE)))","v":""},{"$f":"+IF(J365=\"\",\"\",IF(ISERROR(VLOOKUP(J365,'Vessel list'!A:C,3,FALSE)),\"\",VLOOKUP(J365,'Vessel list'!A:C,3,FALSE)))","v":""}]

{"sheet":"Vessel list","index":5,"n_rows":714,"n_cols":21,"rows_kept":714,"cut":false,"hidden":true,"merged":[]}
["UNIQUE vessel+pol","Vessel name","Terminal","Voyage","Port","Carrier","Servizio","IMO","Alliance","Varco doganale",null,null,null,"carrier name","carrier ID","terminal"]
[{"$f":"+B2&E2","v":"A. OBELIXITRAN"},"A. OBELIX","Ravenna TCR",null,"ITRAN","BOR",null,null,null,{"$f":"+VLOOKUP(C2,T:U,2,FALSE)","v":"IT221100"},null,null,null,"APL","SGAPLCO0001",null,null,null,null,"Ancona Terminal"]
["AEGIALIITGOA","AEGIALI","Genoa VTE","221NNE","ITGOA","CMA","New North Europe Med Oceania","9260902","Ocean Alliance","IT262102",null,null,null,"Borchard","GBBORCLINE0001",null,null,null,null,"Catania E.S.T."]
["AEGIALIITSAL","AEGIALI","Salerno SCT","196NNW","ITSAL","CMA","New North Europe Med Oceania","9260902","Ocean Alliance",0,null,null,null,"CMA","FRCMACGM0001","IT261101",null,null,null,"Civitavecchia Fruit and Forest Term"]
["AL BAHIAITGOA","AL BAHIA","Genoa VTE","213NNE","ITGOA","CMA","New North Europe Med Oceania","9349514","Ocean Alliance","IT262102",null,null,null,"China Cosco","CNCHINOCEA0001","IT262102",null,null,null,"Civitavecchia Terminal"]
["AL KHARJITGOA","AL KHARJ","Genoa VTE","223NNE","ITGOA","CMA","New North Europe Med Oceania","9349502","Ocean Alliance","IT262102",null,null,null,"CSCL","CNCHINSHIP0001","IT262102",null,null,null,"Genoa Port Terminal","IT262102"]
["AL KHARJITSAL","AL KHARJ","Salerno SCT","198NNW","ITSAL","CMA","New North Europe Med Oceania","9349502","Ocean Alliance",0,null,null,null,"Evergreen","TWEVERMARI0001","IT261101",null,null,null,"Genoa SECH","IT261101"]
["AL MANAMAHITGOA","AL MANAMAH","Genoa VTE","227NNE","ITGOA","CMA","New North Europe Med Oceania","9349538","Ocean Alliance","IT262102",null,null,null,"Hamburg Sud","DEHAMBSUED0001","IT262102",null,null,null,"Genoa Terminal San Giorgio","IT261101"]
["AL MANAMAHITSAL","AL MANAMAH","Salerno SCT","202NNW","ITSAL","CMA","New North Europe Med Oceania","9349538","Ocean Alliance",0,null,null,null,"Hapag Lloyd","DEHAPALLOY0001","IT262102",null,null,null,"Genoa VTE","IT262102"]
["AL RAWDAHITGOA","AL RAWDAH","Genoa SECH","1740W         ","ITGOA","UAS","IMEX","9349564","The Alliance","IT261101",null,null,null,"Hyundai","KRHYUNMERC0001","IT262102",null,null,null,"Gioia Tauro MCT Medcenter Container"]
["AL RAWDAHITSPE","AL RAWDAH","La Spezia LSCT","1733W         ","ITSPE","UAS","IMEX","9349564","The Alliance","IT068100",null,null,null,"KKK","JPKAWAKISE0001","IT261101",null,null,null,"La Spezia LSCT","IT068100"]
["AL RAWDAHITGOA","AL RAWDAH","Genoa SECH","142MXE","ITGOA","CMA","Med Express","9349564","Ocean Alliance","IT261101",null,null,null,"Maersk","DKMAERLINE0001","IT262102",null,null,null,"Livorno TDT"]
["AL RAWDAHITSPE","AL RAWDAH","La Spezia LSCT","156MXE","ITSPE","CMA","Med Express","9349564","Ocean Alliance","IT068100",null,null,null,"MOL","JPMITSUIO0002",null,null,null,null,"Livorno Terminal Lorenzini"]
["AL RAWDAHITSPE","AL RAWDAH","La Spezia LSCT","170MXE","ITSPE","CMA","Med Express","9349564","Ocean Alliance","IT068100",null,null,null,"MSC","CHMEDISHIP0001","IT262102",null,null,null,"Napoli Co.Na.Te.Co. Spa"]
["AL RIFFAITGOA","AL RIFFA","Genoa VTE","2142ME","ITGOA","CMA","Mediterranean Club Express 2","9525912","Ocean Alliance","IT262102",null,null,null,"OOCL","HKORIEOVER0001",null,null,null,null,"Napoli Terminal Flavio Gioia SpA"]
["AL RIFFAITSPE","AL RIFFA","La Spezia LSCT","2142ME","ITSPE","CMA","Mediterranean Club Express 2","9525912","Ocean Alliance","IT068100",null,null,null,"UASC","KWUNITARAB0001",null,null,null,null,"Ravenna TCR","IT221100"]
["AL RIFFAITSPE","AL RIFFA","La Spezia LSCT","2542ME","ITSPE","CMA","Mediterranean Club Express 2","9525912","Ocean Alliance","IT068100",null,null,null,"Yang Ming","TWYANGMING0001",null,null,null,null,"Salerno SCT"]
["AL SAFATITGOA","AL SAFAT","Genoa SECH","1732W         ","ITGOA","UAS","IMEX","9349497","The Alliance","IT261101",null,null,null,"ZIM","ILZIMINTEG0001",null,null,null,null,"Terminal Del Golfo - Tarros"]
["AL SAFATITSPE","AL SAFAT","La Spezia LSCT","1732W         ","ITSPE","UAS","IMEX","9349497","The Alliance","IT068100",null,null,null,"CCNI","CLCOMPCHIL0001",null,null,null,null,"Trieste TMT"]
["AL SAFATITGOA","AL SAFAT","Genoa SECH","140MXE","ITGOA","CMA","Med Express","9349497","Ocean Alliance","IT261101",null,null,null,"NYK","JPNIPPYUSE0001",null,null,null,null,"Vado Ligure Reefer Terminal"]
["AL SAFATITSPE","AL SAFAT","La Spezia LSCT","154MXE","ITSPE","CMA","Med Express","9349497","Ocean Alliance","IT068100",null,null,null,"ONE","SGOCEANETW0001",null,null,null,null,"Venezia Terminal T.I.V."]
["AL SAFATITSPE","AL SAFAT","La Spezia LSCT","182MXE","ITSPE","CMA","Med Express","9349497","Ocean Alliance","IT068100",null,null,null,null,null,null,null,null,null,"Venezia Terminal VECON"]
["ALEXANDRA RICKMERSITRAN","ALEXANDRA RICKMERS","Ravenna TCR","728R|729A","ITRAN","MAE",null,"9152739","2M","IT221100"]
["ALEXANDRA RICKMERSITVCE","ALEXANDRA RICKMERS","Venezia Terminal T.I.V.","731R|731R","ITVCE","MAE",null,"9152739","2M",0]
["ANGELAITGOA","ANGELA","Genoa SECH",null,"ITGOA","ZIM",null,null,null,"IT261101"]
["APL CALIFORNIAITVCE","APL CALIFORNIA","Venezia Terminal VECON","186BEE","ITVCE","CMA","Phoenician Express","9350044","Ocean Alliance",0]
["APL CALIFORNIAITTRS","APL CALIFORNIA","Trieste TMT","186BEE","ITTRS","CMA","Phoenician Express","9350044","Ocean Alliance",0]
["APL CHARLESTONITGIT","APL CHARLESTON","Gioia Tauro MCT Medcenter Container","109W         ","ITGIT","UAS","IEC1","9597551","The Alliance",0]
["APL CHARLESTONITGIT","APL CHARLESTON","Gioia Tauro MCT Medcenter Container","109EGW","ITGIT","CMA","Europe Pakistan India Consortium 1","9597551","Ocean Alliance",0]
["APL COLUMBUSITGIT","APL COLUMBUS","Gioia Tauro MCT Medcenter Container","101W         ","ITGIT","UAS","IEC1","9597525","The Alliance",0]
["APL COLUMBUSITGIT","APL COLUMBUS","Gioia Tauro MCT Medcenter Container","101EGW","ITGIT","CMA","Europe Pakistan India Consortium 1","9597525","Ocean Alliance",0]
["APL FLORIDAITVCE","APL FLORIDA","Venezia Terminal VECON","174BEE","ITVCE","CMA","Phoenician Express","9350032","Ocean Alliance",0]
["APL FLORIDAITTRS","APL FLORIDA","Trieste TMT","174BEE","ITTRS","CMA","Phoenician Express","9350032","Ocean Alliance",0]
["APL MIAMIITGIT","APL MIAMI","Gioia Tauro MCT Medcenter Container","113W         ","ITGIT","UAS","IEC1","9597549","The Alliance",0]
["APL MIAMIITGIT","APL MIAMI","Gioia Tauro MCT Medcenter Container","113EGW","ITGIT","CMA","Europe Pakistan India Consortium 1","9597549","Ocean Alliance",0]
["APL MINNESOTAITVCE","APL MINNESOTA","Venezia Terminal VECON","178BEE","ITVCE","CMA","Phoenician Express","9350018","Ocean Alliance",0]
["APL MINNESOTAITTRS","APL MINNESOTA","Trieste TMT","178BEE","ITTRS","CMA","Phoenician Express","9350018","Ocean Alliance",0]
["APL NEW JERSEYITVCE","APL NEW JERSEY","Venezia Terminal VECON","182BEE","ITVCE","CMA","Phoenician Express","9350020","Ocean Alliance",0]
["APL NEW JERSEYITTRS","APL NEW JERSEY","Trieste TMT","182BEE","ITTRS","CMA","Phoenician Express","9350020","Ocean Alliance",0]
["APL OREGONITVCE","APL OREGON","Venezia Terminal VECON","190BEE","ITVCE","CMA","Phoenician Express","9532783","Ocean Alliance",0]
["APL OREGONITTRS","APL OREGON","Trieste TMT","190BEE","ITTRS","CMA","Phoenician Express","9532783","Ocean Alliance",0]
["AS FATIMAITLIV","AS FATIMA","Livorno TDT","1731|1732","ITLIV","MAE",null,"9437191","2M",0]
["AS FATIMAITNAP","AS FATIMA","Napoli Terminal Flavio Gioia SpA","1731|1732","ITNAP","MAE",null,"9437191","2M",0]
["AS FATIMAITCVV","AS FATIMA","Civitavecchia Fruit and Forest Term","1731|1732","ITCVV","MAE",null,"9437191","2M",0]
["AS FATIMAITVDL","AS FATIMA","Vado Ligure Reefer Terminal","1743|1744","ITVDL","MAE",null,"9437191","2M",0]
["AS PALATIAITGOA","AS PALATIA","Genoa Port Terminal","070EAN","ITGOA","CMA","Europe Afrique 6","9294513","Ocean Alliance","IT262102"]
["ASIATIC LIBERTYITGOA","ASIATIC LIBERTY","Genoa SECH",null,"ITGOA","ZIM",null,null,null,"IT261101"]
["ASIATIC ORCHIDITGOA","ASIATIC ORCHID","Genoa SECH",null,"ITGOA","ZIM",null,null,null,"IT261101"]
["ASTRID SCHULTEITGOA","ASTRID SCHULTE","Genoa VTE","729E|729E","ITGOA","MAE",null,"9398230","2M","IT262102"]
["ASTRID SCHULTEITLIV","ASTRID SCHULTE","Livorno Terminal Lorenzini","729E|729E","ITLIV","MAE",null,"9398230","2M",0]
["ASTRID SCHULTEITSPE","ASTRID SCHULTE","La Spezia LSCT","729E|733W","ITSPE","MAE",null,"9398230","2M","IT068100"]
["ASTRID SCHULTEITNAP","ASTRID SCHULTE","Napoli Co.Na.Te.Co. Spa","729E|733W","ITNAP","MAE",null,"9398230","2M",0]
["ASTRID SCHULTEITGIT","ASTRID SCHULTE","Gioia Tauro MCT Medcenter Container","729E|733W","ITGIT","MAE",null,"9398230","2M",0]
["BANAKITGOA","BANAK","Genoa Port Terminal","231DVS","ITGOA","CMA","Mediterranean Caribbean","9504607","Ocean Alliance","IT262102"]
["BARCELONA EXPRESSITGOA","BARCELONA EXPRESS","Genoa Port Terminal","031MCW","ITGOA","CMA","Med Canada Service","9626053","Ocean Alliance","IT262102"]
["BARCELONA EXPRESSITSAL","BARCELONA EXPRESS","Salerno SCT","031MCW","ITSAL","CMA","Med Canada Service","9626053","Ocean Alliance",0]
["BASLE EXPRESSITGOA","BASLE EXPRESS","Genoa VTE","021W         ","ITGOA","UAS","MD2","9501344","The Alliance","IT262102"]
["BASLE EXPRESSITSPE","BASLE EXPRESS","La Spezia LSCT","021W         ","ITSPE","UAS","MD2","9501344","The Alliance","IT068100"]
["BERLIN BRIDGEITGOA","BERLIN BRIDGE","Genoa SECH","044W         ","ITGOA","HLL","AL6","9492713","The Alliance","IT261101"]
["BERLIN BRIDGEITSPE","BERLIN BRIDGE","La Spezia LSCT","043W         ","ITSPE","UAS","AL6","9492713","The Alliance","IT068100"]
["BERLIN BRIDGEITLIV","BERLIN BRIDGE","Livorno TDT","042W         ","ITLIV","UAS","AL6","9492713","The Alliance",0]
["BERLIN BRIDGEITSAL","BERLIN BRIDGE","Salerno SCT","042W         ","ITSAL","UAS","AL6","9492713","The Alliance",0]
["BERLIN BRIDGEITGOA","BERLIN BRIDGE","Genoa SECH",null,"ITGOA","ZIM",null,null,null,"IT261101"]
["BERLIN EXPRESSITGOA","BERLIN EXPRESS","Genoa SECH","088W         ","ITGOA","UAS","MD1","9229855","The Alliance","IT261101"]
["BF CATANIAITRAN","BF CATANIA","Ravenna TCR","1757|1758","ITRAN","MAE",null,"9123790","2M","IT221100"]
[{"$f":"+B66&E66","v":"BF CATANIAITAOI"},"BF CATANIA","Ancona Terminal","1759|1760","ITAOI","MAE",null,"9123790","2M",{"$f":"+VLOOKUP(C66,T:U,2,FALSE)","v":0}]
["BILBAO BRIDGEITGOA","BILBAO BRIDGE","Genoa SECH","140W         ","ITGOA","HLL","AL6","9492701","The Alliance","IT261101"]
["BILBAO BRIDGEITSPE","BILBAO BRIDGE","La Spezia LSCT","139W         ","ITSPE","UAS","AL6","9492701","The Alliance","IT068100"]
["BILBAO BRIDGEITLIV","BILBAO BRIDGE","Livorno TDT","138W         ","ITLIV","UAS","AL6","9492701","The Alliance",0]
["BILBAO BRIDGEITSAL","BILBAO BRIDGE","Salerno SCT","138W         ","ITSAL","UAS","AL6","9492701","The Alliance",0]
["BILBAO BRIDGEITGOA","BILBAO BRIDGE","Genoa SECH",null,"ITGOA","ZIM",null,null,null,"IT261101"]
["BLANDINEITGOA","BLANDINE","Genoa VTE","143MRW","ITGOA","CMA","Amerigo Service","9437048","Ocean Alliance","IT262102"]
["BLANDINEITSAL","BLANDINE","Salerno SCT","143MRW","ITSAL","CMA","Amerigo Service","9437048","Ocean Alliance",0]
["BREVIK BRIDGEITGOA","BREVIK BRIDGE","Genoa SECH","044W         ","ITGOA","HLL","AL6","9492696","The Alliance","IT261101"]
["BREVIK BRIDGEITSPE","BREVIK BRIDGE","La Spezia LSCT","043W         ","ITSPE","UAS","AL6","9492696","The Alliance","IT068100"]
["BREVIK BRIDGEITLIV","BREVIK BRIDGE","Livorno TDT","041W         ","ITLIV","UAS","AL6","9492696","The Alliance",0]
["BREVIK BRIDGEITSAL","BREVIK BRIDGE","Salerno SCT","041W         ","ITSAL","UAS","AL6","9492696","The Alliance",0]
["BREVIK BRIDGEITGOA","BREVIK BRIDGE","Genoa SECH",null,"ITGOA","ZIM",null,null,null,"IT261101"]
["BROTONNE BRIDGEITGOA","BROTONNE BRIDGE","Genoa SECH","030W         ","ITGOA","HLL","AL6","9486116","The Alliance","IT261101"]
["BROTONNE BRIDGEITSPE","BROTONNE BRIDGE","La Spezia LSCT","029W         ","ITSPE","UAS","AL6","9486116","The Alliance","IT068100"]
["BROTONNE BRIDGEITLIV","BROTONNE BRIDGE","Livorno TDT","028W         ","ITLIV","UAS","AL6","9486116","The Alliance",0]
["BROTONNE BRIDGEITSAL","BROTONNE BRIDGE","Salerno SCT","028W         ","ITSAL","UAS","AL6","9486116","The Alliance",0]
["BROTONNE BRIDGEITGOA","BROTONNE BRIDGE","Genoa SECH",null,"ITGOA","ZIM",null,null,null,"IT261101"]
["BRUSSELSITGOA","BRUSSELS","Genoa VTE","004W         ","ITGOA","UAS","MGX","9200691","The Alliance","IT262102"]
["BRUSSELSITLIV","BRUSSELS","Livorno TDT","002W         ","ITLIV","UAS","MGX","9200691","The Alliance",0]
["BRUSSELSITGOA","BRUSSELS","Genoa VTE","103GYW","ITGOA","CMA","Med Gulf Service","9200691","Ocean Alliance","IT262102"]
["BUDAPEST BRIDGEITGOA","BUDAPEST BRIDGE","Genoa SECH","055W         ","ITGOA","HLL","AL6","9494280","The Alliance","IT261101"]
["BUDAPEST BRIDGEITSPE","BUDAPEST BRIDGE","La Spezia LSCT","053W         ","ITSPE","UAS","AL6","9494280","The Alliance","IT068100"]
["BUDAPEST BRIDGEITLIV","BUDAPEST BRIDGE","Livorno TDT","052W         ","ITLIV","UAS","AL6","9494280","The Alliance",0]
["BUDAPEST BRIDGEITSAL","BUDAPEST BRIDGE","Salerno SCT","052W         ","ITSAL","UAS","AL6","9494280","The Alliance",0]
["BUDAPEST BRIDGEITGOA","BUDAPEST BRIDGE","Genoa SECH",null,"ITGOA","ZIM",null,null,null,"IT261101"]
["BUXCLIFFITGOA","BUXCLIFF","Genoa VTE","219NNE","ITGOA","CMA","New North Europe Med Oceania","9221815","Ocean Alliance","IT262102"]
["CALAIS TRADERITGOA","CALAIS TRADER","Genoa Port Terminal","074EAN","ITGOA","CMA","Europe Afrique 6","9226413","Ocean Alliance","IT262102"]
["CALAIS TRADERITSPE","CALAIS TRADER","La Spezia LSCT","074EAN","ITSPE","CMA","Europe Afrique 6","9226413","Ocean Alliance","IT068100"]
["CARATITCTA","CARAT","Catania E.S.T.","036DIR","ITCTA","CMA","Adriatic Feeder 1","9429209","Ocean Alliance",0]
["CARATITAOI","CARAT","Ancona Terminal","036DIR","ITAOI","CMA","Adriatic Feeder 1","9429209","Ocean Alliance",0]
["CARATITVCE","CARAT","Venezia Terminal VECON","036DIR","ITVCE","CMA","Adriatic Feeder 1","9429209","Ocean Alliance",0]
["CARATITRAN","CARAT","Ravenna TCR","036DIR","ITRAN","CMA","Adriatic Feeder 1","9429209","Ocean Alliance","IT221100"]
["CARLOTTA STARITGOA","CARLOTTA STAR","Genoa Port Terminal","179MGW","ITGOA","CMA","Med Americas","9210050","Ocean Alliance","IT262102"]
["CARLOTTA STARITSAL","CARLOTTA STAR","Salerno SCT","179MGW","ITSAL","CMA","Med Americas","9210050","Ocean Alliance",0]
["CAROLINA STARITGOA","CAROLINA STAR","Genoa Port Terminal","183MGW","ITGOA","CMA","Med Americas","9210062","Ocean Alliance","IT262102"]
["CAROLINA STARITSAL","CAROLINA STAR","Salerno SCT","183MGW","ITSAL","CMA","Med Americas","9210062","Ocean Alliance",0]
["CELINA STARITGOA","CELINA STAR","Genoa Port Terminal","24178S","ITGOA","CMA","Europe Afrique 4","9210086","Ocean Alliance","IT262102"]
["CERINTHUSITCVV","CERINTHUS","Civitavecchia Terminal","073WME","ITCVV","CMA","West Med Service 2","9596301","Ocean Alliance",0]
["CIELO DI AGADIRITCVV","CIELO DI AGADIR","Civitavecchia Terminal","075WME","ITCVV","CMA","West Med Service 2","9122045","Ocean Alliance",0]
["CMA CGM AMBERITGOA","CMA CGM AMBER","Genoa VTE","149MRW","ITGOA","CMA","Amerigo Service","9350381","Ocean Alliance","IT262102"]
["CMA CGM AMBERITSAL","CMA CGM AMBER","Salerno SCT","161MRW","ITSAL","CMA","Amerigo Service","9350381","Ocean Alliance",0]
["CMA CGM ANDROMEDAITGOA","CMA CGM ANDROMEDA","Genoa VTE","226MEE","ITGOA","CMA","Mediterranean Club Express 1","9410727","Ocean Alliance","IT262102"]
["CMA CGM BANJULITGOA","CMA CGM BANJUL","Genoa Port Terminal","24978S","ITGOA","CMA","Europe Afrique 4",{"$error":"#N/A"},"Ocean Alliance","IT262102"]
["CMA CGM CALLISTOITGOA","CMA CGM CALLISTO","Genoa VTE","222MEE","ITGOA","CMA","Mediterranean Club Express 1","9410753","Ocean Alliance","IT262102"]
["CMA CGM CASSIOPEIAITGOA","CMA CGM CASSIOPEIA","Genoa VTE","232MEE","ITGOA","CMA","Mediterranean Club Express 1","9410765","Ocean Alliance","IT262102"]
["CMA CGM CHOPINITGOA","CMA CGM CHOPIN","Genoa VTE","225NNE","ITGOA","CMA","New North Europe Med Oceania","9280603","Ocean Alliance","IT262102"]
["CMA CGM CHOPINITSAL","CMA CGM CHOPIN","Salerno SCT","200NNW","ITSAL","CMA","New North Europe Med Oceania","9280603","Ocean Alliance",0]
["CMA CGM CORALITGOA","CMA CGM CORAL","Genoa VTE","139MRW","ITGOA","CMA","Amerigo Service","9350393","Ocean Alliance","IT262102"]
["CMA CGM CORALITSAL","CMA CGM CORAL","Salerno SCT","151MRW","ITSAL","CMA","Amerigo Service","9350393","Ocean Alliance",0]
["CMA CGM CORNEILLEITGOA","CMA CGM CORNEILLE","Genoa VTE","233NNE","ITGOA","CMA","New North Europe Med Oceania","9409170","Ocean Alliance","IT262102"]
["CMA CGM CORNEILLEITSAL","CMA CGM CORNEILLE","Salerno SCT","208NNW","ITSAL","CMA","New North Europe Med Oceania","9409170","Ocean Alliance",0]
["CMA CGM FLORIDAITGOA","CMA CGM FLORIDA","Genoa VTE","141MRW","ITGOA","CMA","Amerigo Service","9348704","Ocean Alliance","IT262102"]
["CMA CGM FLORIDAITSAL","CMA CGM FLORIDA","Salerno SCT","141MRW","ITSAL","CMA","Amerigo Service","9348704","Ocean Alliance",0]
["CMA CGM GEMINIITGOA","CMA CGM GEMINI","Genoa VTE","220MEE","ITGOA","CMA","Mediterranean Club Express 1","9410791","Ocean Alliance","IT262102"]
["CMA CGM GEORGIAITGOA","CMA CGM GEORGIA","Genoa VTE","147MRW","ITGOA","CMA","Amerigo Service","9351127","Ocean Alliance","IT262102"]
["CMA CGM GEORGIAITSAL","CMA CGM GEORGIA","Salerno SCT","159MRW","ITSAL","CMA","Amerigo Service","9351127","Ocean Alliance",0]
["CMA CGM LIBRAITGOA","CMA CGM LIBRA","Genoa VTE","228MEE","ITGOA","CMA","Mediterranean Club Express 1","9399193","Ocean Alliance","IT262102"]
["CMA CGM MUSCAITGOA","CMA CGM MUSCA","Genoa VTE","212MEE","ITGOA","CMA","Mediterranean Club Express 1","9356311","Ocean Alliance","IT262102"]
["CMA CGM PEGASUSITGOA","CMA CGM PEGASUS","Genoa VTE","218MEE","ITGOA","CMA","Mediterranean Club Express 1","9399210","Ocean Alliance","IT262102"]
["CMA CGM STRAUSSITGOA","CMA CGM STRAUSS","Genoa VTE","229NNE","ITGOA","CMA","New North Europe Med Oceania","9280641","Ocean Alliance","IT262102"]
["CMA CGM STRAUSSITSAL","CMA CGM STRAUSS","Salerno SCT","204NNW","ITSAL","CMA","New North Europe Med Oceania","9280641","Ocean Alliance",0]
["CMA CGM TITANITGOA","CMA CGM TITAN","Genoa VTE","230MEE","ITGOA","CMA","Mediterranean Club Express 1","9399222","Ocean Alliance","IT262102"]
["CMA CGM TOSCAITGOA","CMA CGM TOSCA","Genoa SECH","173W         ","ITGOA","UAS","IMEX","9299783","The Alliance","IT261101"]
[{"$f":"+B130&E130","v":"CMA CGM TOSCAITSPE"},"CMA CGM TOSCA","La Spezia LSCT","159W         ","ITSPE","UAS","IMEX","9299783","The Alliance",{"$f":"+VLOOKUP(C130,T:U,2,FALSE)","v":"IT068100"}]
["CMA CGM TOSCAITGOA","CMA CGM TOSCA","Genoa SECH","146MXE","ITGOA","CMA","Med Express","9299783","Ocean Alliance","IT261101"]
["CMA CGM TOSCAITSPE","CMA CGM TOSCA","La Spezia LSCT","146MXE","ITSPE","CMA","Med Express","9299783","Ocean Alliance","IT068100"]
["CMA CGM TOSCAITSPE","CMA CGM TOSCA","La Spezia LSCT","174MXE","ITSPE","CMA","Med Express","9299783","Ocean Alliance","IT068100"]
["CMA CGM VELAITGOA","CMA CGM VELA","Genoa VTE","214MEE","ITGOA","CMA","Mediterranean Club Express 1","9354923","Ocean Alliance","IT262102"]
["CONTI LYONITGOA","CONTI LYON","Genoa VTE","211NNE","ITGOA","CMA","New North Europe Med Oceania","9222285","Ocean Alliance","IT262102"]
["CORELLIITGOA","CORELLI","Genoa Terminal San Giorgio","050WNN","ITGOA","CMA","West Med Italy Service","9126766","Ocean Alliance","IT261101"]
["CORELLIITSPE","CORELLI","Terminal Del Golfo - Tarros","050WNN","ITSPE","CMA","West Med Italy Service","9126766","Ocean Alliance",0]
["CORELLIITSPE","CORELLI","Terminal Del Golfo - Tarros","074WNN","ITSPE","CMA","West Med Italy Service","9126766","Ocean Alliance",0]
["CORELLIITSAL","CORELLI","Salerno SCT","057WNS","ITSAL","CMA","West Med Italy Service","9126766","Ocean Alliance",0]
["COSCO FAITHITGOA","COSCO FAITH","Genoa VTE","2242ME","ITGOA","CMA","Mediterranean Club Express 2","9472141","Ocean Alliance","IT262102"]
["COSCO FAITHITSPE","COSCO FAITH","La Spezia LSCT","2242ME","ITSPE","CMA","Mediterranean Club Express 2","9472141","Ocean Alliance","IT068100"]
["COSCO FAITHITSPE","COSCO FAITH","La Spezia LSCT","2442ME","ITSPE","CMA","Mediterranean Club Express 2","9472141","Ocean Alliance","IT068100"]
["COSCO FORTUNEITGOA","COSCO FORTUNE","Genoa VTE","2202ME","ITGOA","CMA","Mediterranean Club Express 2","9472127","Ocean Alliance","IT262102"]
["COSCO FORTUNEITSPE","COSCO FORTUNE","La Spezia LSCT","2202ME","ITSPE","CMA","Mediterranean Club Express 2","9472127","Ocean Alliance","IT068100"]
["COSCO FORTUNEITSPE","COSCO FORTUNE","La Spezia LSCT","2402ME","ITSPE","CMA","Mediterranean Club Express 2","9472127","Ocean Alliance","IT068100"]
["COSCO HARMONYITGOA","COSCO HARMONY","Genoa VTE","2162ME","ITGOA","CMA","Mediterranean Club Express 2","9472177","Ocean Alliance","IT262102"]
["COSCO HARMONYITSPE","COSCO HARMONY","La Spezia LSCT","2162ME","ITSPE","CMA","Mediterranean Club Express 2","9472177","Ocean Alliance","IT068100"]
["COSCO HARMONYITSPE","COSCO HARMONY","La Spezia LSCT","2562ME","ITSPE","CMA","Mediterranean Club Express 2","9472177","Ocean Alliance","IT068100"]
["COSCO HONG KONGITVCE","COSCO HONG KONG","Venezia Terminal VECON","180BEE","ITVCE","CMA","Phoenician Express","9227778","Ocean Alliance",0]
["COSCO HONG KONGITTRS","COSCO HONG KONG","Trieste TMT","180BEE","ITTRS","CMA","Phoenician Express","9227778","Ocean Alliance",0]
["COSCO HOPEITGOA","COSCO HOPE","Genoa VTE","2222ME","ITGOA","CMA","Mediterranean Club Express 2","9472165","Ocean Alliance","IT262102"]
["COSCO HOPEITSPE","COSCO HOPE","La Spezia LSCT","2222ME","ITSPE","CMA","Mediterranean Club Express 2","9472165","Ocean Alliance","IT068100"]
["COSCO HOPEITSPE","COSCO HOPE","La Spezia LSCT","2422ME","ITSPE","CMA","Mediterranean Club Express 2","9472165","Ocean Alliance","IT068100"]
["CSL VIRGINIAITGOA","CSL VIRGINIA","Genoa VTE","145MRW","ITGOA","CMA","Amerigo Service","9289568","Ocean Alliance","IT262102"]
["CSL VIRGINIAITSAL","CSL VIRGINIA","Salerno SCT","145MRW","ITSAL","CMA","Amerigo Service","9289568","Ocean Alliance",0]
["DEMETERITGOA","DEMETER","Genoa Port Terminal","25578S","ITGOA","CMA","Europe Afrique 4","9298636","Ocean Alliance","IT262102"]
["DETROIT EXPRESSITGOA","DETROIT EXPRESS","Genoa Port Terminal","033MCW","ITGOA","CMA","Med Canada Service","9610169","Ocean Alliance","IT262102"]
["DETROIT EXPRESSITSAL","DETROIT EXPRESS","Salerno SCT","033MCW","ITSAL","CMA","Med Canada Service","9610169","Ocean Alliance",0]
["DIMITRIS CITGOA","DIMITRIS C","Genoa Port Terminal","177MGW","ITGOA","CMA","Med Americas","9210074","Ocean Alliance","IT262102"]
["DIMITRIS CITSAL","DIMITRIS C","Salerno SCT","177MGW","ITSAL","CMA","Med Americas","9210074","Ocean Alliance",0]
["DUBAI EXPRESSITGOA","DUBAI EXPRESS","Genoa VTE","016W         ","ITGOA","UAS","MGX","9301782","The Alliance","IT262102"]
["DUBAI EXPRESSITLIV","DUBAI EXPRESS","Livorno TDT","016W         ","ITLIV","UAS","MGX","9301782","The Alliance",0]
["DUBAI EXPRESSITGOA","DUBAI EXPRESS","Genoa VTE","107GYW","ITGOA","CMA","Med Gulf Service","9301782","Ocean Alliance","IT262102"]
["E. R. ELSFLETHITRAN","E. R. ELSFLETH","Ravenna TCR","729R|730A","ITRAN","MAE",null,"9246346","2M","IT221100"]
["E. R. ELSFLETHITVCE","E. R. ELSFLETH","Venezia Terminal T.I.V.","731R|731R","ITVCE","MAE",null,"9246346","2M",0]
["EM CORFUITGOA","EM CORFU","Genoa Port Terminal","187MGW","ITGOA","CMA","Med Americas","9231494","Ocean Alliance","IT262102"]
["EM CORFUITSAL","EM CORFU","Salerno SCT","187MGW","ITSAL","CMA","Med Americas","9231494","Ocean Alliance",0]
["EMILY BORCHARDITRAN","EMILY BORCHARD","Ravenna TCR",null,"ITRAN","BOR",null,null,null,"IT221100"]
["ERATOITGOA","ERATO","Genoa Port Terminal","235DVS","ITGOA","CMA","Mediterranean Caribbean","9472103","Ocean Alliance","IT262102"]
["ESSEN EXPRESSITGOA","ESSEN EXPRESS","Genoa VTE","020W         ","ITGOA","UAS","MD2","9501370","The Alliance","IT262102"]
["ESSEN EXPRESSITSPE","ESSEN EXPRESS","La Spezia LSCT","019W         ","ITSPE","UAS","MD2","9501370","The Alliance","IT068100"]
["EVER SAFETYITVCE","EVER SAFETY","Venezia Terminal VECON","184BEE","ITVCE","CMA","Phoenician Express","9300465","Ocean Alliance",0]
["EVER SAFETYITTRS","EVER SAFETY","Trieste TMT","184BEE","ITTRS","CMA","Phoenician Express","9300465","Ocean Alliance",0]
["EVER SALUTEITVCE","EVER SALUTE","Venezia Terminal VECON","188BEE","ITVCE","CMA","Phoenician Express","9300477","Ocean Alliance",0]
["EVER SALUTEITTRS","EVER SALUTE","Trieste TMT","188BEE","ITTRS","CMA","Phoenician Express","9300477","Ocean Alliance",0]
["EVRIDIKI GITGOA","EVRIDIKI G","Genoa Port Terminal","173MGW","ITGOA","CMA","Med Americas","9231482","Ocean Alliance","IT262102"]
["EVRIDIKI GITSAL","EVRIDIKI G","Salerno SCT","173MGW","ITSAL","CMA","Med Americas","9231482","Ocean Alliance",0]
["FAS DAMMAMITGOA","FAS DAMMAM","Genoa Port Terminal","340FDS","ITGOA","CMA","Malta Bejaia Service 4","9160920","Ocean Alliance","IT262102"]
["FAS DAMMAMITSPE","FAS DAMMAM","La Spezia LSCT","340FDS","ITSPE","CMA","Malta Bejaia Service 4","9160920","Ocean Alliance","IT068100"]
["FOLEGANDROSITGOA","FOLEGANDROS","Genoa VTE","001W         ","ITGOA","UAS","MGX","9247560","The Alliance","IT262102"]
["FOLEGANDROSITLIV","FOLEGANDROS","Livorno TDT","001W         ","ITLIV","UAS","MGX","9247560","The Alliance",0]
["FOLEGANDROSITGOA","FOLEGANDROS","Genoa VTE","231NNE","ITGOA","CMA","New North Europe Med Oceania","9247560","Ocean Alliance","IT262102"]
["FOLEGANDROSITSAL","FOLEGANDROS","Salerno SCT","206NNW","ITSAL","CMA","New North Europe Med Oceania","9247560","Ocean Alliance",0]
["FRANKFURT EXPRESSITGOA","FRANKFURT EXPRESS","Genoa SECH","048W         ","ITGOA","UAS","MD1","9450442","The Alliance","IT261101"]
["GENOAITGOA","GENOA","Genoa VTE","003W         ","ITGOA","UAS","MGX","9267651","The Alliance","IT262102"]
["GENOAITLIV","GENOA","Livorno TDT","002W         ","ITLIV","UAS","MGX","9267651","The Alliance",0]
["GENOAITGOA","GENOA","Genoa VTE","109GYW","ITGOA","CMA","Med Gulf Service","9267651","Ocean Alliance","IT262102"]
["GENOA EXPRESSITGOA","GENOA EXPRESS","Genoa Port Terminal","035MCW","ITGOA","CMA","Med Canada Service","9626041","Ocean Alliance","IT262102"]
["GENOA EXPRESSITSAL","GENOA EXPRESS","Salerno SCT","035MCW","ITSAL","CMA","Med Canada Service","9626041","Ocean Alliance",0]
["GEORG MAERSKITGIT","GEORG MAERSK","Gioia Tauro MCT Medcenter Container","728E|728E","ITGIT","MAE",null,"9320257","2M",0]
["GERD MAERSKITGIT","GERD MAERSK","Gioia Tauro MCT Medcenter Container","732E|732E","ITGIT","MAE",null,"9320245","2M",0]
["GERDA MAERSKITGIT","GERDA MAERSK","Gioia Tauro MCT Medcenter Container","729E|729E","ITGIT","MAE",null,"9359052","2M",0]
["GERNER MAERSKITGIT","GERNER MAERSK","Gioia Tauro MCT Medcenter Container","739E|739E","ITGIT","MAE",null,"9359002","2M",0]
[{"$f":"+B194&E194","v":"GREEN FASTITSPE"},"GREEN FAST","La Spezia LSCT","1712|1713","ITSPE","MAE",null,"9128544","2M",{"$f":"+VLOOKUP(C194,T:U,2,FALSE)","v":"IT068100"}]
["GRETE MAERSKITGIT","GRETE MAERSK","Gioia Tauro MCT Medcenter Container","733E|733E","ITGIT","MAE",null,"9302889","2M",0]
["GUDRUN MAERSKITGIT","GUDRUN MAERSK","Gioia Tauro MCT Medcenter Container","730E|730E","ITGIT","MAE",null,"9302877","2M",0]
["GUNHILDE MAERSKITGOA","GUNHILDE MAERSK","Genoa VTE","1710|1711","ITGOA","MAE",null,"9359026","2M","IT262102"]
["HANNAH SCHULTEITGOA","HANNAH SCHULTE","Genoa Port Terminal","189MGW","ITGOA","CMA","Med Americas","9301938","Ocean Alliance","IT262102"]
["HANNAH SCHULTEITSAL","HANNAH SCHULTE","Salerno SCT","189MGW","ITSAL","CMA","Med Americas","9301938","Ocean Alliance",0]
["HANOVER EXPRESSITGOA","HANOVER EXPRESS","Genoa SECH","072W         ","ITGOA","UAS","MD1","9343716","The Alliance","IT261101"]
["HILDE AITGOA","HILDE A","Genoa Terminal San Giorgio","053WNS","ITGOA","CMA","West Med Italy Service","9305908","Ocean Alliance","IT261101"]
["HILDE AITSPE","HILDE A","Terminal Del Golfo - Tarros","062WNN","ITSPE","CMA","West Med Italy Service","9305908","Ocean Alliance",0]
["HILDE AITSPE","HILDE A","Terminal Del Golfo - Tarros","077WNS","ITSPE","CMA","West Med Italy Service","9305908","Ocean Alliance",0]
["HILDE AITSAL","HILDE A","Salerno SCT","054WNN","ITSAL","CMA","West Med Italy Service","9305908","Ocean Alliance",0]
["HOUSTON EXPRESSITGOA","HOUSTON EXPRESS","Genoa SECH","1737W         ","ITGOA","UAS","IMEX","9294991","The Alliance","IT261101"]
["HOUSTON EXPRESSITSPE","HOUSTON EXPRESS","La Spezia LSCT","1730W         ","ITSPE","UAS","IMEX","9294991","The Alliance","IT068100"]
["HOUSTON EXPRESSITGOA","HOUSTON EXPRESS","Genoa SECH","150MXE","ITGOA","CMA","Med Express","9294991","Ocean Alliance","IT261101"]
["HOUSTON EXPRESSITSPE","HOUSTON EXPRESS","La Spezia LSCT","150MXE","ITSPE","CMA","Med Express","9294991","Ocean Alliance","IT068100"]
["HOUSTON EXPRESSITSPE","HOUSTON EXPRESS","La Spezia LSCT","178MXE","ITSPE","CMA","Med Express","9294991","Ocean Alliance","IT068100"]
["HS DISCOVERERITGOA","HS DISCOVERER","Genoa Port Terminal","25378S","ITGOA","CMA","Europe Afrique 4","9243590","Ocean Alliance","IT262102"]
["HS PARISITSAL","HS PARIS","Salerno SCT","725N|725N","ITSAL","MAE",null,"9526502","2M",0]
["HS PARISITSAL","HS PARIS","Salerno SCT","166NVW","ITSAL","CMA","NC Levant Express","9526502","Ocean Alliance",0]
["IRENES RAINBOWITGOA","IRENES RAINBOW","Genoa VTE","18SGYW","ITGOA","CMA","Med Gulf Service","9303780","Ocean Alliance","IT262102"]
["JANDAVID SITGOA","JANDAVID S","Genoa VTE","1515E         ","ITGOA","UAS","LEX","9259381","The Alliance","IT262102"]
["JANDAVID SITLIV","JANDAVID S","Livorno TDT","1500E         ","ITLIV","UAS","LEX","9259381","The Alliance",0]
["JANDAVID SITSAL","JANDAVID S","Salerno SCT","1500E         ","ITSAL","UAS","LEX","9259381","The Alliance",0]
["JANDAVID SITGOA","JANDAVID S","Genoa VTE","3X7SCMAFN","ITGOA","CMA","CMA3PF","9259381","Ocean Alliance","IT262102"]
["JANDAVID SITSAL","JANDAVID S","Salerno SCT","3X7SCMAFN","ITSAL","CMA","CMA3PF","9259381","Ocean Alliance",0]
["JAZANITGOA","JAZAN","Genoa VTE","209NNE","ITGOA","CMA","New North Europe Med Oceania","9349540","Ocean Alliance","IT262102"]
["JAZANITSAL","JAZAN","Salerno SCT","210NNW","ITSAL","CMA","New North Europe Med Oceania","9349540","Ocean Alliance",0]
["JEBEL ALIITGOA","JEBEL ALI","Genoa VTE","2182ME","ITGOA","CMA","Mediterranean Club Express 2","9525936","Ocean Alliance","IT262102"]
["JEBEL ALIITSPE","JEBEL ALI","La Spezia LSCT","2182ME","ITSPE","CMA","Mediterranean Club Express 2","9525936","Ocean Alliance","IT068100"]
["JEBEL ALIITSPE","JEBEL ALI","La Spezia LSCT","2382ME","ITSPE","CMA","Mediterranean Club Express 2","9525936","Ocean Alliance","IT068100"]
["JOANNAITCVV","JOANNA","Civitavecchia Terminal","077WME","ITCVV","CMA","West Med Service 2","9204477","Ocean Alliance",0]
["JOANNA BORCHARDITRAN","JOANNA BORCHARD","Ravenna TCR",null,"ITRAN","BOR",null,null,null,"IT221100"]
["K PHOENIXITGOA","K PHOENIX","Genoa VTE","217NNE","ITGOA","CMA","New North Europe Med Oceania","9267649","Ocean Alliance","IT262102"]
["K PHOENIXITSAL","K PHOENIX","Salerno SCT","37SNNW","ITSAL","CMA","New North Europe Med Oceania","9267649","Ocean Alliance",0]
["KATHERINE BORCHARDITRAN","KATHERINE BORCHARD","Ravenna TCR",null,"ITRAN","BOR",null,null,null,"IT221100"]
["KATHERINE BORCHARDITGOA","KATHERINE BORCHARD","Genoa SECH",null,"ITGOA","MSC",null,null,null,"IT261101"]
["KUALA LUMPUR EXPRESSITGOA","KUALA LUMPUR EXPRESS","Genoa SECH","065W         ","ITGOA","UAS","MD1","9343730","The Alliance","IT261101"]
["LETOITGOA","LETO","Genoa Port Terminal","25178S","ITGOA","CMA","Europe Afrique 4","9311880","Ocean Alliance","IT262102"]
["LISBON EXPRESSITGOA","LISBON EXPRESS","Genoa VTE","1516E         ","ITGOA","UAS","LEX","9108128","The Alliance","IT262102"]
["LISBON EXPRESSITLIV","LISBON EXPRESS","Livorno TDT","1501E         ","ITLIV","UAS","LEX","9108128","The Alliance",0]
["LISBON EXPRESSITSAL","LISBON EXPRESS","Salerno SCT","1501E         ","ITSAL","UAS","LEX","9108128","The Alliance",0]
["LISBON EXPRESSITGOA","LISBON EXPRESS","Genoa VTE","3Q1SCMAFR","ITGOA","CMA","CMA3PF","9108128","Ocean Alliance","IT262102"]
["LISBON EXPRESSITSAL","LISBON EXPRESS","Salerno SCT","3Q1SCMAFR","ITSAL","CMA","CMA3PF","9108128","Ocean Alliance",0]
["LIVORNO EXPRESSITGOA","LIVORNO EXPRESS","Genoa Port Terminal","037MCW","ITGOA","CMA","Med Canada Service","9610157","Ocean Alliance","IT262102"]
["LIVORNO EXPRESSITSAL","LIVORNO EXPRESS","Salerno SCT","047MCW","ITSAL","CMA","Med Canada Service","9610157","Ocean Alliance",0]
["LOUIS SITGOA","LOUIS S","Genoa Port Terminal","25978S","ITGOA","CMA","Europe Afrique 4","9219381","Ocean Alliance","IT262102"]
["LOUISE BORCHARDITRAN","LOUISE BORCHARD","Ravenna TCR",null,"ITRAN","BOR",null,null,null,"IT221100"]
["LUCIE SCHULTEITGOA","LUCIE SCHULTE","Genoa Port Terminal","237DVS","ITGOA","CMA","Mediterranean Caribbean","9301926","Ocean Alliance","IT262102"]
["LUCY BORCHARDITRAN","LUCY BORCHARD","Ravenna TCR",null,"ITRAN","BOR",null,null,null,"IT221100"]
["MAERSK EFFINGHAMITGIT","MAERSK EFFINGHAM","Gioia Tauro MCT Medcenter Container","738E|738E","ITGIT","MAE",null,"9463059","2M",0]
["MAERSK EMERALDITGIT","MAERSK EMERALD","Gioia Tauro MCT Medcenter Container","742E|742E","ITGIT","MAE",null,"9502910","2M",0]
["MAERSK ENSHIITGIT","MAERSK ENSHI","Gioia Tauro MCT Medcenter Container","736E|736E","ITGIT","MAE",null,"9502946","2M",0]
["MAERSK EUBANKITGIT","MAERSK EUBANK","Gioia Tauro MCT Medcenter Container","737E|737E","ITGIT","MAE",null,"9463035","2M",0]
["MAERSK EUREKAITGIT","MAERSK EUREKA","Gioia Tauro MCT Medcenter Container","731E|731E","ITGIT","MAE",null,"9501239","2M",0]
["MAERSK EXETERITGIT","MAERSK EXETER","Gioia Tauro MCT Medcenter Container","735E|735E","ITGIT","MAE",null,"9475698","2M",0]
["MAERSK GUATEMALAITGOA","MAERSK GUATEMALA","Genoa VTE","1710|1711","ITGOA","MAE",null,"9713375","2M","IT262102"]
["MAERSK KOBEITGOA","MAERSK KOBE","Genoa VTE","730E|734W","ITGOA","MAE",null,"9196840","2M","IT262102"]
["MAERSK KOBEITLIV","MAERSK KOBE","Livorno Terminal Lorenzini","730E|734W","ITLIV","MAE",null,"9196840","2M",0]
["MAERSK KOBEITSPE","MAERSK KOBE","La Spezia LSCT","730E|734W","ITSPE","MAE",null,"9196840","2M","IT068100"]
["MAERSK KOBEITNAP","MAERSK KOBE","Napoli Co.Na.Te.Co. Spa","730E|734W","ITNAP","MAE",null,"9196840","2M",0]
["MAERSK KOBEITGIT","MAERSK KOBE","Gioia Tauro MCT Medcenter Container","730E|734W","ITGIT","MAE",null,"9196840","2M",0]
["MAERSK SEMBAWANGITGOA","MAERSK SEMBAWANG","Genoa VTE","1708|1709","ITGOA","MAE",null,"9315226","2M","IT262102"]
["MAERSK SERANGOONITGOA","MAERSK SERANGOON","Genoa VTE","1716|1717","ITGOA","MAE",null,"9315214","2M","IT262102"]
["MAERSK SHIVLINGITGOA","MAERSK SHIVLING","Genoa VTE","1710|1711","ITGOA","MAE",null,"9728253","2M","IT262102"]
[{"$f":"+B258&E258","v":"MAERSK TAIKUNGITGOA"},"MAERSK TAIKUNG","Genoa VTE","1710|1711","ITGOA","MAE",null,"9334662","2M",{"$f":"+VLOOKUP(C258,T:U,2,FALSE)","v":"IT262102"}]
["MAERSK TUKANGITGOA","MAERSK TUKANG","Genoa VTE","1710|1711","ITGOA","MAE",null,"9334686","2M","IT262102"]
["MAIRAITRAN","MAIRA","Ravenna TCR","730R|730R","ITRAN","MAE",null,"9203502","2M","IT221100"]
["MAIRAITVCE","MAIRA","Venezia Terminal T.I.V.","732R|733A","ITVCE","MAE",null,"9203502","2M",0]
["MALIK AL ASHTARITGOA","MALIK AL ASHTAR","Genoa VTE","2122ME","ITGOA","CMA","Mediterranean Club Express 2","9525900","Ocean Alliance","IT262102"]
["MALIK AL ASHTARITSPE","MALIK AL ASHTAR","La Spezia LSCT","2322ME","ITSPE","CMA","Mediterranean Club Express 2","9525900","Ocean Alliance","IT068100"]
["MALIK AL ASHTARITSPE","MALIK AL ASHTAR","La Spezia LSCT","2522ME","ITSPE","CMA","Mediterranean Club Express 2","9525900","Ocean Alliance","IT068100"]
["MANCHESTER BRIDGEITGOA","MANCHESTER BRIDGE","Genoa VTE","013W         ","ITGOA","UAS","MD2","9706748","The Alliance","IT262102"]
["MANCHESTER BRIDGEITSPE","MANCHESTER BRIDGE","La Spezia LSCT","012W         ","ITSPE","UAS","MD2","9706748","The Alliance","IT068100"]
["MANHATTAN BRIDGEITGOA","MANHATTAN BRIDGE","Genoa VTE","011W         ","ITGOA","UAS","MD2","9689615","The Alliance","IT262102"]
["MANHATTAN BRIDGEITSPE","MANHATTAN BRIDGE","La Spezia LSCT","010W         ","ITSPE","UAS","MD2","9689615","The Alliance","IT068100"]
["MARJAITRAN","MARJA","Venezia Terminal VECON","1774|1774","ITRAN","MAE",null,"9113721","2M",0]
["MARTHA SCHULTEITGOA","MARTHA SCHULTE","Genoa Port Terminal","26178S","ITGOA","CMA","Europe Afrique 4","9449118","Ocean Alliance","IT262102"]
["MARY SCHULTEITRAN","MARY SCHULTE","Ravenna TCR",null,"ITRAN","BOR",null,null,null,"IT221100"]
["MAX LIMITITRAN","MAX LIMIT","Ravenna TCR","1729|1730","ITRAN","MAE",null,"9246542","2M","IT221100"]
["MAX LIMITITVCE","MAX LIMIT","Venezia Terminal VECON","1735|1736","ITVCE","MAE",null,"9246542","2M",0]
["MAX LIMITITAOI","MAX LIMIT","Ancona Terminal","1729|1730","ITAOI","MAE",null,"9246542","2M",0]
["MAX LIMITITCTA","MAX LIMIT","Catania E.S.T.","1729|1729","ITCTA","MAE",null,"9246542","2M",0]
["MAX LIMITITCTA","MAX LIMIT","Catania E.S.T.","041DIR","ITCTA","CMA","Adriatic Feeder 1","9246542","Ocean Alliance",0]
["MAX LIMITITAOI","MAX LIMIT","Ancona Terminal","037DIR","ITAOI","CMA","Adriatic Feeder 1","9246542","Ocean Alliance",0]
["MAX LIMITITVCE","MAX LIMIT","Venezia Terminal VECON","035DIR","ITVCE","CMA","Adriatic Feeder 1","9246542","Ocean Alliance",0]
["MAX LIMITITRAN","MAX LIMIT","Ravenna TCR","037DIR","ITRAN","CMA","Adriatic Feeder 1","9246542","Ocean Alliance","IT221100"]
["MAX STABILITYITRAN","MAX STABILITY","Ravenna TCR","1713|1714","ITRAN","MAE",null,"9351098","2M","IT221100"]
["MAX STABILITYITAOI","MAX STABILITY","Ancona Terminal","1713|1714","ITAOI","MAE",null,"9351098","2M",0]
["MAX STABILITYITAOI","MAX STABILITY","Ancona Terminal","27SDIR","ITAOI","CMA","Adriatic Feeder 1","9351098","Ocean Alliance",0]
["MAX STABILITYITRAN","MAX STABILITY","Ravenna TCR","27SDIR","ITRAN","CMA","Adriatic Feeder 1","9351098","Ocean Alliance","IT221100"]
["MAX VENTUREITRAN","MAX VENTURE","Ravenna TCR","1731|1732","ITRAN","MAE",null,"9356658","2M","IT221100"]
["MAX VENTUREITVCE","MAX VENTURE","Venezia Terminal VECON","1737|1738","ITVCE","MAE",null,"9356658","2M",0]
["MAX VENTUREITAOI","MAX VENTURE","Ancona Terminal","1731|1732","ITAOI","MAE",null,"9356658","2M",0]
["MAX VENTUREITCTA","MAX VENTURE","Catania E.S.T.","1730|1730","ITCTA","MAE",null,"9356658","2M",0]
["MAX VENTUREITCTA","MAX VENTURE","Catania E.S.T.","042DIR","ITCTA","CMA","Adriatic Feeder 1","9356658","Ocean Alliance",0]
["MAX VENTUREITAOI","MAX VENTURE","Ancona Terminal","038DIR","ITAOI","CMA","Adriatic Feeder 1","9356658","Ocean Alliance",0]
["MAX VENTUREITVCE","MAX VENTURE","Venezia Terminal VECON","038DIR","ITVCE","CMA","Adriatic Feeder 1","9356658","Ocean Alliance",0]
["MAX VENTUREITRAN","MAX VENTURE","Ravenna TCR","038DIR","ITRAN","CMA","Adriatic Feeder 1","9356658","Ocean Alliance","IT221100"]
["MEANDIITLIV","MEANDI","Livorno TDT","1724|1724","ITLIV","MAE",null,"9328039","2M",0]
["MEANDIITGOA","MEANDI","Genoa SECH","131G","ITGOA","UAS","FDM","9328039","The Alliance","IT261101"]
["MEANDIITLIV","MEANDI","Livorno TDT","131N","ITLIV","UAS","FDM","9328039","The Alliance",0]
["MEANDIITNAP","MEANDI","Napoli Terminal Flavio Gioia SpA","131S","ITNAP","UAS","FDM","9328039","The Alliance",0]
["MEANDIITGOA","MEANDI","Genoa SECH","031DLR","ITGOA","CMA","Adriatic Feeder 6","9328039","Ocean Alliance","IT261101"]
["MEANDIITNAP","MEANDI","Napoli Terminal Flavio Gioia SpA","031DLR","ITNAP","CMA","Adriatic Feeder 6","9328039","Ocean Alliance",0]
["MEANDIITSAL","MEANDI","Salerno SCT","037DLR","ITSAL","CMA","Adriatic Feeder 6","9328039","Ocean Alliance",0]
["MEANDIITCTA","MEANDI","Catania E.S.T.","033DLR","ITCTA","CMA","Adriatic Feeder 6","9328039","Ocean Alliance",0]
["MILLAU BRIDGEITGOA","MILLAU BRIDGE","Genoa VTE","013W         ","ITGOA","UAS","MD2","9706736","The Alliance","IT262102"]
["MILLAU BRIDGEITSPE","MILLAU BRIDGE","La Spezia LSCT","013W         ","ITSPE","UAS","MD2","9706736","The Alliance","IT068100"]
["MIRIAM BORCHARDITRAN","MIRIAM BORCHARD","Ravenna TCR",null,"ITRAN","BOR",null,null,null,"IT221100"]
["MISSISSAUGA EXPRESSITGOA","MISSISSAUGA EXPRESS","Genoa Port Terminal","029MCW","ITGOA","CMA","Med Canada Service","9165358","Ocean Alliance","IT262102"]
["MISSISSAUGA EXPRESSITSAL","MISSISSAUGA EXPRESS","Salerno SCT","029MCW","ITSAL","CMA","Med Canada Service","9165358","Ocean Alliance",0]
["MOL CHARISMAITGOA","MOL CHARISMA","Genoa SECH","037W         ","ITGOA","UAS","MD1","9321249","The Alliance","IT261101"]
["MOL COSMOSITGOA","MOL COSMOS","Genoa SECH","059W         ","ITGOA","UAS","MD1","9388340","The Alliance","IT261101"]
["MOLIVAITGOA","MOLIVA","Genoa VTE","1727|1727","ITGOA","MAE",null,"9454034","2M","IT262102"]
["MOLIVAITLIV","MOLIVA","Livorno TDT","1727|1727","ITLIV","MAE",null,"9454034","2M",0]
["MOLIVAITGOA","MOLIVA","Genoa SECH","130G","ITGOA","UAS","FDM","9454034","The Alliance","IT261101"]
["MOLIVAITNAP","MOLIVA","Napoli Terminal Flavio Gioia SpA","132S","ITNAP","UAS","FDM","9454034","The Alliance",0]
["MOLIVAITGOA","MOLIVA","Genoa Port Terminal","032DLR","ITGOA","CMA","Adriatic Feeder 6","9454034","Ocean Alliance","IT262102"]
["MOLIVAITNAP","MOLIVA","Napoli Terminal Flavio Gioia SpA","030DLR","ITNAP","CMA","Adriatic Feeder 6","9454034","Ocean Alliance",0]
["MOLIVAITSAL","MOLIVA","Salerno SCT","034DLR","ITSAL","CMA","Adriatic Feeder 6","9454034","Ocean Alliance",0]
["MOLIVAITCTA","MOLIVA","Catania E.S.T.","038DLR","ITCTA","CMA","Adriatic Feeder 6","9454034","Ocean Alliance",0]
["MONTE ALEGREITSAL","MONTE ALEGRE","Salerno SCT","739N|739N","ITSAL","MAE",null,"9348065","2M",0]
["MONTE ALEGREITSAL","MONTE ALEGRE","Salerno SCT","164NVW","ITSAL","CMA","NC Levant Express","9348065","Ocean Alliance",0]
["MSC ALEXANDRAITSPE","MSC ALEXANDRA","La Spezia LSCT","724W|729E","ITSPE","MAE","AE11","9461374","2M","IT068100"]
["MSC ALEXANDRAITGIT","MSC ALEXANDRA","Gioia Tauro MCT Medcenter Container","724W|729E","ITGIT","MAE","AE11","9461374","2M",0]
["MSC ALGECIRASITGIT","MSC ALGECIRAS","Gioia Tauro MCT Medcenter Container","733W         ","ITGIT","UAS","IEC1","9605243","The Alliance",0]
["MSC ALGECIRASITGIT","MSC ALGECIRAS","Gioia Tauro MCT Medcenter Container","111EGW","ITGIT","CMA","Europe Pakistan India Consortium 1","9605243","Ocean Alliance",0]
["MSC ALGHEROITGIT","MSC ALGHERO","Gioia Tauro MCT Medcenter Container","727W         ","ITGIT","UAS","IEC1","9618288","The Alliance",0]
[{"$f":"+B322&E322","v":"MSC ALGHEROITGIT"},"MSC ALGHERO","Gioia Tauro MCT Medcenter Container","099EGW","ITGIT","CMA","Europe Pakistan India Consortium 1","9618288","Ocean Alliance",{"$f":"+VLOOKUP(C322,T:U,2,FALSE)","v":0}]
["MSC ALICANTEITGOA","MSC ALICANTE","Genoa VTE","728R|732A","ITGOA","MAE",null,"9480174","2M","IT262102"]
["MSC ALICANTEITLIV","MSC ALICANTE","Livorno Terminal Lorenzini","728R|732A","ITLIV","MAE",null,"9480174","2M",0]
["MSC ALICANTEITGOA","MSC ALICANTE","Genoa VTE","740S         ","ITGOA","UAS","SAM3","9480174","The Alliance","IT262102"]
["MSC ALICANTEITLIV","MSC ALICANTE","Livorno Terminal Lorenzini","732S         ","ITLIV","UAS","SAM3","9480174","The Alliance",0]
["MSC ALICANTEITGIT","MSC ALICANTE","Gioia Tauro MCT Medcenter Container","732S         ","ITGIT","UAS","SAM3","9480174","The Alliance",0]
["MSC ALICANTEITGOA","MSC ALICANTE","Genoa VTE","261NSS","ITGOA","CMA","Sirius Service","9480174","Ocean Alliance","IT262102"]
["MSC ALICANTEITGIT","MSC ALICANTE","Gioia Tauro MCT Medcenter Container","261NSS","ITGIT","CMA","Sirius Service","9480174","Ocean Alliance",0]
["MSC ALTAIRITSPE","MSC ALTAIR","La Spezia LSCT","729W|734E","ITSPE","MAE","AE11","9465277","2M","IT068100"]
["MSC ALTAIRITGIT","MSC ALTAIR","Gioia Tauro MCT Medcenter Container","729W|734E","ITGIT","MAE","AE11","9465277","2M",0]
["MSC AMSTERDAMITSPE","MSC AMSTERDAM","La Spezia LSCT","726W|731E","ITSPE","MAE","AE11","9606338","2M","IT068100"]
["MSC AMSTERDAMITGIT","MSC AMSTERDAM","Gioia Tauro MCT Medcenter Container","726W|731E","ITGIT","MAE","AE11","9606338","2M",0]
["MSC BARCELONAITGOA","MSC BARCELONA","Genoa VTE","725R|729A","ITGOA","MAE",null,"9480186","2M","IT262102"]
["MSC BARCELONAITLIV","MSC BARCELONA","Livorno Terminal Lorenzini","725R|729A","ITLIV","MAE",null,"9480186","2M",0]
["MSC BARCELONAITGOA","MSC BARCELONA","Genoa VTE","745S         ","ITGOA","UAS","SAM3","9480186","The Alliance","IT262102"]
["MSC BARCELONAITLIV","MSC BARCELONA","Livorno Terminal Lorenzini","729S         ","ITLIV","UAS","SAM3","9480186","The Alliance",0]
["MSC BARCELONAITGIT","MSC BARCELONA","Gioia Tauro MCT Medcenter Container","737S         ","ITGIT","UAS","SAM3","9480186","The Alliance",0]
["MSC BARCELONAITGOA","MSC BARCELONA","Genoa VTE","255NSS","ITGOA","CMA","Sirius Service","9480186","Ocean Alliance","IT262102"]
["MSC BARCELONAITGIT","MSC BARCELONA","Gioia Tauro MCT Medcenter Container","271NSS","ITGIT","CMA","Sirius Service","9480186","Ocean Alliance",0]
["MSC BARIITSPE","MSC BARI","La Spezia LSCT","732W|737E","ITSPE","MAE","AE11","9461441","2M","IT068100"]
["MSC BARIITGIT","MSC BARI","Gioia Tauro MCT Medcenter Container","732W|737E","ITGIT","MAE","AE11","9461441","2M",0]
["MSC BEATRICEITSPE","MSC BEATRICE","La Spezia LSCT","733W|738E","ITSPE","MAE","AE11","9399014","2M","IT068100"]
["MSC BEATRICEITGIT","MSC BEATRICE","Gioia Tauro MCT Medcenter Container","722W|727E","ITGIT","MAE","AE11","9399014","2M",0]
["MSC BERYLITGIT","MSC BERYL","Gioia Tauro MCT Medcenter Container","741E|741E","ITGIT","MAE",null,"9467392","2M",0]
["MSC BETTINAITSPE","MSC BETTINA","La Spezia LSCT","728W|733E","ITSPE","MAE","AE11","9399038","2M","IT068100"]
["MSC BETTINAITGIT","MSC BETTINA","Gioia Tauro MCT Medcenter Container","728W|733E","ITGIT","MAE","AE11","9399038","2M",0]
["MSC BUSANITGIT","MSC BUSAN","Gioia Tauro MCT Medcenter Container","729W         ","ITGIT","UAS","IEC1","9289087","The Alliance",0]
["MSC BUSANITGIT","MSC BUSAN","Gioia Tauro MCT Medcenter Container","103EGW","ITGIT","CMA","Europe Pakistan India Consortium 1","9289087","Ocean Alliance",0]
["MSC CADIZITGOA","MSC CADIZ","Genoa VTE","727R|731A","ITGOA","MAE",null,"9480203","2M","IT262102"]
["MSC CADIZITLIV","MSC CADIZ","Livorno Terminal Lorenzini","727R|731A","ITLIV","MAE",null,"9480203","2M",0]
["MSC CADIZITGOA","MSC CADIZ","Genoa VTE","739S         ","ITGOA","UAS","SAM3","9480203","The Alliance","IT262102"]
["MSC CADIZITLIV","MSC CADIZ","Livorno Terminal Lorenzini","731S         ","ITLIV","UAS","SAM3","9480203","The Alliance",0]
["MSC CADIZITGIT","MSC CADIZ","Gioia Tauro MCT Medcenter Container","731S         ","ITGIT","UAS","SAM3","9480203","The Alliance",0]
["MSC CADIZITGOA","MSC CADIZ","Genoa VTE","259NSS","ITGOA","CMA","Sirius Service","9480203","Ocean Alliance","IT262102"]
["MSC CADIZITGIT","MSC CADIZ","Gioia Tauro MCT Medcenter Container","259NSS","ITGIT","CMA","Sirius Service","9480203","Ocean Alliance",0]
["MSC CAMILLEITGOA","MSC CAMILLE","Genoa VTE","725W|729E","ITGOA","MAE","AE20","9404651","2M","IT262102"]
["MSC CAMILLEITSPE","MSC CAMILLE","La Spezia LSCT","725W|729E","ITSPE","MAE","AE20","9404651","2M","IT068100"]
["MSC CAMILLEITGIT","MSC CAMILLE","Gioia Tauro MCT Medcenter Container","725W|729E","ITGIT","MAE","AE20","9404651","2M",0]
["MSC CELINEITGIT","MSC CELINE","Gioia Tauro MCT Medcenter Container","728R|728R","ITGIT","MAE",null,"9316361","2M",0]
["MSC CLORINDAITGOA","MSC CLORINDA","Genoa VTE","731W|735E","ITGOA","MAE","AE20","9484429","2M","IT262102"]
["MSC CLORINDAITSPE","MSC CLORINDA","La Spezia LSCT","731W|735E","ITSPE","MAE","AE20","9484429","2M","IT068100"]
["MSC CLORINDAITGIT","MSC CLORINDA","Gioia Tauro MCT Medcenter Container","731W|735E","ITGIT","MAE","AE20","9484429","2M",0]
["MSC CORUNAITGOA","MSC CORUNA","Genoa VTE","731R|735A","ITGOA","MAE",null,"9480215","2M","IT262102"]
["MSC CORUNAITLIV","MSC CORUNA","Livorno Terminal Lorenzini","731R|735A","ITLIV","MAE",null,"9480215","2M",0]
["MSC CORUNAITGOA","MSC CORUNA","Genoa VTE","743S         ","ITGOA","UAS","SAM3","9480215","The Alliance","IT262102"]
["MSC CORUNAITLIV","MSC CORUNA","Livorno Terminal Lorenzini","735S         ","ITLIV","UAS","SAM3","9480215","The Alliance",0]
["MSC CORUNAITGIT","MSC CORUNA","Gioia Tauro MCT Medcenter Container","735S         ","ITGIT","UAS","SAM3","9480215","The Alliance",0]
["MSC CORUNAITGOA","MSC CORUNA","Genoa VTE","267NSS","ITGOA","CMA","Sirius Service","9480215","Ocean Alliance","IT262102"]
["MSC CORUNAITGIT","MSC CORUNA","Gioia Tauro MCT Medcenter Container","267NSS","ITGIT","CMA","Sirius Service","9480215","Ocean Alliance",0]
["MSC DANIELAITSPE","MSC DANIELA","La Spezia LSCT","733W|737E","ITSPE","MAE","AE11","9399002","2M","IT068100"]
["MSC DANIELAITGIT","MSC DANIELA","Gioia Tauro MCT Medcenter Container","733W|737E","ITGIT","MAE","AE11","9399002","2M",0]
["MSC DANITITSPE","MSC DANIT","La Spezia LSCT","725W|730E","ITSPE","MAE","AE11","9404649","2M","IT068100"]
["MSC DANITITGIT","MSC DANIT","Gioia Tauro MCT Medcenter Container","725W|730E","ITGIT","MAE","AE11","9404649","2M",0]
["MSC DEILAITSPE","MSC DEILA","La Spezia LSCT","730W|735E","ITSPE","MAE","AE11","9461415","2M","IT068100"]
["MSC DEILAITGIT","MSC DEILA","Gioia Tauro MCT Medcenter Container","730W|735E","ITGIT","MAE","AE11","9461415","2M",0]
["MSC DYMPHNAITGOA","MSC DYMPHNA","Genoa VTE",null,"ITGOA","MSC",null,null,null,"IT262102"]
["MSC ELBEITRAN","MSC ELBE","Ravenna TCR","729A|729A","ITRAN","MAE",null,"9236688","2M","IT221100"]
["MSC ELBEITVCE","MSC ELBE","Venezia Terminal T.I.V.","730R|731A","ITVCE","MAE",null,"9236688","2M",0]
["MSC ELBEITAOI","MSC ELBE","Ancona Terminal","729A|729A","ITAOI","MAE",null,"9236688","2M",0]
["MSC FLORIANAITRAN","MSC FLORIANA","Ravenna TCR","729R|730A","ITRAN","MAE",null,"8521397","2M","IT221100"]
["MSC FLORIANAITVCE","MSC FLORIANA","Venezia Terminal T.I.V.","729R|729R","ITVCE","MAE",null,"8521397","2M",0]
["MSC GAIAITGOA","MSC GAIA","Genoa VTE","730W|734E","ITGOA","MAE","AE20","9401142","2M","IT262102"]
["MSC GAIAITSPE","MSC GAIA","La Spezia LSCT","730W|734E","ITSPE","MAE","AE20","9401142","2M","IT068100"]
["MSC GAIAITGIT","MSC GAIA","Gioia Tauro MCT Medcenter Container","730W|734E","ITGIT","MAE","AE20","9401142","2M",0]
[{"$f":"+B386&E386","v":"MSC GIANNINAITRAN"},"MSC GIANNINA","Ravenna TCR","728A|728A","ITRAN","MAE",null,"9141780","2M",{"$f":"+VLOOKUP(C386,T:U,2,FALSE)","v":"IT221100"}]
["MSC GIANNINAITVCE","MSC GIANNINA","Venezia Terminal T.I.V.","731R|731R","ITVCE","MAE",null,"9141780","2M",0]
["MSC GIANNINAITAOI","MSC GIANNINA","Ancona Terminal","728A|728A","ITAOI","MAE",null,"9141780","2M",0]
["MSC JEMIMAITRAN","MSC JEMIMA","Ravenna TCR","728R|730A","ITRAN","MAE",null,"9051478","2M","IT221100"]
["MSC JEMIMAITVCE","MSC JEMIMA","Venezia Terminal T.I.V.","728R|730A","ITVCE","MAE",null,"9051478","2M",0]
["MSC JEMIMAITGIT","MSC JEMIMA","Gioia Tauro MCT Medcenter Container","728R|728R","ITGIT","MAE",null,"9051478","2M",0]
["MSC JUDITHITGOA","MSC JUDITH","Genoa VTE","729W|729W","ITGOA","MAE",null,"9299549","2M","IT262102"]
["MSC JUDITHITLIV","MSC JUDITH","Livorno Terminal Lorenzini","729W|729W","ITLIV","MAE",null,"9299549","2M",0]
["MSC JUDITHITSPE","MSC JUDITH","La Spezia LSCT","729W|729W","ITSPE","MAE",null,"9299549","2M","IT068100"]
["MSC JUDITHITNAP","MSC JUDITH","Napoli Co.Na.Te.Co. Spa","729W|729W","ITNAP","MAE",null,"9299549","2M",0]
["MSC JUDITHITGIT","MSC JUDITH","Gioia Tauro MCT Medcenter Container","725E|729W","ITGIT","MAE",null,"9299549","2M",0]
["MSC KALAMATAITGOA","MSC KALAMATA","Genoa VTE","726E|730W","ITGOA","MAE",null,"9244946","2M","IT262102"]
["MSC KALAMATAITLIV","MSC KALAMATA","Livorno Terminal Lorenzini","726E|730W","ITLIV","MAE",null,"9244946","2M",0]
["MSC KALAMATAITSPE","MSC KALAMATA","La Spezia LSCT","726E|730W","ITSPE","MAE",null,"9244946","2M","IT068100"]
["MSC KALAMATAITNAP","MSC KALAMATA","Napoli Co.Na.Te.Co. Spa","726E|730W","ITNAP","MAE",null,"9244946","2M",0]
["MSC KALAMATAITGIT","MSC KALAMATA","Gioia Tauro MCT Medcenter Container","726E|730W","ITGIT","MAE",null,"9244946","2M",0]
["MSC KINGSTONITGOA","MSC KINGSTON","Genoa VTE","728E|732W","ITGOA","MAE",null,"9244934","2M","IT262102"]
["MSC KINGSTONITLIV","MSC KINGSTON","Livorno Terminal Lorenzini","728E|732W","ITLIV","MAE",null,"9244934","2M",0]
["MSC KINGSTONITSPE","MSC KINGSTON","La Spezia LSCT","728E|732W","ITSPE","MAE",null,"9244934","2M","IT068100"]
["MSC KINGSTONITNAP","MSC KINGSTON","Napoli Co.Na.Te.Co. Spa","728E|732W","ITNAP","MAE",null,"9244934","2M",0]
["MSC KINGSTONITGIT","MSC KINGSTON","Gioia Tauro MCT Medcenter Container","728E|732W","ITGIT","MAE",null,"9244934","2M",0]
["MSC KOLKATAITGOA","MSC KOLKATA","Genoa VTE","727E|731W","ITGOA","MAE",null,"9244922","2M","IT262102"]
["MSC KOLKATAITLIV","MSC KOLKATA","Livorno Terminal Lorenzini","727E|731W","ITLIV","MAE",null,"9244922","2M",0]
["MSC KOLKATAITSPE","MSC KOLKATA","La Spezia LSCT","727E|731W","ITSPE","MAE",null,"9244922","2M","IT068100"]
["MSC KOLKATAITNAP","MSC KOLKATA","Napoli Co.Na.Te.Co. Spa","727E|731W","ITNAP","MAE",null,"9244922","2M",0]
["MSC KOLKATAITGIT","MSC KOLKATA","Gioia Tauro MCT Medcenter Container","727E|731W","ITGIT","MAE",null,"9244922","2M",0]
["MSC KWANGYANGITGOA","MSC KWANGYANG","Genoa VTE","728W|728W","ITGOA","MAE",null,"9347425","2M","IT262102"]
["MSC KWANGYANGITLIV","MSC KWANGYANG","Livorno Terminal Lorenzini","728W|728W","ITLIV","MAE",null,"9347425","2M",0]
["MSC KWANGYANGITSPE","MSC KWANGYANG","La Spezia LSCT","731E|735W","ITSPE","MAE",null,"9347425","2M","IT068100"]
["MSC KWANGYANGITNAP","MSC KWANGYANG","Napoli Co.Na.Te.Co. Spa","731E|735W","ITNAP","MAE",null,"9347425","2M",0]
["MSC KWANGYANGITGIT","MSC KWANGYANG","Gioia Tauro MCT Medcenter Container","731E|735W","ITGIT","MAE",null,"9347425","2M",0]
["MSC LA SPEZIAITGOA","MSC LA SPEZIA","Genoa VTE","727W|731E","ITGOA","MAE","AE20","9461403","2M","IT262102"]
["MSC LA SPEZIAITSPE","MSC LA SPEZIA","La Spezia LSCT","727W|731E","ITSPE","MAE","AE20","9461403","2M","IT068100"]
["MSC LA SPEZIAITGIT","MSC LA SPEZIA","Gioia Tauro MCT Medcenter Container","727W|731E","ITGIT","MAE","AE20","9461403","2M",0]
["MSC LAURENITGIT","MSC LAUREN","Gioia Tauro MCT Medcenter Container","734E|734E","ITGIT","MAE",null,"9467407","2M",0]
["MSC LEAITRAN","MSC LEA","Ravenna TCR","727R|728A","ITRAN","MAE",null,"9162643","2M","IT221100"]
["MSC LEAITVCE","MSC LEA","Venezia Terminal T.I.V.","731R|732A","ITVCE","MAE",null,"9162643","2M",0]
["MSC LIVORNOITGOA","MSC LIVORNO","Genoa VTE","732W|736E","ITGOA","MAE","AE20","9461427","2M","IT262102"]
["MSC LIVORNOITSPE","MSC LIVORNO","La Spezia LSCT","732W|736E","ITSPE","MAE","AE20","9461427","2M","IT068100"]
["MSC LIVORNOITGIT","MSC LIVORNO","Gioia Tauro MCT Medcenter Container","732W|736E","ITGIT","MAE","AE20","9461427","2M",0]
["MSC LORENAITGOA","MSC LORENA","Genoa VTE",null,"ITGOA","MSC",null,null,null,"IT262102"]
["MSC MARYLENAITRAN","MSC MARYLENA","Ravenna TCR","728R|729A","ITRAN","MAE",null,"9169031","2M","IT221100"]
["MSC MARYLENAITVCE","MSC MARYLENA","Venezia Terminal T.I.V.","732R|732R","ITVCE","MAE",null,"9169031","2M",0]
["MSC MEDITERRANEANITRAN","MSC MEDITERRANEAN","Ravenna TCR","726R|728A","ITRAN","MAE",null,"9102710","2M","IT221100"]
["MSC MEDITERRANEANITVCE","MSC MEDITERRANEAN","Venezia Terminal T.I.V.","726R|728A","ITVCE","MAE",null,"9102710","2M",0]
["MSC MELATILDEITGOA","MSC MELATILDE","Genoa VTE","726W|730E","ITGOA","MAE","AE20","9404675","2M","IT262102"]
["MSC MELATILDEITSPE","MSC MELATILDE","La Spezia LSCT","726W|730E","ITSPE","MAE","AE20","9404675","2M","IT068100"]
["MSC MELATILDEITGIT","MSC MELATILDE","Gioia Tauro MCT Medcenter Container","726W|730E","ITGIT","MAE","AE20","9404675","2M",0]
["MSC METHONIITSPE","MSC METHONI","La Spezia LSCT","729E|733W","ITSPE","MAE",null,"9256755","2M","IT068100"]
["MSC METHONIITNAP","MSC METHONI","Napoli Co.Na.Te.Co. Spa","729E|733W","ITNAP","MAE",null,"9256755","2M",0]
["MSC METHONIITGIT","MSC METHONI","Gioia Tauro MCT Medcenter Container","729E|733W","ITGIT","MAE",null,"9256755","2M",0]
["MSC MONTEREYITGOA","MSC MONTEREY","Genoa VTE",null,"ITGOA","MSC",null,null,null,"IT262102"]
["MSC PALOMAITGOA","MSC PALOMA","Genoa VTE","728W|732E","ITGOA","MAE","AE20","9441001","2M","IT262102"]
["MSC PALOMAITSPE","MSC PALOMA","La Spezia LSCT","728W|732E","ITSPE","MAE","AE20","9441001","2M","IT068100"]
["MSC PALOMAITGIT","MSC PALOMA","Gioia Tauro MCT Medcenter Container","728W|732E","ITGIT","MAE","AE20","9441001","2M",0]
["MSC RAVENNAITSPE","MSC RAVENNA","La Spezia LSCT","731W|736E","ITSPE","MAE","AE11","9484431","2M","IT068100"]
["MSC RAVENNAITGIT","MSC RAVENNA","Gioia Tauro MCT Medcenter Container","731W|736E","ITGIT","MAE","AE11","9484431","2M",0]
["MSC REGINAITGOA","MSC REGINA","Genoa VTE",null,"ITGOA","MSC",null,null,null,"IT262102"]
["MSC RHIANNONITRAN","MSC RHIANNON","Ravenna TCR","727R|728A","ITRAN","MAE",null,"9224051","2M","IT221100"]
["MSC RHIANNONITVCE","MSC RHIANNON","Venezia Terminal T.I.V.","727R|728A","ITVCE","MAE",null,"9224051","2M",0]
["MSC ROSA MITSPE","MSC ROSA M","La Spezia LSCT","727W|732E","ITSPE","MAE","AE11","9461398","2M","IT068100"]
["MSC ROSA MITGIT","MSC ROSA M","Gioia Tauro MCT Medcenter Container","727W|732E","ITGIT","MAE","AE11","9461398","2M",0]
["MSC SAVONAITSPE","MSC SAVONA","La Spezia LSCT","723W|728E","ITSPE","MAE","AE11","9460356","2M","IT068100"]
["MSC SAVONAITGIT","MSC SAVONA","Gioia Tauro MCT Medcenter Container","723W|728E","ITGIT","MAE","AE11","9460356","2M",0]
[{"$f":"+B450&E450","v":"MSC SENAITRAN"},"MSC SENA","Ravenna TCR","729R|729R","ITRAN","MAE",null,"9116369","2M",{"$f":"+VLOOKUP(C450,T:U,2,FALSE)","v":"IT221100"}]
["MSC SENAITVCE","MSC SENA","Venezia Terminal T.I.V.","729R|729R","ITVCE","MAE",null,"9116369","2M",0]
["MSC SENAITGIT","MSC SENA","Gioia Tauro MCT Medcenter Container","729R|729R","ITGIT","MAE",null,"9116369","2M",0]
["MSC SHAULAITGOA","MSC SHAULA","Genoa VTE",null,"ITGOA","MSC",null,null,null,"IT262102"]
["MSC SONIAITGOA","MSC SONIA","Genoa VTE","724W|728E","ITGOA","MAE","AE20","9404663","2M","IT262102"]
["MSC SONIAITSPE","MSC SONIA","La Spezia LSCT","724W|728E","ITSPE","MAE","AE20","9404663","2M","IT068100"]
["MSC SONIAITGIT","MSC SONIA","Gioia Tauro MCT Medcenter Container","735W|739E","ITGIT","MAE","AE20","9404663","2M",0]
["MSC STELLAITSPE","MSC STELLA","La Spezia LSCT","727E|731W","ITSPE","MAE",null,"9279989","2M","IT068100"]
["MSC STELLAITNAP","MSC STELLA","Napoli Co.Na.Te.Co. Spa","727E|731W","ITNAP","MAE",null,"9279989","2M",0]
["MSC STELLAITGIT","MSC STELLA","Gioia Tauro MCT Medcenter Container","727E|731W","ITGIT","MAE",null,"9279989","2M",0]
["MSC TARANTOITGOA","MSC TARANTO","Genoa VTE","729W|733E","ITGOA","MAE","AE20","9475258","2M","IT262102"]
["MSC TARANTOITSPE","MSC TARANTO","La Spezia LSCT","729W|733E","ITSPE","MAE","AE20","9475258","2M","IT068100"]
["MSC TARANTOITGIT","MSC TARANTO","Gioia Tauro MCT Medcenter Container","729W|733E","ITGIT","MAE","AE20","9475258","2M",0]
["MSC TERESAITGOA","MSC TERESA","Genoa VTE","723W|727E","ITGOA","MAE","AE20","9469560","2M","IT262102"]
["MSC TERESAITSPE","MSC TERESA","La Spezia LSCT","734W|738E","ITSPE","MAE","AE20","9469560","2M","IT068100"]
["MSC TERESAITGIT","MSC TERESA","Gioia Tauro MCT Medcenter Container","734W|738E","ITGIT","MAE","AE20","9469560","2M",0]
["MSC TOMOKOITGIT","MSC TOMOKO","Gioia Tauro MCT Medcenter Container","731W         ","ITGIT","UAS","IEC1","9309461","The Alliance",0]
["MSC TOMOKOITGIT","MSC TOMOKO","Gioia Tauro MCT Medcenter Container","107EGW","ITGIT","CMA","Europe Pakistan India Consortium 1","9309461","Ocean Alliance",0]
["MSC TORONTOITSPE","MSC TORONTO","La Spezia LSCT","725E|729W","ITSPE","MAE",null,"9299525","2M","IT068100"]
["MSC TORONTOITNAP","MSC TORONTO","Napoli Co.Na.Te.Co. Spa","725E|729W","ITNAP","MAE",null,"9299525","2M",0]
["MSC TORONTOITGIT","MSC TORONTO","Gioia Tauro MCT Medcenter Container","725E|729W","ITGIT","MAE",null,"9299525","2M",0]
["MSC VIGOITGOA","MSC VIGO","Genoa VTE","724R|728A","ITGOA","MAE",null,"9480227","2M","IT262102"]
["MSC VIGOITLIV","MSC VIGO","Livorno Terminal Lorenzini","724R|728A","ITLIV","MAE",null,"9480227","2M",0]
["MSC VIGOITGOA","MSC VIGO","Genoa VTE","744S         ","ITGOA","UAS","SAM3","9480227","The Alliance","IT262102"]
["MSC VIGOITLIV","MSC VIGO","Livorno Terminal Lorenzini","736S         ","ITLIV","UAS","SAM3","9480227","The Alliance",0]
["MSC VIGOITGIT","MSC VIGO","Gioia Tauro MCT Medcenter Container","736S         ","ITGIT","UAS","SAM3","9480227","The Alliance",0]
["MSC VIGOITGOA","MSC VIGO","Genoa VTE","269NSS","ITGOA","CMA","Sirius Service","9480227","Ocean Alliance","IT262102"]
["MSC VIGOITGIT","MSC VIGO","Gioia Tauro MCT Medcenter Container","269NSS","ITGIT","CMA","Sirius Service","9480227","Ocean Alliance",0]
["MUNCHEN BRIDGEITGOA","MUNCHEN BRIDGE","Genoa VTE","012W         ","ITGOA","UAS","MD2","9706750","The Alliance","IT262102"]
["MUNCHEN BRIDGEITSPE","MUNCHEN BRIDGE","La Spezia LSCT","011W         ","ITSPE","UAS","MD2","9706750","The Alliance","IT068100"]
["NEXO MAERSKITGOA","NEXO MAERSK","Genoa Port Terminal","1729|1730","ITGOA","MAE",null,"9220885","2M","IT262102"]
["NORASIA ALYAITGOA","NORASIA ALYA","Genoa Port Terminal","181MGW","ITGOA","CMA","Med Americas","9237486","Ocean Alliance","IT262102"]
["NORASIA ALYAITSAL","NORASIA ALYA","Salerno SCT","181MGW","ITSAL","CMA","Med Americas","9237486","Ocean Alliance",0]
["NORFOLK TRADERITGOA","NORFOLK TRADER","Genoa Port Terminal","1727|1728","ITGOA","MAE",null,"9239903","2M","IT262102"]
["NYK BLUE JAYITGOA","NYK BLUE JAY","Genoa VTE","009W         ","ITGOA","UAS","MD2","9741372","The Alliance","IT262102"]
["NYK BLUE JAYITSPE","NYK BLUE JAY","La Spezia LSCT","008W         ","ITSPE","UAS","MD2","9741372","The Alliance","IT068100"]
["NYK HAWKITGOA","NYK HAWK","Genoa VTE","003W         ","ITGOA","UAS","MD2","9741413","The Alliance","IT262102"]
["NYK HAWKITSPE","NYK HAWK","La Spezia LSCT","003W         ","ITSPE","UAS","MD2","9741413","The Alliance","IT068100"]
["OCEAN PROMISEITGOA","OCEAN PROMISE","Genoa Port Terminal","175MGW","ITGOA","CMA","Med Americas","9215892","Ocean Alliance","IT262102"]
["OCEAN PROMISEITSAL","OCEAN PROMISE","Salerno SCT","175MGW","ITSAL","CMA","Med Americas","9215892","Ocean Alliance",0]
["ODYSSEUSITAOI","ODYSSEUS","Ancona Terminal","251N         ","ITAOI","UAS","ADX","9315824","The Alliance",0]
["ODYSSEUSITVCE","ODYSSEUS","Venezia Terminal VECON","253N         ","ITVCE","UAS","ADX","9315824","The Alliance",0]
["OKEE ANN MARIITCVV","OKEE ANN MARI","Civitavecchia Terminal","071WME","ITCVV","CMA","West Med Service 2","9236224","Ocean Alliance",0]
["OOCL BRUSSELSITGOA","OOCL BRUSSELS","Genoa VTE","216MEE","ITGOA","CMA","Mediterranean Club Express 1","9622590","Ocean Alliance","IT262102"]
["OOCL EGYPTITGOA","OOCL EGYPT","Genoa VTE","224MEE","ITGOA","CMA","Mediterranean Club Express 1","9622631","Ocean Alliance","IT262102"]
["PAGE AKIAITCTA","PAGE AKIA","Catania E.S.T.","1726|1726","ITCTA","MAE",null,"9277395","2M",0]
["PERFORMANCEITGOA","PERFORMANCE","Genoa VTE","215NNE","ITGOA","CMA","New North Europe Med Oceania","9250971","Ocean Alliance","IT262102"]
["POMERENIA SKYITGOA","POMERENIA SKY","Genoa Port Terminal","185MGW","ITGOA","CMA","Med Americas","9339583","Ocean Alliance","IT262102"]
["POMERENIA SKYITSAL","POMERENIA SKY","Salerno SCT","185MGW","ITSAL","CMA","Med Americas","9339583","Ocean Alliance",0]
["PORT GDYNIAITGOA","PORT GDYNIA","Genoa Port Terminal","26378S","ITGOA","CMA","Europe Afrique 4","9334387","Ocean Alliance","IT262102"]
["PUCONITVCE","PUCON","Venezia Terminal VECON","176BEE","ITVCE","CMA","Phoenician Express","9306158","Ocean Alliance",0]
["PUCONITTRS","PUCON","Trieste TMT","176BEE","ITTRS","CMA","Phoenician Express","9306158","Ocean Alliance",0]
["RHODOSITGOA","RHODOS","Genoa VTE","730R|734A","ITGOA","MAE",null,"9635652","2M","IT262102"]
["RHODOSITLIV","RHODOS","Livorno Terminal Lorenzini","730R|734A","ITLIV","MAE",null,"9635652","2M",0]
["RHODOSITGOA","RHODOS","Genoa VTE","742S         ","ITGOA","UAS","SAM3","9635652","The Alliance","IT262102"]
["RHODOSITLIV","RHODOS","Livorno Terminal Lorenzini","734S         ","ITLIV","UAS","SAM3","9635652","The Alliance",0]
["RHODOSITGIT","RHODOS","Gioia Tauro MCT Medcenter Container","734S         ","ITGIT","UAS","SAM3","9635652","The Alliance",0]
["RHODOSITGOA","RHODOS","Genoa VTE","265NSS","ITGOA","CMA","Sirius Service","9635652","Ocean Alliance","IT262102"]
["RHODOSITGIT","RHODOS","Gioia Tauro MCT Medcenter Container","265NSS","ITGIT","CMA","Sirius Service","9635652","Ocean Alliance",0]
["RIO BLACKWATERITGOA","RIO BLACKWATER","Genoa VTE","004W         ","ITGOA","UAS","MGX","9216987","The Alliance","IT262102"]
["RIO BLACKWATERITLIV","RIO BLACKWATER","Livorno TDT","002W         ","ITLIV","UAS","MGX","9216987","The Alliance",0]
["RIO BLACKWATERITGOA","RIO BLACKWATER","Genoa VTE","099GYW","ITGOA","CMA","Med Gulf Service","9216987","Ocean Alliance","IT262102"]
["RIO BLANCOITSAL","RIO BLANCO","Salerno SCT","726N|726N","ITSAL","MAE",null,"9348089","2M",0]
["RIO BLANCOITSAL","RIO BLANCO","Salerno SCT","148NVW","ITSAL","CMA","NC Levant Express","9348089","Ocean Alliance",0]
[{"$f":"+B514&E514","v":"RIO DE JANEIROITGOA"},"RIO DE JANEIRO","Genoa VTE","726R|730A","ITGOA","MAE",null,"9357963","2M",{"$f":"+VLOOKUP(C514,T:U,2,FALSE)","v":"IT262102"}]
["RIO DE JANEIROITLIV","RIO DE JANEIRO","Livorno Terminal Lorenzini","726R|730A","ITLIV","MAE",null,"9357963","2M",0]
["RIO DE JANEIROITGOA","RIO DE JANEIRO","Genoa VTE","738S         ","ITGOA","UAS","SAM3","9357963","The Alliance","IT262102"]
["RIO DE JANEIROITLIV","RIO DE JANEIRO","Livorno Terminal Lorenzini","730S         ","ITLIV","UAS","SAM3","9357963","The Alliance",0]
["RIO DE JANEIROITGIT","RIO DE JANEIRO","Gioia Tauro MCT Medcenter Container","730S         ","ITGIT","UAS","SAM3","9357963","The Alliance",0]
["RIO DE JANEIROITGOA","RIO DE JANEIRO","Genoa VTE","257NSS","ITGOA","CMA","Sirius Service","9357963","Ocean Alliance","IT262102"]
["RIO DE JANEIROITGIT","RIO DE JANEIRO","Gioia Tauro MCT Medcenter Container","257NSS","ITGIT","CMA","Sirius Service","9357963","Ocean Alliance",0]
["RIO DE LA PLATAITSAL","RIO DE LA PLATA","Salerno SCT","727N|727N","ITSAL","MAE",null,"9357951","2M",0]
["RIO DE LA PLATAITSAL","RIO DE LA PLATA","Salerno SCT","150NVW","ITSAL","CMA","NC Levant Express","9357951","Ocean Alliance",0]
["RIO MADEIRAITSAL","RIO MADEIRA","Salerno SCT","738N|738N","ITSAL","MAE",null,"9348106","2M",0]
["RIO MADEIRAITSAL","RIO MADEIRA","Salerno SCT","152NVW","ITSAL","CMA","NC Levant Express","9348106","Ocean Alliance",0]
["RIO NEGROITGOA","RIO NEGRO","Genoa VTE","729R|733A","ITGOA","MAE",null,"9357975","2M","IT262102"]
["RIO NEGROITLIV","RIO NEGRO","Livorno Terminal Lorenzini","729R|733A","ITLIV","MAE",null,"9357975","2M",0]
["RIO NEGROITGOA","RIO NEGRO","Genoa VTE","741S         ","ITGOA","UAS","SAM3","9357975","The Alliance","IT262102"]
["RIO NEGROITLIV","RIO NEGRO","Livorno Terminal Lorenzini","733S         ","ITLIV","UAS","SAM3","9357975","The Alliance",0]
["RIO NEGROITGIT","RIO NEGRO","Gioia Tauro MCT Medcenter Container","733S         ","ITGIT","UAS","SAM3","9357975","The Alliance",0]
["RIO NEGROITGOA","RIO NEGRO","Genoa VTE","263NSS","ITGOA","CMA","Sirius Service","9357975","Ocean Alliance","IT262102"]
["RIO NEGROITGIT","RIO NEGRO","Gioia Tauro MCT Medcenter Container","263NSS","ITGIT","CMA","Sirius Service","9357975","Ocean Alliance",0]
["SANTA VANESSAITGOA","SANTA VANESSA","Genoa VTE","003W         ","ITGOA","UAS","MGX","9295361","The Alliance","IT262102"]
["SANTA VANESSAITLIV","SANTA VANESSA","Livorno TDT","002W         ","ITLIV","UAS","MGX","9295361","The Alliance",0]
["SANTA VANESSAITGOA","SANTA VANESSA","Genoa VTE","105GYW","ITGOA","CMA","Med Gulf Service","9295361","Ocean Alliance","IT262102"]
["SARA BORCHARDITRAN","SARA BORCHARD","Ravenna TCR",null,"ITRAN","BOR",null,null,null,"IT221100"]
["SATIEITGOA","SATIE","Genoa VTE","1514E         ","ITGOA","UAS","LEX","9330513","The Alliance","IT262102"]
["SATIEITLIV","SATIE","Livorno TDT","1502E         ","ITLIV","UAS","LEX","9330513","The Alliance",0]
["SATIEITSAL","SATIE","Salerno SCT","1499E         ","ITSAL","UAS","LEX","9330513","The Alliance",0]
["SATIEITGOA","SATIE","Genoa VTE","3YOSCMAFR","ITGOA","CMA","CMA3PF","9330513","Ocean Alliance","IT262102"]
["SEALAND ILLINOISITSPE","SEALAND ILLINOIS","La Spezia LSCT","726E|730W","ITSPE","MAE",null,"9197545","2M","IT068100"]
["SEALAND ILLINOISITNAP","SEALAND ILLINOIS","Napoli Co.Na.Te.Co. Spa","726E|730W","ITNAP","MAE",null,"9197545","2M",0]
["SEALAND ILLINOISITGIT","SEALAND ILLINOIS","Gioia Tauro MCT Medcenter Container","726E|730W","ITGIT","MAE",null,"9197545","2M",0]
["SEALAND MICHIGANITSPE","SEALAND MICHIGAN","La Spezia LSCT","730E|734W","ITSPE","MAE",null,"9196864","2M","IT068100"]
["SEALAND MICHIGANITNAP","SEALAND MICHIGAN","Napoli Co.Na.Te.Co. Spa","730E|734W","ITNAP","MAE",null,"9196864","2M",0]
["SEALAND MICHIGANITGIT","SEALAND MICHIGAN","Gioia Tauro MCT Medcenter Container","730E|734W","ITGIT","MAE",null,"9196864","2M",0]
["SEALAND NEW YORKITSPE","SEALAND NEW YORK","La Spezia LSCT","728E|732W","ITSPE","MAE",null,"9196838","2M","IT068100"]
["SEALAND NEW YORKITNAP","SEALAND NEW YORK","Napoli Co.Na.Te.Co. Spa","728E|732W","ITNAP","MAE",null,"9196838","2M",0]
["SEALAND NEW YORKITGIT","SEALAND NEW YORK","Gioia Tauro MCT Medcenter Container","728E|732W","ITGIT","MAE",null,"9196838","2M",0]
["SEALAND WASHINGTONITSPE","SEALAND WASHINGTON","La Spezia LSCT","724E|728W","ITSPE","MAE",null,"9196852","2M","IT068100"]
["SEALAND WASHINGTONITNAP","SEALAND WASHINGTON","Napoli Co.Na.Te.Co. Spa","731E|735W","ITNAP","MAE",null,"9196852","2M",0]
["SEALAND WASHINGTONITGIT","SEALAND WASHINGTON","Gioia Tauro MCT Medcenter Container","731E|735W","ITGIT","MAE",null,"9196852","2M",0]
["SEATTLE EXPRESSITGOA","SEATTLE EXPRESS","Genoa SECH","050W         ","ITGOA","UAS","MD1","9450375","The Alliance","IT261101"]
["SEROJA TIGAITGOA","SEROJA TIGA","Genoa VTE","1714|1715","ITGOA","MAE",null,"9495038","2M","IT262102"]
["SOLSTICE NITGOA","SOLSTICE N","Genoa VTE","22SGYW","ITGOA","CMA","Med Gulf Service","9303778","Ocean Alliance","IT262102"]
["SPENAPITGOA","SPENAP","Genoa SECH","3117N","ITGOA","UAS","FDM",{"$error":"#N/A"},"The Alliance","IT261101"]
["SPENAPITLIV","SPENAP","Livorno TDT","129S","ITLIV","UAS","FDM",{"$error":"#N/A"},"The Alliance",0]
["SPENAPITNAP","SPENAP","Napoli Terminal Flavio Gioia SpA","134S","ITNAP","UAS","FDM",{"$error":"#N/A"},"The Alliance",0]
["SPIRIT OF MELBOURNEITGOA","SPIRIT OF MELBOURNE","Genoa Port Terminal","191MGW","ITGOA","CMA","Med Americas","9362413","Ocean Alliance","IT262102"]
["SPIRIT OF MELBOURNEITSAL","SPIRIT OF MELBOURNE","Salerno SCT","191MGW","ITSAL","CMA","Med Americas","9362413","Ocean Alliance",0]
["STADT CADIZITGOA","STADT CADIZ","Genoa Port Terminal","241DVS","ITGOA","CMA","Mediterranean Caribbean","9445904","Ocean Alliance","IT262102"]
["STADT DRESDENITAOI","STADT DRESDEN","Ancona Terminal","254N         ","ITAOI","UAS","ADX","9320049","The Alliance",0]
["STADT DRESDENITVCE","STADT DRESDEN","Venezia Terminal VECON","252N         ","ITVCE","UAS","ADX","9320049","The Alliance",0]
["STADT SEVILLAITGOA","STADT SEVILLA","Genoa Port Terminal","239DVS","ITGOA","CMA","Mediterranean Caribbean","9440306","Ocean Alliance","IT262102"]
["STAR COMETITSPE","STAR COMET","La Spezia LSCT","1728|1729","ITSPE","MAE",null,"9242596","2M","IT068100"]
["TAMPA TRIUMPHITGOA","TAMPA TRIUMPH","Genoa VTE","2302ME","ITGOA","CMA","Mediterranean Club Express 2","9737462","Ocean Alliance","IT262102"]
["TAMPA TRIUMPHITSPE","TAMPA TRIUMPH","La Spezia LSCT","2302ME","ITSPE","CMA","Mediterranean Club Express 2","9737462","Ocean Alliance","IT068100"]
["TAMPA TRIUMPHITSPE","TAMPA TRIUMPH","La Spezia LSCT","2502ME","ITSPE","CMA","Mediterranean Club Express 2","9737462","Ocean Alliance","IT068100"]
["TBNA3 NAFITGOA","TBNA3 NAF","Genoa Port Terminal","498GGR","ITGOA","CMA","TBN NAF 3",{"$error":"#N/A"},"Ocean Alliance","IT262102"]
["TBNA3 NAFITSPE","TBNA3 NAF","La Spezia LSCT","497GGR","ITSPE","CMA","TBN NAF 3",{"$error":"#N/A"},"Ocean Alliance","IT068100"]
["TBNA5 NAFITGOA","TBNA5 NAF","Genoa Port Terminal","499MNR","ITGOA","CMA","Marseille Alger Shuttle",{"$error":"#N/A"},"Ocean Alliance","IT262102"]
["TBNA5 NAFITSPE","TBNA5 NAF","La Spezia LSCT","498MNR","ITSPE","CMA","Marseille Alger Shuttle",{"$error":"#N/A"},"Ocean Alliance","IT068100"]
["TG NIKEITGOA","TG NIKE","Genoa Port Terminal","233DVS","ITGOA","CMA","Mediterranean Caribbean","9301457","Ocean Alliance","IT262102"]
["THALASSA AXIAITGOA","THALASSA AXIA","Genoa VTE","2282ME","ITGOA","CMA","Mediterranean Club Express 2","9667186","Ocean Alliance","IT262102"]
["THALASSA AXIAITSPE","THALASSA AXIA","La Spezia LSCT","2282ME","ITSPE","CMA","Mediterranean Club Express 2","9667186","Ocean Alliance","IT068100"]
["THALASSA AXIAITSPE","THALASSA AXIA","La Spezia LSCT","2482ME","ITSPE","CMA","Mediterranean Club Express 2","9667186","Ocean Alliance","IT068100"]
["THALASSA DOXAITGOA","THALASSA DOXA","Genoa VTE","2262ME","ITGOA","CMA","Mediterranean Club Express 2","9667174","Ocean Alliance","IT262102"]
["THALASSA DOXAITSPE","THALASSA DOXA","La Spezia LSCT","2262ME","ITSPE","CMA","Mediterranean Club Express 2","9667174","Ocean Alliance","IT068100"]
[{"$f":"+B578&E578","v":"THALASSA DOXAITSPE"},"THALASSA DOXA","La Spezia LSCT","2462ME","ITSPE","CMA","Mediterranean Club Express 2","9667174","Ocean Alliance",{"$f":"+VLOOKUP(C578,T:U,2,FALSE)","v":"IT068100"}]
["TIRUAITGOA","TIRUA","Genoa SECH","1736W         ","ITGOA","UAS","IMEX","9612882","The Alliance","IT261101"]
["TIRUAITSPE","TIRUA","La Spezia LSCT","1736W         ","ITSPE","UAS","IMEX","9612882","The Alliance","IT068100"]
["TIRUAITGOA","TIRUA","Genoa SECH","148MXE","ITGOA","CMA","Med Express","9612882","Ocean Alliance","IT261101"]
["TIRUAITSPE","TIRUA","La Spezia LSCT","148MXE","ITSPE","CMA","Med Express","9612882","Ocean Alliance","IT068100"]
["TIRUAITSPE","TIRUA","La Spezia LSCT","176MXE","ITSPE","CMA","Med Express","9612882","Ocean Alliance","IT068100"]
["TO BE NOTIFIED 2ITGOA","TO BE NOTIFIED 2","Genoa SECH","1739W         ","ITGOA","UAS","IMEX",{"$error":"#N/A"},"The Alliance","IT261101"]
["TOLTENITGOA","TOLTEN","Genoa SECH","1741W         ","ITGOA","UAS","IMEX","9612870","The Alliance","IT261101"]
["TOLTENITSPE","TOLTEN","La Spezia LSCT","1734W         ","ITSPE","UAS","IMEX","9612870","The Alliance","IT068100"]
["TOLTENITGOA","TOLTEN","Genoa SECH","144MXE","ITGOA","CMA","Med Express","9612870","Ocean Alliance","IT261101"]
["TOLTENITSPE","TOLTEN","La Spezia LSCT","144MXE","ITSPE","CMA","Med Express","9612870","Ocean Alliance","IT068100"]
["TOLTENITSPE","TOLTEN","La Spezia LSCT","172MXE","ITSPE","CMA","Med Express","9612870","Ocean Alliance","IT068100"]
["TROUPERITGOA","TROUPER","Genoa SECH",null,"ITGOA","ZIM",null,null,null,"IT261101"]
["TUBULITGOA","TUBUL","Genoa SECH","1738W         ","ITGOA","UAS","IMEX","9447873","The Alliance","IT261101"]
["TUBULITSPE","TUBUL","La Spezia LSCT","1731W         ","ITSPE","UAS","IMEX","9447873","The Alliance","IT068100"]
["TUBULITGOA","TUBUL","Genoa SECH","152MXE","ITGOA","CMA","Med Express","9447873","Ocean Alliance","IT261101"]
["TUBULITSPE","TUBUL","La Spezia LSCT","152MXE","ITSPE","CMA","Med Express","9447873","Ocean Alliance","IT068100"]
["TUBULITSPE","TUBUL","La Spezia LSCT","180MXE","ITSPE","CMA","Med Express","9447873","Ocean Alliance","IT068100"]
["UASC AL KHORITGIT","UASC AL KHOR","Gioia Tauro MCT Medcenter Container","1730W         ","ITGIT","UAS","IEC1","9710220","The Alliance",0]
["UASC AL KHORITGIT","UASC AL KHOR","Gioia Tauro MCT Medcenter Container","105EGW","ITGIT","CMA","Europe Pakistan India Consortium 1","9710220","Ocean Alliance",0]
["UASC BUBIYANITGOA","UASC BUBIYAN","Genoa VTE","004W         ","ITGOA","UAS","MGX","9686900","The Alliance","IT262102"]
["UASC BUBIYANITLIV","UASC BUBIYAN","Livorno TDT","002W         ","ITLIV","UAS","MGX","9686900","The Alliance",0]
["UASC BUBIYANITGOA","UASC BUBIYAN","Genoa VTE","101GYW","ITGOA","CMA","Med Gulf Service","9686900","Ocean Alliance","IT262102"]
["UNAYZAHITGOA","UNAYZAH","Genoa VTE","003W         ","ITGOA","UAS","MD2","9525871","The Alliance","IT262102"]
["UNAYZAHITSPE","UNAYZAH","La Spezia LSCT","002W         ","ITSPE","UAS","MD2","9525871","The Alliance","IT068100"]
["VANCOUVER EXPRESSITGOA","VANCOUVER EXPRESS","Genoa SECH","057W         ","ITGOA","UAS","MD1","9450387","The Alliance","IT261101"]
["VENETIKOITGOA","VENETIKO","Genoa VTE","004W         ","ITGOA","UAS","MGX","9260914","The Alliance","IT262102"]
["VENETIKOITLIV","VENETIKO","Livorno TDT","003W         ","ITLIV","UAS","MGX","9260914","The Alliance",0]
["VENETIKOITGOA","VENETIKO","Genoa VTE","111GYW","ITGOA","CMA","Med Gulf Service","9260914","Ocean Alliance","IT262102"]
["VENTO DI BORAITGOA","VENTO DI BORA","Genoa Terminal San Giorgio","1730|1731","ITGOA","MAE",null,"9300659","2M","IT261101"]
["VENTO DI BORAITSPE","VENTO DI BORA","Terminal Del Golfo - Tarros","1728|1729","ITSPE","MAE",null,"9300659","2M",0]
["VENTO DI BORAITSAL","VENTO DI BORA","Salerno SCT","1728|1729","ITSAL","MAE",null,"9300659","2M",0]
["VENTO DI NORTADAITGOA","VENTO DI NORTADA","Genoa Terminal San Giorgio","051WNS","ITGOA","CMA","West Med Italy Service","9357810","Ocean Alliance","IT261101"]
["VENTO DI NORTADAITSPE","VENTO DI NORTADA","Terminal Del Golfo - Tarros","060WNN","ITSPE","CMA","West Med Italy Service","9357810","Ocean Alliance",0]
["VENTO DI NORTADAITSPE","VENTO DI NORTADA","Terminal Del Golfo - Tarros","075WNS","ITSPE","CMA","West Med Italy Service","9357810","Ocean Alliance",0]
["VENTO DI NORTADAITSAL","VENTO DI NORTADA","Salerno SCT","068WNN","ITSAL","CMA","West Med Italy Service","9357810","Ocean Alliance",0]
["VENTO DI ZEFIROITGOA","VENTO DI ZEFIRO","Genoa Terminal San Giorgio","055WNS","ITGOA","CMA","West Med Italy Service","9305893","Ocean Alliance","IT261101"]
["VENTO DI ZEFIROITSPE","VENTO DI ZEFIRO","Terminal Del Golfo - Tarros","063WNS","ITSPE","CMA","West Med Italy Service","9305893","Ocean Alliance",0]
["VENTO DI ZEFIROITSPE","VENTO DI ZEFIRO","Terminal Del Golfo - Tarros","072WNN","ITSPE","CMA","West Med Italy Service","9305893","Ocean Alliance",0]
["VENTO DI ZEFIROITSAL","VENTO DI ZEFIRO","Salerno SCT","048WNN","ITSAL","CMA","West Med Italy Service","9305893","Ocean Alliance",0]
["VIRTUAL ADRIATIC FEEDERITVCE","VIRTUAL ADRIATIC FEEDER","Venezia Terminal VECON","2917S","ITVCE","UAS","FDE",{"$error":"#N/A"},"The Alliance",0]
["VIRTUAL ADRIATIC FEEDERITTRS","VIRTUAL ADRIATIC FEEDER","Trieste TMT","2917S","ITTRS","UAS","FDE",{"$error":"#N/A"},"The Alliance",0]
["VIRTUAL FEEDER MALTA ITALYITNAP","VIRTUAL FEEDER MALTA ITALY","Napoli Terminal Flavio Gioia SpA","1734S","ITNAP","UAS","FDM",{"$error":"#N/A"},"The Alliance",0]
["VIRTUAL FEEDER MALTA ITALYITSAL","VIRTUAL FEEDER MALTA ITALY","Salerno SCT","1730S","ITSAL","UAS","FDM",{"$error":"#N/A"},"The Alliance",0]
["WARNOW BELUGAITLIV","WARNOW BELUGA","Livorno TDT","1735|1736","ITLIV","MAE",null,"9437127","2M",0]
["WARNOW BELUGAITNAP","WARNOW BELUGA","Napoli Terminal Flavio Gioia SpA","1735|1736","ITNAP","MAE",null,"9437127","2M",0]
["WARNOW BELUGAITCVV","WARNOW BELUGA","Civitavecchia Fruit and Forest Term","1735|1736","ITCVV","MAE",null,"9437127","2M",0]
["WARNOW BELUGAITVDL","WARNOW BELUGA","Vado Ligure Reefer Terminal","1749|1750","ITVDL","MAE",null,"9437127","2M",0]
["WESTERMOORITAOI","WESTERMOOR","Ancona Terminal","729A|729A","ITAOI","MAE",null,"9222106","2M",0]
["XIN TIAN JINITVCE","XIN TIAN JIN","Venezia Terminal VECON","172BEE","ITVCE","CMA","Phoenician Express","9234343","Ocean Alliance",0]
["XIN TIAN JINITTRS","XIN TIAN JIN","Trieste TMT","172BEE","ITTRS","CMA","Phoenician Express","9234343","Ocean Alliance",0]
["YANKI AITGOA","YANKI A","Genoa Port Terminal","068EAN","ITGOA","CMA","Europe Afrique 6","9321471","Ocean Alliance","IT262102"]
["YANKI AITSPE","YANKI A","La Spezia LSCT","068EAN","ITSPE","CMA","Europe Afrique 6","9321471","Ocean Alliance","IT068100"]
["YIGITCAN AITGOA","YIGITCAN A","Genoa Terminal San Giorgio","1730|1731","ITGOA","MAE",null,"9238076","2M","IT261101"]
["YIGITCAN AITSPE","YIGITCAN A","Terminal Del Golfo - Tarros","1730|1731","ITSPE","MAE",null,"9238076","2M",0]
["YIGITCAN AITSAL","YIGITCAN A","Salerno SCT","1730|1731","ITSAL","MAE",null,"9238076","2M",0]
["YM UBERTYITGOA","YM UBERTY","Genoa SECH","059W         ","ITGOA","UAS","MD1","9337444","The Alliance","IT261101"]
["YM UTOPIAITGOA","YM UTOPIA","Genoa SECH","058W         ","ITGOA","UAS","MD1","9337456","The Alliance","IT261101"]
["YM WONDROUSITGOA","YM WONDROUS","Genoa VTE","013W         ","ITGOA","UAS","MD2","9684677","The Alliance","IT262102"]
["YM WONDROUSITSPE","YM WONDROUS","La Spezia LSCT","013W         ","ITSPE","UAS","MD2","9684677","The Alliance","IT068100"]
["ZIM ALABAMAITGOA","ZIM ALABAMA","Genoa SECH",null,"ITGOA","ZIM",null,null,null,"IT261101"]
["ZIM CONSTANZAITGOA","ZIM CONSTANZA","Genoa SECH",null,"ITGOA","ZIM",null,null,null,"IT261101"]
["ZIM LUANDAITGOA","ZIM LUANDA","Genoa SECH",null,"ITGOA","ZIM",null,null,null,"IT261101"]
["ZIM MONACOITGOA","ZIM MONACO","Genoa SECH",null,"ITGOA","ZIM",null,null,null,"IT261101"]
[{"$f":"+B642&E642","v":"ZIM QINGDAOITGOA"},"ZIM QINGDAO","Genoa SECH",null,"ITGOA","ZIM",null,null,null,{"$f":"+VLOOKUP(C642,T:U,2,FALSE)","v":"IT261101"}]
["ZIM TARRAGONAITGOA","ZIM TARRAGONA","Genoa SECH",null,"ITGOA","ZIM",null,null,null,"IT261101"]
["ZIM TEXASITGOA","ZIM TEXAS","Genoa SECH",null,"ITGOA","ZIM",null,null,null,"IT261101"]
["ZIM VANCOUVERITGOA","ZIM VANCOUVER","Genoa SECH",null,"ITGOA","ZIM",null,null,null,"IT261101"]
["MSC MICHELAITSPE","MSC MICHELA","La Spezia LSCT",null,"ITSPE","PACTB",null,null,null,"IT068100"]
["MSC MONTEREYITSPE","MSC MONTEREY","Genoa VTE",null,"ITSPE","MACAS",null,null,null,"IT262102"]
["MSC AMERICAITGOA","MSC AMERICA","Genoa VTE",null,"ITGOA","ZADUR",null,null,null,"IT262102"]
["MSC KORONIITGOA","MSC KORONI","Genoa VTE",null,"ITGOA","ZADUR",null,null,null,"IT262102"]
["NORTHERN DECISIONITGOA","NORTHERN DECISION","Genoa VTE",null,"ITGOA","ZADUR",null,null,null,"IT262102"]
["MSC CARMENITGOA","MSC CARMEN","Genoa VTE",null,"ITGOA","ZADUR",null,null,null,"IT262102"]
["MSC AMALFIITGOA","MSC AMALFI","Genoa VTE",null,"ITGOA","UYMVD",null,null,null,"IT262102"]
["CSAV TRAIGUENITGOA","CSAV TRAIGUEN","Genoa VTE",null,"ITGOA","UYMVD",null,null,null,"IT262102"]
["MSC MICHELAITSPE","MSC MICHELA","Genoa VTE",null,"ITSPE","PACTB",null,null,null,"IT262102"]
["MSC ADELAIDEITGOA","MSC ADELAIDE","Genoa VTE",null,"ITGOA","BRPNG",null,null,null,"IT262102"]
["S SANTIAGOITGOA","S SANTIAGO","Genoa VTE",null,"ITGOA","MXATM",null,null,null,"IT262102"]
["CHACABUCOITGOA","CHACABUCO","Genoa VTE",null,"ITGOA","MXATM",null,null,null,"IT262102"]
["YM WARMTHITGOA","YM WARMTH","Genoa VTE",null,"ITGOA","THBKK",null,null,null,"IT262102"]
["NYK SWANITGOA","NYK SWAN","Genoa VTE",null,"ITGOA","THBKK",null,null,null,"IT262102"]
["NORTHERN JAVELINITGOA","NORTHERN JAVELIN","Genoa SECH",null,"ITGOA","AEJEA",null,null,null,"IT261101"]
["NINGBO EXPRESSITGOA","NINGBO EXPRESS","Genoa SECH",null,"ITGOA","SAJED",null,null,null,"IT261101"]
["CMA CGM MAGDALENAITGOA","CMA CGM MAGDALENA","Genoa VTE",null,"ITGOA","ARBUE",null,null,null,"IT262102"]
["MAERSK LABERINTOITGOA","MAERSK LABERINTO","Genoa VTE",null,"ITGOA","ARBUE",null,null,null,"IT262102"]
["MAERSK LAMANAIITGOA","MAERSK LAMANAI","Genoa VTE",null,"ITGOA","ARBUE",null,null,null,"IT262102"]
["MAERSK LOTAITGOA","MAERSK LOTA","Genoa VTE",null,"ITGOA","ARBUE",null,null,null,"IT262102"]
["DOMINGOITGOA","DOMINGO","Genoa SECH",null,"ITGOA","CLSAI",null,null,null,"IT261101"]
["EMILY BORCHARDITGOA","EMILY BORCHARD","Genoa Port Terminal",null,"ITGOA","EGALY",null,null,null,"IT262102"]
["EUROCARGO MALTAITGOA","EUROCARGO MALTA","Genoa Terminal San Giorgio",null,"ITGOA","MTMLA",null,null,null,"IT261101"]
["LIVERPOOL EXPRESSITGOA","LIVERPOOL EXPRESS","Genoa Port Terminal",null,"ITGOA","CLSAI",null,null,null,"IT262102"]
["YM WARMTHITGOA","YM WARMTH","Genoa VTE",null,"ITGOA","JPOSA",null,null,null,"IT262102"]
["TEXAS TRIUMPHITGOA","TEXAS TRIUMPH","Genoa VTE",null,"ITGOA","INMAA",null,null,null,"IT262102"]
["CMA CGM RIO GRANDEITGOA","CMA CGM RIO GRANDE","Genoa VTE",null,"ITGOA","BRSSZ",null,null,null,"IT262102"]
["MAERSK LABREAITGOA","MAERSK LABREA","Genoa VTE",null,"ITGOA","BRSSZ",null,null,null,"IT262102"]
["CMA CGM LITANIITGOA","CMA CGM LITANI","Genoa VTE",null,"ITGOA","BRSSZ",null,null,null,"IT262102"]
["NEW JERSEY TRADERITGOA","NEW JERSEY TRADER","Genoa VTE",null,"ITGOA","EGALY",null,null,null,"IT262102"]
["NORDATLANTICITGOA","NORDATLANTIC","Genoa VTE",null,"ITGOA","EGALY",null,null,null,"IT262102"]
["OREGON TRADERITGOA","OREGON TRADER","Genoa VTE",null,"ITGOA","EGALY",null,null,null,"IT262102"]
["JOANNA BORCHARDITGOA","JOANNA BORCHARD","Genoa SECH",null,"ITGOA","EGALY",null,null,null,"IT261101"]
["NEW JERSEY TRADERITGOA","NEW JERSEY TRADER","Genoa VTE",null,"ITGOA","EGALY",null,null,null,"IT262102"]
["OREGON TRADERITGOA","OREGON TRADER","Genoa VTE",null,"ITGOA","EGALY",null,null,null,"IT262102"]
["PALENAITGOA","PALENA","Genoa VTE",null,"ITGOA","MXATM",null,null,null,"IT262102"]
["ALLEGORIAITGOA","ALLEGORIA","Genoa VTE",null,"ITGOA","MXATM",null,null,null,"IT262102"]
["OOCL FRANCEITGOA","OOCL FRANCE","Genoa VTE",null,"ITGOA","LBBEY",null,null,null,"IT262102"]
["CMA CGM LEOITGOA","CMA CGM LEO","Genoa VTE",null,"ITGOA","LBBEY",null,null,null,"IT262102"]
["APL GWANGYANGITGOA","APL GWANGYANG","Genoa VTE",null,"ITGOA","LBBEY",null,null,null,"IT262102"]
["OOCL SINGAPOREITGOA","OOCL SINGAPORE","Genoa VTE",null,"ITGOA","LBBEY",null,null,null,"IT262102"]
["CMA CGM COLUMBAITGOA","CMA CGM COLUMBA","Genoa VTE",null,"ITGOA","LBBEY",null,null,null,"IT262102"]
["NYK OWLITGOA","NYK OWL","Genoa VTE",null,"ITGOA","KRPUS",null,null,null,"IT262102"]
["COSCO GUANGZHOUITGOA","COSCO GUANGZHOU","Genoa VTE",null,"ITGOA","INMAA",null,null,null,"IT262102"]
["NYK OWLITGOA","NYK OWL","Genoa VTE",null,"ITGOA","HKHKG",null,null,null,"IT262102"]
["COSCO PHILIPPINESITGOA","COSCO PHILIPPINES","Genoa SECH",null,"ITGOA","AEJEA",null,null,null,"IT261101"]
["COSCO PHILIPPINESITGOA","COSCO PHILIPPINES","Genoa SECH",null,"ITGOA","SAJED",null,null,null,"IT261101"]
["COSCO GUANGZHOUITGOA","COSCO GUANGZHOU","Genoa VTE",null,"ITGOA","TWKEL",null,null,null,"IT262102"]
["MSC JULIEITSPE","MSC JULIE","La Spezia LSCT",null,"ITSPE","VELAG",null,null,null,"IT068100"]
["CONTI PARISITGOA","CONTI PARIS","Genoa SECH",null,"ITGOA","AUMEL",null,null,null,"IT261101"]
["CMA CGM RABELAISITGOA","CMA CGM RABELAIS","Genoa SECH",null,"ITGOA","AUMEL",null,null,null,"IT261101"]
["MSC AJACCIOITGOA","MSC AJACCIO","Genoa VTE",null,"ITGOA","UYMVD",null,null,null,"IT262102"]
["MSC VITAITGOA","MSC VITA","Genoa VTE",null,"ITGOA","UYMVD",null,null,null,"IT262102"]
["MSC MELINEITGOA","MSC MELINE","Genoa VTE",null,"ITGOA","UYMVD",null,null,null,"IT262102"]
["NYK OWLITGOA","NYK OWL","Genoa VTE",null,"ITGOA","JPOSA",null,null,null,"IT262102"]
["MSC JULIEITGOA","MSC JULIE","Genoa VTE",null,"ITGOA","PACTB",null,null,null,"IT262102"]
["MSC AJACCIOITGOA","MSC AJACCIO","Genoa VTE",null,"ITGOA","BRPNG",null,null,null,"IT262102"]
["MSC SENAITGOA","MSC SENA","Genoa VTE",null,"ITGOA","EGPSD",null,null,null,"IT262102"]
["GLASGOW EXPRESSITGOA","GLASGOW EXPRESS","Genoa SECH",null,"ITGOA","CLSAI",null,null,null,"IT261101"]
["CRISTINA STARITGOA","CRISTINA STAR","Genoa SECH",null,"ITGOA","CLSAI",null,null,null,"IT261101"]
[{"$f":"+B706&E706","v":"NYK OWLITGOA"},"NYK OWL","Genoa VTE",null,"ITGOA","CNSHA",null,null,null,{"$f":"+VLOOKUP(C706,T:U,2,FALSE)","v":"IT262102"}]
["NYK OWLITGOA","NYK OWL","Genoa VTE",null,"ITGOA","SGSIN",null,null,null,"IT262102"]
["CONTI PARISITGOA","CONTI PARIS","Genoa SECH",null,"ITGOA","AUSYD",null,null,null,"IT261101"]
["CMA CGM RABELAISITGOA","CMA CGM RABELAIS","Genoa SECH",null,"ITGOA","AUSYD",null,null,null,"IT261101"]
["NYK OWLITGOA","NYK OWL","Genoa VTE",null,"ITGOA","JPTYO",null,null,null,"IT262102"]
["PALENAITGOA","PALENA","Genoa VTE",null,"ITGOA","MXVER",null,null,null,"IT262102"]
["ALLEGORIAITGOA","ALLEGORIA","Genoa VTE",null,"ITGOA","MXVER",null,null,null,"IT262102"]
["JOLLY PALLADIOITGOA","JOLLY PALLADIO","Genoa SECH",null,"ITGOA","JOAQB",null,null,null,"IT261101"]
["AMELIE BORCHARDITGOA","AMELIE BORCHARD",null,null,"ITGOA","EGALY"]

{"sheet":"Lista consol SKR","index":6,"n_rows":364,"n_cols":17,"rows_kept":364,"cut":false,"hidden":true,"merged":[]}
["POL code","pol name","POL code","pol name","Service","Pubblicare?",null,null,null,null,null,"Pubblicare?","Y"]
["ITGOA","Genoa","AEAUH","Abu Dhabi","SKR Direct via JEBEL ALI",{"$f":"+IF(MID(E2,1,18)=\"SKR DIRECT CFS/CFS\",\"Y\",\"N\")","v":"N"}]
["ITSPE","La Spezia","AEJEA","Jebel Ali","SKR DIRECT CFS/CFS","Y",null,null,null,null,null,"Etichette di riga"]
["ITRAN","Ravenna","AESHJ","Sharjah","SKR Direct via JEBEL ALI","N",null,null,null,null,null,"Alexandria",null,null,null,{"$f":"IF(L4=\"TOTALE COMPLESSIVO\",\"\",IF(L3=\"\",\"\",L4))","v":"Alexandria"},1]
[null,null,"AIAXA","Anguilla","Coloader WWA-COMBIMAR - Via Miami","N",null,null,null,null,null,"Altamira",null,null,null,{"$f":"IF(L5=\"TOTALE COMPLESSIVO\",\"\",IF(L4=\"\",\"\",L5))","v":"Altamira"},2]
[null,null,"ANKRA","Kralendijk","Coloader WWA-COMBIMAR - Via Miami","N",null,null,null,null,null,"Ashdod",null,null,null,"Ashdod",3]
[null,null,"AOLAD","Luanda","SKR Direct via DURBAN","N",null,null,null,null,null,"Bangkok",null,null,null,"Bangkok",4]
[null,null,"ARBUE","Buenos Aires","SKR DIRECT CFS/CFS","Y",null,null,null,null,null,"Beirut",null,null,null,"Beirut",5]
[null,null,"ASPPG","Pago Pago","SKR Direct via SINGAPORE","N",null,null,null,null,null,"Buenos Aires",null,null,null,"Buenos Aires",6]
[null,null,"AUADL","Adelaide","SKR Direct via MELBOURNE","N",null,null,null,null,null,"Busan",null,null,null,"Busan",7]
[null,null,"AUBNE","Brisbane","SKR Direct via SINGAPORE","N",null,null,null,null,null,"Chennai",null,null,null,"Chennai",8]
[null,null,"AUDRW","Darwin","SKR Direct via SINGAPORE","N",null,null,null,null,null,"Durban",null,null,null,"Durban",9]
[null,null,"AUFRE","Fremantle","Coloader WWA-COMBIMAR - Direct Service","N",null,null,null,null,null,"Hong Kong",null,null,null,"Hong Kong",10]
[null,null,"AUHBA","Hobart","SKR Direct via SINGAPORE","N",null,null,null,null,null,"Itajai",null,null,null,"Itajai",11]
[null,null,"AUMEL","Melbourne","SKR DIRECT CFS/CFS","Y",null,null,null,null,null,"Jebel Ali",null,null,null,"Jebel Ali",12]
[null,null,"AUSYD","Sydney","SKR DIRECT CFS/CFS","Y",null,null,null,null,null,"Jeddah",null,null,null,"Jeddah",13]
[null,null,"BBBGI","Bridgetown","Coloader WWA-COMBIMAR - Via Miami","N",null,null,null,null,null,"Limassol",null,null,null,"Limassol",28]
[null,null,"BDCGP","Chittagong","SKR Direct via SINGAPORE","N",null,null,null,null,null,"Melbourne",null,null,null,"Melbourne",14]
[null,null,"BHBAH","Bahrain","SKR Direct via JEBEL ALI","N",null,null,null,null,null,"Montreal",null,null,null,"Montreal",15]
[null,null,"BMBDA","Hamilton (Bermuda)","Coloader WWA-COMBIMAR - Via Miami","N",null,null,null,null,null,"New York",null,null,null,"New York",16]
[null,null,"BNMUA","Muara","SKR Direct via SINGAPORE","N",null,null,null,null,null,"Nhava Sheva",null,null,null,"Nhava Sheva",17]
[null,null,"BOCBB","Cochabamba","Coloader WWA-COMBIMAR - Via Callao","N",null,null,null,null,null,"Osaka",null,null,null,"Osaka",18]
[null,null,"BOLPB","La Paz","Coloader WWA-COMBIMAR - Via Callao","N",null,null,null,null,null,"Port Kelang",null,null,null,"Port Kelang",19]
[null,null,"BRITJ","Itajai","SKR DIRECT CFS/CFS","Y",null,null,null,null,null,"San Antonio",null,null,null,"San Antonio",20]
[null,null,"BRNVT","Navegantes","Coloader WWA-COMBIMAR - Direct Service","N",null,null,null,null,null,"Santos",null,null,null,"Santos",21]
[null,null,"BRPNG","Paranagua","Coloader WWA-COMBIMAR - Direct Service","N",null,null,null,null,null,"Shanghai",null,null,null,"Shanghai",22]
[null,null,"BRRIG","Rio Grande","Coloader WWA-COMBIMAR - Direct Service","N",null,null,null,null,null,"Singapore",null,null,null,"Singapore",23]
[null,null,"BRRIO","Rio de Janeiro","Coloader WWA-COMBIMAR - Direct Service","N",null,null,null,null,null,"Sydney",null,null,null,"Sydney",24]
[null,null,"BRSFS","Sao Francisco do Sul","SERVICE CANCELLED","N",null,null,null,null,null,"Tokyo",null,null,null,"Tokyo",25]
[null,null,"BRSSZ","Santos","SKR DIRECT CFS/CFS","Y",null,null,null,null,null,"Toronto",null,null,null,"Toronto",26]
[null,null,"BRVIX","Vitoria (Port)","Co-loader: EURO IFS via SANTOS","N",null,null,null,null,null,"Veracruz",null,null,null,"Veracruz",27]
[null,null,"BSFPO","Freeport","Coloader WWA-COMBIMAR - Via Miami","N",null,null,null,null,null,"Totale complessivo"]
[null,null,"BSNAS","Nassau","Coloader WWA-COMBIMAR - Via Miami","N"]
[null,null,"BWGBE","Gaborone","SKR Direct via DURBAN","N"]
[null,null,"CACAL","Calgary","SKR Direct via MONTREAL","N"]
[null,null,"CAEDM","Edmonton","SKR Direct via MONTREAL","N"]
[null,null,"CAHAL","Halifax","SKR Direct via MONTREAL","N"]
[null,null,"CAMTR","Montreal","SKR DIRECT CFS/CFS","Y"]
[null,null,"CAOTT","Ottawa","SKR Direct via MONTREAL","N"]
[null,null,"CAQUE","Quebec","SKR Direct via MONTREAL","N"]
[null,null,"CASAK","Saskatoon","SKR Direct via MONTREAL","N"]
[null,null,"CATOR","Toronto","SKR Direct via MONTREAL","Y"]
[null,null,"CAVAN","Vancouver","SKR Direct via MONTREAL",{"$f":"+IF(MID(E43,1,18)=\"SKR DIRECT CFS/CFS\",\"Y\",\"N\")","v":"N"}]
[null,null,"CAWNP","Winnipeg","SKR Direct via MONTREAL","N"]
[null,null,"CIABJ","Abidjan","SKR Direct via DURBAN","N"]
[null,null,"CLANF","Antofagasta","Coloader WWA-COMBIMAR - Via San Antonio","N"]
[null,null,"CLARI","Arica","Coloader WWA-COMBIMAR - Via San Antonio","N"]
[null,null,"CLIQQ","Iquique","Coloader WWA-COMBIMAR - Via San Antonio","N"]
[null,null,"CLPUQ","Punta Arenas","Coloader WWA-COMBIMAR - Via San Antonio","N"]
[null,null,"CLSAI","San Antonio","SKR DIRECT CFS/CFS","Y"]
[null,null,"CLSCL","Santiago","Coloader WWA-COMBIMAR - Via San Antonio","N"]
[null,null,"CLTAL","Talcahuano","Coloader WWA-COMBIMAR - Via San Antonio","N"]
[null,null,"CLVAP","Valparaiso","Coloader WWA-COMBIMAR - Via San Antonio","N"]
[null,null,"CNBJS","Beijing","SKR Direct via HONG KONG","N"]
[null,null,"CNDGG","Dongguan","SKR Direct via HONG KONG","N"]
[null,null,"CNDLC","Dalian","SKR Direct via SINGAPORE","N"]
[null,null,"CNDOU","Doumen","SKR Direct via HONG KONG","N"]
[null,null,"CNFOC","Fuzhou","SKR Direct via HONG KONG","N"]
[null,null,"CNFOS","Foshan","SKR Direct via HONG KONG","N"]
[null,null,"CNFRT","Foshan new port","SKR Direct via HONG KONG","N"]
[null,null,"CNGAY","Zhaoqing","SKR Direct via HONG KONG","N"]
[null,null,"CNGOM","Gaoming","SKR Direct via HONG KONG","N"]
[null,null,"CNGON","Gaolan","SKR Direct via HONG KONG","N"]
[null,null,"CNGUG","Guigang","SKR Direct via HONG KONG","N"]
[null,null,"CNHAK","Haikou","SKR Direct via HONG KONG","N"]
[null,null,"CNHDU","Huadu","SKR Direct via HONG KONG","N"]
[null,null,"CNHOP","Huangpu Old Port","SKR Direct via HONG KONG","N"]
[null,null,"CNHSN","Heshan","SKR Direct via HONG KONG","N"]
[null,null,"CNHUI","Huizhou","SERVICE CANCELLED","N"]
[null,null,"CNHUN","Huangpu New Port","SKR Direct via HONG KONG","N"]
[null,null,"CNJMN","Jiangmen","SKR Direct via HONG KONG","N"]
[null,null,"CNJXN","Jiao Xin","SKR Direct via HONG KONG","N"]
[null,null,"CNJZU","Jiuzhou","SERVICE CANCELLED","N"]
[null,null,"CNKAP","Kaiping","SKR Direct via HONG KONG","N"]
[null,null,"CNLIH","Lianhuashan","SKR Direct via HONG KONG","N"]
[null,null,"CNMMI","Maoming","SKR Direct via HONG KONG","N"]
[null,null,"CNNAH","Nanhai","SKR Direct via HONG KONG","N"]
[null,null,"CNNGB","Ningbo","SKR Direct via SINGAPORE","N"]
[null,null,"CNNKG","Nanjing (Nanking","SKR Direct via HONG KONG","N"]
[null,null,"CNNNG","Nanning","SERVICE CANCELLED","N"]
[null,null,"CNNSA","Nansha","SKR Direct via HONG KONG","N"]
[null,null,"CNROQ","Rongqi","SKR Direct via HONG KONG","N"]
[null,null,"CNSHA","Shanghai","SKR DIRECT CFS/CFS","Y"]
[null,null,"CNSHG","Sanshan","SKR Direct via HONG KONG","N"]
[null,null,"CNSIH","Sihui","SKR Direct via HONG KONG","N"]
[null,null,"CNSIN","Shatian","SERVICE CANCELLED","N"]
[null,null,"CNSJQ","Sanshui","SKR Direct via HONG KONG","N"]
[null,null,"CNSRG","Zhaoqing","SKR Direct via HONG KONG","N"]
[null,null,"CNSUD","Shunde","SKR Direct via HONG KONG","N"]
[null,null,"CNSWA","Shantou","SKR Direct via HONG KONG","N"]
[null,null,"CNSZX","Shenzhen","SKR Direct via HONG KONG","N"]
[null,null,"CNTAO","Qingdao","SKR Direct via SINGAPORE","N"]
[null,null,"CNTAP","Taiping","SKR Direct via HONG KONG","N"]
[null,null,"CNTIS","Taishan","SKR Direct via HONG KONG","N"]
[null,null,"CNTXG","Xingang","SKR Direct via HONG KONG","N"]
[null,null,"CNWUH","Wuhan","SKR Direct via HONG KONG","N"]
[null,null,"CNWUZ","Wuzhou","SKR Direct via HONG KONG","N"]
[null,null,"CNXAB","Xinfeng","SKR Direct via HONG KONG","N"]
[null,null,"CNXIL","Xiaolan","SKR Direct via HONG KONG","N"]
[null,null,"CNXIN","Xinhui (Xingning","SKR Direct via HONG KONG","N"]
[null,null,"CNXMN","Xiamen","SKR Direct via HONG KONG","N"]
[null,null,"CNYNT","Yantai","SKR Direct via HONG KONG","N"]
[null,null,"CNYQS","Beijiao","SKR Direct via HONG KONG","N"]
[null,null,"CNYUF","Yunfu","SKR Direct via HONG KONG","N"]
[null,null,"CNZHA","Zhanjiang","SKR Direct via HONG KONG","N"]
[null,null,"CNZSN","Zhongshan","SKR Direct via HONG KONG","N"]
[null,null,"CNZUH","Zhuhai","SKR Direct via HONG KONG",{"$f":"+IF(MID(E107,1,18)=\"SKR DIRECT CFS/CFS\",\"Y\",\"N\")","v":"N"}]
[null,null,"COBUN","Buenaventura","Coloader WWA-COMBIMAR - Via Callao","N"]
[null,null,"COCTG","Cartagena","Coloader WWA-COMBIMAR - Direct Service","N"]
[null,null,"CRSJO","San Jose","Coloader WWA-COMBIMAR - Direct Service","N"]
[null,null,"CUMAR","Mariel","Coloader WWA-COMBIMAR - Via Cristobal","N"]
[null,null,"CYLMS","Limassol","SKR DIRECT CFS/CFS","Y"]
[null,null,"CYNIC","Nicosia","SKR Bologna","N"]
[null,null,"DJJIB","Djibouti","Coloader WWA-COMBIMAR - Via Dubai","N"]
[null,null,"DMRSU","Roseau","Coloader WWA-COMBIMAR - Via Miami","N"]
[null,null,"DOCAU","Caucedo","Coloader WWA-COMBIMAR - Direct Service","N"]
[null,null,"DZALG","Alger (Algiers)","Coloader WWA-COMBIMAR - Direct Service","N"]
[null,null,"ECGYE","Guayaquil","Coloader WWA-COMBIMAR - Direct Service","N"]
[null,null,"EGALY","Alexandria","SKR DIRECT CFS/CFS","Y"]
[null,null,"EGPSD","Port Said","SKR Direct via JEBEL ALI","N"]
[null,null,"ERMSW","Massawa (Mitsiwa)","SERVICE CANCELLED","N"]
[null,null,"FJLTK","Lautoka","SKR Direct via SINGAPORE","N"]
[null,null,"FJSUV","Suva","Coloader WWA-COMBIMAR - Via Aukland","N"]
[null,null,"GDSTG","St George","Coloader WWA-COMBIMAR - Via Miami","N"]
[null,null,"GHACC","Accra","SKR Direct via DURBAN","N"]
[null,null,"GHTEM","Tema","SKR Direct via DURBAN","N"]
[null,null,"GPPTP","Pointe-a-Pitre","Coloader WWA-COMBIMAR - Via Miami","N"]
[null,null,"GTGUA","Guatemala City","Coloader WWA-COMBIMAR - Via San Josè","N"]
[null,null,"GYGEO","Georgetown","Coloader WWA-COMBIMAR - Via Cristobal","N"]
[null,null,"HKHKG","Hong Kong","SKR DIRECT CFS/CFS","Y"]
[null,null,"HNSAP","San Pedro Sula","Coloader WWA-COMBIMAR - Via San Josè","N"]
[null,null,"HNTGU","Tegucigalpa","Coloader WWA-COMBIMAR - Via San Josè","N"]
[null,null,"HTPAP","Port au Prince","Coloader WWA-COMBIMAR - Via Miami","N"]
[null,null,"HUANG","FREE TRADE ZONE TERMINAL","SKR Direct via HONG KONG","N"]
[null,null,"IDBLW","Belawan","SKR Direct via SINGAPORE","N"]
[null,null,"IDBPN","Balikpapan","SKR Direct via SINGAPORE","N"]
[null,null,"IDBTM","Batam Island","SERVICE CANCELLED","N"]
[null,null,"IDJKT","Jakarta","SKR Direct via SINGAPORE","N"]
[null,null,"IDPWG","Perawang","SERVICE CANCELLED","N"]
[null,null,"IDSRG","Semarang","SKR Direct via SINGAPORE","N"]
[null,null,"IDSUB","Surabaya","SKR Direct via SINGAPORE","N"]
[null,null,"ILASH","Ashdod","SKR DIRECT CFS/CFS","Y"]
[null,null,"ILHFA","Haifa","SKR Direct via ASHDOD","N"]
[null,null,"INBLR","Bangalore","SKR Direct via CHENNAI","N"]
[null,null,"INBOM","Mumbai (ex Bombay)","SKR Direct via NHAVA SHEVA","N"]
[null,null,"INCCU","Kolkata (ex Calcutta)","SKR Direct via SINGAPORE","N"]
[null,null,"INCOK","Cochin (Kochi)","SKR Direct via JEBEL ALI","N"]
[null,null,"INHYD","Hyderabad","SKR Direct via SINGAPORE","N"]
[null,null,"INICD","New Delhi","SKR Direct via NHAVA SHEVA","N"]
[null,null,"INMAA","Chennai","SKR DIRECT CFS/CFS","Y"]
[null,null,"INNSA","Nhava Sheva","SKR DIRECT CFS/CFS","Y"]
[null,null,"INTUT","Tuticorin","SKR Direct via JEBEL ALI","N"]
[null,null,"IQKAZ","Khor al Zubair","SERVICE CANCELLED","N"]
[null,null,"IQUQR","Umm Qasr","SKR Direct via JEBEL ALI","N"]
[null,null,"IRBND","Bandar Abbas","SKR Direct via JEBEL ALI","N"]
[null,null,"JMMBJ","Montego Bay","Coloader WWA-COMBIMAR - Via Miami","N"]
[null,null,"JOAQJ","Aqaba","Coloader WWA-COMBIMAR - Direct Service","N"]
[null,null,"JPFUK","Fukuoka","SKR Direct via SINGAPORE","N"]
[null,null,"JPHIJ","Hiroshima","SKR Direct via SINGAPORE","N"]
[null,null,"JPHKT","Hakata/Fukuoka","SKR Direct via SINGAPORE","N"]
[null,null,"JPMOJ","Moji/Kitakyushu","SKR Direct via SINGAPORE","N"]
[null,null,"JPNGO","Nagoya","SKR Direct via OSAKA","N"]
[null,null,"JPOSA","Osaka","SKR DIRECT CFS/CFS","Y"]
[null,null,"JPSMZ","Shimizu","SKR Direct via SINGAPORE","N"]
[null,null,"JPTMK","Tomakomai","Coloader WWA-COMBIMAR - Via Busan","N"]
[null,null,"JPTYO","Tokyo","SKR DIRECT CFS/CFS","Y"]
[null,null,"JPUKB","Kobe","SKR Direct via OSAKA","N"]
[null,null,"JPYOK","Yokohama","SKR Direct via TOKYO","N"]
[null,null,"KEMBA","Mombasa","SKR Direct via JEBEL ALI","N"]
[null,null,"KHKOS","Sihanoukville / Kampong Saom","SKR Direct via SINGAPORE","N"]
[null,null,"KHPNH","Phnom Penh","SKR Direct via SINGAPORE",{"$f":"+IF(MID(E171,1,18)=\"SKR DIRECT CFS/CFS\",\"Y\",\"N\")","v":"N"}]
[null,null,"KITRW","Tarawa","SKR Direct via SINGAPORE","N"]
[null,null,"KMLOG","Longoni","SERVICE CANCELLED","N"]
[null,null,"KRICN",{"$error":"#N/A"},"SERVICE CANCELLED","N"]
[null,null,"KRPUS","Busan","SKR DIRECT CFS/CFS","Y"]
[null,null,"KWKWI","Kuwait","SKR Direct via JEBEL ALI","N"]
[null,null,"KYGEC","Georgetown","Coloader WWA-COMBIMAR - Via Miami","N"]
[null,null,"LBBEY","Beirut","SKR DIRECT CFS/CFS","Y"]
[null,null,"LCCAS","Castries","Coloader WWA-COMBIMAR - Via Miami","N"]
[null,null,"LKCMB","Colombo","Coloader WWA-COMBIMAR - Direct Service","N"]
[null,null,"LYTIP","Tripoli","Coloader WWA-COMBIMAR - Direct Service","N"]
[null,null,"MACAS","Casablanca","Coloader WWA-COMBIMAR - Direct Service","N"]
[null,null,"MGTMM","Tamatave (Toamasina)","SKR Direct via DURBAN","N"]
[null,null,"MGTNR","Antananarivo","SKR Direct via DURBAN","N"]
[null,null,"MMRGN","Yangon","SKR Direct via SINGAPORE","N"]
[null,null,"MOMFM","Macau","SKR Direct via HONG KONG","N"]
[null,null,"MQFDF","Fort de France","Coloader WWA-COMBIMAR - Via Miami","N"]
[null,null,"MTMLA","Valetta","Coloader WWA-COMBIMAR - Direct Service","N"]
[null,null,"MUPLU","Port Louis","SKR Direct via DURBAN","N"]
[null,null,"MVMLE","Male","SKR Direct via SINGAPORE","N"]
[null,null,"MWBLZ","Blantyre","SKR Direct via DURBAN","N"]
[null,null,"MWLLW","Lilongwe","SKR Direct via DURBAN","N"]
[null,null,"MXATM","Altamira","SKR DIRECT CFS/CFS","Y"]
[null,null,"MXVER","Veracruz","SKR DIRECT CFS/CFS","Y"]
[null,null,"MYBKI","Kota Kinabalu","SKR Direct via SINGAPORE","N"]
[null,null,"MYBTU","Bintulu","SKR Direct via SINGAPORE","N"]
[null,null,"MYKCH","Kuching","SKR Direct via SINGAPORE","N"]
[null,null,"MYLBU","Labuan","SKR Direct via SINGAPORE","N"]
[null,null,"MYMYY","Miri","SKR Direct via SINGAPORE","N"]
[null,null,"MYPEN","Penang (Georgetown)","SKR Direct via PORT KELANG","N"]
[null,null,"MYPGU","Pasir Gudang","SKR Direct via SINGAPORE","N"]
[null,null,"MYPKG","Port Kelang (Pelabuhan Klang)","SKR Direct via SINGAPORE","N"]
[null,null,"MYSBW","Sibu","SKR Direct via SINGAPORE","N"]
[null,null,"MYTWU","Tawau","SKR Direct via SINGAPORE","N"]
[null,null,"MZBEW","Beira","SKR Direct via DURBAN","N"]
[null,null,"MZMPM","Maputo","SKR Direct via DURBAN","N"]
[null,null,"NAWDH","Windhoek","SKR Direct via DURBAN","N"]
[null,null,"NAWVB","Walvis Bay","SKR Direct via DURBAN","N"]
[null,null,"NCNOU","Noumea","SKR Direct via SINGAPORE","N"]
[null,null,"NGAPP","Lagos / Apapa","SKR Direct via DURBAN","N"]
[null,null,"NIMGA","Managua","Coloader WWA-COMBIMAR - Via San Josè","N"]
[null,null,"NZAKL","Auckland","SKR Direct via SINGAPORE","N"]
[null,null,"NZDUD","Dunedin","SKR Direct via SINGAPORE","N"]
[null,null,"NZLYT","Lyttelton","SKR Direct via SINGAPORE","N"]
[null,null,"NZWLG","Wellington","SKR Direct via SINGAPORE","N"]
[null,null,"OMMCT","Muscat - DAP","SKR Direct via JEBEL ALI","N"]
[null,null,"OMSOH","Sohar","SKR Direct via JEBEL ALI","N"]
[null,null,"PACTB","Cristobal","Coloader WWA-COMBIMAR - Direct Service","N"]
[null,null,"PAPTY","Panama City","Coloader WWA-COMBIMAR - Via Cristobal","N"]
[null,null,"PECLL","Callao","Coloader WWA-COMBIMAR - Direct Service","N"]
[null,null,"PELIM","Lima","Coloader WWA-COMBIMAR - Via Callao","N"]
[null,null,"PFPPT","Papeete","SKR Direct via SINGAPORE","N"]
[null,null,"PGPOM","Port Moresby","SKR Direct via SINGAPORE","N"]
[null,null,"PHCEB","Cebu","SKR Direct via SINGAPORE","N"]
[null,null,"PHDVO","Davao","SKR Direct via SINGAPORE","N"]
[null,null,"PHMNL","Manila","SKR Direct via SINGAPORE","N"]
[null,null,"PHSFS","Subic Bay","SKR Direct via SINGAPORE","N"]
[null,null,"PHZAM","Zamboanga","SKR Direct via SINGAPORE","N"]
[null,null,"PKKHI","Karachi","SKR Direct via JEBEL ALI","N"]
[null,null,"PRSJU","San Juan","Coloader WWA-COMBIMAR - Via Caucedo","N"]
[null,null,"PYASU","Asuncion","Coloader WWA-COMBIMAR - Via Callao","N"]
[null,null,"QAHMD","Hamad - ex Doha","SKR Direct via JEBEL ALI","N"]
[null,null,"REREU","Reunion","SKR Direct via DURBAN","N"]
[null,null,"RUVVO","Vladivostok","SKR Direct via SINGAPORE","N"]
[null,null,"RWKGL","Kigali","SKR Direct via DURBAN",{"$f":"+IF(MID(E235,1,18)=\"SKR DIRECT CFS/CFS\",\"Y\",\"N\")","v":"N"}]
[null,null,"SADMM","Damman (Ad Dammam)","SKR Direct via JEBEL ALI","N"]
[null,null,"SAJED","Jeddah","SKR DIRECT CFS/CFS","Y"]
[null,null,"SARUH","Riyadh","SKR Direct via JEBEL ALI","N"]
[null,null,"SBHIR","Honiara","SKR Direct via SINGAPORE","N"]
[null,null,"SCMAW","Mahe","SKR Direct via DURBAN","N"]
[null,null,"SDPZU","Port Sudan","SKR Direct via JEBEL ALI","N"]
[null,null,"SGSIN","Singapore","SKR DIRECT CFS/CFS","Y"]
[null,null,"SNDKR","Dakar","Coloader WWA-COMBIMAR - Direct Service","N"]
[null,null,"SRPBM","Paramaribo","Coloader WWA-COMBIMAR - Via Cristobal","N"]
[null,null,"SVSAL","San Salvador","Coloader WWA-COMBIMAR - Via San Josè","N"]
[null,null,"SYLTK","Latakia","SERVICE CANCELLED","N"]
[null,null,"THBKK","Bangkok","SKR DIRECT CFS/CFS","Y"]
[null,null,"THLCH","Laem Chabang","SKR Direct via SINGAPORE","N"]
[null,null,"THLKR","Lat Krabang","SKR Direct via SINGAPORE","N"]
[null,null,"TNSFA","Sfax","Coloader WWA-COMBIMAR - Via Tunis","N"]
[null,null,"TNTUN","Tunis","Coloader WWA-COMBIMAR - Direct Service","N"]
[null,null,"TRANK","Ankara","Coloader WWA-COMBIMAR - Via Istanbul","N"]
[null,null,"TRASR","Kayseri","Coloader WWA-COMBIMAR - Via Istanbul","N"]
[null,null,"TRBTZ","Bursa","Coloader WWA-COMBIMAR - Via Istanbul","N"]
[null,null,"TREDI","Edirne","Coloader WWA-COMBIMAR - Via Istanbul","N"]
[null,null,"TRGEB","Gebze","Coloader WWA-COMBIMAR - Via Istanbul","N"]
[null,null,"TRIST","Istanbul (incl Ambarli)","Coloader WWA-COMBIMAR - Direct Service","N"]
[null,null,"TRIZM","Izmir","Coloader WWA-COMBIMAR - Via Istanbul","N"]
[null,null,"TRMER","Mersin","Coloader WWA-COMBIMAR - Via Istanbul","N"]
[null,null,"TTPOS","Port of Spain","Coloader WWA-COMBIMAR - Via Cristobal","N"]
[null,null,"TVFUN","Funafuti","SKR Direct via SINGAPORE","N"]
[null,null,"TWKEL","Keelung (Chilung)","Coloader WWA-COMBIMAR - Direct Service","N"]
[null,null,"TWKHH","Kaohsiung","SKR Direct via SINGAPORE","N"]
[null,null,"TWTXG","Taichung","SKR Direct via SINGAPORE","N"]
[null,null,"TZDAR","Dar es Salaam","SKR Direct via JEBEL ALI","N"]
[null,null,"UGKLA","Kampala","SKR Direct via DURBAN","N"]
[null,null,"US3D7","Kingsport, TN","SKR Direct via NEW YORK","N"]
[null,null,"USABQ","Albuquerque, NM","SKR Direct via NEW YORK","N"]
[null,null,"USATL","Atlanta, GA ","SKR Direct via NEW YORK","N"]
[null,null,"USAUS","Austin, TX","SKR Direct via NEW YORK","N"]
[null,null,"USBAL","Baltimore, MD ","SKR Direct via NEW YORK","N"]
[null,null,"USBHM","Birmingham, AL ","SKR Direct via NEW YORK","N"]
[null,null,"USBNA","Nashville, TN ","SKR Direct via NEW YORK","N"]
[null,null,"USBOS","Boston, MA ","SKR Direct via NEW YORK","N"]
[null,null,"USBRO","Brownsville, TX","SKR Direct via NEW YORK","N"]
[null,null,"USBTR","Baton Rouge, AL","SKR Direct via NEW YORK","N"]
[null,null,"USBUF","Buffalo, NY","SKR Direct via NEW YORK","N"]
[null,null,"USCHA","Chattanooga, TN","SKR Direct via NEW YORK","N"]
[null,null,"USCHI","Chicago, IL ","SKR Direct via NEW YORK","N"]
[null,null,"USCHS","Charleston, SC ","SKR Direct via NEW YORK","N"]
[null,null,"USCLE","Cleveland, OH ","SKR Direct via NEW YORK","N"]
[null,null,"USCLT","Charlotte, NC ","SKR Direct via NEW YORK","N"]
[null,null,"USCMH","Columbus, OH ","SKR Direct via NEW YORK","N"]
[null,null,"USCVG","Cincinnati, OH ","SKR Direct via NEW YORK","N"]
[null,null,"USDAL","Dallas, TX ","SKR Direct via NEW YORK","N"]
[null,null,"USDAY","Dayton, OH","SKR Direct via NEW YORK","N"]
[null,null,"USDEN","Denver, CO ","SKR Direct via NEW YORK","N"]
[null,null,"USDET","Detroit, MI ","SKR Direct via NEW YORK","N"]
[null,null,"USDSM","Des Moines, IA","SKR Direct via NEW YORK","N"]
[null,null,"USELP","El Paso, TX","SKR Direct via NEW YORK","N"]
[null,null,"USGBO","Greensboro, NC","SKR Direct via NEW YORK","N"]
[null,null,"USGRR","Grand Rapids, MI","SKR Direct via NEW YORK","N"]
[null,null,"USGV9","Greenville, SC","SKR Direct via NEW YORK","N"]
[null,null,"USHID","Hidalgo, TX","SKR Direct via NEW YORK","N"]
[null,null,"USHOU","Houston, TX ","SKR Direct via NEW YORK","N"]
[null,null,"USHSV","Huntsville, AL","SKR Direct via NEW YORK","N"]
[null,null,"USICT","Wichita, KS","SKR Direct via NEW YORK","N"]
[null,null,"USILM","Wilmington, NC ","SKR Direct via NEW YORK","N"]
[null,null,"USIND","Indianapolis, IN ","SKR Direct via NEW YORK",{"$f":"+IF(MID(E299,1,18)=\"SKR DIRECT CFS/CFS\",\"Y\",\"N\")","v":"N"}]
[null,null,"USJAN","Jackson, MS","SKR Direct via NEW YORK","N"]
[null,null,"USJAX","Jacksonville, FL ","SKR Direct via NEW YORK","N"]
[null,null,"USLAS","Las Vegas, NV","SKR Direct via NEW YORK","N"]
[null,null,"USLAX","Los Angeles, CA ","SKR Direct via NEW YORK","N"]
[null,null,"USLEX","Lexington, KY","SKR Direct via NEW YORK","N"]
[null,null,"USLIT","Little Rock, AR","SKR Direct via NEW YORK","N"]
[null,null,"USLRD","Laredo, TX","SKR Direct via NEW YORK","N"]
[null,null,"USLUI","Louisville, KY ","SKR Direct via NEW YORK","N"]
[null,null,"USMEM","Memphis, TN ","SKR Direct via NEW YORK","N"]
[null,null,"USMES","Minneapolis, MN","SKR Direct via NEW YORK","N"]
[null,null,"USMGM","Montgomery, AL","SKR Direct via NEW YORK","N"]
[null,null,"USMIA","Miami, FL ","SKR Direct via NEW YORK","N"]
[null,null,"USMKC","Kansas City, MO ","SKR Direct via NEW YORK","N"]
[null,null,"USMKE","Milwaukee, WI ","SKR Direct via NEW YORK","N"]
[null,null,"USMOB","Mobile, AL ","SKR Direct via NEW YORK","N"]
[null,null,"USMSY","New Orleans, LA ","SKR Direct via NEW YORK","N"]
[null,null,"USNYC","New York","SKR DIRECT CFS/CFS","Y"]
[null,null,"USOKC","Oklahoma City, OK ","SKR Direct via NEW YORK","N"]
[null,null,"USOMA","Omaha, NE","SKR Direct via NEW YORK","N"]
[null,null,"USORF","Norfolk, VA ","SKR Direct via NEW YORK","N"]
[null,null,"USORL","Orlando, FL","SKR Direct via NEW YORK","N"]
[null,null,"USPDX","Portland, OR ","SKR Direct via NEW YORK","N"]
[null,null,"USPHL","Philadelphia, PA ","SKR Direct via NEW YORK","N"]
[null,null,"USPHX","Phoenix, AZ ","SKR Direct via NEW YORK","N"]
[null,null,"USPIT","Pittsburgh, PA ","SKR Direct via NEW YORK","N"]
[null,null,"USRAG","Raleigh, NC","SKR Direct via NEW YORK","N"]
[null,null,"USRIC","Richmond, VA ","SKR Direct via NEW YORK","N"]
[null,null,"USSAN","San Diego, CA ","SKR Direct via NEW YORK","N"]
[null,null,"USSAT","San Antonio, TX","SKR Direct via NEW YORK","N"]
[null,null,"USSAV","Savannah, GA ","SKR Direct via NEW YORK","N"]
[null,null,"USSEA","Seattle, WA ","SKR Direct via NEW YORK","N"]
[null,null,"USSFO","San Francisco, CA ","SKR Direct via NEW YORK","N"]
[null,null,"USSGF","Springfield, MO","SKR Direct via NEW YORK","N"]
[null,null,"USSLC","Salt Lake City, UT ","SKR Direct via NEW YORK","N"]
[null,null,"USSTL","St Louis, MO","SKR Direct via NEW YORK","N"]
[null,null,"USTOL","Toledo, OH","SKR Direct via NEW YORK","N"]
[null,null,"USTPA","Tampa, FL ","SKR Direct via NEW YORK","N"]
[null,null,"USTUL","Tulsa, OK","SKR Direct via NEW YORK","N"]
[null,null,"USTUS","Tucson, AZ","SKR Direct via NEW YORK","N"]
[null,null,"USTXC","McAllen, TX","SKR Direct via NEW YORK","N"]
[null,null,"USTYS","Knoxville, TN ","SKR Direct via NEW YORK","N"]
[null,null,"USWAS","Washington, DC ","SKR Direct via NEW YORK","N"]
[null,null,"UYMVD","Montevideo","Coloader WWA-COMBIMAR - Direct Service","N"]
[null,null,"VCKTN","Kingstown","Coloader WWA-COMBIMAR - Via Miami","N"]
[null,null,"VELAG","La Guaira","Coloader WWA-COMBIMAR - Via Cristobal","N"]
[null,null,"VEMAR","Maracaibo","Coloader WWA-COMBIMAR - Via Miami","N"]
[null,null,"VNCLI","Ho Chi Minh City","SKR Direct via SINGAPORE","N"]
[null,null,"VNDAD","Da Nang","SKR Direct via SINGAPORE","N"]
[null,null,"VNHPH","Haiphong","SKR Direct via SINGAPORE","N"]
[null,null,"VNSGN","Ho Chi Minh City","SKR Direct via SINGAPORE","N"]
[null,null,"VUVLI","Port Vila","SKR Direct via SINGAPORE","N"]
[null,null,"WSAPW","Apia","SKR Direct via SINGAPORE","N"]
[null,null,"YEADE","Aden","SKR Direct via JEBEL ALI","N"]
[null,null,"YEHOD","Hodeidah","SKR Direct via JEBEL ALI","N"]
[null,null,"ZACPT","Cape Town","Coloader WWA-COMBIMAR - Direct Service","N"]
[null,null,"ZADUR","Durban","SKR DIRECT CFS/CFS","Y"]
[null,null,"ZAELS","East London","Coloader WWA-COMBIMAR - Via Port Elizabeth","N"]
[null,null,"ZAJNB","Johannesburg","SKR Direct via DURBAN","N"]
[null,null,"ZAPLZ","Port Elizabeth","Coloader WWA-COMBIMAR - Direct Service","N"]
[null,null,"ZMKIW","Kitwe","SKR Direct via DURBAN","N"]
[null,null,"ZMLUN","Lusaka","SKR Direct via DURBAN","N"]
[null,null,"ZMNLA","Ndola","SKR Direct via DURBAN","N"]
[null,null,"ZWBUQ","Bulawayo","SKR Direct via DURBAN","N"]
[null,null,"ZWHRE","Harare","SKR Direct via DURBAN",{"$f":"+IF(MID(E363,1,18)=\"SKR DIRECT CFS/CFS\",\"Y\",\"N\")","v":"N"}]
[null,null,"TNRDS","Rades","Coloader WWA-COMBIMAR - Direct Service","N"]

{"sheet":"Pivot SKR Consol","index":7,"n_rows":1089,"n_cols":1,"rows_kept":1089,"cut":false,"hidden":true,"merged":[]}
[]
[]
["Etichette di riga"]
["Abidjan"]
["SKR Direct via DURBAN"]
["N"]
["Abu Dhabi"]
["SKR Direct via JEBEL ALI"]
["N"]
["Accra"]
["SKR Direct via DURBAN"]
["N"]
["Adelaide"]
["SKR Direct via MELBOURNE"]
["N"]
["Aden"]
["SKR Direct via JEBEL ALI"]
["N"]
["Alger (Algiers)"]
["Coloader WWA-COMBIMAR - Direct Service"]
["N"]
["Altamira"]
["SKR DIRECT CFS/CFS"]
["Y"]
["Anguilla"]
["Coloader WWA-COMBIMAR - Via Miami"]
["N"]
["Ankara"]
["Coloader WWA-COMBIMAR - Via Istanbul"]
["N"]
["Antananarivo"]
["SKR Direct via DURBAN"]
["N"]
["Antofagasta"]
["Coloader WWA-COMBIMAR - Via San Antonio"]
["N"]
["Apia"]
["SKR Direct via SINGAPORE"]
["N"]
["Arica"]
["Coloader WWA-COMBIMAR - Via San Antonio"]
["N"]
["Ashdod"]
["SKR DIRECT CFS/CFS"]
["Y"]
["Asuncion"]
["Coloader WWA-COMBIMAR - Via Callao"]
["N"]
["Auckland"]
["SKR Direct via SINGAPORE"]
["N"]
["Bahrain"]
["SKR Direct via JEBEL ALI"]
["N"]
["Bandar Abbas"]
["SKR Direct via JEBEL ALI"]
["N"]
["Bangalore"]
["SKR Direct via CHENNAI"]
["N"]
["Bangkok"]
["SKR DIRECT CFS/CFS"]
["Y"]
["Batam Island"]
["SERVICE CANCELLED"]
["N"]
["Beijiao"]
["SKR Direct via HONG KONG"]
["N"]
["Beijing"]
["SKR Direct via HONG KONG"]
["N"]
["Beira"]
["SKR Direct via DURBAN"]
["N"]
["Beirut"]
["SKR DIRECT CFS/CFS"]
["Y"]
["Blantyre"]
["SKR Direct via DURBAN"]
["N"]
["Bridgetown"]
["Coloader WWA-COMBIMAR - Via Miami"]
["N"]
["Brisbane"]
["SKR Direct via SINGAPORE"]
["N"]
["Buenaventura"]
["Coloader WWA-COMBIMAR - Via Callao"]
["N"]
["Buenos Aires"]
["SKR DIRECT CFS/CFS"]
["Y"]
["Bulawayo"]
["SKR Direct via DURBAN"]
["N"]
["Bursa"]
["Coloader WWA-COMBIMAR - Via Istanbul"]
["N"]
["Busan"]
["SKR DIRECT CFS/CFS"]
["Y"]
["Calgary"]
["SKR Direct via MONTREAL"]
["N"]
["Callao"]
["Coloader WWA-COMBIMAR - Direct Service"]
["N"]
["Cape Town"]
["Coloader WWA-COMBIMAR - Direct Service"]
["N"]
["Cartagena"]
["Coloader WWA-COMBIMAR - Direct Service"]
["N"]
["Casablanca"]
["Coloader WWA-COMBIMAR - Direct Service"]
["N"]
["Castries"]
["Coloader WWA-COMBIMAR - Via Miami"]
["N"]
["Caucedo"]
["Coloader WWA-COMBIMAR - Direct Service"]
["N"]
["Cebu"]
["SKR Direct via SINGAPORE"]
["N"]
["Chittagong"]
["SKR Direct via SINGAPORE"]
["N"]
["Cochabamba"]
["Coloader WWA-COMBIMAR - Via Callao"]
["N"]
["Colombo"]
["Coloader WWA-COMBIMAR - Direct Service"]
["N"]
["Cristobal"]
["Coloader WWA-COMBIMAR - Direct Service"]
["N"]
["Da Nang"]
["SKR Direct via SINGAPORE"]
["N"]
["Dakar"]
["Coloader WWA-COMBIMAR - Direct Service"]
["N"]
["Dalian"]
["SKR Direct via SINGAPORE"]
["N"]
["Dar es Salaam"]
["SKR Direct via JEBEL ALI"]
["N"]
["Darwin"]
["SKR Direct via SINGAPORE"]
["N"]
["Djibouti"]
["Coloader WWA-COMBIMAR - Via Dubai"]
["N"]
["Dongguan"]
["SKR Direct via HONG KONG"]
["N"]
["Doumen"]
["SKR Direct via HONG KONG"]
["N"]
["Dunedin"]
["SKR Direct via SINGAPORE"]
["N"]
["Durban"]
["SKR DIRECT CFS/CFS"]
["Y"]
["East London"]
["Coloader WWA-COMBIMAR - Via Port Elizabeth"]
["N"]
["Edirne"]
["Coloader WWA-COMBIMAR - Via Istanbul"]
["N"]
["Edmonton"]
["SKR Direct via MONTREAL"]
["N"]
["Foshan"]
["SKR Direct via HONG KONG"]
["N"]
["Foshan new port"]
["SKR Direct via HONG KONG"]
["N"]
["Fremantle"]
["Coloader WWA-COMBIMAR - Direct Service"]
["N"]
["Fukuoka"]
["SKR Direct via SINGAPORE"]
["N"]
["Funafuti"]
["SKR Direct via SINGAPORE"]
["N"]
["Fuzhou"]
["SKR Direct via HONG KONG"]
["N"]
["Gaborone"]
["SKR Direct via DURBAN"]
["N"]
["Gaolan"]
["SKR Direct via HONG KONG"]
["N"]
["Gaoming"]
["SKR Direct via HONG KONG"]
["N"]
["Gebze"]
["Coloader WWA-COMBIMAR - Via Istanbul"]
["N"]
["Georgetown"]
["Coloader WWA-COMBIMAR - Via Cristobal"]
["N"]
["Coloader WWA-COMBIMAR - Via Miami"]
["N"]
["Guatemala City"]
["Coloader WWA-COMBIMAR - Via San Josè"]
["N"]
["Guayaquil"]
["Coloader WWA-COMBIMAR - Direct Service"]
["N"]
["Guigang"]
["SKR Direct via HONG KONG"]
["N"]
["Haifa"]
["SKR Direct via ASHDOD"]
["N"]
["Haikou"]
["SKR Direct via HONG KONG"]
["N"]
["Haiphong"]
["SKR Direct via SINGAPORE"]
["N"]
["Hakata/Fukuoka"]
["SKR Direct via SINGAPORE"]
["N"]
["Halifax"]
["SKR Direct via MONTREAL"]
["N"]
["Harare"]
["SKR Direct via DURBAN"]
["N"]
["Heshan"]
["SKR Direct via HONG KONG"]
["N"]
["Hiroshima"]
["SKR Direct via SINGAPORE"]
["N"]
["Ho Chi Minh City"]
["SKR Direct via SINGAPORE"]
["N"]
["Hobart"]
["SKR Direct via SINGAPORE"]
["N"]
["Hodeidah"]
["SKR Direct via JEBEL ALI"]
["N"]
["Hong Kong"]
["SKR DIRECT CFS/CFS"]
["Y"]
["Huadu"]
["SKR Direct via HONG KONG"]
["N"]
["Huangpu New Port"]
["SKR Direct via HONG KONG"]
["N"]
["Huangpu Old Port"]
["SKR Direct via HONG KONG"]
["N"]
["Huizhou"]
["SERVICE CANCELLED"]
["N"]
["Hyderabad"]
["SKR Direct via SINGAPORE"]
["N"]
["Iquique"]
["Coloader WWA-COMBIMAR - Via San Antonio"]
["N"]
["Itajai"]
["SKR DIRECT CFS/CFS"]
["Y"]
["Izmir"]
["Coloader WWA-COMBIMAR - Via Istanbul"]
["N"]
["Jebel Ali"]
["SKR DIRECT CFS/CFS"]
["Y"]
["Jeddah"]
["SKR DIRECT CFS/CFS"]
["Y"]
["Jiangmen"]
["SKR Direct via HONG KONG"]
["N"]
["Jiao Xin"]
["SKR Direct via HONG KONG"]
["N"]
["Jiuzhou"]
["SERVICE CANCELLED"]
["N"]
["Johannesburg"]
["SKR Direct via DURBAN"]
["N"]
["Kaiping"]
["SKR Direct via HONG KONG"]
["N"]
["Kampala"]
["SKR Direct via DURBAN"]
["N"]
["Kaohsiung"]
["SKR Direct via SINGAPORE"]
["N"]
["Karachi"]
["SKR Direct via JEBEL ALI"]
["N"]
["Kayseri"]
["Coloader WWA-COMBIMAR - Via Istanbul"]
["N"]
["Keelung (Chilung)"]
["Coloader WWA-COMBIMAR - Direct Service"]
["N"]
["Khor al Zubair"]
["SERVICE CANCELLED"]
["N"]
["Kigali"]
["SKR Direct via DURBAN"]
["N"]
["Kingstown"]
["Coloader WWA-COMBIMAR - Via Miami"]
["N"]
["Kitwe"]
["SKR Direct via DURBAN"]
["N"]
["Kobe"]
["SKR Direct via OSAKA"]
["N"]
["Kolkata (ex Calcutta)"]
["SKR Direct via SINGAPORE"]
["N"]
["Kuwait"]
["SKR Direct via JEBEL ALI"]
["N"]
["La Guaira"]
["Coloader WWA-COMBIMAR - Via Cristobal"]
["N"]
["La Paz"]
["Coloader WWA-COMBIMAR - Via Callao"]
["N"]
["Laem Chabang"]
["SKR Direct via SINGAPORE"]
["N"]
["Lat Krabang"]
["SKR Direct via SINGAPORE"]
["N"]
["Latakia"]
["SERVICE CANCELLED"]
["N"]
["Lautoka"]
["SKR Direct via SINGAPORE"]
["N"]
["Lianhuashan"]
["SKR Direct via HONG KONG"]
["N"]
["Lilongwe"]
["SKR Direct via DURBAN"]
["N"]
["Lima"]
["Coloader WWA-COMBIMAR - Via Callao"]
["N"]
["Limassol"]
["SKR DIRECT CFS/CFS"]
["Y"]
["Luanda"]
["SKR Direct via DURBAN"]
["N"]
["Lusaka"]
["SKR Direct via DURBAN"]
["N"]
["Lyttelton"]
["SKR Direct via SINGAPORE"]
["N"]
["Macau"]
["SKR Direct via HONG KONG"]
["N"]
["Mahe"]
["SKR Direct via DURBAN"]
["N"]
["Male"]
["SKR Direct via SINGAPORE"]
["N"]
["Managua"]
["Coloader WWA-COMBIMAR - Via San Josè"]
["N"]
["Manila"]
["SKR Direct via SINGAPORE"]
["N"]
["Maoming"]
["SKR Direct via HONG KONG"]
["N"]
["Maputo"]
["SKR Direct via DURBAN"]
["N"]
["Maracaibo"]
["Coloader WWA-COMBIMAR - Via Miami"]
["N"]
["Mariel"]
["Coloader WWA-COMBIMAR - Via Cristobal"]
["N"]
["Massawa (Mitsiwa)"]
["SERVICE CANCELLED"]
["N"]
["Melbourne"]
["SKR DIRECT CFS/CFS"]
["Y"]
["Mersin"]
["Coloader WWA-COMBIMAR - Via Istanbul"]
["N"]
["Moji/Kitakyushu"]
["SKR Direct via SINGAPORE"]
["N"]
["Mombasa"]
["SKR Direct via JEBEL ALI"]
["N"]
["Montego Bay"]
["Coloader WWA-COMBIMAR - Via Miami"]
["N"]
["Montevideo"]
["Coloader WWA-COMBIMAR - Direct Service"]
["N"]
["Montreal"]
["SKR DIRECT CFS/CFS"]
["Y"]
["Muara"]
["SKR Direct via SINGAPORE"]
["N"]
["Mumbai (ex Bombay)"]
["SKR Direct via NHAVA SHEVA"]
["N"]
["Nanhai"]
["SKR Direct via HONG KONG"]
["N"]
["Nanning"]
["SERVICE CANCELLED"]
["N"]
["Nansha"]
["SKR Direct via HONG KONG"]
["N"]
["Nassau"]
["Coloader WWA-COMBIMAR - Via Miami"]
["N"]
["Navegantes"]
["Coloader WWA-COMBIMAR - Direct Service"]
["N"]
["Ndola"]
["SKR Direct via DURBAN"]
["N"]
["New Delhi"]
["SKR Direct via NHAVA SHEVA"]
["N"]
["New York"]
["SKR DIRECT CFS/CFS"]
["Y"]
["Nicosia"]
["SKR Bologna"]
["N"]
["Ningbo"]
["SKR Direct via SINGAPORE"]
["N"]
["Noumea"]
["SKR Direct via SINGAPORE"]
["N"]
["Osaka"]
["SKR DIRECT CFS/CFS"]
["Y"]
["Ottawa"]
["SKR Direct via MONTREAL"]
["N"]
["Pago Pago"]
["SKR Direct via SINGAPORE"]
["N"]
["Papeete"]
["SKR Direct via SINGAPORE"]
["N"]
["Paramaribo"]
["Coloader WWA-COMBIMAR - Via Cristobal"]
["N"]
["Paranagua"]
["Coloader WWA-COMBIMAR - Direct Service"]
["N"]
["Penang (Georgetown)"]
["SKR Direct via PORT KELANG"]
["N"]
["Phnom Penh"]
["SKR Direct via SINGAPORE"]
["N"]
["Pointe-a-Pitre"]
["Coloader WWA-COMBIMAR - Via Miami"]
["N"]
["Port Elizabeth"]
["Coloader WWA-COMBIMAR - Direct Service"]
["N"]
["Port Louis"]
["SKR Direct via DURBAN"]
["N"]
["Port Moresby"]
["SKR Direct via SINGAPORE"]
["N"]
["Port Said"]
["SKR Direct via JEBEL ALI"]
["N"]
["Port Sudan"]
["SKR Direct via JEBEL ALI"]
["N"]
["Port Vila"]
["SKR Direct via SINGAPORE"]
["N"]
["Punta Arenas"]
["Coloader WWA-COMBIMAR - Via San Antonio"]
["N"]
["Qingdao"]
["SKR Direct via SINGAPORE"]
["N"]
["Quebec"]
["SKR Direct via MONTREAL"]
["N"]
["Reunion"]
["SKR Direct via DURBAN"]
["N"]
["Rio de Janeiro"]
["Coloader WWA-COMBIMAR - Direct Service"]
["N"]
["Rio Grande"]
["Coloader WWA-COMBIMAR - Direct Service"]
["N"]
["Riyadh"]
["SKR Direct via JEBEL ALI"]
["N"]
["Rongqi"]
["SKR Direct via HONG KONG"]
["N"]
["Roseau"]
["Coloader WWA-COMBIMAR - Via Miami"]
["N"]
["San Antonio"]
["SKR DIRECT CFS/CFS"]
["Y"]
["San Jose"]
["Coloader WWA-COMBIMAR - Direct Service"]
["N"]
["San Juan"]
["Coloader WWA-COMBIMAR - Via Caucedo"]
["N"]
["San Pedro Sula"]
["Coloader WWA-COMBIMAR - Via San Josè"]
["N"]
["San Salvador"]
["Coloader WWA-COMBIMAR - Via San Josè"]
["N"]
["Sanshan"]
["SKR Direct via HONG KONG"]
["N"]
["Sanshui"]
["SKR Direct via HONG KONG"]
["N"]
["Santiago"]
["Coloader WWA-COMBIMAR - Via San Antonio"]
["N"]
["Santos"]
["SKR DIRECT CFS/CFS"]
["Y"]
["Sao Francisco do Sul"]
["SERVICE CANCELLED"]
["N"]
["Saskatoon"]
["SKR Direct via MONTREAL"]
["N"]
["Sfax"]
["Coloader WWA-COMBIMAR - Via Tunis"]
["N"]
["Shanghai"]
["SKR DIRECT CFS/CFS"]
["Y"]
["Shantou"]
["SKR Direct via HONG KONG"]
["N"]
["Sharjah"]
["SKR Direct via JEBEL ALI"]
["N"]
["Shatian"]
["SERVICE CANCELLED"]
["N"]
["Shenzhen"]
["SKR Direct via HONG KONG"]
["N"]
["Shimizu"]
["SKR Direct via SINGAPORE"]
["N"]
["Shunde"]
["SKR Direct via HONG KONG"]
["N"]
["Sihui"]
["SKR Direct via HONG KONG"]
["N"]
["Singapore"]
["SKR DIRECT CFS/CFS"]
["Y"]
["Sohar"]
["SKR Direct via JEBEL ALI"]
["N"]
["Subic Bay"]
["SKR Direct via SINGAPORE"]
["N"]
["Surabaya"]
["SKR Direct via SINGAPORE"]
["N"]
["Suva"]
["Coloader WWA-COMBIMAR - Via Aukland"]
["N"]
["Sydney"]
["SKR DIRECT CFS/CFS"]
["Y"]
["Taichung"]
["SKR Direct via SINGAPORE"]
["N"]
["Taiping"]
["SKR Direct via HONG KONG"]
["N"]
["Talcahuano"]
["Coloader WWA-COMBIMAR - Via San Antonio"]
["N"]
["Tamatave (Toamasina)"]
["SKR Direct via DURBAN"]
["N"]
["Tarawa"]
["SKR Direct via SINGAPORE"]
["N"]
["Tegucigalpa"]
["Coloader WWA-COMBIMAR - Via San Josè"]
["N"]
["Tema"]
["SKR Direct via DURBAN"]
["N"]
["Tokyo"]
["SKR DIRECT CFS/CFS"]
["Y"]
["Tomakomai"]
["Coloader WWA-COMBIMAR - Via Busan"]
["N"]
["Toronto"]
["SKR Direct via MONTREAL"]
["Y"]
["Tripoli"]
["Coloader WWA-COMBIMAR - Direct Service"]
["N"]
["Tunis"]
["Coloader WWA-COMBIMAR - Direct Service"]
["N"]
["Tuticorin"]
["SKR Direct via JEBEL ALI"]
["N"]
["Umm Qasr"]
["SKR Direct via JEBEL ALI"]
["N"]
["Valparaiso"]
["Coloader WWA-COMBIMAR - Via San Antonio"]
["N"]
["Vancouver"]
["SKR Direct via MONTREAL"]
["N"]
["Veracruz"]
["SKR DIRECT CFS/CFS"]
["Y"]
["Vladivostok"]
["SKR Direct via SINGAPORE"]
["N"]
["Walvis Bay"]
["SKR Direct via DURBAN"]
["N"]
["Wellington"]
["SKR Direct via SINGAPORE"]
["N"]
["Windhoek"]
["SKR Direct via DURBAN"]
["N"]
["Winnipeg"]
["SKR Direct via MONTREAL"]
["N"]
["Wuhan"]
["SKR Direct via HONG KONG"]
["N"]
["Wuzhou"]
["SKR Direct via HONG KONG"]
["N"]
["Xiamen"]
["SKR Direct via HONG KONG"]
["N"]
["Xiaolan"]
["SKR Direct via HONG KONG"]
["N"]
["Xinfeng"]
["SKR Direct via HONG KONG"]
["N"]
["Yangon"]
["SKR Direct via SINGAPORE"]
["N"]
["Yantai"]
["SKR Direct via HONG KONG"]
["N"]
["Yokohama"]
["SKR Direct via TOKYO"]
["N"]
["Zamboanga"]
["SKR Direct via SINGAPORE"]
["N"]
["Zhanjiang"]
["SKR Direct via HONG KONG"]
["N"]
["Zhongshan"]
["SKR Direct via HONG KONG"]
["N"]
["Zhuhai"]
["SKR Direct via HONG KONG"]
["N"]
["#N/D"]
["SERVICE CANCELLED"]
["N"]
["(vuoto)"]
["(vuoto)"]
["(vuoto)"]
["Alexandria"]
["SKR DIRECT CFS/CFS"]
["Y"]
["Nhava Sheva"]
["SKR DIRECT CFS/CFS"]
["Y"]
["Aqaba"]
["Coloader WWA-COMBIMAR - Direct Service"]
["N"]
["Taishan"]
["SKR Direct via HONG KONG"]
["N"]
["Yunfu"]
["SKR Direct via HONG KONG"]
["N"]
["Chennai"]
["SKR DIRECT CFS/CFS"]
["Y"]
["Kralendijk"]
["Coloader WWA-COMBIMAR - Via Miami"]
["N"]
["Hamilton (Bermuda)"]
["Coloader WWA-COMBIMAR - Via Miami"]
["N"]
["Vitoria (Port)"]
["Co-loader: EURO IFS via SANTOS"]
["N"]
["Freeport"]
["Coloader WWA-COMBIMAR - Via Miami"]
["N"]
["Zhaoqing"]
["SKR Direct via HONG KONG"]
["N"]
["Nanjing (Nanking"]
["SKR Direct via HONG KONG"]
["N"]
["Xingang"]
["SKR Direct via HONG KONG"]
["N"]
["Xinhui (Xingning"]
["SKR Direct via HONG KONG"]
["N"]
["St George"]
["Coloader WWA-COMBIMAR - Via Miami"]
["N"]
["Port au Prince"]
["Coloader WWA-COMBIMAR - Via Miami"]
["N"]
["FREE TRADE ZONE TERMINAL"]
["SKR Direct via HONG KONG"]
["N"]
["Belawan"]
["SKR Direct via SINGAPORE"]
["N"]
["Balikpapan"]
["SKR Direct via SINGAPORE"]
["N"]
["Jakarta"]
["SKR Direct via SINGAPORE"]
["N"]
["Perawang"]
["SERVICE CANCELLED"]
["N"]
["Semarang"]
["SKR Direct via SINGAPORE"]
["N"]
["Cochin (Kochi)"]
["SKR Direct via JEBEL ALI"]
["N"]
["Nagoya"]
["SKR Direct via OSAKA"]
["N"]
["Sihanoukville / Kampong Saom"]
["SKR Direct via SINGAPORE"]
["N"]
["Longoni"]
["SERVICE CANCELLED"]
["N"]
["Fort de France"]
["Coloader WWA-COMBIMAR - Via Miami"]
["N"]
["Valetta"]
["Coloader WWA-COMBIMAR - Direct Service"]
["N"]
["Kota Kinabalu"]
["SKR Direct via SINGAPORE"]
["N"]
["Bintulu"]
["SKR Direct via SINGAPORE"]
["N"]
["Kuching"]
["SKR Direct via SINGAPORE"]
["N"]
["Labuan"]
["SKR Direct via SINGAPORE"]
["N"]
["Miri"]
["SKR Direct via SINGAPORE"]
["N"]
["Pasir Gudang"]
["SKR Direct via SINGAPORE"]
["N"]
["Port Kelang (Pelabuhan Klang)"]
["SKR DIRECT CFS/CFS"]
["Y"]
["Sibu"]
["SKR Direct via SINGAPORE"]
["N"]
["Tawau"]
["SKR Direct via SINGAPORE"]
["N"]
["Lagos / Apapa"]
["SKR Direct via DURBAN"]
["N"]
["Muscat - DAP"]
["SKR Direct via JEBEL ALI"]
["N"]
["Panama City"]
["Coloader WWA-COMBIMAR - Via Cristobal"]
["N"]
["Davao"]
["SKR Direct via SINGAPORE"]
["N"]
["Hamad - ex Doha"]
["SKR Direct via JEBEL ALI"]
["N"]
["Damman (Ad Dammam)"]
["SKR Direct via JEBEL ALI"]
["N"]
["Honiara"]
["SKR Direct via SINGAPORE"]
["N"]
["Istanbul (incl Ambarli)"]
["Coloader WWA-COMBIMAR - Direct Service"]
["N"]
["Port of Spain"]
["Coloader WWA-COMBIMAR - Via Cristobal"]
["N"]
["Kingsport, TN"]
["SKR Direct via NEW YORK"]
["N"]
["Albuquerque, NM"]
["SKR Direct via NEW YORK"]
["N"]
["Atlanta, GA "]
["SKR Direct via NEW YORK"]
["N"]
["Austin, TX"]
["SKR Direct via NEW YORK"]
["N"]
["Baltimore, MD "]
["SKR Direct via NEW YORK"]
["N"]
["Birmingham, AL "]
["SKR Direct via NEW YORK"]
["N"]
["Nashville, TN "]
["SKR Direct via NEW YORK"]
["N"]
["Boston, MA "]
["SKR Direct via NEW YORK"]
["N"]
["Brownsville, TX"]
["SKR Direct via NEW YORK"]
["N"]
["Baton Rouge, AL"]
["SKR Direct via NEW YORK"]
["N"]
["Buffalo, NY"]
["SKR Direct via NEW YORK"]
["N"]
["Chattanooga, TN"]
["SKR Direct via NEW YORK"]
["N"]
["Chicago, IL "]
["SKR Direct via NEW YORK"]
["N"]
["Charleston, SC "]
["SKR Direct via NEW YORK"]
["N"]
["Cleveland, OH "]
["SKR Direct via NEW YORK"]
["N"]
["Charlotte, NC "]
["SKR Direct via NEW YORK"]
["N"]
["Columbus, OH "]
["SKR Direct via NEW YORK"]
["N"]
["Cincinnati, OH "]
["SKR Direct via NEW YORK"]
["N"]
["Dallas, TX "]
["SKR Direct via NEW YORK"]
["N"]
["Dayton, OH"]
["SKR Direct via NEW YORK"]
["N"]
["Denver, CO "]
["SKR Direct via NEW YORK"]
["N"]
["Detroit, MI "]
["SKR Direct via NEW YORK"]
["N"]
["Des Moines, IA"]
["SKR Direct via NEW YORK"]
["N"]
["El Paso, TX"]
["SKR Direct via NEW YORK"]
["N"]
["Greensboro, NC"]
["SKR Direct via NEW YORK"]
["N"]
["Grand Rapids, MI"]
["SKR Direct via NEW YORK"]
["N"]
["Greenville, SC"]
["SKR Direct via NEW YORK"]
["N"]
["Hidalgo, TX"]
["SKR Direct via NEW YORK"]
["N"]
["Houston, TX "]
["SKR Direct via NEW YORK"]
["N"]
["Huntsville, AL"]
["SKR Direct via NEW YORK"]
["N"]
["Wichita, KS"]
["SKR Direct via NEW YORK"]
["N"]
["Wilmington, NC "]
["SKR Direct via NEW YORK"]
["N"]
["Indianapolis, IN "]
["SKR Direct via NEW YORK"]
["N"]
["Jackson, MS"]
["SKR Direct via NEW YORK"]
["N"]
["Jacksonville, FL "]
["SKR Direct via NEW YORK"]
["N"]
["Las Vegas, NV"]
["SKR Direct via NEW YORK"]
["N"]
["Los Angeles, CA "]
["SKR Direct via NEW YORK"]
["N"]
["Lexington, KY"]
["SKR Direct via NEW YORK"]
["N"]
["Little Rock, AR"]
["SKR Direct via NEW YORK"]
["N"]
["Laredo, TX"]
["SKR Direct via NEW YORK"]
["N"]
["Louisville, KY "]
["SKR Direct via NEW YORK"]
["N"]
["Memphis, TN "]
["SKR Direct via NEW YORK"]
["N"]
["Minneapolis, MN"]
["SKR Direct via NEW YORK"]
["N"]
["Montgomery, AL"]
["SKR Direct via NEW YORK"]
["N"]
["Miami, FL "]
["SKR Direct via NEW YORK"]
["N"]
["Kansas City, MO "]
["SKR Direct via NEW YORK"]
["N"]
["Milwaukee, WI "]
["SKR Direct via NEW YORK"]
["N"]
["Mobile, AL "]
["SKR Direct via NEW YORK"]
["N"]
["New Orleans, LA "]
["SKR Direct via NEW YORK"]
["N"]
["Oklahoma City, OK "]
["SKR Direct via NEW YORK"]
["N"]
["Omaha, NE"]
["SKR Direct via NEW YORK"]
["N"]
["Norfolk, VA "]
["SKR Direct via NEW YORK"]
["N"]
["Orlando, FL"]
["SKR Direct via NEW YORK"]
["N"]
["Portland, OR "]
["SKR Direct via NEW YORK"]
["N"]
["Philadelphia, PA "]
["SKR Direct via NEW YORK"]
["N"]
["Phoenix, AZ "]
["SKR Direct via NEW YORK"]
["N"]
["Pittsburgh, PA "]
["SKR Direct via NEW YORK"]
["N"]
["Raleigh, NC"]
["SKR Direct via NEW YORK"]
["N"]
["Richmond, VA "]
["SKR Direct via NEW YORK"]
["N"]
["San Diego, CA "]
["SKR Direct via NEW YORK"]
["N"]
["San Antonio, TX"]
["SKR Direct via NEW YORK"]
["N"]
["Savannah, GA "]
["SKR Direct via NEW YORK"]
["N"]
["Seattle, WA "]
["SKR Direct via NEW YORK"]
["N"]
["San Francisco, CA "]
["SKR Direct via NEW YORK"]
["N"]
["Springfield, MO"]
["SKR Direct via NEW YORK"]
["N"]
["Salt Lake City, UT "]
["SKR Direct via NEW YORK"]
["N"]
["St Louis, MO"]
["SKR Direct via NEW YORK"]
["N"]
["Toledo, OH"]
["SKR Direct via NEW YORK"]
["N"]
["Tampa, FL "]
["SKR Direct via NEW YORK"]
["N"]
["Tulsa, OK"]
["SKR Direct via NEW YORK"]
["N"]
["Tucson, AZ"]
["SKR Direct via NEW YORK"]
["N"]
["McAllen, TX"]
["SKR Direct via NEW YORK"]
["N"]
["Knoxville, TN "]
["SKR Direct via NEW YORK"]
["N"]
["Washington, DC "]
["SKR Direct via NEW YORK"]
["N"]
["Rades"]
["Coloader WWA-COMBIMAR - Direct Service"]
["N"]
["Totale complessivo"]